{"text_format":"1","workbook":"xlsx","n_sheets":7,"sheets":["Interface","Hypothèses","Calculs","Données1","Données2","Consommations","Comparaison"],"not_rendered":{"charts":1,"images":13,"macros":1,"external_links":0,"defined_names":151,"comments":2,"pivot_tables":0},"unopened":[],"bounds":{"document_bytes":16777216,"sheet_cells":100000,"rows_first":2000,"rows_last":500,"rows_between":2000,"halvings":0,"cell_chars":16384,"cell_head_chars":4096},"cells_cut":0,"cells_raw":0,"read":"whole","date_system":"1900"}

{"sheet":"Interface","index":0,"n_rows":63,"n_cols":18,"rows_kept":63,"cut":false,"hidden":false,"merged":[[25,2,27,3],[30,9,30,10],[32,9,32,10],[34,3,34,5],[36,9,36,10],[34,9,34,10],[32,4,32,5],[28,9,28,10],[26,9,26,10],[14,9,14,10],[16,9,16,10],[18,9,18,10],[24,9,24,10],[3,2,5,3],[3,7,5,8],[11,7,13,8],[21,7,23,8],[11,2,13,3],[6,4,6,5],[8,4,8,5],[22,4,22,5],[49,3,50,3],[42,9,42,10],[44,9,44,10],[38,9,38,10],[40,9,40,10],[48,4,48,5],[49,4,50,4],[49,5,50,5],[42,4,42,5],[37,2,38,3]]}
[]
[]
[]
[null,null,"Localisation",null,null,null,null,"Occupation"]
[null,null,null,null,null,null,null,null,null,null,null,null,null,null,"Température de consigne"]
[]
[null,null,null,"Station météo","Cayenne",null,null,null,"Densité d'occupants (m²/pers)",22,null,null,null,null,"Secteurs","Pas encore de consensus"]
[]
[null,null,null,"Secteur","Santé",null,null,null,"Valeur d'ajustement occupation ",50,null,null,null,null,"Valeurs d'ajutement occupation",null,null,"Mettre une valeur par défaut et le programmiste choisit ?"]
[]
[null,null,null,null,null,null,null,null,null,null,null,null,null,null,"Taux de percement"]
[null,null,"Géométrie",null,null,null,null,"Protection solaire"]
[null,null,null,null,null,null,null,null,null,null,null,null,null,null,"Ventilation naturelle",null,"5-15-50"]
[]
[null,null,null,"Surface utile totale (m²)",4287,null,null,null,"Facteur solaire des murs","Base",null,null,null,null,"Consommation des équipements spécifiques",null,null,"valeurs en kW, prendre le planning et appliquer un coef (0.6)"]
[]
[null,null,null,"Nombre de niveaux",2,null,null,null,"Facteur solaire des baies","Base",null,null,null,null,"Résultats finaux","Retirer tout (image)"]
[]
[null,null,null,"Rapport Longueur / Largeur",3.5,null,null,null,"Facteur solaire de la toiture","Base"]
[]
[null,null,null,"Taux de percement / plancher",0.25]
[null,null,null,null,null,null,null,"Equipements"]
[null,null,null,"Orientation façades principales","Est / Ouest"]
[]
[null,null,null,null,null,null,null,null,"Brasseurs d'air","Niveau de base",null,{"$f":"Conso(BanqueConso,I25,J25,$E$9)","v":8}]
[null,null,"Climatisation"]
[null,null,null,null,null,null,null,null,"Ventilation","Niveau de base",null,{"$f":"Conso(BanqueConso,I27,J27,$E$9)","v":5}]
[]
[null,null,null,"Surface climatisée (%)",1,null,null,null,"Eau chaude sanitaire","Niveau de base",null,{"$f":"Conso(BanqueConso,I29,J29,$E$9)","v":10}]
[]
[null,null,null,"Température de consigne (°C)",26,null,null,null,"Eclairage intérieur","Niveau de base",null,{"$f":"Conso(BanqueConso,I31,J31,$E$9)","v":19}]
[]
[null,null,null,"Fonctionnement du climatiseur","7-18h, L-V",null,null,null,"Eclairage extérieur","Niveau de base",null,{"$f":"Conso(BanqueConso,I33,J33,$E$9)","v":5}]
[]
[null,null,"Installation","Centralisée DRV - Niveau de base",null,null,null,null,"Bureautique","Niveau de base",null,{"$f":"Conso(BanqueConso,I35,J35,$E$9)","v":15}]
[]
[null,null,null,null,null,null,null,null,"Froid alimentaire","Sans objet",null,{"$f":"Conso(BanqueConso,I37,J37,$E$9)","v":0}]
[null,null,"Ventilation"]
[null,null,null,null,null,null,null,null,"Chaud alimentaire","Sans objet",null,{"$f":"Conso(BanqueConso,I39,J39,$E$9)","v":0}]
[]
[null,null,null,"VMC (m3/pers.h) | Planning",0,"Jamais",null,null,"Autres","Sans objet",null,{"$f":"Conso(BanqueConso,I41,J41,$E$9)","v":0}]
[]
[null,null,null,"Potentiel de ventilation naturelle","Base (5 vol/h)",null,null,null,"Equip. spé. avec apports (W/m²)",null,null,{"$f":"Calculs!M125","v":0}]
[]
[null,null,null,null,null,null,null,null,"Equip. spé. sans apports (W/m²)",null,null,{"$f":"Calculs!M132","v":0}]
[]
[]
[]
[null,null,null,"Climatisation","Ventilation naturelle"]
[null,null,null,"Besoin (kWh/m²)","Horaires ≥ 30°C","% de temps ≥ 30°C",null,"Climatisation"]
[null,null,null,null,null,null,null,{"$f":"Calculs!BB153","v":211.53673728394219},"Besoin (kWh/m²clim.an)"]
[null,null,"Janvier",{"$f":"Calculs!K152","v":16.260113948251924},{"$f":"Calculs!K169","v":"11h-23h"},{"$f":"Calculs!L169","v":0.54166666666666663},null,{"$f":"IF(OR(Surface=0,D35=\"\"),\"\",Calculs!BB157*(1000/Surface))","v":61.314996314186139},"Consommation estimée (kWh/m²clim.an)"]
[null,null,"Février",{"$f":"Calculs!K153","v":14.678117121152559},{"$f":"Calculs!K170","v":"11h-23h"},{"$f":"Calculs!L170","v":0.54166666666666663}]
[null,null,"Mars",{"$f":"Calculs!K154","v":16.048341410556809},{"$f":"Calculs!K171","v":"11h-23h"},{"$f":"Calculs!L171","v":0.54166666666666663},null,"Consommation"]
[null,null,"Avril",{"$f":"Calculs!K155","v":17.330708318703845},{"$f":"Calculs!K172","v":"11h-0h"},{"$f":"Calculs!L172","v":0.58333333333333337},null,{"$f":"IF(D35=\"\",\"\",Calculs!BB159*(1000/Surface))","v":123.31499631418612},"Consommation surf. (kWh/m².an)"]
[null,null,"Mai",{"$f":"Calculs!K156","v":17.986787196293047},{"$f":"Calculs!K173","v":"10h-0h"},{"$f":"Calculs!L173","v":0.625}]
[null,null,"Juin",{"$f":"Calculs!K157","v":16.107037440467604},{"$f":"Calculs!K174","v":"11h-23h"},{"$f":"Calculs!L174","v":0.54166666666666663},null,"Ventilation naturelle"]
[null,null,"Juillet",{"$f":"Calculs!K158","v":18.590417375656266},{"$f":"Calculs!K175","v":"11h-0h"},{"$f":"Calculs!L175","v":0.58333333333333337},null,{"$f":"SUM(Calculs!J169:J180)","v":5174},"Nombre d'heures annuel ≥ 30°C"]
[null,null,"Août",{"$f":"Calculs!K159","v":19.506583770684102},{"$f":"Calculs!K176","v":"10h-0h"},{"$f":"Calculs!L176","v":0.625},null,{"$f":"H58/8760","v":0.59063926940639266},{"$f":"\"Pourcentage de temps ≥ 30°C  (%)\"","v":"Pourcentage de temps ≥ 30°C  (%)"}]
[null,null,"Septembre",{"$f":"Calculs!K160","v":19.589040526438755},{"$f":"Calculs!K177","v":"10h-1h"},{"$f":"Calculs!L177","v":0.66666666666666663},null,{"$f":"AVERAGE(Calculs!I169:I180)","v":3.4477331545095713},"Surchauffe moyenne (°C)"]
[null,null,"Octobre",{"$f":"Calculs!K161","v":20.987606723135219},{"$f":"Calculs!K178","v":"10h-1h"},{"$f":"Calculs!L178","v":0.66666666666666663}]
[null,null,"Novembre",{"$f":"Calculs!K162","v":17.537679824528059},{"$f":"Calculs!K179","v":"11h-0h"},{"$f":"Calculs!L179","v":0.58333333333333337}]
[null,null,"Décembre",{"$f":"Calculs!K163","v":16.914303628074034},{"$f":"Calculs!K180","v":"11h-0h"},{"$f":"Calculs!L180","v":0.58333333333333337}]

{"sheet":"Hypothèses","index":1,"n_rows":62,"n_cols":40,"rows_kept":62,"cut":false,"hidden":true,"merged":[[44,14,44,17],[37,14,37,17],[38,14,38,17],[39,14,39,17],[6,16,11,18],[7,1,7,2],[8,1,8,2],[14,1,14,2],[20,1,20,2],[27,1,27,2],[10,1,10,2],[11,1,11,2],[12,1,12,2],[22,1,22,2],[24,1,24,2],[25,1,25,2],[21,1,21,2],[1,1,1,2],[2,1,2,2],[4,1,4,2],[5,1,5,2],[6,1,6,2],[24,22,25,23],[12,22,13,23],[12,24,12,28],[48,15,48,17],[48,30,48,32],[48,27,48,29],[48,18,48,20],[48,21,48,23],[48,24,48,26],[45,14,45,17],[46,14,46,18],[36,14,36,17],[40,14,40,17],[41,14,41,17],[42,14,42,17],[43,14,43,17],[12,29,12,33],[12,34,12,38],[24,24,24,28],[24,29,24,33],[24,34,24,38]]}
[]
[null,{"$f":"Interface!E7","v":"Cayenne"},null,"Station météo"]
[null,"Logement individuel",null,"Secteur"]
[]
[null,{"$f":"Interface!E15","v":4287},null,"Surface SHON totale (m²)"]
[null,{"$f":"Interface!E19","v":3.5},null,"Rapport Longueur/Largeur",null,null,null,null,null,null,null,null,null,null,null,5.85,"Etanchéité par défaut des fenêtres (m3/h/m²)"]
[null,{"$f":"Interface!E17","v":2},null,"Nombre de niveaux",null,null,null,null,null,null,null,null,null,null,"Logement",1,"Etanchéité par défaut des murs (m3/h/m²)"]
[null,{"$f":"Interface!E23","v":"Est / Ouest"},null,"Orientation des plus grandes façades",null,null,null,null,null,null,null,null,null,null,"Commerces",2.5]
[null,{"$f":"Interface!E21","v":0.25},null,"Taux de percement ramené au plancher (%)",null,null,null,null,null,null,null,null,null,null,"Bureaux",1.2]
[null,null,null,null,null,null,null,null,null,null,null,null,null,null,"Enseignement",1.2]
[null,{"$f":"Interface!J15","v":"Base"},null,"Facteur solaire murs",null,null,null,null,null,null,null,null,null,null,"Santé",1.2]
[null,{"$f":"Interface!J17","v":"Base"},null,"Facteur solaire vitrage",null,null,null,null,null,null,null,null,null,null,"Hôtellerie",1.2]
[null,{"$f":"Interface!J19","v":"Base"},null,"Facteur solaire toiture",null,null,null,null,null,null,null,null,null,null,null,null,null,null,null,null,null,null,"Guyane",null,"Facteurs solaire murs",null,null,null,null,"Facteurs solaires baies",null,null,null,null,"Conductance"]
[null,null,null,null,null,null,null,null,null,null,null,null,null,null,"Valeurs d'occupation par défaut en fonction du secteur",null,null,null,null,null,null,null,null,null,{"$f":"Données1!O5","v":"Base"},{"$f":"Données1!O6","v":"RTAA DOM 2016"},{"$f":"Données1!O7","v":"Ecodom"},{"$f":"Données1!O8","v":"NF Habitat HQE"},{"$f":"Données1!O9","v":"PERENE 2009"},{"$f":"Y14","v":"Base"},{"$f":"Z14","v":"RTAA DOM 2016"},"Ecodom","NF Habitat HQE","PERENE 2009",{"$f":"AD14","v":"Base"},{"$f":"AE14","v":"RTAA DOM 2016"},{"$f":"AF14","v":"Ecodom"},{"$f":"AG14","v":"NF Habitat HQE"},{"$f":"AH14","v":"PERENE 2009"}]
[null,{"$f":"Interface!J9","v":50},null,"Valeur d'ajustement occupation ",null,null,null,null,null,30,"Température de référence (°C)",null,null,null,null,"Logement","Commerces","Bureaux","Enseignement","Santé","Hôtellerie",null,null,"Nord",0.12,0.09,5.3999999999999999E-2,7.0000000000000007E-2,0.05,0.9,0.7,0.7,0.5,0.21,2,1.8,1.6,1.5,1.7,"Murs"]
[null,null,{"$f":"Interface!J7","v":22},"Densité d'occupants (m²/personne)",null,null,null,null,null,null,null,null,null,null,"Janvier",1,1,1,1,1,1,null,null,"Est",0.12,0.09,5.3999999999999999E-2,7.0000000000000007E-2,0.05,0.8,0.6,0.6,0.4,0.18,0.5,0.45,0.4,0.375,0.42499999999999999,"Toitures"]
[null,null,null,null,null,null,null,null,null,"Valeurs par défaut",null,null,null,null,"Février",1,1,1,0.5,1,1,null,null,"Sud",0.12,0.09,5.3999999999999999E-2,7.0000000000000007E-2,0.05,0.9,0.7,0.7,0.5,0.21,5,5,5,5,5,"Vitrages"]
[null,null,null,null,null,null,null,null,null,null,null,null,null,null,"Mars",1,1,1,1,1,1,null,null,"Ouest",0.12,0.09,5.3999999999999999E-2,7.0000000000000007E-2,0.05,0.8,0.6,0.6,0.4,0.18,0.7,0.7,0.7,0.7,0.7,"So"]
[null,null,null,null,null,null,null,null,null,"Moyen","Niveau d'inertie",null,null,null,"Avril",1,1,1,0.5,1,1,null,null,"Nord-Est",0.12,0.09,5.3999999999999999E-2,7.0000000000000007E-2,0.05,0.8,0.6,0.6,0.4,0.18]
[null,null,null,null,null,null,null,null,null,2,"Umurs de base (Sans He et Hi)",null,null,null,"Mai",1,1,1,1,1,1,null,null,"Nord-Ouest",0.12,0.09,5.3999999999999999E-2,7.0000000000000007E-2,0.05,0.8,0.6,0.6,0.4,0.18]
[null,{"$f":"Interface!E31","v":26},null,"Température de consigne (°C)",null,null,null,null,null,0.5,"Utoiture de base (Sans He et Hi)",null,null,null,"Juin",1,1,1,1,1,1,null,null,"Sud-Ouest",0.12,0.09,5.3999999999999999E-2,7.0000000000000007E-2,0.05,0.8,0.6,0.6,0.4,0.18]
[null,{"$f":"Interface!E29","v":1},null,"Surface climatisée (%)",null,null,null,null,null,0.5,"Pourcentage d'amélioration Umurs / Fs",null,null,null,"Juillet",1,1,1,0,1,1,null,null,"Sud-Est",0.12,0.09,5.3999999999999999E-2,7.0000000000000007E-2,0.05,0.8,0.6,0.6,0.4,0.18]
[null,{"$f":"Interface!E33","v":"7-18h, L-V"},null,"Planning de fonctionnement Climatiseur",null,null,null,null,null,0.5,"Pourcentage d'amélioration Utoiture / Fs",null,null,null,"Août",1,0.5,1,0,1,1,null,null,"Toiture",0.05,0.03,1.7999999999999999E-2,0.01,0.02]
[null,null,null,null,null,null,null,null,null,"SV","Type de vitrage",null,null,null,"Septembre",1,1,1,1,1,1]
[null,{"$f":"Interface!E41","v":0},null,"VMC : Renouvellement d'air contrôlé (m3/pers.h)",null,null,null,null,null,5,"Uw",null,null,null,"Octobre",1,1,1,{"$f":"3/4","v":0.75},1,1,null,"Réunion",null,"Facteurs solaire murs",null,null,null,null,"Facteurs solaires baies",null,null,null,null,"Conductance"]
[null,{"$f":"Interface!F41","v":"Jamais"},null,"Planning de la VMC",null,null,null,null,null,0.7,"SHGC",null,null,null,"Novembre",1,1,1,0.75,1,1,null,null,null,{"$f":"Y14","v":"Base"},{"$f":"Z14","v":"RTAA DOM 2016"},"Ecodom","NF Habitat HQE","PERENE 2009","Base","RTAA DOM 2016","Ecodom","NF Habitat HQE","PERENE 2009","Base","RTAA DOM 2016","Ecodom","NF Habitat HQE","PERENE 2009"]
[null,null,null,null,null,null,null,null,null,0.87,"Facteur solaire du vitrage",null,null,null,"Décembre",1,1,1,0.5,1,1,null,null,"Nord",0.12,0.09,5.3999999999999999E-2,0.04,2.7E-2,0.9,0.6,0.42,0.25,0.3,2,1.8,1.6,1.5,1.7,"Murs"]
[null,"Base (5 vol/h)",null,"Potentiel de ventilation naturelle",null,null,null,null,null,4,"Vitesse du vent considérée (m/s)",null,null,null,null,null,null,null,null,null,null,null,null,"Est",0.12,0.09,5.3999999999999999E-2,0.04,2.7E-2,0.8,0.6,0.36,0.35,0.3,0.5,0.45,0.4,0.375,0.42499999999999999,"Toitures"]
[null,null,null,null,null,null,null,null,null,0.9,"Coefficient de modulation du vent",null,null,null,"Secteur","Planning associé","Par déf (h/sem)",null,null,null,null,null,null,"Sud",0.12,0.09,5.3999999999999999E-2,0.04,2.7E-2,0.9,0.8,0.42,0.45,0.4,5,5,5,5,5,"Vitrages"]
[null,null,null,null,null,null,null,null,null,120,"Métabolisme (W)",null,null,null,"Logement","18h-8h L-V, Permanent le week-end",{"$f":"5*(6+8)+24*2","v":118},null,null,null,null,null,null,"Ouest",0.12,0.09,5.3999999999999999E-2,0.04,2.7E-2,0.8,0.6,0.36,0.25,0.25,0.7,0.7,0.7,0.7,0.7,"So"]
[null,null,null,null,null,null,null,null,null,{"$f":"Hypothèses!J15","v":30},"Seuil de température d'inconfort",null,null,null,"Commerces","9h-20h, L-S",{"$f":"(20-9)*6","v":66},null,null,null,null,null,null,"Nord-Est",0.12,0.09,5.3999999999999999E-2,0.04,2.7E-2,0.8,0.6,0.36,0.25,0.3]
[null,null,null,null,null,null,null,null,null,0,"Epaisseur de dalle par défaut (m)",null,null,null,"Bureaux","8h-18h, L-V",50,null,null,null,null,null,null,"Nord-Ouest",0.12,0.09,5.3999999999999999E-2,0.04,2.7E-2,0.8,0.6,0.36,0.25,0.25]
[null,null,null,null,null,null,null,null,null,2.7,"Hauteur sous plafond par défaut (m)",null,null,null,"Enseignement","8h-17h, L-V",45,null,null,null,null,null,null,"Sud-Ouest",0.12,0.09,5.3999999999999999E-2,0.04,2.7E-2,0.8,0.6,0.36,0.25,0.25]
[null,null,null,null,null,null,null,null,null,0,"Epaisseur des murs (m)",null,null,null,"Santé","18h-8h L-V, Permanent le week-end",118,null,null,null,null,null,null,"Sud-Est",0.12,0.09,5.3999999999999999E-2,0.04,2.7E-2,0.8,0.8,0.36,0.45,0.3]
[null,null,null,null,null,null,null,null,null,0.87,"Clair de jour des percements (%)",null,null,null,"Hôtellerie","18h-9h, L-D",105,null,null,null,null,null,null,"Toiture",0.05,0.03,1.7999999999999999E-2,0.02,8.9999999999999993E-3]
[null,null,null,null,null,null,null,null,null,1,"Coefficient de réduction des équipements spé"]
[null,null,null,null,null,null,null,null,null,{"$f":"1.5*0.55","v":0.82500000000000007},"Coefficient SEER Centralisée eau glacée",null,null,null,"Type de climatiseur",null,null,null,"Initial","Final"]
[null,null,null,null,null,null,null,null,null,0.6,"Coefficient SEER Centralisée VRV",null,null,null,"Centralisée EG - Niveau de base",null,null,null,{"$f":"Données1!AR28","v":3},{"$f":"S38*Hypothèses!$J$37","v":2.4750000000000001}]
[null,null,null,null,null,null,null,null,null,0.65,"Coefficient SEER Climatisation Individuelle",null,null,null,"Centralisée EG - Performant",null,null,null,{"$f":"Données1!AR29","v":3.25},{"$f":"S39*Hypothèses!$J$37","v":2.6812500000000004}]
[null,null,null,null,null,null,null,null,null,null,null,null,null,null,"Centralisée EG - Très Performant",null,null,null,{"$f":"Données1!AR30","v":3.6},{"$f":"S40*Hypothèses!$J$37","v":2.97}]
[null,null,null,null,null,null,null,null,null,"R€du230228","Mot de passe",null,null,null,"Centralisée DRV - Niveau de base",null,null,null,{"$f":"Données1!AS28","v":5.75},{"$f":"Hypothèses!$J$38*S41","v":3.4499999999999997}]
[null,null,null,null,null,null,null,null,null,true,"Verrouillage",null,null,null,"Centralisée DRV - Performant",null,null,null,{"$f":"Données1!AS29","v":6.55},{"$f":"Hypothèses!$J$38*S42","v":3.9299999999999997}]
[null,null,null,null,null,null,null,null,null,null,null,null,null,null,"Centralisée DRV - Très Performant",null,null,null,{"$f":"Données1!AS30","v":7.5},{"$f":"Hypothèses!$J$38*S43","v":4.5}]
[null,null,null,null,null,null,null,null,null,null,null,null,null,null,"Individuelle - Niveau de base",null,null,null,{"$f":"Données1!AT28","v":6.3},{"$f":"S44*Hypothèses!$J$39","v":4.0949999999999998}]
[null,null,null,null,null,null,null,null,null,null,null,null,null,null,"Individuelle - Performant",null,null,null,{"$f":"Données1!AT29","v":7.75},{"$f":"S45*Hypothèses!$J$39","v":5.0375000000000005}]
[null,null,null,null,null,null,null,null,null,null,null,null,null,null,"Individuelle - Très Performant",null,null,null,{"$f":"Données1!AT30","v":9.25},{"$f":"S46*Hypothèses!$J$39","v":6.0125000000000002}]
[null,null,null,null,null,null,null,null,null,null,null,null,null,null,"SEER final",null,null,null,null,{"$f":"IF(Interface!D35=\"\",\"\",VLOOKUP(Interface!D35,Hypothèses!O38:T46,6,FALSE))","v":3.4499999999999997}]
[]
[null,null,null,null,null,null,null,null,null,null,null,null,null,null,"Typologie","Logement",null,null,"Commerces",null,null,"Bureaux",null,null,"Enseignement",null,null,"Santé",null,null,"Hôtellerie"]
[null,null,null,null,null,null,null,null,null,null,null,null,null,null,"Niveau de consommation","Niveau de base","Performant","Très performant","Niveau de base","Performant","Très performant","Niveau de base","Performant","Très performant","Niveau de base","Performant","Très performant","Niveau de base","Performant","Très performant","Niveau de base","Performant","Très performant"]
[null,null,null,null,null,null,null,null,null,null,null,null,null,null,"Climatisation",40,25,5,70,40,10,80,40,10,40,25,10,100,45,15,40,25,10]
[null,null,null,null,null,null,null,null,null,null,null,null,null,null,"Brasseurs d'air",10,5,2,10,5,2,8,4,2,15,7,3,8,4,2,12,6,2]
[null,null,null,null,null,null,null,null,null,null,null,null,null,null,"Ventilation",3,2,1,3,2,1,3,2,1,5,3,1,5,3,1,3,2,1]
[null,null,null,null,null,null,null,null,null,null,null,null,null,null,"Eau chaude sanitaire",6,3,1,6,3,1,6,3,1,6,3,1,10,5,2,10,5,2]
[null,null,null,null,null,null,null,null,null,null,null,null,null,null,"Eclairage intérieur",8,5,3,40,20,10,15,8,4,15,8,4,19,12,5,8,5,3]
[null,null,null,null,null,null,null,null,null,null,null,null,null,null,"Eclairage extérieur",5,3,1,5,3,1,5,3,1,5,3,1,5,3,1,5,3,1]
[null,null,null,null,null,null,null,null,null,null,null,null,null,null,"Bureautique",12,9,5,20,12,5,40,20,10,20,12,5,15,11,6,9,6,3]
[null,null,null,null,null,null,null,null,null,null,null,null,null,null,"Froid alimentaire",45,25,15,35,20,7,10,5,1,10,5,1,7,3,1,19,9,2]
[null,null,null,null,null,null,null,null,null,null,null,null,null,null,"Chaud alimentaire",7,5,3,6,3,1,6,3,1,6,3,1,10,6,3,20,12,5]
[null,null,null,null,null,null,null,null,null,null,null,null,null,null,"Autres",12,9,6,10,6,2,10,6,2,10,6,2,10,6,2,10,6,2]
[null,null,null,null,null,null,null,null,null,null,null,null,null,null,"Consommation (kWh/m² par an)",{"$f":"SUM(P51:P60)","v":148},{"$f":"SUM(Q51:Q60)","v":91},42,205,114,40,183,94,33,132,75,29,189,98,38,136,79,31]
[null,null,null,null,null,null,null,null,null,null,null,null,null,null,"En kWh/m2 (pour 70 m²)",{"$f":"P61*70","v":10360},{"$f":"Q61*70","v":6370},2940]

{"sheet":"Calculs","index":2,"n_rows":270,"n_cols":55,"rows_kept":270,"cut":false,"hidden":true,"merged":[[148,31,148,48],[47,3,47,4],[42,3,42,4],[38,20,38,21],[39,20,39,21],[38,10,38,11],[39,10,39,11],[38,12,38,13],[39,12,39,13],[38,16,38,17],[39,16,39,17],[38,18,38,19],[39,18,39,19],[38,14,38,15],[39,14,39,15],[71,1,71,5],[22,10,23,10],[22,11,23,11],[43,3,43,4],[44,3,44,4],[46,3,46,4],[39,8,39,9],[15,1,15,5],[38,1,38,5],[38,8,38,9],[22,8,23,8],[22,9,23,9],[48,3,48,4],[56,9,56,12],[57,9,57,10],[57,11,57,12],[54,1,54,5],[98,1,98,5],[164,1,164,5],[115,1,115,5],[131,1,131,5],[147,1,147,5],[166,2,166,5],[149,8,149,9],[149,2,149,5],[166,7,167,7],[166,9,167,9],[57,26,57,27],[166,10,167,10],[149,6,149,7],[166,11,167,11],[56,14,56,17],[57,14,57,15],[57,16,57,17],[149,12,149,13],[149,14,149,15],[149,16,149,17],[100,8,100,10],[149,18,149,19],[149,20,149,21],[149,26,149,27],[100,5,100,7],[102,7,113,7],[56,39,56,42],[57,39,57,40],[57,41,57,42],[149,22,149,23],[149,24,149,25],[56,29,56,32],[57,29,57,30],[57,31,57,32],[56,34,56,37],[57,34,57,35],[57,36,57,37],[56,19,56,22],[57,19,57,20],[57,21,57,22],[56,24,56,27],[57,24,57,25],[149,28,149,29],[149,31,149,32],[149,43,149,44],[149,45,149,46],[149,47,149,48],[149,50,149,51],[149,33,149,34],[149,35,149,36],[149,37,149,38],[149,39,149,40],[149,41,149,42]]}
[]
["Surface par niveau (m²)",{"$f":"Surface/NombreNiveaux","v":2143.5},null,null,"Surface de toiture (m²)",{"$f":"B4*B5","v":2143.5},null,"Nord",{"$f":"IF(Station=Données1!$J$5,HLOOKUP(FsMur,Hypothèses!$Y$14:$AC$23,J2,FALSE),IF(Station=Données1!$J$6,HLOOKUP(FsMur,Hypothèses!$Y$26:$AC$35,J2,FALSE)))","v":0.12},2,"Murs",{"$f":"IF(Station=Données1!$J$5,HLOOKUP(FsMur,Hypothèses!$AI$14:$AM$18,M2,FALSE),IF(Station=Données1!$J$6,HLOOKUP(FsMur,Hypothèses!$AI$26:$AM$30,M2,FALSE)))","v":2},2]
["Hauteur du bâtiment (m)",{"$f":"(Hypothèses!J32+Hypothèses!J33)*NombreNiveaux","v":5.4},null,null,"Volume total (m3)",{"$f":"Surface*Hypothèses!J33","v":11574.900000000001},null,"Est",{"$f":"IF(Station=Données1!$J$5,HLOOKUP(FsMur,Hypothèses!$Y$14:$AC$23,J3,FALSE),IF(Station=Données1!$J$6,HLOOKUP(FsMur,Hypothèses!$Y$26:$AC$35,J3,FALSE)))","v":0.12},3,"Toiture",{"$f":"IF(Station=Données1!$J$5,HLOOKUP(FsToiture,Hypothèses!$AI$14:$AM$18,M3,FALSE),IF(Station=Données1!$J$6,HLOOKUP(FsToiture,Hypothèses!$AI$26:$AM$30,M3,FALSE)))","v":0.5},3]
["Largeur du bâtiment ext (m)",{"$f":"SQRT(B2/RapportForme)+Hypothèses!J34","v":24.747294224390906},null,null,"Volume par niveau (m3)",{"$f":"B2*Hypothèses!J33","v":5787.4500000000007},null,"Sud",{"$f":"IF(Station=Données1!$J$5,HLOOKUP(FsMur,Hypothèses!$Y$14:$AC$23,J4,FALSE),IF(Station=Données1!$J$6,HLOOKUP(FsMur,Hypothèses!$Y$26:$AC$35,J4,FALSE)))","v":0.12},4,"Vitrages",{"$f":"IF(Station=Données1!$J$5,HLOOKUP(FsBaie,Hypothèses!$AI$14:$AM$18,M4,FALSE),IF(Station=Données1!$J$6,HLOOKUP(FsBaie,Hypothèses!$AI$26:$AM$30,M4,FALSE)))","v":5},4]
["Longueur ext du bâtiment (m)",{"$f":"SQRT(B2*RapportForme)+Hypothèses!J34","v":86.615529785368167},null,null,"Surface totale de vitrage (m²)",{"$f":"TauxPercement*Surface*Hypothèses!J35","v":932.42250000000001},null,"Ouest",{"$f":"IF(Station=Données1!$J$5,HLOOKUP(FsMur,Hypothèses!$Y$14:$AC$23,J5,FALSE),IF(Station=Données1!$J$6,HLOOKUP(FsMur,Hypothèses!$Y$26:$AC$35,J5,FALSE)))","v":0.12},5,"So",{"$f":"IF(Station=Données1!$J$5,HLOOKUP(FsBaie,Hypothèses!$AI$14:$AM$18,M5,FALSE),IF(Station=Données1!$J$6,HLOOKUP(FsBaie,Hypothèses!$AI$26:$AM$30,M5,FALSE)))","v":0.7},5]
[null,null,null,null,null,null,null,"Nord-Est",{"$f":"IF(Station=Données1!$J$5,HLOOKUP(FsMur,Hypothèses!$Y$14:$AC$23,J6,FALSE),IF(Station=Données1!$J$6,HLOOKUP(FsMur,Hypothèses!$Y$26:$AC$35,J6,FALSE)))","v":0.12},6]
["Orientation",{"$f":"IF(Orientation=\"Nord / Sud\",\"Nord\",IF(Orientation=\"Nord-Est / Sud-Ouest\",\"Nord-Est\",IF(Orientation=\"Est / Ouest\",\"Est\",\"Nord-Ouest\")))","v":"Est"},{"$f":"IF(Orientation=\"Nord / Sud\",\"Est\",IF(Orientation=\"Nord-Est / Sud-Ouest\",\"Sud-Est\",IF(Orientation=\"Est / Ouest\",\"Sud\",\"Nord-Est\")))","v":"Sud"},{"$f":"IF(Orientation=\"Nord / Sud\",\"Sud\",IF(Orientation=\"Nord-Est / Sud-Ouest\",\"Sud-Ouest\",IF(Orientation=\"Est / Ouest\",\"Ouest\",\"Sud-Est\")))","v":"Ouest"},{"$f":"IF(Orientation=\"Nord / Sud\",\"Ouest\",IF(Orientation=\"Nord-Est / Sud-Ouest\",\"Nord-Ouest\",IF(Orientation=\"Est / Ouest\",\"Nord\",\"Sud-Ouest\")))","v":"Nord"},null,null,"Nord-Ouest",{"$f":"IF(Station=Données1!$J$5,HLOOKUP(FsMur,Hypothèses!$Y$14:$AC$23,J7,FALSE),IF(Station=Données1!$J$6,HLOOKUP(FsMur,Hypothèses!$Y$26:$AC$35,J7,FALSE)))","v":0.12},7]
["Surface totale ext  (m²)",{"$f":"Calculs!$B$5*Calculs!$B$3","v":467.72386084098815},{"$f":"Calculs!$B$4*Calculs!$B$3","v":133.6353888117109},{"$f":"Calculs!$B$5*Calculs!$B$3","v":467.72386084098815},{"$f":"Calculs!$B$4*Calculs!$B$3","v":133.6353888117109},{"$f":"SUM(B8:E8)","v":1202.7184993053982},null,"Sud-Ouest",{"$f":"IF(Station=Données1!$J$5,HLOOKUP(FsMur,Hypothèses!$Y$14:$AC$23,J8,FALSE),IF(Station=Données1!$J$6,HLOOKUP(FsMur,Hypothèses!$Y$26:$AC$35,J8,FALSE)))","v":0.12},8]
["Surface totale int  (m²)",{"$f":"Hypothèses!$J$33*Calculs!$B$5*NombreNiveaux","v":467.72386084098815},{"$f":"Hypothèses!$J$33*Calculs!$B$4*NombreNiveaux","v":133.6353888117109},{"$f":"Hypothèses!$J$33*Calculs!$B$5*NombreNiveaux","v":467.72386084098815},{"$f":"Hypothèses!$J$33*Calculs!$B$4*NombreNiveaux","v":133.6353888117109},{"$f":"SUM(B9:E9)","v":1202.7184993053982},null,"Sud-Est",{"$f":"IF(Station=Données1!$J$5,HLOOKUP(FsMur,Hypothèses!$Y$14:$AC$23,J9,FALSE),IF(Station=Données1!$J$6,HLOOKUP(FsMur,Hypothèses!$Y$26:$AC$35,J9,FALSE)))","v":0.12},9]
["Surface percement  (m²)",{"$f":"Calculs!$F$5*(B8/$F$8)","v":362.60874999999999},{"$f":"Calculs!$F$5*(C8/$F$8)","v":103.60249999999999},{"$f":"Calculs!$F$5*(D8/$F$8)","v":362.60874999999999},{"$f":"Calculs!$F$5*(E8/$F$8)","v":103.60249999999999},932.4224999999999,null,"Toiture",{"$f":"IF(Station=Données1!$J$5,HLOOKUP(FsToiture,Hypothèses!$Y$14:$AC$23,J10,FALSE),IF(Station=Données1!$J$6,HLOOKUP(FsToiture,Hypothèses!$Y$26:$AC$35,J10,FALSE)))","v":0.05},10]
["Surface châssis  (m²)",{"$f":"B10*(1-Hypothèses!$J$35)","v":47.139137499999997},{"$f":"C10*(1-Hypothèses!$J$35)","v":13.468325},{"$f":"D10*(1-Hypothèses!$J$35)","v":47.139137499999997},{"$f":"E10*(1-Hypothèses!$J$35)","v":13.468325},121.21492499999999]
["Surface vitrage  (m²)",{"$f":"B10*Hypothèses!$J$35","v":315.46961249999998},{"$f":"C10*Hypothèses!$J$35","v":90.134174999999999},{"$f":"D10*Hypothèses!$J$35","v":315.46961249999998},{"$f":"E10*Hypothèses!$J$35","v":90.134174999999999},811.20757500000002,null,"Nord",{"$f":"IF(Station=Données1!$J$5,HLOOKUP(FsBaie,Hypothèses!$AD$14:$AH$22,J12,FALSE),IF(Station=Données1!$J$6,HLOOKUP(FsBaie,Hypothèses!$AD$26:$AH$34,J12,FALSE)))","v":0.9},2]
["Surface opaque  (m²)",{"$f":"B8-B10","v":105.11511084098817},{"$f":"C8-C10","v":30.032888811710905},{"$f":"D8-D10","v":105.11511084098817},{"$f":"E8-E10","v":30.032888811710905},270.29599930539814,null,"Est",{"$f":"IF(Station=Données1!$J$5,HLOOKUP(FsBaie,Hypothèses!$AD$14:$AH$22,J13,FALSE),IF(Station=Données1!$J$6,HLOOKUP(FsBaie,Hypothèses!$AD$26:$AH$34,J13,FALSE)))","v":0.8},3]
["Surface vitrée (%)",{"$f":"B12/B8","v":0.67447833842124649},{"$f":"C12/C8","v":0.67447833842124649},{"$f":"D12/D8","v":0.67447833842124649},{"$f":"E12/E8","v":0.67447833842124649},null,null,"Sud",{"$f":"IF(Station=Données1!$J$5,HLOOKUP(FsBaie,Hypothèses!$AD$14:$AH$22,J14,FALSE),IF(Station=Données1!$J$6,HLOOKUP(FsBaie,Hypothèses!$AD$26:$AH$34,J14,FALSE)))","v":0.9},4]
[null,null,null,null,null,null,null,"Ouest",{"$f":"IF(Station=Données1!$J$5,HLOOKUP(FsBaie,Hypothèses!$AD$14:$AH$22,J15,FALSE),IF(Station=Données1!$J$6,HLOOKUP(FsBaie,Hypothèses!$AD$26:$AH$34,J15,FALSE)))","v":0.8},5]
[null,"Apports solaire vitrage",null,null,null,null,null,"Nord-Est",{"$f":"IF(Station=Données1!$J$5,HLOOKUP(FsBaie,Hypothèses!$AD$14:$AH$22,J16,FALSE),IF(Station=Données1!$J$6,HLOOKUP(FsBaie,Hypothèses!$AD$26:$AH$34,J16,FALSE)))","v":0.8},6]
[null,null,null,null,null,null,null,"Nord-Ouest",{"$f":"IF(Station=Données1!$J$5,HLOOKUP(FsBaie,Hypothèses!$AD$14:$AH$22,J17,FALSE),IF(Station=Données1!$J$6,HLOOKUP(FsBaie,Hypothèses!$AD$26:$AH$34,J17,FALSE)))","v":0.8},7]
[null,"Surface développée de paroi opaque (m²)",{"$f":"C44+2*C45","v":4557.2959993053983},null,"Transmission vitrage",{"$f":"Hypothèses!J27","v":0.87},null,"Sud-Ouest",{"$f":"IF(Station=Données1!$J$5,HLOOKUP(FsBaie,Hypothèses!$AD$14:$AH$22,J18,FALSE),IF(Station=Données1!$J$6,HLOOKUP(FsBaie,Hypothèses!$AD$26:$AH$34,J18,FALSE)))","v":0.8},8]
[null,null,null,null,null,null,null,"Sud-Est",{"$f":"IF(Station=Données1!$J$5,HLOOKUP(FsBaie,Hypothèses!$AD$14:$AH$22,J19,FALSE),IF(Station=Données1!$J$6,HLOOKUP(FsBaie,Hypothèses!$AD$26:$AH$34,J19,FALSE)))","v":0.8},9]
[null,null,1,2,3,4]
[null,null,{"$f":"Calculs!$B$7","v":"Est"},{"$f":"Calculs!$C$7","v":"Sud"},{"$f":"Calculs!$D$7","v":"Ouest"},{"$f":"Calculs!$E$7","v":"Nord"},"Total"]
[null,"Surface vitrage (m²)",{"$f":"B10","v":362.60874999999999},{"$f":"C10","v":103.60249999999999},362.60874999999999,103.60249999999999,{"$f":"C43","v":932.4224999999999}]
[null,"Facteur solaire",{"$f":"VLOOKUP(C$21,$H$12:$I$19,2,FALSE)","v":0.8},{"$f":"VLOOKUP(D$21,$H$12:$I$19,2,FALSE)","v":0.9},{"$f":"VLOOKUP(E$21,$H$12:$I$19,2,FALSE)","v":0.8},0.9,null,null,"Ressort par les vitrages","Atterit sur les PO","Ressort par les PO","Final"]
[null,null,{"$f":"Calculs!$B$7","v":"Est"},{"$f":"Calculs!$C$7","v":"Sud"},{"$f":"Calculs!$D$7","v":"Ouest"},{"$f":"Calculs!$E$7","v":"Nord"},"Total (kWh)"]
[null,"Janvier",{"$f":"(Données1!AS115*$C$23^4+Données1!AT115*$C$23^3+Données1!AU115*$C$23^2+Données1!AV115*$C$23+Données1!AW115)*Données1!AK31*C$22","v":16342624.228627604},{"$f":"(Données1!AX115*$D$23^4+Données1!AY115*$D$23^3+Données1!AZ115*$D$23^2+Données1!BA115*$D$23+Données1!BB115)*Données1!AL31*D$22","v":6263222.9170331834},{"$f":"(Données1!BC115*$E$23^4+Données1!BD115*$E$23^3+Données1!BE115*$E$23^2+Données1!BF115*$E$23+Données1!BG115)*Données1!AM31*E$22","v":15493179.246319458},{"$f":"(Données1!BH115*$F$23^4+Données1!BI115*$F$23^3+Données1!BJ115*$F$23^2+Données1!BK115*$F$23+Données1!BL115)*Données1!AN31*F$22","v":3147013.4348939434},{"$f":"SUM(C25:F25)/1000","v":41246.039826874192},null,{"$f":"G25*($G$22/$C$18)*Hypothèses!$J$27","v":7341.8755225492723},{"$f":"G25-I25","v":33904.164304324921},{"$f":"J25*1*$C$47/8","v":7676.1134649943006},{"$f":"G25-K25-I25","v":26228.050839330623}]
[null,"Février",{"$f":"(Données1!AS116*$C$23^4+Données1!AT116*$C$23^3+Données1!AU116*$C$23^2+Données1!AV116*$C$23+Données1!AW116)*Données1!AK32*C$22","v":15490609.662651097},{"$f":"(Données1!AX116*$D$23^4+Données1!AY116*$D$23^3+Données1!AZ116*$D$23^2+Données1!BA116*$D$23+Données1!BB116)*Données1!AL32*D$22","v":4718315.0397118013},{"$f":"(Données1!BC116*$E$23^4+Données1!BD116*$E$23^3+Données1!BE116*$E$23^2+Données1!BF116*$E$23+Données1!BG116)*Données1!AM32*E$22","v":14498217.533844318},{"$f":"(Données1!BH116*$F$23^4+Données1!BI116*$F$23^3+Données1!BJ116*$F$23^2+Données1!BK116*$F$23+Données1!BL116)*Données1!AN32*F$22","v":2986843.0705061727},37693.985306713388,null,{"$f":"G26*$G$22/$C$18*Hypothèses!$J$27","v":6709.6028911453404},30984.382415568049,7015.0567030591856,23969.325712508864]
[null,"Mars",{"$f":"(Données1!AS117*$C$23^4+Données1!AT117*$C$23^3+Données1!AU117*$C$23^2+Données1!AV117*$C$23+Données1!AW117)*Données1!AK33*C$22","v":17863573.883426741},{"$f":"(Données1!AX117*$D$23^4+Données1!AY117*$D$23^3+Données1!AZ117*$D$23^2+Données1!BA117*$D$23+Données1!BB117)*Données1!AL33*D$22","v":3548970.4290630068},{"$f":"(Données1!BC117*$E$23^4+Données1!BD117*$E$23^3+Données1!BE117*$E$23^2+Données1!BF117*$E$23+Données1!BG117)*Données1!AM33*E$22","v":17815928.130188581},{"$f":"(Données1!BH117*$F$23^4+Données1!BI117*$F$23^3+Données1!BJ117*$F$23^2+Données1!BK117*$F$23+Données1!BL117)*Données1!AN33*F$22","v":3220708.2044069176},42449.180647085246,null,{"$f":"G27*$G$22/$C$18*Hypothèses!$J$27","v":7556.0369347761007},34893.143712309145,7900.0245480721214,26993.119164237025]
[null,"Avril",{"$f":"(Données1!AS118*$C$23^4+Données1!AT118*$C$23^3+Données1!AU118*$C$23^2+Données1!AV118*$C$23+Données1!AW118)*Données1!AK34*C$22","v":16897403.201781623},{"$f":"(Données1!AX118*$D$23^4+Données1!AY118*$D$23^3+Données1!AZ118*$D$23^2+Données1!BA118*$D$23+Données1!BB118)*Données1!AL34*D$22","v":3341617.7127387929},{"$f":"(Données1!BC118*$E$23^4+Données1!BD118*$E$23^3+Données1!BE118*$E$23^2+Données1!BF118*$E$23+Données1!BG118)*Données1!AM34*E$22","v":17673903.836103499},{"$f":"(Données1!BH118*$F$23^4+Données1!BI118*$F$23^3+Données1!BJ118*$F$23^2+Données1!BK118*$F$23+Données1!BL118)*Données1!AN34*F$22","v":3830662.0395437614},41743.586790167676,null,{"$f":"G28*$G$22/$C$18*Hypothèses!$J$27","v":7430.4398522753727},34313.146937892307,7768.7096744833798,26544.437263408927]
[null,"Mai",{"$f":"(Données1!AS119*$C$23^4+Données1!AT119*$C$23^3+Données1!AU119*$C$23^2+Données1!AV119*$C$23+Données1!AW119)*Données1!AK35*C$22","v":16732275.212495198},{"$f":"(Données1!AX119*$D$23^4+Données1!AY119*$D$23^3+Données1!AZ119*$D$23^2+Données1!BA119*$D$23+Données1!BB119)*Données1!AL35*D$22","v":3055694.7666716999},{"$f":"(Données1!BC119*$E$23^4+Données1!BD119*$E$23^3+Données1!BE119*$E$23^2+Données1!BF119*$E$23+Données1!BG119)*Données1!AM35*E$22","v":16669322.571774943},{"$f":"(Données1!BH119*$F$23^4+Données1!BI119*$F$23^3+Données1!BJ119*$F$23^2+Données1!BK119*$F$23+Données1!BL119)*Données1!AN35*F$22","v":5247147.967955783},41704.440518897623,null,{"$f":"G29*$G$22/$C$18*Hypothèses!$J$27","v":7423.4717396506685},34280.968779246956,7761.4243394242649,26519.54443982269]
[null,"Juin",{"$f":"(Données1!AS120*$C$23^4+Données1!AT120*$C$23^3+Données1!AU120*$C$23^2+Données1!AV120*$C$23+Données1!AW120)*Données1!AK36*C$22","v":17622280.046310462},{"$f":"(Données1!AX120*$D$23^4+Données1!AY120*$D$23^3+Données1!AZ120*$D$23^2+Données1!BA120*$D$23+Données1!BB120)*Données1!AL36*D$22","v":3245659.7516532987},{"$f":"(Données1!BC120*$E$23^4+Données1!BD120*$E$23^3+Données1!BE120*$E$23^2+Données1!BF120*$E$23+Données1!BG120)*Données1!AM36*E$22","v":16651610.571292957},{"$f":"(Données1!BH120*$F$23^4+Données1!BI120*$F$23^3+Données1!BJ120*$F$23^2+Données1!BK120*$F$23+Données1!BL120)*Données1!AN36*F$22","v":6275867.6535302401},43795.418022786958,null,{"$f":"G30*$G$22/$C$18*Hypothèses!$J$27","v":7795.669812930998},35999.748209855963,8150.5666823007123,27849.181527555247]
[null,"Juillet",{"$f":"(Données1!AS121*$C$23^4+Données1!AT121*$C$23^3+Données1!AU121*$C$23^2+Données1!AV121*$C$23+Données1!AW121)*Données1!AK37*C$22","v":19858561.522177171},{"$f":"(Données1!AX121*$D$23^4+Données1!AY121*$D$23^3+Données1!AZ121*$D$23^2+Données1!BA121*$D$23+Données1!BB121)*Données1!AL37*D$22","v":3400081.6721652495},{"$f":"(Données1!BC121*$E$23^4+Données1!BD121*$E$23^3+Données1!BE121*$E$23^2+Données1!BF121*$E$23+Données1!BG121)*Données1!AM37*E$22","v":19446965.373770889},{"$f":"(Données1!BH121*$F$23^4+Données1!BI121*$F$23^3+Données1!BJ121*$F$23^2+Données1!BK121*$F$23+Données1!BL121)*Données1!AN37*F$22","v":6666662.3571328362},49372.27092524615,null,{"$f":"G31*$G$22/$C$18*Hypothèses!$J$27","v":8788.3605049170255},40583.910420329121,9188.4494908453344,31395.46092948379]
[null,"Août",{"$f":"(Données1!AS122*$C$23^4+Données1!AT122*$C$23^3+Données1!AU122*$C$23^2+Données1!AV122*$C$23+Données1!AW122)*Données1!AK38*C$22","v":22526591.226324305},{"$f":"(Données1!AX122*$D$23^4+Données1!AY122*$D$23^3+Données1!AZ122*$D$23^2+Données1!BA122*$D$23+Données1!BB122)*Données1!AL38*D$22","v":3642696.3339011208},{"$f":"(Données1!BC122*$E$23^4+Données1!BD122*$E$23^3+Données1!BE122*$E$23^2+Données1!BF122*$E$23+Données1!BG122)*Données1!AM38*E$22","v":21237207.701485723},{"$f":"(Données1!BH122*$F$23^4+Données1!BI122*$F$23^3+Données1!BJ122*$F$23^2+Données1!BK122*$F$23+Données1!BL122)*Données1!AN38*F$22","v":5368569.9857986774},52775.065247509832,null,{"$f":"G32*$G$22/$C$18*Hypothèses!$J$27","v":9394.0645300248998},43381.000717484931,9821.7281140870145,33559.272603397912]
[null,"Septembre",{"$f":"(Données1!AS123*$C$23^4+Données1!AT123*$C$23^3+Données1!AU123*$C$23^2+Données1!AV123*$C$23+Données1!AW123)*Données1!AK39*C$22","v":23414395.440688349},{"$f":"(Données1!AX123*$D$23^4+Données1!AY123*$D$23^3+Données1!AZ123*$D$23^2+Données1!BA123*$D$23+Données1!BB123)*Données1!AL39*D$22","v":3740725.9686819152},{"$f":"(Données1!BC123*$E$23^4+Données1!BD123*$E$23^3+Données1!BE123*$E$23^2+Données1!BF123*$E$23+Données1!BG123)*Données1!AM39*E$22","v":23208748.038277011},{"$f":"(Données1!BH123*$F$23^4+Données1!BI123*$F$23^3+Données1!BJ123*$F$23^2+Données1!BK123*$F$23+Données1!BL123)*Données1!AN39*F$22","v":3623219.6237389273},53987.089071386203,null,{"$f":"G33*$G$22/$C$18*Hypothèses!$J$27","v":9609.8071342267849},44377.281937159416,10047.292372701957,34329.989564457457]
[null,"Octobre",{"$f":"(Données1!AS124*$C$23^4+Données1!AT124*$C$23^3+Données1!AU124*$C$23^2+Données1!AV124*$C$23+Données1!AW124)*Données1!AK40*C$22","v":22569891.368246838},{"$f":"(Données1!AX124*$D$23^4+Données1!AY124*$D$23^3+Données1!AZ124*$D$23^2+Données1!BA124*$D$23+Données1!BB124)*Données1!AL40*D$22","v":5986349.041808825},{"$f":"(Données1!BC124*$E$23^4+Données1!BD124*$E$23^3+Données1!BE124*$E$23^2+Données1!BF124*$E$23+Données1!BG124)*Données1!AM40*E$22","v":25108480.246575627},{"$f":"(Données1!BH124*$F$23^4+Données1!BI124*$F$23^3+Données1!BJ124*$F$23^2+Données1!BK124*$F$23+Données1!BL124)*Données1!AN40*F$22","v":3638794.4981686971},57303.515154799992,null,{"$f":"G34*$G$22/$C$18*Hypothèses!$J$27","v":10200.137444393798},47103.377710406196,10664.497394599939,36438.880315806258]
[null,"Novembre",{"$f":"(Données1!AS125*$C$23^4+Données1!AT125*$C$23^3+Données1!AU125*$C$23^2+Données1!AV125*$C$23+Données1!AW125)*Données1!AK41*C$22","v":19896521.919667456},{"$f":"(Données1!AX125*$D$23^4+Données1!AY125*$D$23^3+Données1!AZ125*$D$23^2+Données1!BA125*$D$23+Données1!BB125)*Données1!AL41*D$22","v":7956827.5096218744},{"$f":"(Données1!BC125*$E$23^4+Données1!BD125*$E$23^3+Données1!BE125*$E$23^2+Données1!BF125*$E$23+Données1!BG125)*Données1!AM41*E$22","v":22559465.171660479},{"$f":"(Données1!BH125*$F$23^4+Données1!BI125*$F$23^3+Données1!BJ125*$F$23^2+Données1!BK125*$F$23+Données1!BL125)*Données1!AN41*F$22","v":3272485.3241905053},53685.299925140316,null,{"$f":"G35*$G$22/$C$18*Hypothèses!$J$27","v":9556.0880776799295},44129.211847460385,9991.1277629888609,34138.084084471528]
[null,"Décembre",{"$f":"(Données1!AS126*$C$23^4+Données1!AT126*$C$23^3+Données1!AU126*$C$23^2+Données1!AV126*$C$23+Données1!AW126)*Données1!AK42*C$22","v":17612693.114738613},{"$f":"(Données1!AX126*$D$23^4+Données1!AY126*$D$23^3+Données1!AZ126*$D$23^2+Données1!BA126*$D$23+Données1!BB126)*Données1!AL42*D$22","v":7585163.3996508922},{"$f":"(Données1!BC126*$E$23^4+Données1!BD126*$E$23^3+Données1!BE126*$E$23^2+Données1!BF126*$E$23+Données1!BG126)*Données1!AM42*E$22","v":17896900.321371231},{"$f":"(Données1!BH126*$F$23^4+Données1!BI126*$F$23^3+Données1!BJ126*$F$23^2+Données1!BK126*$F$23+Données1!BL126)*Données1!AN42*F$22","v":3236433.2138009458},46331.190049561686,null,{"$f":"G36*$G$22/$C$18*Hypothèses!$J$27","v":8247.0421786729403},38084.147870888744,8622.4877171584358,29461.660153730307]
[null,null,null,null,null,null,{"$f":"SUM(G25:G36)","v":562087.08148616925},null,{"$f":"SUM(I25:I36)","v":100052.59662324312},{"$f":"SUM(J25:J36)","v":462034.48486292613},{"$f":"SUM(K25:K36)","v":104607.47826471551},{"$f":"SUM(L25:L36)","v":357427.0065982106}]
[]
[null,"Apport conduction enveloppe",null,null,null,null,null,null,20,null,21,null,22,null,23,null,24,null,25,null,26]
[null,null,null,null,null,null,null,null,"Climatisation",null,"Climatisation",null,"Climatisation",null,"Climatisation",null,"Climatisation",null,"Climatisation",null,"Climatisation"]
[null,null,null,null,null,null,null,null,"Brut","Net","Brut","Net","Brut","Net","Brut","Net","Brut","Net","Brut","Net","Brut","Net"]
[null,null,null,null,null,null,null,"Janvier",{"$f":"$C$47*SUM($C$43:$C$45)*(Données1!F196-$I$39)*24*VMOIS(H42)/1000","v":32313.050927739059},{"$f":"I42*(1-(5.5/8)*($C$47/8))","v":27283.38651460519},{"$f":"$C$47*SUM($C$43:$C$45)*(Données1!F196-$K$39)*24*VMOIS(H42)/1000","v":27803.787989844528},{"$f":"K42*(1-(5.5/8)*($C$47/8))","v":23476.009615850402},{"$f":"$C$47*SUM($C$43:$C$45)*(Données1!F196-$M$39)*24*VMOIS(H42)/1000","v":23294.52505194999},{"$f":"M42*(1-(5.5/8)*($C$47/8))","v":19668.63271709561},{"$f":"$C$47*SUM($C$43:$C$45)*(Données1!F196-$O$39)*24*VMOIS(H42)/1000","v":18785.262114055455},{"$f":"O42*(1-(5.5/8)*($C$47/8))","v":15861.255818340818},{"$f":"$C$47*SUM($C$43:$C$45)*(Données1!F196-$Q$39)*24*VMOIS(H42)/1000","v":14275.999176160918},{"$f":"Q42*(1-(5.5/8)*($C$47/8))","v":12053.878919586028},{"$f":"$C$47*SUM($C$43:$C$45)*(Données1!F196-$S$39)*24*VMOIS(H42)/1000","v":9766.7362382663869},{"$f":"S42*(1-(5.5/8)*($C$47/8))","v":8246.5020208312399},{"$f":"$C$47*SUM($C$43:$C$45)*(Données1!F196-$U$39)*24*VMOIS(H42)/1000","v":5257.4733003718502},{"$f":"U42*(1-(5.5/8)*($C$47/8))","v":4439.1251220764489}]
[null,"Surface vitrage (m²)",{"$f":"SUM(C22:F22)","v":932.4224999999999},"Uw (avec Rse et Rsi)",null,{"$f":"Calculs!L4","v":5},null,"Février",{"$f":"$C$47*SUM($C$43:$C$45)*(Données1!F197-$I$39)*24*VMOIS(H43)/1000","v":28922.845833521231},24420.881325721111,{"$f":"$C$47*SUM($C$43:$C$45)*(Données1!F197-$K$39)*24*VMOIS(H43)/1000","v":24849.96317993907},20981.960255878075,{"$f":"$C$47*SUM($C$43:$C$45)*(Données1!F197-$M$39)*24*VMOIS(H43)/1000","v":20777.080526356913},17543.039186035043,{"$f":"$C$47*SUM($C$43:$C$45)*(Données1!F197-$O$39)*24*VMOIS(H43)/1000","v":16704.197872774748},14104.118116192001,{"$f":"$C$47*SUM($C$43:$C$45)*(Données1!F197-$Q$39)*24*VMOIS(H43)/1000","v":12631.315219192591},10665.197046348969,{"$f":"$C$47*SUM($C$43:$C$45)*(Données1!F197-$S$39)*24*VMOIS(H43)/1000","v":8558.432565610432},7226.2759765059336,{"$f":"$C$47*SUM($C$43:$C$45)*(Données1!F197-$U$39)*24*VMOIS(H43)/1000","v":4485.5499120282702},3787.3549066628971]
[null,"Surface murs opaques (m²)",{"$f":"Calculs!F13","v":270.29599930539814},"U_murs (sans Rse et Rsi)",null,{"$f":"Calculs!L2","v":2},null,"Mars",{"$f":"$C$47*SUM($C$43:$C$45)*(Données1!F198-$I$39)*24*VMOIS(H44)/1000","v":32148.877997859468},27144.767802582086,{"$f":"$C$47*SUM($C$43:$C$45)*(Données1!F198-$K$39)*24*VMOIS(H44)/1000","v":27639.61505996493},23337.390903827294,{"$f":"$C$47*SUM($C$43:$C$45)*(Données1!F198-$M$39)*24*VMOIS(H44)/1000","v":23130.352122070399},19530.014005072509,{"$f":"$C$47*SUM($C$43:$C$45)*(Données1!F198-$O$39)*24*VMOIS(H44)/1000","v":18621.089184175864},15722.637106317718,{"$f":"$C$47*SUM($C$43:$C$45)*(Données1!F198-$Q$39)*24*VMOIS(H44)/1000","v":14111.826246281325},11915.260207562926,{"$f":"$C$47*SUM($C$43:$C$45)*(Données1!F198-$S$39)*24*VMOIS(H44)/1000","v":9602.5633083867906},8107.8833088081356,{"$f":"$C$47*SUM($C$43:$C$45)*(Données1!F198-$U$39)*24*VMOIS(H44)/1000","v":5093.3003704922576},4300.5064100533473]
[null,"Surface toit (m²)",{"$f":"F2","v":2143.5},"U_toit (sans Rse et Rsi)",null,{"$f":"Calculs!L3","v":0.5},null,"Avril",{"$f":"$C$47*SUM($C$43:$C$45)*(Données1!F199-$I$39)*24*VMOIS(H45)/1000","v":32131.225809275467},27129.863252558538,{"$f":"$C$47*SUM($C$43:$C$45)*(Données1!F199-$K$39)*24*VMOIS(H45)/1000","v":27767.422966151724},23445.304963440998,{"$f":"$C$47*SUM($C$43:$C$45)*(Données1!F199-$M$39)*24*VMOIS(H45)/1000","v":23403.620123027977},19760.746674323458,{"$f":"$C$47*SUM($C$43:$C$45)*(Données1!F199-$O$39)*24*VMOIS(H45)/1000","v":19039.817279904237},16076.188385205922,{"$f":"$C$47*SUM($C$43:$C$45)*(Données1!F199-$Q$39)*24*VMOIS(H45)/1000","v":14676.014436780491},12391.630096088382,{"$f":"$C$47*SUM($C$43:$C$45)*(Données1!F199-$S$39)*24*VMOIS(H45)/1000","v":10312.21159365675},8707.0718069708437,{"$f":"$C$47*SUM($C$43:$C$45)*(Données1!F199-$U$39)*24*VMOIS(H45)/1000","v":5948.4087505330072},5022.5135178533064]
[null,null,null,null,null,null,null,"Mai",{"$f":"$C$47*SUM($C$43:$C$45)*(Données1!F200-$I$39)*24*VMOIS(H46)/1000","v":35458.852758555324},29939.530852088155,{"$f":"$C$47*SUM($C$43:$C$45)*(Données1!F200-$K$39)*24*VMOIS(H46)/1000","v":30949.589820660782},26132.153953333356,{"$f":"$C$47*SUM($C$43:$C$45)*(Données1!F200-$M$39)*24*VMOIS(H46)/1000","v":26440.32688276625},22324.777054578572,{"$f":"$C$47*SUM($C$43:$C$45)*(Données1!F200-$O$39)*24*VMOIS(H46)/1000","v":21931.063944871712},18517.40015582378,{"$f":"$C$47*SUM($C$43:$C$45)*(Données1!F200-$Q$39)*24*VMOIS(H46)/1000","v":17421.801006977177},14710.023257068988,{"$f":"$C$47*SUM($C$43:$C$45)*(Données1!F200-$S$39)*24*VMOIS(H46)/1000","v":12912.538069082642},10902.646358314198,{"$f":"$C$47*SUM($C$43:$C$45)*(Données1!F200-$U$39)*24*VMOIS(H46)/1000","v":8403.2751311881093},7095.2694595594103]
[null,"U bat moyen (W/m²,K)",{"$f":"(C43*F47+C44*F48+C45*F49)/SUM(C43:C45)","v":1.8112497087008539},"Uw (avec Rse et Rsi)",null,{"$f":"F43","v":5},null,"Juin",{"$f":"$C$47*SUM($C$43:$C$45)*(Données1!F201-$I$39)*24*VMOIS(H47)/1000","v":30183.348467269374},25485.181339858918,{"$f":"$C$47*SUM($C$43:$C$45)*(Données1!F201-$K$39)*24*VMOIS(H47)/1000","v":25819.54562414563},21800.623050741382,{"$f":"$C$47*SUM($C$43:$C$45)*(Données1!F201-$M$39)*24*VMOIS(H47)/1000","v":21455.742781021887},18116.064761623842,{"$f":"$C$47*SUM($C$43:$C$45)*(Données1!F201-$O$39)*24*VMOIS(H47)/1000","v":17091.93993789814},14431.5064725063,{"$f":"$C$47*SUM($C$43:$C$45)*(Données1!F201-$Q$39)*24*VMOIS(H47)/1000","v":12728.137094774402},10746.948183388766,{"$f":"$C$47*SUM($C$43:$C$45)*(Données1!F201-$S$39)*24*VMOIS(H47)/1000","v":8364.3342516506546},7062.3898942712249,{"$f":"$C$47*SUM($C$43:$C$45)*(Données1!F201-$U$39)*24*VMOIS(H47)/1000","v":4000.5314085269124},3377.8316051536872]
[null,"U bat parois opaques (W/m²,K)",{"$f":"(Calculs!C44*Calculs!F48+Calculs!C45*Calculs!F49)/(Calculs!C44+Calculs!C45)","v":0.57947100024973608},"U_murs (avec Rse et Rsi)",null,{"$f":"1/(1/F44+1/F76+1/F75)","v":1.5033232628398792},null,"Juillet",{"$f":"$C$47*SUM($C$43:$C$45)*(Données1!F202-$I$39)*24*VMOIS(H48)/1000","v":33155.204268089088},27994.455089984163,{"$f":"$C$47*SUM($C$43:$C$45)*(Données1!F202-$K$39)*24*VMOIS(H48)/1000","v":28645.941330194557},24187.078191229379,{"$f":"$C$47*SUM($C$43:$C$45)*(Données1!F202-$M$39)*24*VMOIS(H48)/1000","v":24136.678392300022},20379.701292474587,{"$f":"$C$47*SUM($C$43:$C$45)*(Données1!F202-$O$39)*24*VMOIS(H48)/1000","v":19627.415454405487},16572.324393719799,{"$f":"$C$47*SUM($C$43:$C$45)*(Données1!F202-$Q$39)*24*VMOIS(H48)/1000","v":15118.152516510952},12764.947494965007,{"$f":"$C$47*SUM($C$43:$C$45)*(Données1!F202-$S$39)*24*VMOIS(H48)/1000","v":10608.889578616418},8957.5705962102184,{"$f":"$C$47*SUM($C$43:$C$45)*(Données1!F202-$U$39)*24*VMOIS(H48)/1000","v":6099.6266407218827},5150.1936974554274]
[null,null,null,"U_toit (avec Rse et Rsi)",null,{"$f":"1/(1/F45+1/F79+1/F78)","v":0.46297295008535277},null,"Août",{"$f":"$C$47*SUM($C$43:$C$45)*(Données1!F203-$I$39)*24*VMOIS(H49)/1000","v":35954.856529630677},30358.329517346145,{"$f":"$C$47*SUM($C$43:$C$45)*(Données1!F203-$K$39)*24*VMOIS(H49)/1000","v":31445.593591736135},26550.952618591349,{"$f":"$C$47*SUM($C$43:$C$45)*(Données1!F203-$M$39)*24*VMOIS(H49)/1000","v":26936.3306538416},22743.575719836561,{"$f":"$C$47*SUM($C$43:$C$45)*(Données1!F203-$O$39)*24*VMOIS(H49)/1000","v":22427.067715947065},18936.198821081769,{"$f":"$C$47*SUM($C$43:$C$45)*(Données1!F203-$Q$39)*24*VMOIS(H49)/1000","v":17917.80477805253},15128.821922326979,{"$f":"$C$47*SUM($C$43:$C$45)*(Données1!F203-$S$39)*24*VMOIS(H49)/1000","v":13408.541840157995},11321.445023572189,{"$f":"$C$47*SUM($C$43:$C$45)*(Données1!F203-$U$39)*24*VMOIS(H49)/1000","v":8899.2789022634588},7514.0681248173978]
[null,null,null,null,null,null,null,"Septembre",{"$f":"$C$47*SUM($C$43:$C$45)*(Données1!F204-$I$39)*24*VMOIS(H50)/1000","v":35246.874974613507},29760.54831575237,{"$f":"$C$47*SUM($C$43:$C$45)*(Données1!F204-$K$39)*24*VMOIS(H50)/1000","v":30883.072131489771},26075.990026634838,{"$f":"$C$47*SUM($C$43:$C$45)*(Données1!F204-$M$39)*24*VMOIS(H50)/1000","v":26519.269288366031},22391.431737517301,{"$f":"$C$47*SUM($C$43:$C$45)*(Données1!F204-$O$39)*24*VMOIS(H50)/1000","v":22155.466445242284},18706.873448399761,{"$f":"$C$47*SUM($C$43:$C$45)*(Données1!F204-$Q$39)*24*VMOIS(H50)/1000","v":17791.66360211854},15022.315159282223,{"$f":"$C$47*SUM($C$43:$C$45)*(Données1!F204-$S$39)*24*VMOIS(H50)/1000","v":13427.860758994797},11337.756870164683,{"$f":"$C$47*SUM($C$43:$C$45)*(Données1!F204-$U$39)*24*VMOIS(H50)/1000","v":9064.0579158710552},7653.1985810471469]
[null,null,null,null,null,null,null,"Octobre",{"$f":"$C$47*SUM($C$43:$C$45)*(Données1!F205-$I$39)*24*VMOIS(H51)/1000","v":37937.432165076745},32032.308785886198,{"$f":"$C$47*SUM($C$43:$C$45)*(Données1!F205-$K$39)*24*VMOIS(H51)/1000","v":33428.169227182225},28224.931887131421,{"$f":"$C$47*SUM($C$43:$C$45)*(Données1!F205-$M$39)*24*VMOIS(H51)/1000","v":28918.906289287686},24417.554988376625,{"$f":"$C$47*SUM($C$43:$C$45)*(Données1!F205-$O$39)*24*VMOIS(H51)/1000","v":24409.643351393152},20610.178089621837,{"$f":"$C$47*SUM($C$43:$C$45)*(Données1!F205-$Q$39)*24*VMOIS(H51)/1000","v":19900.380413498613},16802.801190867045,{"$f":"$C$47*SUM($C$43:$C$45)*(Données1!F205-$S$39)*24*VMOIS(H51)/1000","v":15391.11747560408},12995.424292112255,{"$f":"$C$47*SUM($C$43:$C$45)*(Données1!F205-$U$39)*24*VMOIS(H51)/1000","v":10881.854537709545},9188.0473933574649]
[null,null,null,null,null,null,null,"Novembre",{"$f":"$C$47*SUM($C$43:$C$45)*(Données1!F206-$I$39)*24*VMOIS(H52)/1000","v":32619.274731417987},27541.945275101945,{"$f":"$C$47*SUM($C$43:$C$45)*(Données1!F206-$K$39)*24*VMOIS(H52)/1000","v":28255.471888294243},23857.386985984405,{"$f":"$C$47*SUM($C$43:$C$45)*(Données1!F206-$M$39)*24*VMOIS(H52)/1000","v":23891.6690451705},20172.828696866865,{"$f":"$C$47*SUM($C$43:$C$45)*(Données1!F206-$O$39)*24*VMOIS(H52)/1000","v":19527.866202046756},16488.270407749329,{"$f":"$C$47*SUM($C$43:$C$45)*(Données1!F206-$Q$39)*24*VMOIS(H52)/1000","v":15164.063358923015},12803.712118631791,{"$f":"$C$47*SUM($C$43:$C$45)*(Données1!F206-$S$39)*24*VMOIS(H52)/1000","v":10800.260515799269},9119.1538295142509,{"$f":"$C$47*SUM($C$43:$C$45)*(Données1!F206-$U$39)*24*VMOIS(H52)/1000","v":6436.4576726755267},5434.5955403967127]
[null,null,null,null,null,null,null,"Décembre",{"$f":"$C$47*SUM($C$43:$C$45)*(Données1!F207-$I$39)*24*VMOIS(H53)/1000","v":33087.928974257549},27937.651483026893,{"$f":"$C$47*SUM($C$43:$C$45)*(Données1!F207-$K$39)*24*VMOIS(H53)/1000","v":28578.666036363014},24130.274584272105,{"$f":"$C$47*SUM($C$43:$C$45)*(Données1!F207-$M$39)*24*VMOIS(H53)/1000","v":24069.40309846848},20322.897685517313,{"$f":"$C$47*SUM($C$43:$C$45)*(Données1!F207-$O$39)*24*VMOIS(H53)/1000","v":19560.140160573945},16515.520786762525,{"$f":"$C$47*SUM($C$43:$C$45)*(Données1!F207-$Q$39)*24*VMOIS(H53)/1000","v":15050.877222679408},12708.143888007733,{"$f":"$C$47*SUM($C$43:$C$45)*(Données1!F207-$S$39)*24*VMOIS(H53)/1000","v":10541.614284784875},8900.7669892529448,{"$f":"$C$47*SUM($C$43:$C$45)*(Données1!F207-$U$39)*24*VMOIS(H53)/1000","v":6032.3513468903393},5093.3900904981547]
[null,null,null,null,null,null,null,null,{"$f":"SUM(I42:I53)","v":399159.77343730541},337028.84955451172,346066.83884596662,292200.05703691498,292973.90425462776,247371.2645193183,239880.96966328882,202542.47200172156,186788.03507194997,157713.67948412485,133695.10048061109,112884.88696652811,80602.165889272219,68056.094448931399]
[null,"Apports renouvellement d'air"]
[]
[null,null,null,null,null,null,null,null,null,20,null,null,null,null,21,null,null,null,null,22,null,null,null,null,23,null,null,null,null,24,null,null,null,null,25,null,null,null,null,26]
[null,"Volume batiment (m3)",{"$f":"Calculs!F3","v":11574.900000000001},null,null,null,null,null,"Pv sat int","Etanchéité",null,"VMC\n(kWh)",null,"Pv sat int","Etanchéité",null,"VMC\n(kWh)",null,"Pv sat int","Etanchéité",null,"VMC\n(kWh)",null,"Pv sat int","Etanchéité",null,"VMC\n(kWh)",null,"Pv sat int","Etanchéité",null,"VMC\n(kWh)",null,"Pv sat int","Etanchéité",null,"VMC\n(kWh)",null,"Pv sat int","Etanchéité",null,"VMC\n(kWh)"]
[null,null,null,null,null,null,null,null,{"$f":"EXP(23.3265-3802.7/(J57+273.18)-(472.68/(J57+273.18))^2)","v":2336.9779366068346},"SENSIBLE","LATENT","SENSIBLE","LATENT",{"$f":"EXP(23.3265-3802.7/(O57+273.18)-(472.68/(O57+273.18))^2)","v":2485.7909745726224},"SENSIBLE","LATENT","SENSIBLE","LATENT",{"$f":"EXP(23.3265-3802.7/(T57+273.18)-(472.68/(T57+273.18))^2)","v":2642.817204610199},"SENSIBLE","LATENT","SENSIBLE","LATENT",{"$f":"EXP(23.3265-3802.7/(Y57+273.18)-(472.68/(Y57+273.18))^2)","v":2808.435991243849},"SENSIBLE","LATENT","SENSIBLE","LATENT",{"$f":"EXP(23.3265-3802.7/(AD57+273.18)-(472.68/(AD57+273.18))^2)","v":2983.0404868303808},"SENSIBLE","LATENT","SENSIBLE","LATENT",{"$f":"EXP(23.3265-3802.7/(AI57+273.18)-(472.68/(AI57+273.18))^2)","v":3167.0379747467473},"SENSIBLE","LATENT","SENSIBLE","LATENT",{"$f":"EXP(23.3265-3802.7/(AN57+273.18)-(472.68/(AN57+273.18))^2)","v":3360.8502157434891},"SENSIBLE","LATENT","SENSIBLE","LATENT"]
[null,null,"De base ",{"$f":"\"+ ajustement\"","v":"+ ajustement"},null,null,null,"Janvier",{"$f":"(0.622*I59*Données1!$BK263/100)/(101325-I59*Données1!$BK263/100)","v":1.1045045127154264E-2},{"$f":"0.279166*Données1!$AD229*$D$61*Données1!$AD229/(1.292*273.15/($J$57+273))*(Données1!$Z229-$J$57)*24*VMOIS($H60)/1000","v":14264.787361071547},{"$f":"0.680555*Données1!$AD229*$D$61*Données1!$AD229/(1.292*273.15/($J$57+273))*(Données1!$AC229-I60)*24*VMOIS($H60)","v":42983.251060462135},{"$f":"0.279166*Données1!$Y229*$C$64*Données1!$Y229/(1.292*273.15/($J$57+273))*(Données1!$U229-$J$57)*$C$66*VMOIS($H60)/1000","v":0},{"$f":"0.680555*Données1!$Y229*$C$64*Données1!$Y229/(1.292*273.15/($J$57+273))*(Données1!$X229-I60)*$C$66*VMOIS($H60)","v":0},{"$f":"(0.622*N59*Données1!$BL263/100)/(101325-N59*Données1!$BL263/100)","v":1.1458171889928516E-2},{"$f":"0.279166*Données1!$AD229*$D$61*Données1!$AD229/(1.292*273.15/($O$57+273))*(Données1!$Z229-$O$57)*24*VMOIS($H60)/1000","v":12316.037864429123},{"$f":"0.680555*Données1!$AD229*$D$61*Données1!$AD229/(1.292*273.15/($O$57+273))*(Données1!$AC229-N60)*24*VMOIS($H60)","v":41118.28202539037},{"$f":"0.279166*Données1!$Y229*$C$64*Données1!$Y229/(1.292*273.15/($O$57+273))*(Données1!$U229-$O$57)*$C$66*VMOIS($H60)/1000","v":0},{"$f":"0.680555*Données1!$Y229*$C$64*Données1!$Y229/(1.292*273.15/($O$57+273))*(Données1!X229-N60)*$C$66*VMOIS($H60)","v":0},{"$f":"(0.622*S59*Données1!$BM263/100)/(101325-S59*Données1!$BM263/100)","v":1.1909178434885493E-2},{"$f":"0.279166*Données1!$AD229*$D$61*Données1!$AD229/(1.292*273.15/($T$57+273))*(Données1!$Z229-$T$57)*24*VMOIS($H60)/1000","v":10353.700376101406},{"$f":"0.680555*Données1!$AD229*$D$61*Données1!$AD229/(1.292*273.15/($T$57+273))*(Données1!$AC229-S60)*24*VMOIS($H60)","v":39054.549876530094},{"$f":"0.279166*Données1!$Y229*$C$64*Données1!$Y229/(1.292*273.15/($T$57+273))*(Données1!$U229-$T$57)*$C$66*VMOIS($H60)/1000","v":0},{"$f":"0.680555*Données1!$Y229*$C$64*Données1!$Y229/(1.292*273.15/($T$57+273))*(Données1!X229-S60)*$C$66*VMOIS($H60)","v":0},{"$f":"(0.622*X59*Données1!$BN263/100)/(101325-X59*Données1!$BN263/100)","v":1.2406631167895029E-2},{"$f":"0.279166*Données1!$AD229*$D$61*Données1!$AD229/(1.292*273.15/($Y$57+273))*(Données1!$Z229-$Y$57)*24*VMOIS($H60)/1000","v":8377.7748960883928},{"$f":"0.680555*Données1!$AD229*$D$61*Données1!$AD229/(1.292*273.15/($Y$57+273))*(Données1!$AC229-X60)*24*VMOIS($H60)","v":36748.175648262797},{"$f":"0.279166*Données1!$Y229*$C$64*Données1!$Y229/(1.292*273.15/($Y$57+273))*(Données1!$U229-$Y$57)*$C$66*VMOIS($H60)/1000","v":0},{"$f":"0.680555*Données1!$Y229*$C$64*Données1!$Y229/(1.292*273.15/($Y$57+273))*(Données1!X229-X60)*$C$66*VMOIS($H60)","v":0},{"$f":"(0.622*AC59*Données1!$BO263/100)/(101325-AC59*Données1!$BO263/100)","v":1.2962224905707401E-2},{"$f":"0.279166*Données1!$AD229*$D$61*Données1!$AD229/(1.292*273.15/($AD$57+273))*(Données1!$Z229-$AD$57)*24*VMOIS($H60)/1000","v":6388.2614243900871},{"$f":"0.680555*Données1!$AD229*$D$61*Données1!$AD229/(1.292*273.15/($AD$57+273))*(Données1!$AC229-AC60)*24*VMOIS($H60)","v":34139.323998601882},{"$f":"0.279166*Données1!$Y229*$C$64*Données1!$Y229/(1.292*273.15/($AD$57+273))*(Données1!$U229-$AD$57)*$C$66*VMOIS($H60)/1000","v":0},{"$f":"0.680555*Données1!$Y229*$C$64*Données1!$Y229/(1.292*273.15/($AD$57+273))*(Données1!X229-AC60)*$C$66*VMOIS($H60)","v":0},{"$f":"(0.622*AH59*Données1!$BP263/100)/(101325-AH59*Données1!$BP263/100)","v":1.3590473953117153E-2},{"$f":"0.279166*Données1!$AD229*$D$61*Données1!$AD229/(1.292*273.15/($AI$57+273))*(Données1!$Z229-$AI$57)*24*VMOIS($H60)/1000","v":4385.1599610064859},{"$f":"0.680555*Données1!$AD229*$D$61*Données1!$AD229/(1.292*273.15/($AI$57+273))*(Données1!$AC229-AH60)*24*VMOIS($H60)","v":31153.468865204286},{"$f":"0.279166*Données1!$Y229*$C$64*Données1!$Y229/(1.292*273.15/($AI$57+273))*(Données1!$U229-$AI$57)*$C$66*VMOIS($H60)/1000","v":0},{"$f":"0.680555*Données1!$Y229*$C$64*Données1!$Y229/(1.292*273.15/($AI$57+273))*(Données1!X229-AH60)*$C$66*VMOIS($H60)","v":0},{"$f":"(0.622*AM59*Données1!$BQ263/100)/(101325-AM59*Données1!$BQ263/100)","v":1.4307147980323025E-2},{"$f":"0.279166*Données1!$AD229*$D$61*Données1!$AD229/(1.292*273.15/($AN$57+273))*(Données1!$Z229-$AN$57)*24*VMOIS($H60)/1000","v":2368.470505937592},{"$f":"0.680555*Données1!$AD229*$D$61*Données1!$AD229/(1.292*273.15/($AN$57+273))*(Données1!$AC229-AM60)*24*VMOIS($H60)","v":27708.905806672479},{"$f":"0.279166*Données1!$Y229*$C$64*Données1!$Y229/(1.292*273.15/($AN$57+273))*(Données1!$U229-$AN$57)*$C$66*VMOIS($H60)/1000","v":0},{"$f":"0.680555*Données1!$Y229*$C$64*Données1!$Y229/(1.292*273.15/($AN$57+273))*(Données1!X229-AM60)*$C$66*VMOIS($H60)","v":0}]
[null,"Renouvellement étanchéité(m3/h)",{"$f":"MROUND(C43*Données1!Z245+(C44+C45)*Données1!Y245,0.1)","v":8351.2000000000007},{"$f":"C61","v":8351.2000000000007},null,null,null,"Février",{"$f":"(0.622*I59*Données1!$BK264/100)/(101325-I59*Données1!$BK264/100)","v":1.0853345751845761E-2},{"$f":"0.279166*Données1!$AD230*$D$61*Données1!$AD230/(1.292*273.15/($J$57+273))*(Données1!$Z230-$J$57)*24*VMOIS($H61)/1000","v":12773.659409721378},{"$f":"0.680555*Données1!$AD230*$D$61*Données1!$AD230/(1.292*273.15/($J$57+273))*(Données1!$AC230-I61)*24*VMOIS($H61)","v":37308.706065949213},{"$f":"0.279166*Données1!$Y230*$C$64*Données1!$Y230/(1.292*273.15/($J$57+273))*(Données1!$U230-$J$57)*$C$66*VMOIS($H61)/1000","v":0},{"$f":"0.680555*Données1!$Y230*$C$64*Données1!$Y230/(1.292*273.15/($J$57+273))*(Données1!$X230-I61)*$C$66*VMOIS($H61)","v":0},{"$f":"(0.622*N59*Données1!$BK264/100)/(101325-N59*Données1!$BK264/100)","v":1.1557301767872485E-2},{"$f":"0.279166*Données1!$AD230*$D$61*Données1!$AD230/(1.292*273.15/($O$57+273))*(Données1!$Z230-$O$57)*24*VMOIS($H61)/1000","v":11012.343996047241},{"$f":"0.680555*Données1!$AD230*$D$61*Données1!$AD230/(1.292*273.15/($O$57+273))*(Données1!$AC230-N61)*24*VMOIS($H61)","v":34338.604921512677},{"$f":"0.279166*Données1!$Y230*$C$64*Données1!$Y230/(1.292*273.15/($O$57+273))*(Données1!$U230-$O$57)*$C$66*VMOIS($H61)/1000","v":0},{"$f":"0.680555*Données1!$Y230*$C$64*Données1!$Y230/(1.292*273.15/($O$57+273))*(Données1!X230-N61)*$C$66*VMOIS($H61)","v":0},{"$f":"(0.622*S59*Données1!$BM264/100)/(101325-S59*Données1!$BM264/100)","v":1.1668580541291568E-2},{"$f":"0.279166*Données1!$AD230*$D$61*Données1!$AD230/(1.292*273.15/($T$57+273))*(Données1!$Z230-$T$57)*24*VMOIS($H61)/1000","v":9238.7502727072879},{"$f":"0.680555*Données1!$AD230*$D$61*Données1!$AD230/(1.292*273.15/($T$57+273))*(Données1!$AC230-S61)*24*VMOIS($H61)","v":33964.106434112597},{"$f":"0.279166*Données1!$Y230*$C$64*Données1!$Y230/(1.292*273.15/($T$57+273))*(Données1!$U230-$T$57)*$C$66*VMOIS($H61)/1000","v":0},{"$f":"0.680555*Données1!$Y230*$C$64*Données1!$Y230/(1.292*273.15/($T$57+273))*(Données1!X230-S61)*$C$66*VMOIS($H61)","v":0},{"$f":"(0.622*X59*Données1!$BN264/100)/(101325-X59*Données1!$BN264/100)","v":1.2131119732294887E-2},{"$f":"0.279166*Données1!$AD230*$D$61*Données1!$AD230/(1.292*273.15/($Y$57+273))*(Données1!$Z230-$Y$57)*24*VMOIS($H61)/1000","v":7452.8782397015248},{"$f":"0.680555*Données1!$AD230*$D$61*Données1!$AD230/(1.292*273.15/($Y$57+273))*(Données1!$AC230-X61)*24*VMOIS($H61)","v":32030.203230902065},{"$f":"0.279166*Données1!$Y230*$C$64*Données1!$Y230/(1.292*273.15/($Y$57+273))*(Données1!$U230-$Y$57)*$C$66*VMOIS($H61)/1000","v":0},{"$f":"0.680555*Données1!$Y230*$C$64*Données1!$Y230/(1.292*273.15/($Y$57+273))*(Données1!X230-X61)*$C$66*VMOIS($H61)","v":0},{"$f":"(0.622*AC59*Données1!$BO264/100)/(101325-AC59*Données1!$BO264/100)","v":1.2643476525890108E-2},{"$f":"0.279166*Données1!$AD230*$D$61*Données1!$AD230/(1.292*273.15/($AD$57+273))*(Données1!$Z230-$AD$57)*24*VMOIS($H61)/1000","v":5654.7278970299458},{"$f":"0.680555*Données1!$AD230*$D$61*Données1!$AD230/(1.292*273.15/($AD$57+273))*(Données1!$AC230-AC61)*24*VMOIS($H61)","v":29861.019019476385},{"$f":"0.279166*Données1!$Y230*$C$64*Données1!$Y230/(1.292*273.15/($AD$57+273))*(Données1!$U230-$AD$57)*$C$66*VMOIS($H61)/1000","v":0},{"$f":"0.680555*Données1!$Y230*$C$64*Données1!$Y230/(1.292*273.15/($AD$57+273))*(Données1!X230-AC61)*$C$66*VMOIS($H61)","v":0},{"$f":"(0.622*AH59*Données1!$BP264/100)/(101325-AH59*Données1!$BP264/100)","v":1.3220162204879791E-2},{"$f":"0.279166*Données1!$AD230*$D$61*Données1!$AD230/(1.292*273.15/($AI$57+273))*(Données1!$Z230-$AI$57)*24*VMOIS($H61)/1000","v":3844.2992446925546},{"$f":"0.680555*Données1!$AD230*$D$61*Données1!$AD230/(1.292*273.15/($AI$57+273))*(Données1!$AC230-AH61)*24*VMOIS($H61)","v":27389.598135847285},{"$f":"0.279166*Données1!$Y230*$C$64*Données1!$Y230/(1.292*273.15/($AI$57+273))*(Données1!$U230-$AI$57)*$C$66*VMOIS($H61)/1000","v":0},{"$f":"0.680555*Données1!$Y230*$C$64*Données1!$Y230/(1.292*273.15/($AI$57+273))*(Données1!X230-AH61)*$C$66*VMOIS($H61)","v":0},{"$f":"(0.622*AM59*Données1!$BQ264/100)/(101325-AM59*Données1!$BQ264/100)","v":1.3874839837083191E-2},{"$f":"0.279166*Données1!$AD230*$D$61*Données1!$AD230/(1.292*273.15/($AN$57+273))*(Données1!$Z230-$AN$57)*24*VMOIS($H61)/1000","v":2021.5922826893507},{"$f":"0.680555*Données1!$AD230*$D$61*Données1!$AD230/(1.292*273.15/($AN$57+273))*(Données1!$AC230-AM61)*24*VMOIS($H61)","v":24551.911857771316},{"$f":"0.279166*Données1!$Y230*$C$64*Données1!$Y230/(1.292*273.15/($AN$57+273))*(Données1!$U230-$AN$57)*$C$66*VMOIS($H61)/1000","v":0},{"$f":"0.680555*Données1!$Y230*$C$64*Données1!$Y230/(1.292*273.15/($AN$57+273))*(Données1!X230-AM61)*$C$66*VMOIS($H61)","v":0}]
[null,"Renouvellement étanchéité (vol/h)",{"$f":"MROUND(C61/C58,0.001)","v":0.72099999999999997},{"$f":"C62","v":0.72099999999999997},null,null,null,"Mars",{"$f":"(0.622*I59*Données1!$BK265/100)/(101325-I59*Données1!$BK265/100)","v":1.0885095766821552E-2},{"$f":"0.279166*Données1!$AD231*$D$61*Données1!$AD231/(1.292*273.15/($J$57+273))*(Données1!$Z231-$J$57)*24*VMOIS($H62)/1000","v":14195.755724311941},{"$f":"0.680555*Données1!$AD231*$D$61*Données1!$AD231/(1.292*273.15/($J$57+273))*(Données1!$AC231-I62)*24*VMOIS($H62)","v":41143.37249584392},{"$f":"0.279166*Données1!$Y231*$C$64*Données1!$Y231/(1.292*273.15/($J$57+273))*(Données1!$U231-$J$57)*$C$66*VMOIS($H62)/1000","v":0},{"$f":"0.680555*Données1!$Y231*$C$64*Données1!$Y231/(1.292*273.15/($J$57+273))*(Données1!$X231-I62)*$C$66*VMOIS($H62)","v":0},{"$f":"(0.622*N59*Données1!$BK265/100)/(101325-N59*Données1!$BK265/100)","v":1.1591148830302623E-2},{"$f":"0.279166*Données1!$AD231*$D$61*Données1!$AD231/(1.292*273.15/($O$57+273))*(Données1!$Z231-$O$57)*24*VMOIS($H62)/1000","v":12246.285988202177},{"$f":"0.680555*Données1!$AD231*$D$61*Données1!$AD231/(1.292*273.15/($O$57+273))*(Données1!$AC231-N62)*24*VMOIS($H62)","v":37844.92153891104},{"$f":"0.279166*Données1!$Y231*$C$64*Données1!$Y231/(1.292*273.15/($O$57+273))*(Données1!$U231-$O$57)*$C$66*VMOIS($H62)/1000","v":0},{"$f":"0.680555*Données1!$Y231*$C$64*Données1!$Y231/(1.292*273.15/($O$57+273))*(Données1!X231-N62)*$C$66*VMOIS($H62)","v":0},{"$f":"(0.622*S59*Données1!$BM265/100)/(101325-S59*Données1!$BM265/100)","v":1.1720697891169177E-2},{"$f":"0.279166*Données1!$AD231*$D$61*Données1!$AD231/(1.292*273.15/($T$57+273))*(Données1!$Z231-$T$57)*24*VMOIS($H62)/1000","v":10283.224963559423},{"$f":"0.680555*Données1!$AD231*$D$61*Données1!$AD231/(1.292*273.15/($T$57+273))*(Données1!$AC231-S62)*24*VMOIS($H62)","v":37340.523438160708},{"$f":"0.279166*Données1!$Y231*$C$64*Données1!$Y231/(1.292*273.15/($T$57+273))*(Données1!$U231-$T$57)*$C$66*VMOIS($H62)/1000","v":0},{"$f":"0.680555*Données1!$Y231*$C$64*Données1!$Y231/(1.292*273.15/($T$57+273))*(Données1!X231-S62)*$C$66*VMOIS($H62)","v":0},{"$f":"(0.622*X59*Données1!$BN265/100)/(101325-X59*Données1!$BN265/100)","v":1.2204491585799738E-2},{"$f":"0.279166*Données1!$AD231*$D$61*Données1!$AD231/(1.292*273.15/($Y$57+273))*(Données1!$Z231-$Y$57)*24*VMOIS($H62)/1000","v":8306.5726503836795},{"$f":"0.680555*Données1!$AD231*$D$61*Données1!$AD231/(1.292*273.15/($Y$57+273))*(Données1!$AC231-X62)*24*VMOIS($H62)","v":35094.726931981371},{"$f":"0.279166*Données1!$Y231*$C$64*Données1!$Y231/(1.292*273.15/($Y$57+273))*(Données1!$U231-$Y$57)*$C$66*VMOIS($H62)/1000","v":0},{"$f":"0.680555*Données1!$Y231*$C$64*Données1!$Y231/(1.292*273.15/($Y$57+273))*(Données1!X231-X62)*$C$66*VMOIS($H62)","v":0},{"$f":"(0.622*AC59*Données1!$BO265/100)/(101325-AC59*Données1!$BO265/100)","v":1.2750429781591258E-2},{"$f":"0.279166*Données1!$AD231*$D$61*Données1!$AD231/(1.292*273.15/($AD$57+273))*(Données1!$Z231-$AD$57)*24*VMOIS($H62)/1000","v":6316.3290486749438},{"$f":"0.680555*Données1!$AD231*$D$61*Données1!$AD231/(1.292*273.15/($AD$57+273))*(Données1!$AC231-AC62)*24*VMOIS($H62)","v":32527.1339488513},{"$f":"0.279166*Données1!$Y231*$C$64*Données1!$Y231/(1.292*273.15/($AD$57+273))*(Données1!$U231-$AD$57)*$C$66*VMOIS($H62)/1000","v":0},{"$f":"0.680555*Données1!$Y231*$C$64*Données1!$Y231/(1.292*273.15/($AD$57+273))*(Données1!X231-AC62)*$C$66*VMOIS($H62)","v":0},{"$f":"(0.622*AH59*Données1!$BP265/100)/(101325-AH59*Données1!$BP265/100)","v":1.3369925463158234E-2},{"$f":"0.279166*Données1!$AD231*$D$61*Données1!$AD231/(1.292*273.15/($AI$57+273))*(Données1!$Z231-$AI$57)*24*VMOIS($H62)/1000","v":4312.4941584332164},{"$f":"0.680555*Données1!$AD231*$D$61*Données1!$AD231/(1.292*273.15/($AI$57+273))*(Données1!$AC231-AH62)*24*VMOIS($H62)","v":29578.312042704121},{"$f":"0.279166*Données1!$Y231*$C$64*Données1!$Y231/(1.292*273.15/($AI$57+273))*(Données1!$U231-$AI$57)*$C$66*VMOIS($H62)/1000","v":0},{"$f":"0.680555*Données1!$Y231*$C$64*Données1!$Y231/(1.292*273.15/($AI$57+273))*(Données1!X231-AH62)*$C$66*VMOIS($H62)","v":0},{"$f":"(0.622*AM59*Données1!$BQ265/100)/(101325-AM59*Données1!$BQ265/100)","v":1.4070066526488735E-2},{"$f":"0.279166*Données1!$AD231*$D$61*Données1!$AD231/(1.292*273.15/($AN$57+273))*(Données1!$Z231-$AN$57)*24*VMOIS($H62)/1000","v":2295.0679796584986},{"$f":"0.680555*Données1!$AD231*$D$61*Données1!$AD231/(1.292*273.15/($AN$57+273))*(Données1!$AC231-AM62)*24*VMOIS($H62)","v":26209.496324733293},{"$f":"0.279166*Données1!$Y231*$C$64*Données1!$Y231/(1.292*273.15/($AN$57+273))*(Données1!$U231-$AN$57)*$C$66*VMOIS($H62)/1000","v":0},{"$f":"0.680555*Données1!$Y231*$C$64*Données1!$Y231/(1.292*273.15/($AN$57+273))*(Données1!X231-AM62)*$C$66*VMOIS($H62)","v":0}]
[null,null,null,null,null,null,null,"Avril",{"$f":"(0.622*I59*Données1!$BK266/100)/(101325-I59*Données1!$BK266/100)","v":1.1015363640059426E-2},{"$f":"0.279166*Données1!$AD232*$D$61*Données1!$AD232/(1.292*273.15/($J$57+273))*(Données1!$Z232-$J$57)*24*VMOIS($H63)/1000","v":14165.90055947628},{"$f":"0.680555*Données1!$AD232*$D$61*Données1!$AD232/(1.292*273.15/($J$57+273))*(Données1!$AC232-I63)*24*VMOIS($H63)","v":43673.789145014314},{"$f":"0.279166*Données1!$Y232*$C$64*Données1!$Y232/(1.292*273.15/($J$57+273))*(Données1!$U232-$J$57)*$C$66*VMOIS($H63)/1000","v":0},{"$f":"0.680555*Données1!$Y232*$C$64*Données1!$Y232/(1.292*273.15/($J$57+273))*(Données1!$X232-I63)*$C$66*VMOIS($H63)","v":0},{"$f":"(0.622*N59*Données1!$BK266/100)/(101325-N59*Données1!$BK266/100)","v":1.1730023034226746E-2},{"$f":"0.279166*Données1!$AD232*$D$61*Données1!$AD232/(1.292*273.15/($O$57+273))*(Données1!$Z232-$O$57)*24*VMOIS($H63)/1000","v":12283.784261067158},{"$f":"0.680555*Données1!$AD232*$D$61*Données1!$AD232/(1.292*273.15/($O$57+273))*(Données1!$AC232-N63)*24*VMOIS($H63)","v":40459.577962173724},{"$f":"0.279166*Données1!$Y232*$C$64*Données1!$Y232/(1.292*273.15/($O$57+273))*(Données1!$U232-$O$57)*$C$66*VMOIS($H63)/1000","v":0},{"$f":"0.680555*Données1!$Y232*$C$64*Données1!$Y232/(1.292*273.15/($O$57+273))*(Données1!X232-N63)*$C$66*VMOIS($H63)","v":0},{"$f":"(0.622*S59*Données1!$BM266/100)/(101325-S59*Données1!$BM266/100)","v":1.1849697070895922E-2},{"$f":"0.279166*Données1!$AD232*$D$61*Données1!$AD232/(1.292*273.15/($T$57+273))*(Données1!$Z232-$T$57)*24*VMOIS($H63)/1000","v":10388.535553937701},{"$f":"0.680555*Données1!$AD232*$D$61*Données1!$AD232/(1.292*273.15/($T$57+273))*(Données1!$AC232-S63)*24*VMOIS($H63)","v":40032.080285989941},{"$f":"0.279166*Données1!$Y232*$C$64*Données1!$Y232/(1.292*273.15/($T$57+273))*(Données1!$U232-$T$57)*$C$66*VMOIS($H63)/1000","v":0},{"$f":"0.680555*Données1!$Y232*$C$64*Données1!$Y232/(1.292*273.15/($T$57+273))*(Données1!X232-S63)*$C$66*VMOIS($H63)","v":0},{"$f":"(0.622*X59*Données1!$BN266/100)/(101325-X59*Données1!$BN266/100)","v":1.232368253867506E-2},{"$f":"0.279166*Données1!$AD232*$D$61*Données1!$AD232/(1.292*273.15/($Y$57+273))*(Données1!$Z232-$Y$57)*24*VMOIS($H63)/1000","v":8480.1544380879186},{"$f":"0.680555*Données1!$AD232*$D$61*Données1!$AD232/(1.292*273.15/($Y$57+273))*(Données1!$AC232-X63)*24*VMOIS($H63)","v":37921.978320418733},{"$f":"0.279166*Données1!$Y232*$C$64*Données1!$Y232/(1.292*273.15/($Y$57+273))*(Données1!$U232-$Y$57)*$C$66*VMOIS($H63)/1000","v":0},{"$f":"0.680555*Données1!$Y232*$C$64*Données1!$Y232/(1.292*273.15/($Y$57+273))*(Données1!X232-X63)*$C$66*VMOIS($H63)","v":0},{"$f":"(0.622*AC59*Données1!$BO266/100)/(101325-AC59*Données1!$BO266/100)","v":1.2846934177122023E-2},{"$f":"0.279166*Données1!$AD232*$D$61*Données1!$AD232/(1.292*273.15/($AD$57+273))*(Données1!$Z232-$AD$57)*24*VMOIS($H63)/1000","v":6558.6409135178028},{"$f":"0.680555*Données1!$AD232*$D$61*Données1!$AD232/(1.292*273.15/($AD$57+273))*(Données1!$AC232-AC63)*24*VMOIS($H63)","v":35562.483956227785},{"$f":"0.279166*Données1!$Y232*$C$64*Données1!$Y232/(1.292*273.15/($AD$57+273))*(Données1!$U232-$AD$57)*$C$66*VMOIS($H63)/1000","v":0},{"$f":"0.680555*Données1!$Y232*$C$64*Données1!$Y232/(1.292*273.15/($AD$57+273))*(Données1!X232-AC63)*$C$66*VMOIS($H63)","v":0},{"$f":"(0.622*AH59*Données1!$BP266/100)/(101325-AH59*Données1!$BP266/100)","v":1.343407325403353E-2},{"$f":"0.279166*Données1!$AD232*$D$61*Données1!$AD232/(1.292*273.15/($AI$57+273))*(Données1!$Z232-$AI$57)*24*VMOIS($H63)/1000","v":4623.9949802273568},{"$f":"0.680555*Données1!$AD232*$D$61*Données1!$AD232/(1.292*273.15/($AI$57+273))*(Données1!$AC232-AH63)*24*VMOIS($H63)","v":32881.485821800845},{"$f":"0.279166*Données1!$Y232*$C$64*Données1!$Y232/(1.292*273.15/($AI$57+273))*(Données1!$U232-$AI$57)*$C$66*VMOIS($H63)/1000","v":0},{"$f":"0.680555*Données1!$Y232*$C$64*Données1!$Y232/(1.292*273.15/($AI$57+273))*(Données1!X232-AH63)*$C$66*VMOIS($H63)","v":0},{"$f":"(0.622*AM59*Données1!$BQ266/100)/(101325-AM59*Données1!$BQ266/100)","v":1.4095595296557297E-2},{"$f":"0.279166*Données1!$AD232*$D$61*Données1!$AD232/(1.292*273.15/($AN$57+273))*(Données1!$Z232-$AN$57)*24*VMOIS($H63)/1000","v":2676.2166382165806},{"$f":"0.680555*Données1!$AD232*$D$61*Données1!$AD232/(1.292*273.15/($AN$57+273))*(Données1!$AC232-AM63)*24*VMOIS($H63)","v":29825.682776718513},{"$f":"0.279166*Données1!$Y232*$C$64*Données1!$Y232/(1.292*273.15/($AN$57+273))*(Données1!$U232-$AN$57)*$C$66*VMOIS($H63)/1000","v":0},{"$f":"0.680555*Données1!$Y232*$C$64*Données1!$Y232/(1.292*273.15/($AN$57+273))*(Données1!X232-AM63)*$C$66*VMOIS($H63)","v":0}]
[null,"Renouvellement VMC (m3/h)",{"$f":"IF(VMCPlan=Données1!$X$5,0,Surface/Hypothèses!C16*Hypothèses!B25)","v":0},null,null,null,null,"Mai",{"$f":"(0.622*I59*Données1!$BK267/100)/(101325-I59*Données1!$BK267/100)","v":1.1176527107636152E-2},{"$f":"0.279166*Données1!$AD233*$D$61*Données1!$AD233/(1.292*273.15/($J$57+273))*(Données1!$Z233-$J$57)*24*VMOIS($H64)/1000","v":15581.010758396922},{"$f":"0.680555*Données1!$AD233*$D$61*Données1!$AD233/(1.292*273.15/($J$57+273))*(Données1!$AC233-I64)*24*VMOIS($H64)","v":48184.40459484583},{"$f":"0.279166*Données1!$Y233*$C$64*Données1!$Y233/(1.292*273.15/($J$57+273))*(Données1!$U233-$J$57)*$C$66*VMOIS($H64)/1000","v":0},{"$f":"0.680555*Données1!$Y233*$C$64*Données1!$Y233/(1.292*273.15/($J$57+273))*(Données1!$X233-I64)*$C$66*VMOIS($H64)","v":0},{"$f":"(0.622*N59*Données1!$BK267/100)/(101325-N59*Données1!$BK267/100)","v":1.1901839125408835E-2},{"$f":"0.279166*Données1!$AD233*$D$61*Données1!$AD233/(1.292*273.15/($O$57+273))*(Données1!$Z233-$O$57)*24*VMOIS($H64)/1000","v":13646.00590479663},{"$f":"0.680555*Données1!$AD233*$D$61*Données1!$AD233/(1.292*273.15/($O$57+273))*(Données1!$AC233-N64)*24*VMOIS($H64)","v":44833.399441393543},{"$f":"0.279166*Données1!$Y233*$C$64*Données1!$Y233/(1.292*273.15/($O$57+273))*(Données1!$U233-$O$57)*$C$66*VMOIS($H64)/1000","v":0},{"$f":"0.680555*Données1!$Y233*$C$64*Données1!$Y233/(1.292*273.15/($O$57+273))*(Données1!X233-N64)*$C$66*VMOIS($H64)","v":0},{"$f":"(0.622*S59*Données1!$BM267/100)/(101325-S59*Données1!$BM267/100)","v":1.2037141596248987E-2},{"$f":"0.279166*Données1!$AD233*$D$61*Données1!$AD233/(1.292*273.15/($T$57+273))*(Données1!$Z233-$T$57)*24*VMOIS($H64)/1000","v":11697.476001096198},{"$f":"0.680555*Données1!$AD233*$D$61*Données1!$AD233/(1.292*273.15/($T$57+273))*(Données1!$AC233-S64)*24*VMOIS($H64)","v":44327.876661295959},{"$f":"0.279166*Données1!$Y233*$C$64*Données1!$Y233/(1.292*273.15/($T$57+273))*(Données1!$U233-$T$57)*$C$66*VMOIS($H64)/1000","v":0},{"$f":"0.680555*Données1!$Y233*$C$64*Données1!$Y233/(1.292*273.15/($T$57+273))*(Données1!X233-S64)*$C$66*VMOIS($H64)","v":0},{"$f":"(0.622*X59*Données1!$BN267/100)/(101325-X59*Données1!$BN267/100)","v":1.2529520591931844E-2},{"$f":"0.279166*Données1!$AD233*$D$61*Données1!$AD233/(1.292*273.15/($Y$57+273))*(Données1!$Z233-$Y$57)*24*VMOIS($H64)/1000","v":9735.4210472956183},{"$f":"0.680555*Données1!$AD233*$D$61*Données1!$AD233/(1.292*273.15/($Y$57+273))*(Données1!$AC233-X64)*24*VMOIS($H64)","v":42075.4336078161},{"$f":"0.279166*Données1!$Y233*$C$64*Données1!$Y233/(1.292*273.15/($Y$57+273))*(Données1!$U233-$Y$57)*$C$66*VMOIS($H64)/1000","v":0},{"$f":"0.680555*Données1!$Y233*$C$64*Données1!$Y233/(1.292*273.15/($Y$57+273))*(Données1!X233-X64)*$C$66*VMOIS($H64)","v":0},{"$f":"(0.622*AC59*Données1!$BO267/100)/(101325-AC59*Données1!$BO267/100)","v":1.3079336962703105E-2},{"$f":"0.279166*Données1!$AD233*$D$61*Données1!$AD233/(1.292*273.15/($AD$57+273))*(Données1!$Z233-$AD$57)*24*VMOIS($H64)/1000","v":7759.8410433948975},{"$f":"0.680555*Données1!$AD233*$D$61*Données1!$AD233/(1.292*273.15/($AD$57+273))*(Données1!$AC233-AC64)*24*VMOIS($H64)","v":39525.526708599231},{"$f":"0.279166*Données1!$Y233*$C$64*Données1!$Y233/(1.292*273.15/($AD$57+273))*(Données1!$U233-$AD$57)*$C$66*VMOIS($H64)/1000","v":0},{"$f":"0.680555*Données1!$Y233*$C$64*Données1!$Y233/(1.292*273.15/($AD$57+273))*(Données1!X233-AC64)*$C$66*VMOIS($H64)","v":0},{"$f":"(0.622*AH59*Données1!$BP267/100)/(101325-AH59*Données1!$BP267/100)","v":1.3696674212500709E-2},{"$f":"0.279166*Données1!$AD233*$D$61*Données1!$AD233/(1.292*273.15/($AI$57+273))*(Données1!$Z233-$AI$57)*24*VMOIS($H64)/1000","v":5770.7359893940311},{"$f":"0.680555*Données1!$AD233*$D$61*Données1!$AD233/(1.292*273.15/($AI$57+273))*(Données1!$AC233-AH64)*24*VMOIS($H64)","v":36625.777393339435},{"$f":"0.279166*Données1!$Y233*$C$64*Données1!$Y233/(1.292*273.15/($AI$57+273))*(Données1!$U233-$AI$57)*$C$66*VMOIS($H64)/1000","v":0},{"$f":"0.680555*Données1!$Y233*$C$64*Données1!$Y233/(1.292*273.15/($AI$57+273))*(Données1!X233-AH64)*$C$66*VMOIS($H64)","v":0},{"$f":"(0.622*AM59*Données1!$BQ267/100)/(101325-AM59*Données1!$BQ267/100)","v":1.4398217909307041E-2},{"$f":"0.279166*Données1!$AD233*$D$61*Données1!$AD233/(1.292*273.15/($AN$57+273))*(Données1!$Z233-$AN$57)*24*VMOIS($H64)/1000","v":3768.1058852930232},{"$f":"0.680555*Données1!$AD233*$D$61*Données1!$AD233/(1.292*273.15/($AN$57+273))*(Données1!$AC233-AM64)*24*VMOIS($H64)","v":33290.598934538961},{"$f":"0.279166*Données1!$Y233*$C$64*Données1!$Y233/(1.292*273.15/($AN$57+273))*(Données1!$U233-$AN$57)*$C$66*VMOIS($H64)/1000","v":0},{"$f":"0.680555*Données1!$Y233*$C$64*Données1!$Y233/(1.292*273.15/($AN$57+273))*(Données1!X233-AM64)*$C$66*VMOIS($H64)","v":0}]
[null,"Renouvellement VMC (vol/h)",{"$f":"C64/C58","v":0},null,null,null,null,"Juin",{"$f":"(0.622*I59*Données1!$BK268/100)/(101325-I59*Données1!$BK268/100)","v":1.1065796701237267E-2},{"$f":"0.279166*Données1!$AD234*$D$61*Données1!$AD234/(1.292*273.15/($J$57+273))*(Données1!$Z234-$J$57)*24*VMOIS($H65)/1000","v":13346.767277566598},{"$f":"0.680555*Données1!$AD234*$D$61*Données1!$AD234/(1.292*273.15/($J$57+273))*(Données1!$AC234-I65)*24*VMOIS($H65)","v":43257.631516628171},{"$f":"0.279166*Données1!$Y234*$C$64*Données1!$Y234/(1.292*273.15/($J$57+273))*(Données1!$U234-$J$57)*$C$66*VMOIS($H65)/1000","v":0},{"$f":"0.680555*Données1!$Y234*$C$64*Données1!$Y234/(1.292*273.15/($J$57+273))*(Données1!$X234-I65)*$C$66*VMOIS($H65)","v":0},{"$f":"(0.622*N59*Données1!$BK268/100)/(101325-N59*Données1!$BK268/100)","v":1.1783789022432892E-2},{"$f":"0.279166*Données1!$AD234*$D$61*Données1!$AD234/(1.292*273.15/($O$57+273))*(Données1!$Z234-$O$57)*24*VMOIS($H65)/1000","v":11456.104737068574},{"$f":"0.680555*Données1!$AD234*$D$61*Données1!$AD234/(1.292*273.15/($O$57+273))*(Données1!$AC234-N65)*24*VMOIS($H65)","v":40016.249466250818},{"$f":"0.279166*Données1!$Y234*$C$64*Données1!$Y234/(1.292*273.15/($O$57+273))*(Données1!$U234-$O$57)*$C$66*VMOIS($H65)/1000","v":0},{"$f":"0.680555*Données1!$Y234*$C$64*Données1!$Y234/(1.292*273.15/($O$57+273))*(Données1!X234-N65)*$C$66*VMOIS($H65)","v":0},{"$f":"(0.622*S59*Données1!$BM268/100)/(101325-S59*Données1!$BM268/100)","v":1.1908160365420513E-2},{"$f":"0.279166*Données1!$AD234*$D$61*Données1!$AD234/(1.292*273.15/($T$57+273))*(Données1!$Z234-$T$57)*24*VMOIS($H65)/1000","v":9552.2706683579818},{"$f":"0.680555*Données1!$AD234*$D$61*Données1!$AD234/(1.292*273.15/($T$57+273))*(Données1!$AC234-S65)*24*VMOIS($H65)","v":39563.313151915303},{"$f":"0.279166*Données1!$Y234*$C$64*Données1!$Y234/(1.292*273.15/($T$57+273))*(Données1!$U234-$T$57)*$C$66*VMOIS($H65)/1000","v":0},{"$f":"0.680555*Données1!$Y234*$C$64*Données1!$Y234/(1.292*273.15/($T$57+273))*(Données1!X234-S65)*$C$66*VMOIS($H65)","v":0},{"$f":"(0.622*X59*Données1!$BN268/100)/(101325-X59*Données1!$BN268/100)","v":1.2386488494809835E-2},{"$f":"0.279166*Données1!$AD234*$D$61*Données1!$AD234/(1.292*273.15/($Y$57+273))*(Données1!$Z234-$Y$57)*24*VMOIS($H65)/1000","v":7635.2650714348229},{"$f":"0.680555*Données1!$AD234*$D$61*Données1!$AD234/(1.292*273.15/($Y$57+273))*(Données1!$AC234-X65)*24*VMOIS($H65)","v":37424.294848603124},{"$f":"0.279166*Données1!$Y234*$C$64*Données1!$Y234/(1.292*273.15/($Y$57+273))*(Données1!$U234-$Y$57)*$C$66*VMOIS($H65)/1000","v":0},{"$f":"0.680555*Données1!$Y234*$C$64*Données1!$Y234/(1.292*273.15/($Y$57+273))*(Données1!X234-X65)*$C$66*VMOIS($H65)","v":0},{"$f":"(0.622*AC59*Données1!$BO268/100)/(101325-AC59*Données1!$BO268/100)","v":1.2915248625926077E-2},{"$f":"0.279166*Données1!$AD234*$D$61*Données1!$AD234/(1.292*273.15/($AD$57+273))*(Données1!$Z234-$AD$57)*24*VMOIS($H65)/1000","v":5705.0879462990988},{"$f":"0.680555*Données1!$AD234*$D$61*Données1!$AD234/(1.292*273.15/($AD$57+273))*(Données1!$AC234-AC65)*24*VMOIS($H65)","v":35029.442772960763},{"$f":"0.279166*Données1!$Y234*$C$64*Données1!$Y234/(1.292*273.15/($AD$57+273))*(Données1!$U234-$AD$57)*$C$66*VMOIS($H65)/1000","v":0},{"$f":"0.680555*Données1!$Y234*$C$64*Données1!$Y234/(1.292*273.15/($AD$57+273))*(Données1!X234-AC65)*$C$66*VMOIS($H65)","v":0},{"$f":"(0.622*AH59*Données1!$BP268/100)/(101325-AH59*Données1!$BP268/100)","v":1.3506898901586016E-2},{"$f":"0.279166*Données1!$AD234*$D$61*Données1!$AD234/(1.292*273.15/($AI$57+273))*(Données1!$Z234-$AI$57)*24*VMOIS($H65)/1000","v":3761.7392929508042},{"$f":"0.680555*Données1!$AD234*$D$61*Données1!$AD234/(1.292*273.15/($AI$57+273))*(Données1!$AC234-AH65)*24*VMOIS($H65)","v":32316.72374420573},{"$f":"0.279166*Données1!$Y234*$C$64*Données1!$Y234/(1.292*273.15/($AI$57+273))*(Données1!$U234-$AI$57)*$C$66*VMOIS($H65)/1000","v":0},{"$f":"0.680555*Données1!$Y234*$C$64*Données1!$Y234/(1.292*273.15/($AI$57+273))*(Données1!X234-AH65)*$C$66*VMOIS($H65)","v":0},{"$f":"(0.622*AM59*Données1!$BQ268/100)/(101325-AM59*Données1!$BQ268/100)","v":1.4176116139295028E-2},{"$f":"0.279166*Données1!$AD234*$D$61*Données1!$AD234/(1.292*273.15/($AN$57+273))*(Données1!$Z234-$AN$57)*24*VMOIS($H65)/1000","v":1805.2191113899441},{"$f":"0.680555*Données1!$AD234*$D$61*Données1!$AD234/(1.292*273.15/($AN$57+273))*(Données1!$AC234-AM65)*24*VMOIS($H65)","v":29212.653984347387},{"$f":"0.279166*Données1!$Y234*$C$64*Données1!$Y234/(1.292*273.15/($AN$57+273))*(Données1!$U234-$AN$57)*$C$66*VMOIS($H65)/1000","v":0},{"$f":"0.680555*Données1!$Y234*$C$64*Données1!$Y234/(1.292*273.15/($AN$57+273))*(Données1!X234-AM65)*$C$66*VMOIS($H65)","v":0}]
[null,"Temps renouv. Heure par jour VMC",{"$f":"IF(VMCPlan=Données1!$X$5,0,IF(VMCPlan=\"Permanent\",24,IF(VMCPlan=\"Nuit\",8,C106)))","v":0},null,null,null,null,"Juillet",{"$f":"(0.622*I59*Données1!$BK269/100)/(101325-I59*Données1!$BK269/100)","v":1.0692270791089028E-2},{"$f":"0.279166*Données1!$AD235*$D$61*Données1!$AD235/(1.292*273.15/($J$57+273))*(Données1!$Z235-$J$57)*24*VMOIS($H66)/1000","v":14618.364422317598},{"$f":"0.680555*Données1!$AD235*$D$61*Données1!$AD235/(1.292*273.15/($J$57+273))*(Données1!$AC235-I66)*24*VMOIS($H66)","v":43430.39469836979},{"$f":"0.279166*Données1!$Y235*$C$64*Données1!$Y235/(1.292*273.15/($J$57+273))*(Données1!$U235-$J$57)*$C$66*VMOIS($H66)/1000","v":0},{"$f":"0.680555*Données1!$Y235*$C$64*Données1!$Y235/(1.292*273.15/($J$57+273))*(Données1!$X235-I66)*$C$66*VMOIS($H66)","v":0},{"$f":"(0.622*N59*Données1!$BK269/100)/(101325-N59*Données1!$BK269/100)","v":1.1385591407575189E-2},{"$f":"0.279166*Données1!$AD235*$D$61*Données1!$AD235/(1.292*273.15/($O$57+273))*(Données1!$Z235-$O$57)*24*VMOIS($H66)/1000","v":12673.304930224993},{"$f":"0.680555*Données1!$AD235*$D$61*Données1!$AD235/(1.292*273.15/($O$57+273))*(Données1!$AC235-N66)*24*VMOIS($H66)","v":40206.779688558774},{"$f":"0.279166*Données1!$Y235*$C$64*Données1!$Y235/(1.292*273.15/($O$57+273))*(Données1!$U235-$O$57)*$C$66*VMOIS($H66)/1000","v":0},{"$f":"0.680555*Données1!$Y235*$C$64*Données1!$Y235/(1.292*273.15/($O$57+273))*(Données1!X235-N66)*$C$66*VMOIS($H66)","v":0},{"$f":"(0.622*S59*Données1!$BM269/100)/(101325-S59*Données1!$BM269/100)","v":1.1472669756192507E-2},{"$f":"0.279166*Données1!$AD235*$D$61*Données1!$AD235/(1.292*273.15/($T$57+273))*(Données1!$Z235-$T$57)*24*VMOIS($H66)/1000","v":10714.674339351177},{"$f":"0.680555*Données1!$AD235*$D$61*Données1!$AD235/(1.292*273.15/($T$57+273))*(Données1!$AC235-S66)*24*VMOIS($H66)","v":39918.606925786451},{"$f":"0.279166*Données1!$Y235*$C$64*Données1!$Y235/(1.292*273.15/($T$57+273))*(Données1!$U235-$T$57)*$C$66*VMOIS($H66)/1000","v":0},{"$f":"0.680555*Données1!$Y235*$C$64*Données1!$Y235/(1.292*273.15/($T$57+273))*(Données1!X235-S66)*$C$66*VMOIS($H66)","v":0},{"$f":"(0.622*X59*Données1!$BN269/100)/(101325-X59*Données1!$BN269/100)","v":1.1909674039440722E-2},{"$f":"0.279166*Données1!$AD235*$D$61*Données1!$AD235/(1.292*273.15/($Y$57+273))*(Données1!$Z235-$Y$57)*24*VMOIS($H66)/1000","v":8742.4726496961539},{"$f":"0.680555*Données1!$AD235*$D$61*Données1!$AD235/(1.292*273.15/($Y$57+273))*(Données1!$AC235-X66)*24*VMOIS($H66)","v":37914.173789655637},{"$f":"0.279166*Données1!$Y235*$C$64*Données1!$Y235/(1.292*273.15/($Y$57+273))*(Données1!$U235-$Y$57)*$C$66*VMOIS($H66)/1000","v":0},{"$f":"0.680555*Données1!$Y235*$C$64*Données1!$Y235/(1.292*273.15/($Y$57+273))*(Données1!X235-X66)*$C$66*VMOIS($H66)","v":0},{"$f":"(0.622*AC59*Données1!$BO269/100)/(101325-AC59*Données1!$BO269/100)","v":1.2385639858821631E-2},{"$f":"0.279166*Données1!$AD235*$D$61*Données1!$AD235/(1.292*273.15/($AD$57+273))*(Données1!$Z235-$AD$57)*24*VMOIS($H66)/1000","v":6756.6998612599227},{"$f":"0.680555*Données1!$AD235*$D$61*Données1!$AD235/(1.292*273.15/($AD$57+273))*(Données1!$AC235-AC66)*24*VMOIS($H66)","v":35703.866877870481},{"$f":"0.279166*Données1!$Y235*$C$64*Données1!$Y235/(1.292*273.15/($AD$57+273))*(Données1!$U235-$AD$57)*$C$66*VMOIS($H66)/1000","v":0},{"$f":"0.680555*Données1!$Y235*$C$64*Données1!$Y235/(1.292*273.15/($AD$57+273))*(Données1!X235-AC66)*$C$66*VMOIS($H66)","v":0},{"$f":"(0.622*AH59*Données1!$BP269/100)/(101325-AH59*Données1!$BP269/100)","v":1.2914095965922662E-2},{"$f":"0.279166*Données1!$AD235*$D$61*Données1!$AD235/(1.292*273.15/($AI$57+273))*(Données1!$Z235-$AI$57)*24*VMOIS($H66)/1000","v":4757.3559740424798},{"$f":"0.680555*Données1!$AD235*$D$61*Données1!$AD235/(1.292*273.15/($AI$57+273))*(Données1!$AC235-AH66)*24*VMOIS($H66)","v":33219.062850512848},{"$f":"0.279166*Données1!$Y235*$C$64*Données1!$Y235/(1.292*273.15/($AI$57+273))*(Données1!$U235-$AI$57)*$C$66*VMOIS($H66)/1000","v":0},{"$f":"0.680555*Données1!$Y235*$C$64*Données1!$Y235/(1.292*273.15/($AI$57+273))*(Données1!X235-AH66)*$C$66*VMOIS($H66)","v":0},{"$f":"(0.622*AM59*Données1!$BQ269/100)/(101325-AM59*Données1!$BQ269/100)","v":1.3503376288615058E-2},{"$f":"0.279166*Données1!$AD235*$D$61*Données1!$AD235/(1.292*273.15/($AN$57+273))*(Données1!$Z235-$AN$57)*24*VMOIS($H66)/1000","v":2744.4409880438293},{"$f":"0.680555*Données1!$AD235*$D$61*Données1!$AD235/(1.292*273.15/($AN$57+273))*(Données1!$AC235-AM66)*24*VMOIS($H66)","v":30415.936965565452},{"$f":"0.279166*Données1!$Y235*$C$64*Données1!$Y235/(1.292*273.15/($AN$57+273))*(Données1!$U235-$AN$57)*$C$66*VMOIS($H66)/1000","v":0},{"$f":"0.680555*Données1!$Y235*$C$64*Données1!$Y235/(1.292*273.15/($AN$57+273))*(Données1!X235-AM66)*$C$66*VMOIS($H66)","v":0}]
[null,null,null,null,null,null,null,"Août",{"$f":"(0.622*I59*Données1!$BK270/100)/(101325-I59*Données1!$BK270/100)","v":1.0581169593782245E-2},{"$f":"0.279166*Données1!$AD236*$D$61*Données1!$AD236/(1.292*273.15/($J$57+273))*(Données1!$Z236-$J$57)*24*VMOIS($H67)/1000","v":15787.414318333855},{"$f":"0.680555*Données1!$AD236*$D$61*Données1!$AD236/(1.292*273.15/($J$57+273))*(Données1!$AC236-I67)*24*VMOIS($H67)","v":45642.621264223322},{"$f":"0.279166*Données1!$Y236*$C$64*Données1!$Y236/(1.292*273.15/($J$57+273))*(Données1!$U236-$J$57)*$C$66*VMOIS($H67)/1000","v":0},{"$f":"0.680555*Données1!$Y236*$C$64*Données1!$Y236/(1.292*273.15/($J$57+273))*(Données1!$X236-I67)*$C$66*VMOIS($H67)","v":0},{"$f":"(0.622*N59*Données1!$BK270/100)/(101325-N59*Données1!$BK270/100)","v":1.1267157764121825E-2},{"$f":"0.279166*Données1!$AD236*$D$61*Données1!$AD236/(1.292*273.15/($O$57+273))*(Données1!$Z236-$O$57)*24*VMOIS($H67)/1000","v":13854.566888018659},{"$f":"0.680555*Données1!$AD236*$D$61*Données1!$AD236/(1.292*273.15/($O$57+273))*(Données1!$AC236-N67)*24*VMOIS($H67)","v":42475.966532691549},{"$f":"0.279166*Données1!$Y236*$C$64*Données1!$Y236/(1.292*273.15/($O$57+273))*(Données1!$U236-$O$57)*$C$66*VMOIS($H67)/1000","v":0},{"$f":"0.680555*Données1!$Y236*$C$64*Données1!$Y236/(1.292*273.15/($O$57+273))*(Données1!X236-N67)*$C$66*VMOIS($H67)","v":0},{"$f":"(0.622*S59*Données1!$BM270/100)/(101325-S59*Données1!$BM270/100)","v":1.132442659760334E-2},{"$f":"0.279166*Données1!$AD236*$D$61*Données1!$AD236/(1.292*273.15/($T$57+273))*(Données1!$Z236-$T$57)*24*VMOIS($H67)/1000","v":11908.204291782064},{"$f":"0.680555*Données1!$AD236*$D$61*Données1!$AD236/(1.292*273.15/($T$57+273))*(Données1!$AC236-S67)*24*VMOIS($H67)","v":42342.130281211103},{"$f":"0.279166*Données1!$Y236*$C$64*Données1!$Y236/(1.292*273.15/($T$57+273))*(Données1!$U236-$T$57)*$C$66*VMOIS($H67)/1000","v":0},{"$f":"0.680555*Données1!$Y236*$C$64*Données1!$Y236/(1.292*273.15/($T$57+273))*(Données1!X236-S67)*$C$66*VMOIS($H67)","v":0},{"$f":"(0.622*X59*Données1!$BN270/100)/(101325-X59*Données1!$BN270/100)","v":1.1736061430070471E-2},{"$f":"0.279166*Données1!$AD236*$D$61*Données1!$AD236/(1.292*273.15/($Y$57+273))*(Données1!$Z236-$Y$57)*24*VMOIS($H67)/1000","v":9948.3265296240697},{"$f":"0.680555*Données1!$AD236*$D$61*Données1!$AD236/(1.292*273.15/($Y$57+273))*(Données1!$AC236-X67)*24*VMOIS($H67)","v":40478.43856196438},{"$f":"0.279166*Données1!$Y236*$C$64*Données1!$Y236/(1.292*273.15/($Y$57+273))*(Données1!$U236-$Y$57)*$C$66*VMOIS($H67)/1000","v":0},{"$f":"0.680555*Données1!$Y236*$C$64*Données1!$Y236/(1.292*273.15/($Y$57+273))*(Données1!X236-X67)*$C$66*VMOIS($H67)","v":0},{"$f":"(0.622*AC59*Données1!$BO270/100)/(101325-AC59*Données1!$BO270/100)","v":1.2180089840579288E-2},{"$f":"0.279166*Données1!$AD236*$D$61*Données1!$AD236/(1.292*273.15/($AD$57+273))*(Données1!$Z236-$AD$57)*24*VMOIS($H67)/1000","v":7974.9336015446734},{"$f":"0.680555*Données1!$AD236*$D$61*Données1!$AD236/(1.292*273.15/($AD$57+273))*(Données1!$AC236-AC67)*24*VMOIS($H67)","v":38442.692473736221},{"$f":"0.279166*Données1!$Y236*$C$64*Données1!$Y236/(1.292*273.15/($AD$57+273))*(Données1!$U236-$AD$57)*$C$66*VMOIS($H67)/1000","v":0},{"$f":"0.680555*Données1!$Y236*$C$64*Données1!$Y236/(1.292*273.15/($AD$57+273))*(Données1!X236-AC67)*$C$66*VMOIS($H67)","v":0},{"$f":"(0.622*AH59*Données1!$BP270/100)/(101325-AH59*Données1!$BP270/100)","v":1.2661169673557664E-2},{"$f":"0.279166*Données1!$AD236*$D$61*Données1!$AD236/(1.292*273.15/($AI$57+273))*(Données1!$Z236-$AI$57)*24*VMOIS($H67)/1000","v":5988.0255075438727},{"$f":"0.680555*Données1!$AD236*$D$61*Données1!$AD236/(1.292*273.15/($AI$57+273))*(Données1!$AC236-AH67)*24*VMOIS($H67)","v":36210.424921734826},{"$f":"0.279166*Données1!$Y236*$C$64*Données1!$Y236/(1.292*273.15/($AI$57+273))*(Données1!$U236-$AI$57)*$C$66*VMOIS($H67)/1000","v":0},{"$f":"0.680555*Données1!$Y236*$C$64*Données1!$Y236/(1.292*273.15/($AI$57+273))*(Données1!X236-AH67)*$C$66*VMOIS($H67)","v":0},{"$f":"(0.622*AM59*Données1!$BQ270/100)/(101325-AM59*Données1!$BQ270/100)","v":1.3189903751684579E-2},{"$f":"0.279166*Données1!$AD236*$D$61*Données1!$AD236/(1.292*273.15/($AN$57+273))*(Données1!$Z236-$AN$57)*24*VMOIS($H67)/1000","v":3987.6022476216722},{"$f":"0.680555*Données1!$AD236*$D$61*Données1!$AD236/(1.292*273.15/($AN$57+273))*(Données1!$AC236-AM67)*24*VMOIS($H67)","v":33727.579018825483},{"$f":"0.279166*Données1!$Y236*$C$64*Données1!$Y236/(1.292*273.15/($AN$57+273))*(Données1!$U236-$AN$57)*$C$66*VMOIS($H67)/1000","v":0},{"$f":"0.680555*Données1!$Y236*$C$64*Données1!$Y236/(1.292*273.15/($AN$57+273))*(Données1!X236-AM67)*$C$66*VMOIS($H67)","v":0}]
[null,null,null,null,null,null,null,"Septembre",{"$f":"(0.622*I59*Données1!$BK271/100)/(101325-I59*Données1!$BK271/100)","v":1.0613957464918939E-2},{"$f":"0.279166*Données1!$AD237*$D$61*Données1!$AD237/(1.292*273.15/($J$57+273))*(Données1!$Z237-$J$57)*24*VMOIS($H68)/1000","v":15465.903298884834},{"$f":"0.680555*Données1!$AD237*$D$61*Données1!$AD237/(1.292*273.15/($J$57+273))*(Données1!$AC237-I68)*24*VMOIS($H68)","v":45711.17061109763},{"$f":"0.279166*Données1!$Y237*$C$64*Données1!$Y237/(1.292*273.15/($J$57+273))*(Données1!$U237-$J$57)*$C$66*VMOIS($H68)/1000","v":0},{"$f":"0.680555*Données1!$Y237*$C$64*Données1!$Y237/(1.292*273.15/($J$57+273))*(Données1!$X237-I68)*$C$66*VMOIS($H68)","v":0},{"$f":"(0.622*N59*Données1!$BK271/100)/(101325-N59*Données1!$BK271/100)","v":1.1302109285501757E-2},{"$f":"0.279166*Données1!$AD237*$D$61*Données1!$AD237/(1.292*273.15/($O$57+273))*(Données1!$Z237-$O$57)*24*VMOIS($H68)/1000","v":13597.368837553846},{"$f":"0.680555*Données1!$AD237*$D$61*Données1!$AD237/(1.292*273.15/($O$57+273))*(Données1!$AC237-N68)*24*VMOIS($H68)","v":42644.002084102009},{"$f":"0.279166*Données1!$Y237*$C$64*Données1!$Y237/(1.292*273.15/($O$57+273))*(Données1!$U237-$O$57)*$C$66*VMOIS($H68)/1000","v":0},{"$f":"0.680555*Données1!$Y237*$C$64*Données1!$Y237/(1.292*273.15/($O$57+273))*(Données1!X237-N68)*$C$66*VMOIS($H68)","v":0},{"$f":"(0.622*S59*Données1!$BM271/100)/(101325-S59*Données1!$BM271/100)","v":1.1353484926227115E-2},{"$f":"0.279166*Données1!$AD237*$D$61*Données1!$AD237/(1.292*273.15/($T$57+273))*(Données1!$Z237-$T$57)*24*VMOIS($H68)/1000","v":11715.764178166886},{"$f":"0.680555*Données1!$AD237*$D$61*Données1!$AD237/(1.292*273.15/($T$57+273))*(Données1!$AC237-S68)*24*VMOIS($H68)","v":42547.596966254998},{"$f":"0.279166*Données1!$Y237*$C$64*Données1!$Y237/(1.292*273.15/($T$57+273))*(Données1!$U237-$T$57)*$C$66*VMOIS($H68)/1000","v":0},{"$f":"0.680555*Données1!$Y237*$C$64*Données1!$Y237/(1.292*273.15/($T$57+273))*(Données1!X237-S68)*$C$66*VMOIS($H68)","v":0},{"$f":"(0.622*X59*Données1!$BN271/100)/(101325-X59*Données1!$BN271/100)","v":1.1758690308935903E-2},{"$f":"0.279166*Données1!$AD237*$D$61*Données1!$AD237/(1.292*273.15/($Y$57+273))*(Données1!$Z237-$Y$57)*24*VMOIS($H68)/1000","v":9821.0893207239515},{"$f":"0.680555*Données1!$AD237*$D$61*Données1!$AD237/(1.292*273.15/($Y$57+273))*(Données1!$AC237-X68)*24*VMOIS($H68)","v":40781.006034664322},{"$f":"0.279166*Données1!$Y237*$C$64*Données1!$Y237/(1.292*273.15/($Y$57+273))*(Données1!$U237-$Y$57)*$C$66*VMOIS($H68)/1000","v":0},{"$f":"0.680555*Données1!$Y237*$C$64*Données1!$Y237/(1.292*273.15/($Y$57+273))*(Données1!X237-X68)*$C$66*VMOIS($H68)","v":0},{"$f":"(0.622*AC59*Données1!$BO271/100)/(101325-AC59*Données1!$BO271/100)","v":1.2193996840621201E-2},{"$f":"0.279166*Données1!$AD237*$D$61*Données1!$AD237/(1.292*273.15/($AD$57+273))*(Données1!$Z237-$AD$57)*24*VMOIS($H68)/1000","v":7913.3442652250405},{"$f":"0.680555*Données1!$AD237*$D$61*Données1!$AD237/(1.292*273.15/($AD$57+273))*(Données1!$AC237-AC68)*24*VMOIS($H68)","v":38859.077132373473},{"$f":"0.279166*Données1!$Y237*$C$64*Données1!$Y237/(1.292*273.15/($AD$57+273))*(Données1!$U237-$AD$57)*$C$66*VMOIS($H68)/1000","v":0},{"$f":"0.680555*Données1!$Y237*$C$64*Données1!$Y237/(1.292*273.15/($AD$57+273))*(Données1!X237-AC68)*$C$66*VMOIS($H68)","v":0},{"$f":"(0.622*AH59*Données1!$BP271/100)/(101325-AH59*Données1!$BP271/100)","v":1.2664890741528472E-2},{"$f":"0.279166*Données1!$AD237*$D$61*Données1!$AD237/(1.292*273.15/($AI$57+273))*(Données1!$Z237-$AI$57)*24*VMOIS($H68)/1000","v":5992.529011670159},{"$f":"0.680555*Données1!$AD237*$D$61*Données1!$AD237/(1.292*273.15/($AI$57+273))*(Données1!$AC237-AH68)*24*VMOIS($H68)","v":36754.325521940256},{"$f":"0.279166*Données1!$Y237*$C$64*Données1!$Y237/(1.292*273.15/($AI$57+273))*(Données1!$U237-$AI$57)*$C$66*VMOIS($H68)/1000","v":0},{"$f":"0.680555*Données1!$Y237*$C$64*Données1!$Y237/(1.292*273.15/($AI$57+273))*(Données1!X237-AH68)*$C$66*VMOIS($H68)","v":0},{"$f":"(0.622*AM59*Données1!$BQ271/100)/(101325-AM59*Données1!$BQ271/100)","v":1.3181041626756894E-2},{"$f":"0.279166*Données1!$AD237*$D$61*Données1!$AD237/(1.292*273.15/($AN$57+273))*(Données1!$Z237-$AN$57)*24*VMOIS($H68)/1000","v":4058.6435600593027},{"$f":"0.680555*Données1!$AD237*$D$61*Données1!$AD237/(1.292*273.15/($AN$57+273))*(Données1!$AC237-AM68)*24*VMOIS($H68)","v":34418.989349216121},{"$f":"0.279166*Données1!$Y237*$C$64*Données1!$Y237/(1.292*273.15/($AN$57+273))*(Données1!$U237-$AN$57)*$C$66*VMOIS($H68)/1000","v":0},{"$f":"0.680555*Données1!$Y237*$C$64*Données1!$Y237/(1.292*273.15/($AN$57+273))*(Données1!X237-AM68)*$C$66*VMOIS($H68)","v":0}]
[null,null,null,null,null,null,null,"Octobre",{"$f":"(0.622*I59*Données1!$BK272/100)/(101325-I59*Données1!$BK272/100)","v":1.0542309786840679E-2},{"$f":"0.279166*Données1!$AD238*$D$61*Données1!$AD238/(1.292*273.15/($J$57+273))*(Données1!$Z238-$J$57)*24*VMOIS($H69)/1000","v":16609.381270577207},{"$f":"0.680555*Données1!$AD238*$D$61*Données1!$AD238/(1.292*273.15/($J$57+273))*(Données1!$AC238-I69)*24*VMOIS($H69)","v":47476.661848523465},{"$f":"0.279166*Données1!$Y238*$C$64*Données1!$Y238/(1.292*273.15/($J$57+273))*(Données1!$U238-$J$57)*$C$66*VMOIS($H69)/1000","v":0},{"$f":"0.680555*Données1!$Y238*$C$64*Données1!$Y238/(1.292*273.15/($J$57+273))*(Données1!$X238-I69)*$C$66*VMOIS($H69)","v":0},{"$f":"(0.622*N59*Données1!$BK272/100)/(101325-N59*Données1!$BK272/100)","v":1.1225733928024246E-2},{"$f":"0.279166*Données1!$AD238*$D$61*Données1!$AD238/(1.292*273.15/($O$57+273))*(Données1!$Z238-$O$57)*24*VMOIS($H69)/1000","v":14685.130990820928},{"$f":"0.680555*Données1!$AD238*$D$61*Données1!$AD238/(1.292*273.15/($O$57+273))*(Données1!$AC238-N69)*24*VMOIS($H69)","v":44338.334447007597},{"$f":"0.279166*Données1!$Y238*$C$64*Données1!$Y238/(1.292*273.15/($O$57+273))*(Données1!$U238-$O$57)*$C$66*VMOIS($H69)/1000","v":0},{"$f":"0.680555*Données1!$Y238*$C$64*Données1!$Y238/(1.292*273.15/($O$57+273))*(Données1!X238-N69)*$C$66*VMOIS($H69)","v":0},{"$f":"(0.622*S59*Données1!$BM272/100)/(101325-S59*Données1!$BM272/100)","v":1.1267823634737087E-2},{"$f":"0.279166*Données1!$AD238*$D$61*Données1!$AD238/(1.292*273.15/($T$57+273))*(Données1!$Z238-$T$57)*24*VMOIS($H69)/1000","v":12747.404945160926},{"$f":"0.680555*Données1!$AD238*$D$61*Données1!$AD238/(1.292*273.15/($T$57+273))*(Données1!$AC238-S69)*24*VMOIS($H69)","v":44285.195872280456},{"$f":"0.279166*Données1!$Y238*$C$64*Données1!$Y238/(1.292*273.15/($T$57+273))*(Données1!$U238-$T$57)*$C$66*VMOIS($H69)/1000","v":0},{"$f":"0.680555*Données1!$Y238*$C$64*Données1!$Y238/(1.292*273.15/($T$57+273))*(Données1!X238-S69)*$C$66*VMOIS($H69)","v":0},{"$f":"(0.622*X59*Données1!$BN272/100)/(101325-X59*Données1!$BN272/100)","v":1.1665554487844674E-2},{"$f":"0.279166*Données1!$AD238*$D$61*Données1!$AD238/(1.292*273.15/($Y$57+273))*(Données1!$Z238-$Y$57)*24*VMOIS($H69)/1000","v":10796.203133597202},{"$f":"0.680555*Données1!$AD238*$D$61*Données1!$AD238/(1.292*273.15/($Y$57+273))*(Données1!$AC238-X69)*24*VMOIS($H69)","v":42501.543658002221},{"$f":"0.279166*Données1!$Y238*$C$64*Données1!$Y238/(1.292*273.15/($Y$57+273))*(Données1!$U238-$Y$57)*$C$66*VMOIS($H69)/1000","v":0},{"$f":"0.680555*Données1!$Y238*$C$64*Données1!$Y238/(1.292*273.15/($Y$57+273))*(Données1!X238-X69)*$C$66*VMOIS($H69)","v":0},{"$f":"(0.622*AC59*Données1!$BO272/100)/(101325-AC59*Données1!$BO272/100)","v":1.2090140169958621E-2},{"$f":"0.279166*Données1!$AD238*$D$61*Données1!$AD238/(1.292*273.15/($AD$57+273))*(Données1!$Z238-$AD$57)*24*VMOIS($H69)/1000","v":8831.5255561297618},{"$f":"0.680555*Données1!$AD238*$D$61*Données1!$AD238/(1.292*273.15/($AD$57+273))*(Données1!$AC238-AC69)*24*VMOIS($H69)","v":40573.815853833272},{"$f":"0.279166*Données1!$Y238*$C$64*Données1!$Y238/(1.292*273.15/($AD$57+273))*(Données1!$U238-$AD$57)*$C$66*VMOIS($H69)/1000","v":0},{"$f":"0.680555*Données1!$Y238*$C$64*Données1!$Y238/(1.292*273.15/($AD$57+273))*(Données1!X238-AC69)*$C$66*VMOIS($H69)","v":0},{"$f":"(0.622*AH59*Données1!$BP272/100)/(101325-AH59*Données1!$BP272/100)","v":1.2546825651544373E-2},{"$f":"0.279166*Données1!$AD238*$D$61*Données1!$AD238/(1.292*273.15/($AI$57+273))*(Données1!$Z238-$AI$57)*24*VMOIS($H69)/1000","v":6853.3722127585952},{"$f":"0.680555*Données1!$AD238*$D$61*Données1!$AD238/(1.292*273.15/($AI$57+273))*(Données1!$AC238-AH69)*24*VMOIS($H69)","v":38475.015725426943},{"$f":"0.279166*Données1!$Y238*$C$64*Données1!$Y238/(1.292*273.15/($AI$57+273))*(Données1!$U238-$AI$57)*$C$66*VMOIS($H69)/1000","v":0},{"$f":"0.680555*Données1!$Y238*$C$64*Données1!$Y238/(1.292*273.15/($AI$57+273))*(Données1!X238-AH69)*$C$66*VMOIS($H69)","v":0},{"$f":"(0.622*AM59*Données1!$BQ272/100)/(101325-AM59*Données1!$BQ272/100)","v":1.3041592174576804E-2},{"$f":"0.279166*Données1!$AD238*$D$61*Données1!$AD238/(1.292*273.15/($AN$57+273))*(Données1!$Z238-$AN$57)*24*VMOIS($H69)/1000","v":4861.7431034837091},{"$f":"0.680555*Données1!$AD238*$D$61*Données1!$AD238/(1.292*273.15/($AN$57+273))*(Données1!$AC238-AM69)*24*VMOIS($H69)","v":36174.185887924425},{"$f":"0.279166*Données1!$Y238*$C$64*Données1!$Y238/(1.292*273.15/($AN$57+273))*(Données1!$U238-$AN$57)*$C$66*VMOIS($H69)/1000","v":0},{"$f":"0.680555*Données1!$Y238*$C$64*Données1!$Y238/(1.292*273.15/($AN$57+273))*(Données1!X238-AM69)*$C$66*VMOIS($H69)","v":0}]
[null,null,null,null,null,null,null,"Novembre",{"$f":"(0.622*I59*Données1!$BK273/100)/(101325-I59*Données1!$BK273/100)","v":1.0681836182442658E-2},{"$f":"0.279166*Données1!$AD239*$D$61*Données1!$AD239/(1.292*273.15/($J$57+273))*(Données1!$Z239-$J$57)*24*VMOIS($H70)/1000","v":14370.366221890434},{"$f":"0.680555*Données1!$AD239*$D$61*Données1!$AD239/(1.292*273.15/($J$57+273))*(Données1!$AC239-I70)*24*VMOIS($H70)","v":43517.73017951713},{"$f":"0.279166*Données1!$Y239*$C$64*Données1!$Y239/(1.292*273.15/($J$57+273))*(Données1!$U239-$J$57)*$C$66*VMOIS($H70)/1000","v":0},{"$f":"0.680555*Données1!$Y239*$C$64*Données1!$Y239/(1.292*273.15/($J$57+273))*(Données1!$X239-I70)*$C$66*VMOIS($H70)","v":0},{"$f":"(0.622*N59*Données1!$BK273/100)/(101325-N59*Données1!$BK273/100)","v":1.1374468021870207E-2},{"$f":"0.279166*Données1!$AD239*$D$61*Données1!$AD239/(1.292*273.15/($O$57+273))*(Données1!$Z239-$O$57)*24*VMOIS($H70)/1000","v":12490.38457343751},{"$f":"0.680555*Données1!$AD239*$D$61*Données1!$AD239/(1.292*273.15/($O$57+273))*(Données1!$AC239-N70)*24*VMOIS($H70)","v":40409.076626691378},{"$f":"0.279166*Données1!$Y239*$C$64*Données1!$Y239/(1.292*273.15/($O$57+273))*(Données1!$U239-$O$57)*$C$66*VMOIS($H70)/1000","v":0},{"$f":"0.680555*Données1!$Y239*$C$64*Données1!$Y239/(1.292*273.15/($O$57+273))*(Données1!X239-N70)*$C$66*VMOIS($H70)","v":0},{"$f":"(0.622*S59*Données1!$BM273/100)/(101325-S59*Données1!$BM273/100)","v":1.1446521725516206E-2},{"$f":"0.279166*Données1!$AD239*$D$61*Données1!$AD239/(1.292*273.15/($T$57+273))*(Données1!$Z239-$T$57)*24*VMOIS($H70)/1000","v":10597.280290515484},{"$f":"0.680555*Données1!$AD239*$D$61*Données1!$AD239/(1.292*273.15/($T$57+273))*(Données1!$AC239-S70)*24*VMOIS($H70)","v":40206.529394608107},{"$f":"0.279166*Données1!$Y239*$C$64*Données1!$Y239/(1.292*273.15/($T$57+273))*(Données1!$U239-$T$57)*$C$66*VMOIS($H70)/1000","v":0},{"$f":"0.680555*Données1!$Y239*$C$64*Données1!$Y239/(1.292*273.15/($T$57+273))*(Données1!X239-S70)*$C$66*VMOIS($H70)","v":0},{"$f":"(0.622*X59*Données1!$BN273/100)/(101325-X59*Données1!$BN273/100)","v":1.1869392509986558E-2},{"$f":"0.279166*Données1!$AD239*$D$61*Données1!$AD239/(1.292*273.15/($Y$57+273))*(Données1!$Z239-$Y$57)*24*VMOIS($H70)/1000","v":8691.0533731243577},{"$f":"0.680555*Données1!$AD239*$D$61*Données1!$AD239/(1.292*273.15/($Y$57+273))*(Données1!$AC239-X70)*24*VMOIS($H70)","v":38340.697967463348},{"$f":"0.279166*Données1!$Y239*$C$64*Données1!$Y239/(1.292*273.15/($Y$57+273))*(Données1!$U239-$Y$57)*$C$66*VMOIS($H70)/1000","v":0},{"$f":"0.680555*Données1!$Y239*$C$64*Données1!$Y239/(1.292*273.15/($Y$57+273))*(Données1!X239-X70)*$C$66*VMOIS($H70)","v":0},{"$f":"(0.622*AC59*Données1!$BO273/100)/(101325-AC59*Données1!$BO273/100)","v":1.2327454661629714E-2},{"$f":"0.279166*Données1!$AD239*$D$61*Données1!$AD239/(1.292*273.15/($AD$57+273))*(Données1!$Z239-$AD$57)*24*VMOIS($H70)/1000","v":6771.7038212641346},{"$f":"0.680555*Données1!$AD239*$D$61*Données1!$AD239/(1.292*273.15/($AD$57+273))*(Données1!$AC239-AC70)*24*VMOIS($H70)","v":36294.158666922907},{"$f":"0.279166*Données1!$Y239*$C$64*Données1!$Y239/(1.292*273.15/($AD$57+273))*(Données1!$U239-$AD$57)*$C$66*VMOIS($H70)/1000","v":0},{"$f":"0.680555*Données1!$Y239*$C$64*Données1!$Y239/(1.292*273.15/($AD$57+273))*(Données1!X239-AC70)*$C$66*VMOIS($H70)","v":0},{"$f":"(0.622*AH59*Données1!$BP273/100)/(101325-AH59*Données1!$BP273/100)","v":1.2827740530658134E-2},{"$f":"0.279166*Données1!$AD239*$D$61*Données1!$AD239/(1.292*273.15/($AI$57+273))*(Données1!$Z239-$AI$57)*24*VMOIS($H70)/1000","v":4839.2316349348084},{"$f":"0.680555*Données1!$AD239*$D$61*Données1!$AD239/(1.292*273.15/($AI$57+273))*(Données1!$AC239-AH70)*24*VMOIS($H70)","v":34031.7024598442},{"$f":"0.279166*Données1!$Y239*$C$64*Données1!$Y239/(1.292*273.15/($AI$57+273))*(Données1!$U239-$AI$57)*$C$66*VMOIS($H70)/1000","v":0},{"$f":"0.680555*Données1!$Y239*$C$64*Données1!$Y239/(1.292*273.15/($AI$57+273))*(Données1!X239-AH70)*$C$66*VMOIS($H70)","v":0},{"$f":"(0.622*AM59*Données1!$BQ273/100)/(101325-AM59*Données1!$BQ273/100)","v":1.3380161824480477E-2},{"$f":"0.279166*Données1!$AD239*$D$61*Données1!$AD239/(1.292*273.15/($AN$57+273))*(Données1!$Z239-$AN$57)*24*VMOIS($H70)/1000","v":2893.6368141363851},{"$f":"0.680555*Données1!$AD239*$D$61*Données1!$AD239/(1.292*273.15/($AN$57+273))*(Données1!$AC239-AM70)*24*VMOIS($H70)","v":31503.899597652751},{"$f":"0.279166*Données1!$Y239*$C$64*Données1!$Y239/(1.292*273.15/($AN$57+273))*(Données1!$U239-$AN$57)*$C$66*VMOIS($H70)/1000","v":0},{"$f":"0.680555*Données1!$Y239*$C$64*Données1!$Y239/(1.292*273.15/($AN$57+273))*(Données1!X239-AM70)*$C$66*VMOIS($H70)","v":0}]
[null,null,null,null,null,null,null,"Décembre",{"$f":"(0.622*I59*Données1!$BK274/100)/(101325-I59*Données1!$BK274/100)","v":1.0881395705876366E-2},{"$f":"0.279166*Données1!$AD240*$D$61*Données1!$AD240/(1.292*273.15/($J$57+273))*(Données1!$Z240-$J$57)*24*VMOIS($H71)/1000","v":14590.15169968131},{"$f":"0.680555*Données1!$AD240*$D$61*Données1!$AD240/(1.292*273.15/($J$57+273))*(Données1!$AC240-I71)*24*VMOIS($H71)","v":43971.167516582325},{"$f":"0.279166*Données1!$Y240*$C$64*Données1!$Y240/(1.292*273.15/($J$57+273))*(Données1!$U240-$J$57)*$C$66*VMOIS($H71)/1000","v":0},{"$f":"0.680555*Données1!$Y240*$C$64*Données1!$Y240/(1.292*273.15/($J$57+273))*(Données1!$X240-I71)*$C$66*VMOIS($H71)","v":0},{"$f":"(0.622*N59*Données1!$BK274/100)/(101325-N59*Données1!$BK274/100)","v":1.158720437377448E-2},{"$f":"0.279166*Données1!$AD240*$D$61*Données1!$AD240/(1.292*273.15/($O$57+273))*(Données1!$Z240-$O$57)*24*VMOIS($H71)/1000","v":12644.797714064618},{"$f":"0.680555*Données1!$AD240*$D$61*Données1!$AD240/(1.292*273.15/($O$57+273))*(Données1!$AC240-N71)*24*VMOIS($H71)","v":40688.32369237487},{"$f":"0.279166*Données1!$Y240*$C$64*Données1!$Y240/(1.292*273.15/($O$57+273))*(Données1!$U240-$O$57)*$C$66*VMOIS($H71)/1000","v":0},{"$f":"0.680555*Données1!$Y240*$C$64*Données1!$Y240/(1.292*273.15/($O$57+273))*(Données1!X240-N71)*$C$66*VMOIS($H71)","v":0},{"$f":"(0.622*S59*Données1!$BM274/100)/(101325-S59*Données1!$BM274/100)","v":1.1693831891907281E-2},{"$f":"0.279166*Données1!$AD240*$D$61*Données1!$AD240/(1.292*273.15/($T$57+273))*(Données1!$Z240-$T$57)*24*VMOIS($H71)/1000","v":10685.871281337681},{"$f":"0.680555*Données1!$AD240*$D$61*Données1!$AD240/(1.292*273.15/($T$57+273))*(Données1!$AC240-S71)*24*VMOIS($H71)","v":40306.339845623203},{"$f":"0.279166*Données1!$Y240*$C$64*Données1!$Y240/(1.292*273.15/($T$57+273))*(Données1!$U240-$T$57)*$C$66*VMOIS($H71)/1000","v":0},{"$f":"0.680555*Données1!$Y240*$C$64*Données1!$Y240/(1.292*273.15/($T$57+273))*(Données1!X240-S71)*$C$66*VMOIS($H71)","v":0},{"$f":"(0.622*X59*Données1!$BN274/100)/(101325-X59*Données1!$BN274/100)","v":1.2150528430102754E-2},{"$f":"0.279166*Données1!$AD240*$D$61*Données1!$AD240/(1.292*273.15/($Y$57+273))*(Données1!$Z240-$Y$57)*24*VMOIS($H71)/1000","v":8713.3724015004955},{"$f":"0.680555*Données1!$AD240*$D$61*Données1!$AD240/(1.292*273.15/($Y$57+273))*(Données1!$AC240-X71)*24*VMOIS($H71)","v":38206.577610384396},{"$f":"0.279166*Données1!$Y240*$C$64*Données1!$Y240/(1.292*273.15/($Y$57+273))*(Données1!$U240-$Y$57)*$C$66*VMOIS($H71)/1000","v":0},{"$f":"0.680555*Données1!$Y240*$C$64*Données1!$Y240/(1.292*273.15/($Y$57+273))*(Données1!X240-X71)*$C$66*VMOIS($H71)","v":0},{"$f":"(0.622*AC59*Données1!$BO274/100)/(101325-AC59*Données1!$BO274/100)","v":1.2651335027687984E-2},{"$f":"0.279166*Données1!$AD240*$D$61*Données1!$AD240/(1.292*273.15/($AD$57+273))*(Données1!$Z240-$AD$57)*24*VMOIS($H71)/1000","v":6727.3010745530664},{"$f":"0.680555*Données1!$AD240*$D$61*Données1!$AD240/(1.292*273.15/($AD$57+273))*(Données1!$AC240-AC71)*24*VMOIS($H71)","v":35874.972645179529},{"$f":"0.279166*Données1!$Y240*$C$64*Données1!$Y240/(1.292*273.15/($AD$57+273))*(Données1!$U240-$AD$57)*$C$66*VMOIS($H71)/1000","v":0},{"$f":"0.680555*Données1!$Y240*$C$64*Données1!$Y240/(1.292*273.15/($AD$57+273))*(Données1!X240-AC71)*$C$66*VMOIS($H71)","v":0},{"$f":"(0.622*AH59*Données1!$BP274/100)/(101325-AH59*Données1!$BP274/100)","v":1.3210752359974827E-2},{"$f":"0.279166*Données1!$AD240*$D$61*Données1!$AD240/(1.292*273.15/($AI$57+273))*(Données1!$Z240-$AI$57)*24*VMOIS($H71)/1000","v":4727.6573004953925},{"$f":"0.680555*Données1!$AD240*$D$61*Données1!$AD240/(1.292*273.15/($AI$57+273))*(Données1!$AC240-AH71)*24*VMOIS($H71)","v":33237.847703270469},{"$f":"0.279166*Données1!$Y240*$C$64*Données1!$Y240/(1.292*273.15/($AI$57+273))*(Données1!$U240-$AI$57)*$C$66*VMOIS($H71)/1000","v":0},{"$f":"0.680555*Données1!$Y240*$C$64*Données1!$Y240/(1.292*273.15/($AI$57+273))*(Données1!X240-AH71)*$C$66*VMOIS($H71)","v":0},{"$f":"(0.622*AM59*Données1!$BQ274/100)/(101325-AM59*Données1!$BQ274/100)","v":1.3842785924183639E-2},{"$f":"0.279166*Données1!$AD240*$D$61*Données1!$AD240/(1.292*273.15/($AN$57+273))*(Données1!$Z240-$AN$57)*24*VMOIS($H71)/1000","v":2714.4410793274737},{"$f":"0.680555*Données1!$AD240*$D$61*Données1!$AD240/(1.292*273.15/($AN$57+273))*(Données1!$AC240-AM71)*24*VMOIS($H71)","v":30223.015376927975},{"$f":"0.279166*Données1!$Y240*$C$64*Données1!$Y240/(1.292*273.15/($AN$57+273))*(Données1!$U240-$AN$57)*$C$66*VMOIS($H71)/1000","v":0},{"$f":"0.680555*Données1!$Y240*$C$64*Données1!$Y240/(1.292*273.15/($AN$57+273))*(Données1!X240-AM71)*$C$66*VMOIS($H71)","v":0}]
[null,"Apports solaires parois opaques",null,null,null,null,null,null,"H spé. Int",null,null,null,null,"H spé. Int",null,null,null,null,"H spé. Int",null,null,null,null,"H spé. Int",null,null,null,null,"H spé. Int",null,null,null,null,"H spé. Int",null,null,null,null,"H spé. Int"]
[]
[null,null,null,null,null,"MURS"]
[null,"coeff échanges radiatif int et ext",5.5,null,"He (W/m².K)",{"$f":"C76+C75","v":24.88}]
[null,"coeff échanges convectif ext",{"$f":"Données1!T202","v":19.38},null,"Hi (W/m².K)",{"$f":"C75+C77","v":8}]
[null,"coeff échanges convectif int MURS",2.5,null,null,"TOIT"]
[null,"coeff échanges convectif int TOIT",2.85,null,"He (W/m².K)",{"$f":"C76+C75","v":24.88}]
[null,null,null,null,"Hi (W/m².K)",{"$f":"C75+C78","v":8.35}]
[]
[null,null,{"$f":"Calculs!$B$7","v":"Est"},{"$f":"Calculs!$C$7","v":"Sud"},{"$f":"Calculs!$D$7","v":"Ouest"},{"$f":"Calculs!$E$7","v":"Nord"},"Toit"]
[null,"Surf paroi opaque (m²)",{"$f":"Calculs!B13","v":105.11511084098817},{"$f":"Calculs!C13","v":30.032888811710905},{"$f":"Calculs!D13","v":105.11511084098817},{"$f":"Calculs!E13","v":30.032888811710905},{"$f":"Calculs!F2","v":2143.5}]
[null,"Facteur solaire",{"$f":"VLOOKUP(C81,$H$2:$I$10,2,FALSE)","v":0.12},{"$f":"VLOOKUP(D81,$H$2:$I$10,2,FALSE)","v":0.12},{"$f":"VLOOKUP(E81,$H$2:$I$10,2,FALSE)","v":0.12},0.12,{"$f":"I10","v":0.05}]
[]
[null,null,"Brut","Net 1","Net 2","Net 3",20,21,22,23,24,25,26]
[null,"Janvier",{"$f":"(Données1!AK31*$C$82*$C$83+Données1!AL31*$D$82*$D$83+Données1!AM31*$E$82*$E$83+Données1!AN31*$F$82*$F$83+Données1!AO31*$G$82*$G$83)/1000","v":14750.900077640947},{"$f":"C86*(1-(5.5/8)*($C$47/8))","v":12454.85946704932},{"$f":"D86-K25-I25","v":-2563.1295204942526},{"$f":"E86-(F119+F135)*($C$47/8)","v":-3700.7299331701429},{"$f":"F86+I42","v":28612.320994568916},{"$f":"F86+K42","v":24103.058056674385},{"$f":"F86+M42","v":19593.795118779846},{"$f":"F86+O42","v":15084.532180885311},{"$f":"F86+Q42","v":10575.269242990775},{"$f":"F86+S42","v":6066.0063050962435},{"$f":"F86+U42","v":1556.7433672017073}]
[null,"Février",{"$f":"(Données1!AK32*$C$82*$C$83+Données1!AL32*$D$82*$D$83+Données1!AM32*$E$82*$E$83+Données1!AN32*$F$82*$F$83+Données1!AO32*$G$82*$G$83)/1000","v":14076.263060447969},11885.232583524823,-1839.427010679703,-2866.9370608385716,26055.908772682658,21983.026119100497,17910.14346551834,13837.260811936176,9764.3781583540185,5691.4955047718604,1618.6128511896986]
[null,"Mars",{"$f":"(Données1!AK33*$C$82*$C$83+Données1!AL33*$D$82*$D$83+Données1!AM33*$E$82*$E$83+Données1!AN33*$F$82*$F$83+Données1!AO33*$G$82*$G$83)/1000","v":16854.141932788207},14230.72274272711,-1225.3387401211121,-2362.9391527970024,29785.938845062465,25276.675907167926,20767.412969273395,16258.150031378862,11748.887093484323,7239.6241555897886,2730.3612176952552]
[null,"Avril",{"$f":"(Données1!AK34*$C$82*$C$83+Données1!AL34*$D$82*$D$83+Données1!AM34*$E$82*$E$83+Données1!AN34*$F$82*$F$83+Données1!AO34*$G$82*$G$83)/1000","v":16781.329513444372},14169.243887497258,-1029.9056392614948,-2130.8092644317112,30000.416544843756,25636.613701720013,21272.810858596265,16909.008015472526,12545.20517234878,8181.4023292250386,3817.599486101296]
[null,"Mai",{"$f":"(Données1!AK35*$C$82*$C$83+Données1!AL35*$D$82*$D$83+Données1!AM35*$E$82*$E$83+Données1!AN35*$F$82*$F$83+Données1!AO35*$G$82*$G$83)/1000","v":16676.430773394553},14080.673084446982,-1104.2229946279513,-2241.8234073038416,33217.029351251484,28707.766413356941,24198.50347546241,19689.240537567872,15179.977599673335,10670.7146617788,6161.4517238842673]
[null,"Juin",{"$f":"(Données1!AK36*$C$82*$C$83+Données1!AL36*$D$82*$D$83+Données1!AM36*$E$82*$E$83+Données1!AN36*$F$82*$F$83+Données1!AO36*$G$82*$G$83)/1000","v":16928.534712274402},14293.535968292119,-1652.7005269395913,-2753.6041521098077,27429.744315159565,23065.941472035822,18702.138628912078,14338.335785788331,9974.5329426645949,5610.7300995408468,1246.9272564171047]
[null,"Juillet",{"$f":"(Données1!AK37*$C$82*$C$83+Données1!AL37*$D$82*$D$83+Données1!AM37*$E$82*$E$83+Données1!AN37*$F$82*$F$83+Données1!AO37*$G$82*$G$83)/1000","v":19852.353824568065},16762.250145665508,-1214.5598500968517,-2352.160262772742,30803.044005316347,26293.781067421816,21784.518129527281,17275.255191632747,12765.99225373821,8256.7293158436751,3747.4663779491407]
[null,"Août",{"$f":"(Données1!AK38*$C$82*$C$83+Données1!AL38*$D$82*$D$83+Données1!AM38*$E$82*$E$83+Données1!AN38*$F$82*$F$83+Données1!AO38*$G$82*$G$83)/1000","v":21693.345277170203},18316.683414246476,-899.10922986543846,-2036.7096425413288,33918.146887089351,29408.883949194806,24899.621011300271,20390.358073405736,15881.095135511201,11371.832197616666,6862.5692597221296]
[null,"Septembre",{"$f":"(Données1!AK39*$C$82*$C$83+Données1!AL39*$D$82*$D$83+Données1!AM39*$E$82*$E$83+Données1!AN39*$F$82*$F$83+Données1!AO39*$G$82*$G$83)/1000","v":22454.675394680176},18959.509246684443,-697.59026024429841,-1798.4938854145148,33448.381089198992,29084.578246075256,24720.775402951516,20356.972559827769,15993.169716704026,11629.366873580282,7265.5640304565404]
[null,"Octobre",{"$f":"(Données1!AK40*$C$82*$C$83+Données1!AL40*$D$82*$D$83+Données1!AM40*$E$82*$E$83+Données1!AN40*$F$82*$F$83+Données1!AO40*$G$82*$G$83)/1000","v":22358.78172709926},18878.541838105044,-1986.0930008886935,-3123.6934135645838,34813.738751512159,30304.475813617642,25795.212875723104,21285.949937828569,16776.686999934031,12267.424062039496,7758.1611241449609]
[null,"Novembre",{"$f":"(Données1!AK41*$C$82*$C$83+Données1!AL41*$D$82*$D$83+Données1!AM41*$E$82*$E$83+Données1!AN41*$F$82*$F$83+Données1!AO41*$G$82*$G$83)/1000","v":19341.838497717512},16331.198710279794,-3216.0171303889965,-4316.9207555592129,28302.353975858772,23938.551132735032,19574.748289611285,15210.945446487543,10847.142603363802,6483.3397602400564,2119.5369171163138]
[null,"Décembre",{"$f":"(Données1!AK42*$C$82*$C$83+Données1!AL42*$D$82*$D$83+Données1!AM42*$E$82*$E$83+Données1!AN42*$F$82*$F$83+Données1!AO42*$G$82*$G$83)/1000","v":16113.724562423635},13605.554499005419,-3263.9753968259574,-4401.5758095018482,28686.353164755703,24177.090226861168,19667.827288966633,15158.564351072097,10649.30141317756,6140.0384752830269,1630.7755373884911]
[]
[null,"Apports internes - Occupations"]
[]
[null,null,null,null,null,"Climatisation",null,null,"Surchauffe"]
[null,"Métabolisme (W)",{"$f":"Hypothèses!J30","v":120},null,null,"Sensible","Latent","Charge sensible (W)","Sensible","Latent","Charge sensible (W)","Tint"]
[null,null,null,null,"Janvier",{"$f":"$C$105*($H$103)*$C$106*VMOIS(E103)/1000","v":8656.5252915899582},{"$f":"$C$105*($C$102-$H$103)*$C$106*VMOIS(E103)/1000","v":8740.9001629554987},{"$f":"6.461927+0.946892*C102+0.0000255737*C102*C102+7.139322*TempConsigne-0.0627909*C102*TempConsigne+0.0000589172*TempConsigne*C102*C102-0.19855*TempConsigne*TempConsigne+0.000940018*TempConsigne*TempConsigne*C102-0.00000149532*C102*C102*TempConsigne*TempConsigne","v":59.709009111999976},{"$f":"$C$105*K103*$C$106*VMOIS(E103)/1000","v":6147.9511507313819},{"$f":"$C$105*($C$102-K103)*$C$106*VMOIS(E103)/1000","v":11249.474303814071},{"$f":"6.461927+0.946892*$C$102+0.0000255737*$C$102*$C$102+7.139322*L103-0.0627909*$C$102*L103+0.0000589172*L103*$C$102*$C$102-0.19855*L103*L103+0.000940018*L103*L103*$C$102-0.00000149532*$C$102*$C$102*L103*L103","v":42.405937592048232},{"$f":"Données1!H196","v":29.165927419354851}]
[null,"Nb d'heures / semaine",{"$f":"VLOOKUP(Secteur,TableOccupationPD,3,FALSE)+ValeurAjustementOccupation","v":168},null,"Février",7818.797037565123,7895.0065987985136,null,5602.0410350743568,10111.762601289278,42.780534857471878,{"$f":"Données1!H197","v":29.101320684523813}]
[null,"Nombre d'occupants",{"$f":"Surface/Hypothèses!C16","v":194.86363636363637},null,"Mars",8656.5252915899582,8740.9001629554987,null,6178.5717067200167,11218.85374782544,42.617145091010443,{"$f":"Données1!H198","v":29.129519489247265}]
[null,"Nb H/J",{"$f":"C104/7","v":24},null,"Avril",8377.2825402483468,8458.9356415698367,null,5788.4355914239623,11047.782590394221,41.257024794380676,{"$f":"Données1!H199","v":29.363124999999989}]
[null,"Surface de plancher (m²)",{"$f":"Surface","v":4287},null,"Mai",8656.5252915899582,8740.9001629554987,null,5553.2502536573375,11844.175200888118,38.303945154412006,{"$f":"Données1!H200","v":29.863558467741907}]
[null,null,null,null,"Juin",8377.2825402483468,8458.9356415698367,null,6151.6374604243874,10684.580721393795,43.845742985685575,{"$f":"Données1!H201","v":28.916753472222226}]
[null,"Nb d'heures par an",{"$f":"C104*52.14","v":8759.52},null,"Juillet",8656.5252915899582,8740.9001629554987,null,5990.2294801065946,11407.195974438859,41.318040964790114,{"$f":"Données1!H202","v":29.352688172043017}]
[null,null,null,null,"Août",8656.5252915899582,8740.9001629554987,null,5458.1010771108167,11939.324377434639,37.647646829386026,{"$f":"Données1!H203","v":29.973555107526888}]
[null,null,null,null,"Septembre",8377.2825402483468,8458.9356415698367,null,5195.0209137338888,11641.197268084296,37.027466793064804,{"$f":"Données1!H204","v":30.077100694444464}]
[null,null,null,null,"Octobre",8656.5252915899582,8740.9001629554987,null,5074.0217322409926,12323.403722304462,34.998431777147538,{"$f":"Données1!H205","v":30.413222446236524}]
[null,null,null,null,"Novembre",8377.2825402483468,8458.9356415698367,null,5696.4941415986777,11139.724040219504,40.601712903082607,{"$f":"Données1!H206","v":29.474965277777791}]
[null,null,null,null,"Décembre",8656.5252915899582,8740.9001629554987,null,6002.8689273453274,11394.556527200128,41.405222466019168,{"$f":"Données1!H207","v":29.337768817204296}]
[]
[null,"Apports internes - Eclairage"]
[]
[null,"Apports éclairage Wh/jour",{"$f":"M119*Surface*1000/365","v":223158.90410958903},null,null,"Radiatif","Convectif","Total",null,null,null,null,"Consommation avec apports","kWh/m².an"]
[null,null,null,null,"Janvier",{"$f":"$C$120*$C$118*VMOIS(E119)/1000","v":2767.1704109589041},{"$f":"($C$121+$C$122)*$C$118*VMOIS(E119)/1000","v":4150.7556164383559},{"$f":"G119+F119","v":6917.9260273972595},null,null,null,"Eclairage intérieur",{"$f":"Interface!L31","v":19},null,null,null,"W/m²"]
[null,"Fraction radiative",0.4,null,"Février",{"$f":"$C$120*$C$118*VMOIS(E120)/1000","v":2499.3797260273973},3749.0695890410952,6248.4493150684921,null,null,null,"Bureautique",{"$f":"Interface!L35","v":15},null,null,"Equipements spécifiques avec apports",{"$f":"Interface!J43","v":0}]
[null,"Fraction convective",0.4,null,"Mars",2767.1704109589041,4150.7556164383559,6917.9260273972595,null,null,null,"Autres",{"$f":"Interface!L41","v":0}]
[null,"Fraction lumineuse",{"$f":"1-C120-C121","v":0.19999999999999996},null,"Avril",2677.9068493150685,4016.860273972602,6694.767123287671,null,null,null,"Froid alimentaire",{"$f":"Interface!L37","v":0}]
[null,null,null,null,"Mai",2767.1704109589041,4150.7556164383559,6917.9260273972595,null,null,null,"Chaud alimentaire",{"$f":"Interface!L39","v":0}]
[null,null,null,null,"Juin",2677.9068493150685,4016.860273972602,6694.767123287671,null,null,null,"Brasseurs d'air",{"$f":"Interface!L25","v":8}]
[null,null,null,null,"Juillet",2767.1704109589041,4150.7556164383559,6917.9260273972595,null,null,null,"Equipements spécifiques sans apports",{"$f":"Hypothèses!J36*Q120*C109/1000","v":0}]
[null,null,null,null,"Août",2767.1704109589041,4150.7556164383559,6917.9260273972595]
[null,null,null,null,"Septembre",2677.9068493150685,4016.860273972602,6694.767123287671,null,null,null,null,"Consommation sans apports","kWh/m².an"]
[null,null,null,null,"Octobre",2767.1704109589041,4150.7556164383559,6917.9260273972595,null,null,null,null,null,null,null,null,"W/m²"]
[null,null,null,null,"Novembre",2677.9068493150685,4016.860273972602,6694.767123287671,null,null,null,"Eclairage extérieur",{"$f":"Interface!L33","v":5},null,null,"Equipements spécifiques sans apports",{"$f":"Interface!J45","v":0}]
[null,null,null,null,"Décembre",2767.1704109589041,4150.7556164383559,6917.9260273972595,null,null,null,"Ventilation",{"$f":"Interface!L27","v":5}]
[null,null,null,null,null,null,null,{"$f":"SUM(G119:H130)","v":130324.80000000002},null,null,null,"Eau chaude sanitaire",{"$f":"Interface!L29","v":10}]
[null,"Apports internes - Equipements",null,null,null,null,null,null,null,null,null,"Equipements spécifiques sans apports",{"$f":"Hypothèses!J36*Q129*C109/1000","v":0}]
[]
[null,"Apports kWh/m².an",{"$f":"SUM(M120:M123,M125)","v":15},null,null,"Radiatif","Convectif","Total",null,null,null,null,{"$f":"SUM(M129:M132,M119:M125)*Surface","v":265794},"kWh/an"]
[null,"Apports équipement Wh/jour",{"$f":"C134*Surface*1000/365","v":176178.08219178082},null,"Janvier",{"$f":"($C$137*$C$135+$C$141*$C$143)*VMOIS(E135)/1000","v":2257.428493150685},{"$f":"($C$138*$C$135+$C$141*$C$144)*VMOIS(E135)/1000","v":4369.216438356164},{"$f":"G135+F135","v":6626.6449315068494}]
[null,null,null,null,"Février",{"$f":"($C$137*$C$135+$C$141*$C$143)*VMOIS(E136)/1000","v":2038.9676712328767},{"$f":"($C$138*$C$135+$C$141*$C$144)*VMOIS(E136)/1000","v":3946.3890410958902},5985.3567123287667]
[null,"Fraction radiative",0.2,null,"Mars",2257.428493150685,4369.216438356164,6626.6449315068494]
[null,"Fraction convective",{"$f":"1-C137","v":0.8},null,"Avril",2184.608219178082,4228.2739726027403,6412.8821917808218]
[null,null,null,null,"Mai",2257.428493150685,4369.216438356164,6626.6449315068494]
[null,"Apports brasseurs d'air kWh/m².an",{"$f":"M124","v":8},null,"Juin",2184.608219178082,4228.2739726027403,6412.8821917808218]
[null,"Apports brasseurs d'air Wh/jour",{"$f":"C140*Surface*1000/365","v":93961.643835616444},null,"Juillet",2257.428493150685,4369.216438356164,6626.6449315068494]
[null,null,null,null,"Août",2257.428493150685,4369.216438356164,6626.6449315068494]
[null,"Fraction radiative",0.4,null,"Septembre",2184.608219178082,4228.2739726027403,6412.8821917808218]
[null,"Fraction convective",0,null,"Octobre",2257.428493150685,4369.216438356164,6626.6449315068494]
[null,null,null,null,"Novembre",2184.608219178082,4228.2739726027403,6412.8821917808218]
[null,null,null,null,"Décembre",2257.428493150685,4369.216438356164,6626.6449315068494]
[null,null,null,null,null,null,null,{"$f":"SUM(G135:H146)","v":129467.39999999998}]
[null,"Conclusion Climatisation"]
[null,null,null,null,null,null,null,null,null,null,null,null,null,null,null,null,null,null,null,null,null,null,null,null,null,null,null,null,null,null,null,"Zone climatisée"]
[null,null,"APPORTS INTERNES",null,null,null,"Coeff intermittence",null,"Zone climatisée",null,"BESOIN  PAR m²",null,20,null,21,null,22,null,23,null,24,null,25,null,26,null,27,null,28,null,null,20,null,21,null,22,null,23,null,24,null,25,null,26,null,27,null,28,null,null,"Choix"]
[null,null,"Sensible","Latent","Eclairage","Equipement","Sensible","Latent","Sensible","Latent",null,null,"Sensible","Latent","Sensible","Latent","Sensible","Latent","Sensible","Latent","Sensible","Latent","Sensible","Latent","Sensible","Latent","Sensible","Latent","Sensible","Latent",null,"Sensible","Latent","Sensible","Latent","Sensible","Latent","Sensible","Latent","Sensible","Latent","Sensible","Latent","Sensible","Latent","Sensible","Latent","Sensible","Latent",null,"Sensible","Latent"]
[null,"Janvier",{"$f":"F103","v":8656.5252915899582},{"$f":"G103","v":8740.9001629554987},{"$f":"H119","v":6917.9260273972595},{"$f":"H135","v":6626.6449315068494},{"$f":"Données2!BD21","v":0.556473886663858},{"$f":"Données2!BD239","v":0.4918450791910709},{"$f":"AY152","v":47337.719362419753},{"$f":"AZ152","v":22369.389133736251},{"$f":"IF(SurfaceClimatisée=0,0,(I152+J152)/($C$107*SurfaceClimatisée))","v":16.260113948251924},null,{"$f":"SUM(J60,G86,G25)*$G152+L60+$C152+$E152+$F152","v":69013.43147801765},{"$f":"(K60+M60)*$H152+$D152","v":29882.00068467818},{"$f":"SUM(O60,H86,G25)*$G152+Q60+$C152+$E152+$F152","v":65419.716198447364},{"$f":"(P60+R60)*$H152+$D152","v":28964.724841934414},{"$f":"SUM(T60,I86,G25)*$G152+V60+$C152+$E152+$F152","v":61818.439556331985},{"$f":"(U60+W60)*$H152+$D152","v":27949.688339749071},{"$f":"SUM(Y60,J86,G25)*$G152+AA60+$C152+$E152+$F152","v":58209.601551671527},{"$f":"(Z60+AB60)*$H152+$D152","v":26815.309524802698},{"$f":"SUM(AD60,K86,G25)*$G152+AF60+$C152+$E152+$F152","v":54593.202184466005},{"$f":"(AE60+AG60)*$H152+$D152","v":25532.158678577467},{"$f":"SUM(AI60,L86,G25)*$G152+AK60+$C152+$E152+$F152","v":50969.241454715419},{"$f":"(AJ60+AL60)*$H152+$D152","v":24063.580524038462},{"$f":"SUM(AN60,M86,G25)*$G152+AP60+$C152+$E152+$F152","v":47337.719362419753},{"$f":"(AO60+AQ60)*$H152+$D152","v":22369.389133736251},{"$f":"((-U152+Y152)*0.5)*(AA$150-23)+(-Y152+3*U152)*0.5","v":43709.977951396628},{"$f":"((-V152+Z152)*0.5)*(AA$150-23)+(-Z152+3*V152)*0.5","v":20788.004361315641},{"$f":"((-U152+Y152)*0.5)*(AC$150-23)+(-Y152+3*U152)*0.5","v":40082.236540373502},{"$f":"((-V152+Z152)*0.5)*(AC$150-23)+(-Z152+3*V152)*0.5","v":19206.619588895031},null,{"$f":"IF(Calculs!$C258=FALSE,0,M152*Calculs!$F258)*SurfaceClimatisée","v":69013.43147801765},{"$f":"IF(Calculs!$C258=FALSE,0,N152*Calculs!$F258)*SurfaceClimatisée","v":29882.00068467818},{"$f":"IF(Calculs!$C258=FALSE,0,O152*Calculs!$F258)*SurfaceClimatisée","v":65419.716198447364},{"$f":"IF(Calculs!$C258=FALSE,0,P152*Calculs!$F258)*SurfaceClimatisée","v":28964.724841934414},{"$f":"IF(Calculs!$C258=FALSE,0,Q152*Calculs!$F258)*SurfaceClimatisée","v":61818.439556331985},{"$f":"IF(Calculs!$C258=FALSE,0,R152*Calculs!$F258)*SurfaceClimatisée","v":27949.688339749071},{"$f":"IF(Calculs!$C258=FALSE,0,S152*Calculs!$F258)*SurfaceClimatisée","v":58209.601551671527},{"$f":"IF(Calculs!$C258=FALSE,0,T152*Calculs!$F258)*SurfaceClimatisée","v":26815.309524802698},{"$f":"IF(Calculs!$C258=FALSE,0,U152*Calculs!$F258)*SurfaceClimatisée","v":54593.202184466005},{"$f":"IF(Calculs!$C258=FALSE,0,V152*Calculs!$F258)*SurfaceClimatisée","v":25532.158678577467},{"$f":"IF(Calculs!$C258=FALSE,0,W152*Calculs!$F258)*SurfaceClimatisée","v":50969.241454715419},{"$f":"IF(Calculs!$C258=FALSE,0,X152*Calculs!$F258)*SurfaceClimatisée","v":24063.580524038462},{"$f":"IF(Calculs!$C258=FALSE,0,Y152*Calculs!$F258)*SurfaceClimatisée","v":47337.719362419753},{"$f":"IF(Calculs!$C258=FALSE,0,Z152*Calculs!$F258)*SurfaceClimatisée","v":22369.389133736251},{"$f":"IF(Calculs!$C258=FALSE,0,AA152*Calculs!$F258)*SurfaceClimatisée","v":43709.977951396628},{"$f":"IF(Calculs!$C258=FALSE,0,AB152*Calculs!$F258)*SurfaceClimatisée","v":20788.004361315641},{"$f":"IF(Calculs!$C258=FALSE,0,AC152*Calculs!$F258)*SurfaceClimatisée","v":40082.236540373502},{"$f":"IF(Calculs!$C258=FALSE,0,AD152*Calculs!$F258)*SurfaceClimatisée","v":19206.619588895031},null,{"$f":"IF(TempConsigne=20,AF152,IF(TempConsigne=21,AH152,IF(TempConsigne=22,AJ152,IF(TempConsigne=23,AL152,IF(TempConsigne=24,AN152,IF(TempConsigne=25,AP152,IF(TempConsigne=26,AR152,IF(TempConsigne=27,AT152,IF(TempConsigne=28,AV152)))))))))","v":47337.719362419753},{"$f":"IF(TempConsigne=20,AG152,IF(TempConsigne=21,AI152,IF(TempConsigne=22,AK152,IF(TempConsigne=23,AM152,IF(TempConsigne=24,AO152,IF(TempConsigne=25,AQ152,IF(TempConsigne=26,AS152,IF(TempConsigne=27,AU152,IF(TempConsigne=28,AW152)))))))))","v":22369.389133736251},null,{"$f":"SUM(AY164:AZ164)","v":906857.99273626017},"Total brut kWh"]
[null,"Février",{"$f":"F104","v":7818.797037565123},{"$f":"G104","v":7895.0065987985136},6248.4493150684921,{"$f":"H136","v":5985.3567123287667},{"$f":"Données2!BD22","v":0.5531793408190756},{"$f":"Données2!BD240","v":0.49333258784770478},42917.823286179439,20007.264812201585,14.678117121152559,null,62383.851941205627,26300.6071115626,59156.494100152864,24835.359427808296,55922.344151852791,24650.607119874163,52681.402096305414,23696.549647987344,49433.667933510733,22626.420387446331,46179.141663468741,21407.187927264727,42917.823286179439,20007.264812201585,39659.900962513791,18697.687024579216,36401.978638848144,17388.109236956843,null,{"$f":"IF(Calculs!$C259=FALSE,0,M153*Calculs!$F259)*SurfaceClimatisée","v":62383.851941205627},{"$f":"IF(Calculs!$C259=FALSE,0,N153*Calculs!$F259)*SurfaceClimatisée","v":26300.6071115626},{"$f":"IF(Calculs!$C259=FALSE,0,O153*Calculs!$F259)*SurfaceClimatisée","v":59156.494100152864},{"$f":"IF(Calculs!$C259=FALSE,0,P153*Calculs!$F259)*SurfaceClimatisée","v":24835.359427808296},{"$f":"IF(Calculs!$C259=FALSE,0,Q153*Calculs!$F259)*SurfaceClimatisée","v":55922.344151852791},{"$f":"IF(Calculs!$C259=FALSE,0,R153*Calculs!$F259)*SurfaceClimatisée","v":24650.607119874163},{"$f":"IF(Calculs!$C259=FALSE,0,S153*Calculs!$F259)*SurfaceClimatisée","v":52681.402096305414},{"$f":"IF(Calculs!$C259=FALSE,0,T153*Calculs!$F259)*SurfaceClimatisée","v":23696.549647987344},{"$f":"IF(Calculs!$C259=FALSE,0,U153*Calculs!$F259)*SurfaceClimatisée","v":49433.667933510733},{"$f":"IF(Calculs!$C259=FALSE,0,V153*Calculs!$F259)*SurfaceClimatisée","v":22626.420387446331},{"$f":"IF(Calculs!$C259=FALSE,0,W153*Calculs!$F259)*SurfaceClimatisée","v":46179.141663468741},{"$f":"IF(Calculs!$C259=FALSE,0,X153*Calculs!$F259)*SurfaceClimatisée","v":21407.187927264727},{"$f":"IF(Calculs!$C259=FALSE,0,Y153*Calculs!$F259)*SurfaceClimatisée","v":42917.823286179439},{"$f":"IF(Calculs!$C259=FALSE,0,Z153*Calculs!$F259)*SurfaceClimatisée","v":20007.264812201585},{"$f":"IF(Calculs!$C259=FALSE,0,AA153*Calculs!$F259)*SurfaceClimatisée","v":39659.900962513791},{"$f":"IF(Calculs!$C259=FALSE,0,AB153*Calculs!$F259)*SurfaceClimatisée","v":18697.687024579216},{"$f":"IF(Calculs!$C259=FALSE,0,AC153*Calculs!$F259)*SurfaceClimatisée","v":36401.978638848144},{"$f":"IF(Calculs!$C259=FALSE,0,AD153*Calculs!$F259)*SurfaceClimatisée","v":17388.109236956843},null,42917.823286179439,20007.264812201585,null,{"$f":"BB152/($C$107*SurfaceClimatisée)","v":211.53673728394219},"Besoin/m²"]
[null,"Mars",8656.5252915899582,8740.9001629554987,6917.9260273972595,6626.6449315068494,{"$f":"Données2!BD23","v":0.53676721694198704},{"$f":"Données2!BD241","v":0.47213532296398347},47683.910452100245,21115.329174956787,16.048341410556809,null,68594.356598293278,28166.139624108244,65127.520635895708,26608.824416275878,61653.38931537763,26370.680256075699,58171.962636739045,25310.360397319331,54683.240599979967,24098.10905498916,51187.223205100367,22705.866071967092,47683.910452100245,21115.329174956787,44184.245378160384,19623.939234940604,40684.580304220523,18132.549294924418,null,{"$f":"IF(Calculs!$C260=FALSE,0,M154*Calculs!$F260)*SurfaceClimatisée","v":68594.356598293278},{"$f":"IF(Calculs!$C260=FALSE,0,N154*Calculs!$F260)*SurfaceClimatisée","v":28166.139624108244},{"$f":"IF(Calculs!$C260=FALSE,0,O154*Calculs!$F260)*SurfaceClimatisée","v":65127.520635895708},{"$f":"IF(Calculs!$C260=FALSE,0,P154*Calculs!$F260)*SurfaceClimatisée","v":26608.824416275878},{"$f":"IF(Calculs!$C260=FALSE,0,Q154*Calculs!$F260)*SurfaceClimatisée","v":61653.38931537763},{"$f":"IF(Calculs!$C260=FALSE,0,R154*Calculs!$F260)*SurfaceClimatisée","v":26370.680256075699},{"$f":"IF(Calculs!$C260=FALSE,0,S154*Calculs!$F260)*SurfaceClimatisée","v":58171.962636739045},{"$f":"IF(Calculs!$C260=FALSE,0,T154*Calculs!$F260)*SurfaceClimatisée","v":25310.360397319331},{"$f":"IF(Calculs!$C260=FALSE,0,U154*Calculs!$F260)*SurfaceClimatisée","v":54683.240599979967},{"$f":"IF(Calculs!$C260=FALSE,0,V154*Calculs!$F260)*SurfaceClimatisée","v":24098.10905498916},{"$f":"IF(Calculs!$C260=FALSE,0,W154*Calculs!$F260)*SurfaceClimatisée","v":51187.223205100367},{"$f":"IF(Calculs!$C260=FALSE,0,X154*Calculs!$F260)*SurfaceClimatisée","v":22705.866071967092},{"$f":"IF(Calculs!$C260=FALSE,0,Y154*Calculs!$F260)*SurfaceClimatisée","v":47683.910452100245},{"$f":"IF(Calculs!$C260=FALSE,0,Z154*Calculs!$F260)*SurfaceClimatisée","v":21115.329174956787},{"$f":"IF(Calculs!$C260=FALSE,0,AA154*Calculs!$F260)*SurfaceClimatisée","v":44184.245378160384},{"$f":"IF(Calculs!$C260=FALSE,0,AB154*Calculs!$F260)*SurfaceClimatisée","v":19623.939234940604},{"$f":"IF(Calculs!$C260=FALSE,0,AC154*Calculs!$F260)*SurfaceClimatisée","v":40684.580304220523},{"$f":"IF(Calculs!$C260=FALSE,0,AD154*Calculs!$F260)*SurfaceClimatisée","v":18132.549294924418},null,47683.910452100245,21115.329174956787]
[null,"Avril",8377.2825402483468,8458.9356415698367,6694.767123287671,6412.8821917808218,{"$f":"Données2!BD24","v":0.60521866993099016},{"$f":"Données2!BD242","v":0.50824325954405802},50679.108688147055,23617.637874136326,17.330708318703845,null,73479.20962423789,30655.84459327181,69699.06274890287,29022.243424841945,65910.96789462911,28804.970612450794,62114.925061416667,27732.525511498556,58310.934249265498,26533.328404966313,54498.995458175632,25170.729174293629,50679.108688147055,23617.637874136326,46863.195907587833,22159.792608721335,43047.283127028611,20701.947343306339,null,{"$f":"IF(Calculs!$C261=FALSE,0,M155*Calculs!$F261)*SurfaceClimatisée","v":73479.20962423789},{"$f":"IF(Calculs!$C261=FALSE,0,N155*Calculs!$F261)*SurfaceClimatisée","v":30655.84459327181},{"$f":"IF(Calculs!$C261=FALSE,0,O155*Calculs!$F261)*SurfaceClimatisée","v":69699.06274890287},{"$f":"IF(Calculs!$C261=FALSE,0,P155*Calculs!$F261)*SurfaceClimatisée","v":29022.243424841945},{"$f":"IF(Calculs!$C261=FALSE,0,Q155*Calculs!$F261)*SurfaceClimatisée","v":65910.96789462911},{"$f":"IF(Calculs!$C261=FALSE,0,R155*Calculs!$F261)*SurfaceClimatisée","v":28804.970612450794},{"$f":"IF(Calculs!$C261=FALSE,0,S155*Calculs!$F261)*SurfaceClimatisée","v":62114.925061416667},{"$f":"IF(Calculs!$C261=FALSE,0,T155*Calculs!$F261)*SurfaceClimatisée","v":27732.525511498556},{"$f":"IF(Calculs!$C261=FALSE,0,U155*Calculs!$F261)*SurfaceClimatisée","v":58310.934249265498},{"$f":"IF(Calculs!$C261=FALSE,0,V155*Calculs!$F261)*SurfaceClimatisée","v":26533.328404966313},{"$f":"IF(Calculs!$C261=FALSE,0,W155*Calculs!$F261)*SurfaceClimatisée","v":54498.995458175632},{"$f":"IF(Calculs!$C261=FALSE,0,X155*Calculs!$F261)*SurfaceClimatisée","v":25170.729174293629},{"$f":"IF(Calculs!$C261=FALSE,0,Y155*Calculs!$F261)*SurfaceClimatisée","v":50679.108688147055},{"$f":"IF(Calculs!$C261=FALSE,0,Z155*Calculs!$F261)*SurfaceClimatisée","v":23617.637874136326},{"$f":"IF(Calculs!$C261=FALSE,0,AA155*Calculs!$F261)*SurfaceClimatisée","v":46863.195907587833},{"$f":"IF(Calculs!$C261=FALSE,0,AB155*Calculs!$F261)*SurfaceClimatisée","v":22159.792608721335},{"$f":"IF(Calculs!$C261=FALSE,0,AC155*Calculs!$F261)*SurfaceClimatisée","v":43047.283127028611},{"$f":"IF(Calculs!$C261=FALSE,0,AD155*Calculs!$F261)*SurfaceClimatisée","v":20701.947343306339},null,50679.108688147055,23617.637874136326]
[null,"Mai",8656.5252915899582,8740.9001629554987,6917.9260273972595,6626.6449315068494,{"$f":"Données2!BD25","v":0.56686302866420257},{"$f":"Données2!BD243","v":0.50758941794239709},51470.500811416379,25638.855899091915,17.986787196293047,null,73503.606521214999,33198.794045154253,69850.589363405059,31497.859289791439,66189.905354732531,31241.261276085082,62521.554495197386,30097.945017620845,58845.536784799653,28803.639258840052,55161.852223539317,27331.757191728469,51470.500811416379,25638.855899091915,47782.982824724742,24056.464219217851,44095.464838033105,22474.072539343782,null,{"$f":"IF(Calculs!$C262=FALSE,0,M156*Calculs!$F262)*SurfaceClimatisée","v":73503.606521214999},{"$f":"IF(Calculs!$C262=FALSE,0,N156*Calculs!$F262)*SurfaceClimatisée","v":33198.794045154253},{"$f":"IF(Calculs!$C262=FALSE,0,O156*Calculs!$F262)*SurfaceClimatisée","v":69850.589363405059},{"$f":"IF(Calculs!$C262=FALSE,0,P156*Calculs!$F262)*SurfaceClimatisée","v":31497.859289791439},{"$f":"IF(Calculs!$C262=FALSE,0,Q156*Calculs!$F262)*SurfaceClimatisée","v":66189.905354732531},{"$f":"IF(Calculs!$C262=FALSE,0,R156*Calculs!$F262)*SurfaceClimatisée","v":31241.261276085082},{"$f":"IF(Calculs!$C262=FALSE,0,S156*Calculs!$F262)*SurfaceClimatisée","v":62521.554495197386},{"$f":"IF(Calculs!$C262=FALSE,0,T156*Calculs!$F262)*SurfaceClimatisée","v":30097.945017620845},{"$f":"IF(Calculs!$C262=FALSE,0,U156*Calculs!$F262)*SurfaceClimatisée","v":58845.536784799653},{"$f":"IF(Calculs!$C262=FALSE,0,V156*Calculs!$F262)*SurfaceClimatisée","v":28803.639258840052},{"$f":"IF(Calculs!$C262=FALSE,0,W156*Calculs!$F262)*SurfaceClimatisée","v":55161.852223539317},{"$f":"IF(Calculs!$C262=FALSE,0,X156*Calculs!$F262)*SurfaceClimatisée","v":27331.757191728469},{"$f":"IF(Calculs!$C262=FALSE,0,Y156*Calculs!$F262)*SurfaceClimatisée","v":51470.500811416379},{"$f":"IF(Calculs!$C262=FALSE,0,Z156*Calculs!$F262)*SurfaceClimatisée","v":25638.855899091915},{"$f":"IF(Calculs!$C262=FALSE,0,AA156*Calculs!$F262)*SurfaceClimatisée","v":47782.982824724742},{"$f":"IF(Calculs!$C262=FALSE,0,AB156*Calculs!$F262)*SurfaceClimatisée","v":24056.464219217851},{"$f":"IF(Calculs!$C262=FALSE,0,AC156*Calculs!$F262)*SurfaceClimatisée","v":44095.464838033105},{"$f":"IF(Calculs!$C262=FALSE,0,AD156*Calculs!$F262)*SurfaceClimatisée","v":22474.072539343782},null,51470.500811416379,25638.855899091915,null,{"$f":"Calculs!BB152*0.001","v":906.85799273626014},"Besoin annuel (MWh/an)"]
[null,"Juin",8377.2825402483468,8458.9356415698367,6694.767123287671,6412.8821917808218,{"$f":"Données2!BD26","v":0.53720625332971239},{"$f":"Données2!BD244","v":0.47719722672146997},46651.736399210306,22399.133108074311,16.107037440467604,null,66917.501300930802,29101.357435844053,63557.563385614965,27554.578910659227,60190.549642977436,27338.43895757688,56816.460073018199,26317.705355329839,53435.29467573727,25174.88858642515,50047.053451134634,23880.386589028691,46651.736399210306,22399.133108074311,43259.957260946823,21011.255368898892,39868.178122683341,19623.377629723473,null,{"$f":"IF(Calculs!$C263=FALSE,0,M157*Calculs!$F263)*SurfaceClimatisée","v":66917.501300930802},{"$f":"IF(Calculs!$C263=FALSE,0,N157*Calculs!$F263)*SurfaceClimatisée","v":29101.357435844053},{"$f":"IF(Calculs!$C263=FALSE,0,O157*Calculs!$F263)*SurfaceClimatisée","v":63557.563385614965},{"$f":"IF(Calculs!$C263=FALSE,0,P157*Calculs!$F263)*SurfaceClimatisée","v":27554.578910659227},{"$f":"IF(Calculs!$C263=FALSE,0,Q157*Calculs!$F263)*SurfaceClimatisée","v":60190.549642977436},{"$f":"IF(Calculs!$C263=FALSE,0,R157*Calculs!$F263)*SurfaceClimatisée","v":27338.43895757688},{"$f":"IF(Calculs!$C263=FALSE,0,S157*Calculs!$F263)*SurfaceClimatisée","v":56816.460073018199},{"$f":"IF(Calculs!$C263=FALSE,0,T157*Calculs!$F263)*SurfaceClimatisée","v":26317.705355329839},{"$f":"IF(Calculs!$C263=FALSE,0,U157*Calculs!$F263)*SurfaceClimatisée","v":53435.29467573727},{"$f":"IF(Calculs!$C263=FALSE,0,V157*Calculs!$F263)*SurfaceClimatisée","v":25174.88858642515},{"$f":"IF(Calculs!$C263=FALSE,0,W157*Calculs!$F263)*SurfaceClimatisée","v":50047.053451134634},{"$f":"IF(Calculs!$C263=FALSE,0,X157*Calculs!$F263)*SurfaceClimatisée","v":23880.386589028691},{"$f":"IF(Calculs!$C263=FALSE,0,Y157*Calculs!$F263)*SurfaceClimatisée","v":46651.736399210306},{"$f":"IF(Calculs!$C263=FALSE,0,Z157*Calculs!$F263)*SurfaceClimatisée","v":22399.133108074311},{"$f":"IF(Calculs!$C263=FALSE,0,AA157*Calculs!$F263)*SurfaceClimatisée","v":43259.957260946823},{"$f":"IF(Calculs!$C263=FALSE,0,AB157*Calculs!$F263)*SurfaceClimatisée","v":21011.255368898892},{"$f":"IF(Calculs!$C263=FALSE,0,AC157*Calculs!$F263)*SurfaceClimatisée","v":39868.178122683341},{"$f":"IF(Calculs!$C263=FALSE,0,AD157*Calculs!$F263)*SurfaceClimatisée","v":19623.377629723473},null,46651.736399210306,22399.133108074311,null,{"$f":"BB156/BB158","v":262.857389198916},"Consommation annuelle clim (MWh/an)"]
[null,"Juillet",8656.5252915899582,8740.9001629554987,6917.9260273972595,6626.6449315068494,{"$f":"Données2!BD27","v":0.59865349064048023},{"$f":"Données2!BD245","v":0.50341495504515521},55644.38158630651,24052.737703131905,18.590417375656266,null,78949.663285750154,30604.410357628673,75085.760633319209,28981.594352381773,71213.733595231068,28836.523873965507,67333.582171485716,27827.462256849194,63445.306362083182,26714.760702216874,59548.906167023437,25463.873194488609,55644.38158630651,24052.737703131905,51743.919198418182,22721.726203589416,47843.456810529846,21390.714704046932,null,{"$f":"IF(Calculs!$C264=FALSE,0,M158*Calculs!$F264)*SurfaceClimatisée","v":78949.663285750154},{"$f":"IF(Calculs!$C264=FALSE,0,N158*Calculs!$F264)*SurfaceClimatisée","v":30604.410357628673},{"$f":"IF(Calculs!$C264=FALSE,0,O158*Calculs!$F264)*SurfaceClimatisée","v":75085.760633319209},{"$f":"IF(Calculs!$C264=FALSE,0,P158*Calculs!$F264)*SurfaceClimatisée","v":28981.594352381773},{"$f":"IF(Calculs!$C264=FALSE,0,Q158*Calculs!$F264)*SurfaceClimatisée","v":71213.733595231068},{"$f":"IF(Calculs!$C264=FALSE,0,R158*Calculs!$F264)*SurfaceClimatisée","v":28836.523873965507},{"$f":"IF(Calculs!$C264=FALSE,0,S158*Calculs!$F264)*SurfaceClimatisée","v":67333.582171485716},{"$f":"IF(Calculs!$C264=FALSE,0,T158*Calculs!$F264)*SurfaceClimatisée","v":27827.462256849194},{"$f":"IF(Calculs!$C264=FALSE,0,U158*Calculs!$F264)*SurfaceClimatisée","v":63445.306362083182},{"$f":"IF(Calculs!$C264=FALSE,0,V158*Calculs!$F264)*SurfaceClimatisée","v":26714.760702216874},{"$f":"IF(Calculs!$C264=FALSE,0,W158*Calculs!$F264)*SurfaceClimatisée","v":59548.906167023437},{"$f":"IF(Calculs!$C264=FALSE,0,X158*Calculs!$F264)*SurfaceClimatisée","v":25463.873194488609},{"$f":"IF(Calculs!$C264=FALSE,0,Y158*Calculs!$F264)*SurfaceClimatisée","v":55644.38158630651},{"$f":"IF(Calculs!$C264=FALSE,0,Z158*Calculs!$F264)*SurfaceClimatisée","v":24052.737703131905},{"$f":"IF(Calculs!$C264=FALSE,0,AA158*Calculs!$F264)*SurfaceClimatisée","v":51743.919198418182},{"$f":"IF(Calculs!$C264=FALSE,0,AB158*Calculs!$F264)*SurfaceClimatisée","v":22721.726203589416},{"$f":"IF(Calculs!$C264=FALSE,0,AC158*Calculs!$F264)*SurfaceClimatisée","v":47843.456810529846},{"$f":"IF(Calculs!$C264=FALSE,0,AD158*Calculs!$F264)*SurfaceClimatisée","v":21390.714704046932},null,55644.38158630651,24052.737703131905,null,{"$f":"Hypothèses!T47","v":3.4499999999999997},"Coefficient SEER"]
[null,"Août",8656.5252915899582,8740.9001629554987,6917.9260273972595,6626.6449315068494,{"$f":"Données2!BD28","v":0.57017452175867478},{"$f":"Données2!BD246","v":0.48640429435611909},58478.585188975194,25146.139435947556,19.506583770684102,null,80632.938427824556,30941.667151543639,76959.811229513958,29401.392691383462,73278.978027937657,29336.294163922848,69590.438823095625,28429.786508325302,65894.193614987875,27439.590868792457,62190.242403614393,26353.806345347155,58478.585188975194,25146.139435947556,54770.780975968839,23999.41371952511,51062.976762962498,22852.688003102659,null,{"$f":"IF(Calculs!$C265=FALSE,0,M159*Calculs!$F265)*SurfaceClimatisée","v":80632.938427824556},{"$f":"IF(Calculs!$C265=FALSE,0,N159*Calculs!$F265)*SurfaceClimatisée","v":30941.667151543639},{"$f":"IF(Calculs!$C265=FALSE,0,O159*Calculs!$F265)*SurfaceClimatisée","v":76959.811229513958},{"$f":"IF(Calculs!$C265=FALSE,0,P159*Calculs!$F265)*SurfaceClimatisée","v":29401.392691383462},{"$f":"IF(Calculs!$C265=FALSE,0,Q159*Calculs!$F265)*SurfaceClimatisée","v":73278.978027937657},{"$f":"IF(Calculs!$C265=FALSE,0,R159*Calculs!$F265)*SurfaceClimatisée","v":29336.294163922848},{"$f":"IF(Calculs!$C265=FALSE,0,S159*Calculs!$F265)*SurfaceClimatisée","v":69590.438823095625},{"$f":"IF(Calculs!$C265=FALSE,0,T159*Calculs!$F265)*SurfaceClimatisée","v":28429.786508325302},{"$f":"IF(Calculs!$C265=FALSE,0,U159*Calculs!$F265)*SurfaceClimatisée","v":65894.193614987875},{"$f":"IF(Calculs!$C265=FALSE,0,V159*Calculs!$F265)*SurfaceClimatisée","v":27439.590868792457},{"$f":"IF(Calculs!$C265=FALSE,0,W159*Calculs!$F265)*SurfaceClimatisée","v":62190.242403614393},{"$f":"IF(Calculs!$C265=FALSE,0,X159*Calculs!$F265)*SurfaceClimatisée","v":26353.806345347155},{"$f":"IF(Calculs!$C265=FALSE,0,Y159*Calculs!$F265)*SurfaceClimatisée","v":58478.585188975194},{"$f":"IF(Calculs!$C265=FALSE,0,Z159*Calculs!$F265)*SurfaceClimatisée","v":25146.139435947556},{"$f":"IF(Calculs!$C265=FALSE,0,AA159*Calculs!$F265)*SurfaceClimatisée","v":54770.780975968839},{"$f":"IF(Calculs!$C265=FALSE,0,AB159*Calculs!$F265)*SurfaceClimatisée","v":23999.41371952511},{"$f":"IF(Calculs!$C265=FALSE,0,AC159*Calculs!$F265)*SurfaceClimatisée","v":51062.976762962498},{"$f":"IF(Calculs!$C265=FALSE,0,AD159*Calculs!$F265)*SurfaceClimatisée","v":22852.688003102659},null,58478.585188975194,25146.139435947556,null,{"$f":"Calculs!BB157+(Calculs!M134/1000)","v":528.65138919891592},"Consommation totale estimée (MWh/an)"]
[null,"Septembre",8377.2825402483468,8458.9356415698367,6694.767123287671,6412.8821917808218,{"$f":"Données2!BD29","v":0.5754531836411263},{"$f":"Données2!BD247","v":0.4779558017007644},59068.52544713844,24909.691289704497,19.589040526438755,null,80699.854813613361,30306.854837677427,77113.43647023954,28840.883845405879,73519.496839783591,28794.806460017258,69918.035922245486,27950.454075031535,66309.053717625269,27031.857005725244,62692.550225922925,26025.87876237966,59068.52544713844,24909.691289704497,55448.261311895025,23848.608431694127,51827.99717665161,22787.525573683753,null,{"$f":"IF(Calculs!$C266=FALSE,0,M160*Calculs!$F266)*SurfaceClimatisée","v":80699.854813613361},{"$f":"IF(Calculs!$C266=FALSE,0,N160*Calculs!$F266)*SurfaceClimatisée","v":30306.854837677427},{"$f":"IF(Calculs!$C266=FALSE,0,O160*Calculs!$F266)*SurfaceClimatisée","v":77113.43647023954},{"$f":"IF(Calculs!$C266=FALSE,0,P160*Calculs!$F266)*SurfaceClimatisée","v":28840.883845405879},{"$f":"IF(Calculs!$C266=FALSE,0,Q160*Calculs!$F266)*SurfaceClimatisée","v":73519.496839783591},{"$f":"IF(Calculs!$C266=FALSE,0,R160*Calculs!$F266)*SurfaceClimatisée","v":28794.806460017258},{"$f":"IF(Calculs!$C266=FALSE,0,S160*Calculs!$F266)*SurfaceClimatisée","v":69918.035922245486},{"$f":"IF(Calculs!$C266=FALSE,0,T160*Calculs!$F266)*SurfaceClimatisée","v":27950.454075031535},{"$f":"IF(Calculs!$C266=FALSE,0,U160*Calculs!$F266)*SurfaceClimatisée","v":66309.053717625269},{"$f":"IF(Calculs!$C266=FALSE,0,V160*Calculs!$F266)*SurfaceClimatisée","v":27031.857005725244},{"$f":"IF(Calculs!$C266=FALSE,0,W160*Calculs!$F266)*SurfaceClimatisée","v":62692.550225922925},{"$f":"IF(Calculs!$C266=FALSE,0,X160*Calculs!$F266)*SurfaceClimatisée","v":26025.87876237966},{"$f":"IF(Calculs!$C266=FALSE,0,Y160*Calculs!$F266)*SurfaceClimatisée","v":59068.52544713844},{"$f":"IF(Calculs!$C266=FALSE,0,Z160*Calculs!$F266)*SurfaceClimatisée","v":24909.691289704497},{"$f":"IF(Calculs!$C266=FALSE,0,AA160*Calculs!$F266)*SurfaceClimatisée","v":55448.261311895025},{"$f":"IF(Calculs!$C266=FALSE,0,AB160*Calculs!$F266)*SurfaceClimatisée","v":23848.608431694127},{"$f":"IF(Calculs!$C266=FALSE,0,AC160*Calculs!$F266)*SurfaceClimatisée","v":51827.99717665161},{"$f":"IF(Calculs!$C266=FALSE,0,AD160*Calculs!$F266)*SurfaceClimatisée","v":22787.525573683753},null,59068.52544713844,24909.691289704497]
[null,"Octobre",8656.5252915899582,8740.9001629554987,6917.9260273972595,6626.6449315068494,{"$f":"Données2!BD30","v":0.59166813806202567},{"$f":"Données2!BD248","v":0.4882048848428886},63572.55560342579,26401.314418654889,20.987606723135219,null,86531.182043353343,31919.23839343866,82724.677256668452,30387.091625782323,78910.199288662348,30361.149114026943,75087.748139335032,29490.361390155475,71257.323808686502,28549.235259512738,67418.926296716745,27524.590784515887,63572.55560342579,26401.314418654889,59730.171500795434,25327.353998225968,55887.787398165077,24253.393577797044,null,{"$f":"IF(Calculs!$C267=FALSE,0,M161*Calculs!$F267)*SurfaceClimatisée","v":86531.182043353343},{"$f":"IF(Calculs!$C267=FALSE,0,N161*Calculs!$F267)*SurfaceClimatisée","v":31919.23839343866},{"$f":"IF(Calculs!$C267=FALSE,0,O161*Calculs!$F267)*SurfaceClimatisée","v":82724.677256668452},{"$f":"IF(Calculs!$C267=FALSE,0,P161*Calculs!$F267)*SurfaceClimatisée","v":30387.091625782323},{"$f":"IF(Calculs!$C267=FALSE,0,Q161*Calculs!$F267)*SurfaceClimatisée","v":78910.199288662348},{"$f":"IF(Calculs!$C267=FALSE,0,R161*Calculs!$F267)*SurfaceClimatisée","v":30361.149114026943},{"$f":"IF(Calculs!$C267=FALSE,0,S161*Calculs!$F267)*SurfaceClimatisée","v":75087.748139335032},{"$f":"IF(Calculs!$C267=FALSE,0,T161*Calculs!$F267)*SurfaceClimatisée","v":29490.361390155475},{"$f":"IF(Calculs!$C267=FALSE,0,U161*Calculs!$F267)*SurfaceClimatisée","v":71257.323808686502},{"$f":"IF(Calculs!$C267=FALSE,0,V161*Calculs!$F267)*SurfaceClimatisée","v":28549.235259512738},{"$f":"IF(Calculs!$C267=FALSE,0,W161*Calculs!$F267)*SurfaceClimatisée","v":67418.926296716745},{"$f":"IF(Calculs!$C267=FALSE,0,X161*Calculs!$F267)*SurfaceClimatisée","v":27524.590784515887},{"$f":"IF(Calculs!$C267=FALSE,0,Y161*Calculs!$F267)*SurfaceClimatisée","v":63572.55560342579},{"$f":"IF(Calculs!$C267=FALSE,0,Z161*Calculs!$F267)*SurfaceClimatisée","v":26401.314418654889},{"$f":"IF(Calculs!$C267=FALSE,0,AA161*Calculs!$F267)*SurfaceClimatisée","v":59730.171500795434},{"$f":"IF(Calculs!$C267=FALSE,0,AB161*Calculs!$F267)*SurfaceClimatisée","v":25327.353998225968},{"$f":"IF(Calculs!$C267=FALSE,0,AC161*Calculs!$F267)*SurfaceClimatisée","v":55887.787398165077},{"$f":"IF(Calculs!$C267=FALSE,0,AD161*Calculs!$F267)*SurfaceClimatisée","v":24253.393577797044},null,63572.55560342579,26401.314418654889]
[null,"Novembre",8377.2825402483468,8458.9356415698367,6694.767123287671,6412.8821917808218,{"$f":"Données2!BD31","v":0.52035510985066613},{"$f":"Données2!BD249","v":0.46648559038771364},52028.982562855657,23155.050844896134,17.537679824528059,null,71625.320001355722,28759.329696695109,68376.334836357462,27309.187608794324,65120.521241458497,27214.702243654559,61857.879216658839,26344.318768798992,58588.408761958475,25389.637674934726,55312.109877357419,24334.234455449267,52028.982562855657,23155.050844896134,48749.269463304248,22037.757429876838,45469.556363752839,20920.464014857542,null,{"$f":"IF(Calculs!$C268=FALSE,0,M162*Calculs!$F268)*SurfaceClimatisée","v":71625.320001355722},{"$f":"IF(Calculs!$C268=FALSE,0,N162*Calculs!$F268)*SurfaceClimatisée","v":28759.329696695109},{"$f":"IF(Calculs!$C268=FALSE,0,O162*Calculs!$F268)*SurfaceClimatisée","v":68376.334836357462},{"$f":"IF(Calculs!$C268=FALSE,0,P162*Calculs!$F268)*SurfaceClimatisée","v":27309.187608794324},{"$f":"IF(Calculs!$C268=FALSE,0,Q162*Calculs!$F268)*SurfaceClimatisée","v":65120.521241458497},{"$f":"IF(Calculs!$C268=FALSE,0,R162*Calculs!$F268)*SurfaceClimatisée","v":27214.702243654559},{"$f":"IF(Calculs!$C268=FALSE,0,S162*Calculs!$F268)*SurfaceClimatisée","v":61857.879216658839},{"$f":"IF(Calculs!$C268=FALSE,0,T162*Calculs!$F268)*SurfaceClimatisée","v":26344.318768798992},{"$f":"IF(Calculs!$C268=FALSE,0,U162*Calculs!$F268)*SurfaceClimatisée","v":58588.408761958475},{"$f":"IF(Calculs!$C268=FALSE,0,V162*Calculs!$F268)*SurfaceClimatisée","v":25389.637674934726},{"$f":"IF(Calculs!$C268=FALSE,0,W162*Calculs!$F268)*SurfaceClimatisée","v":55312.109877357419},{"$f":"IF(Calculs!$C268=FALSE,0,X162*Calculs!$F268)*SurfaceClimatisée","v":24334.234455449267},{"$f":"IF(Calculs!$C268=FALSE,0,Y162*Calculs!$F268)*SurfaceClimatisée","v":52028.982562855657},{"$f":"IF(Calculs!$C268=FALSE,0,Z162*Calculs!$F268)*SurfaceClimatisée","v":23155.050844896134},{"$f":"IF(Calculs!$C268=FALSE,0,AA162*Calculs!$F268)*SurfaceClimatisée","v":48749.269463304248},{"$f":"IF(Calculs!$C268=FALSE,0,AB162*Calculs!$F268)*SurfaceClimatisée","v":22037.757429876838},{"$f":"IF(Calculs!$C268=FALSE,0,AC162*Calculs!$F268)*SurfaceClimatisée","v":45469.556363752839},{"$f":"IF(Calculs!$C268=FALSE,0,AD162*Calculs!$F268)*SurfaceClimatisée","v":20920.464014857542},null,52028.982562855657,23155.050844896134]
[null,"Décembre",8656.5252915899582,8740.9001629554987,6917.9260273972595,6626.6449315068494,{"$f":"Données2!BD32","v":0.5402977697942255},{"$f":"Données2!BD250","v":0.46948570684183832},49581.445753469103,22930.173900084279,16.914303628074034,null,70615.933968928919,29384.734825139032,67128.51884027975,27843.486571879632,63633.770548726257,27664.150615585262,60131.689094268426,26678.34225837437,56622.274476906299,25583.687053209225,53105.526696639863,24345.59458582681,49581.445753469103,22930.173900084279,46061.031391750512,21603.417323521804,42540.617030031914,20276.660746959329,null,{"$f":"IF(Calculs!$C269=FALSE,0,M163*Calculs!$F269)*SurfaceClimatisée","v":70615.933968928919},{"$f":"IF(Calculs!$C269=FALSE,0,N163*Calculs!$F269)*SurfaceClimatisée","v":29384.734825139032},{"$f":"IF(Calculs!$C269=FALSE,0,O163*Calculs!$F269)*SurfaceClimatisée","v":67128.51884027975},{"$f":"IF(Calculs!$C269=FALSE,0,P163*Calculs!$F269)*SurfaceClimatisée","v":27843.486571879632},{"$f":"IF(Calculs!$C269=FALSE,0,Q163*Calculs!$F269)*SurfaceClimatisée","v":63633.770548726257},{"$f":"IF(Calculs!$C269=FALSE,0,R163*Calculs!$F269)*SurfaceClimatisée","v":27664.150615585262},{"$f":"IF(Calculs!$C269=FALSE,0,S163*Calculs!$F269)*SurfaceClimatisée","v":60131.689094268426},{"$f":"IF(Calculs!$C269=FALSE,0,T163*Calculs!$F269)*SurfaceClimatisée","v":26678.34225837437},{"$f":"IF(Calculs!$C269=FALSE,0,U163*Calculs!$F269)*SurfaceClimatisée","v":56622.274476906299},{"$f":"IF(Calculs!$C269=FALSE,0,V163*Calculs!$F269)*SurfaceClimatisée","v":25583.687053209225},{"$f":"IF(Calculs!$C269=FALSE,0,W163*Calculs!$F269)*SurfaceClimatisée","v":53105.526696639863},{"$f":"IF(Calculs!$C269=FALSE,0,X163*Calculs!$F269)*SurfaceClimatisée","v":24345.59458582681},{"$f":"IF(Calculs!$C269=FALSE,0,Y163*Calculs!$F269)*SurfaceClimatisée","v":49581.445753469103},{"$f":"IF(Calculs!$C269=FALSE,0,Z163*Calculs!$F269)*SurfaceClimatisée","v":22930.173900084279},{"$f":"IF(Calculs!$C269=FALSE,0,AA163*Calculs!$F269)*SurfaceClimatisée","v":46061.031391750512},{"$f":"IF(Calculs!$C269=FALSE,0,AB163*Calculs!$F269)*SurfaceClimatisée","v":21603.417323521804},{"$f":"IF(Calculs!$C269=FALSE,0,AC163*Calculs!$F269)*SurfaceClimatisée","v":42540.617030031914},{"$f":"IF(Calculs!$C269=FALSE,0,AD163*Calculs!$F269)*SurfaceClimatisée","v":20276.660746959329},null,49581.445753469103,22930.173900084279]
[null,null,null,null,null,null,null,null,{"$f":"SUM(I152:I163)","v":625115.27514164383},{"$f":"SUM(J152:J163)","v":281742.71759461641},null,null,null,null,null,null,null,null,null,null,null,null,null,null,null,null,null,null,null,null,null,{"$f":"SUM(AF152:AF163)","v":882946.85000472621},359220.97875674162,840199.48569879727,341247.2270069386,797362.29545770097,338563.27303298406,754435.2792814374,326691.12071209349,711418.43717000668,313477.31293563574,668311.76912340883,298607.48560632841,625115.27514164383,281742.71759461641,581963.69412746246,265875.4199241068,538812.11311328097,250008.12225359716,null,{"$f":"SUM(AY152:AY163)","v":625115.27514164383},{"$f":"SUM(AZ152:AZ163)","v":281742.71759461641}]
[null,"Conclusion Ventilation"]
[]
[null,null,"APPORTS INTERNES",null,null,null,null,"Puissance / jour (W)",null,"Nb d'heures d'inconfort (sans clim)","Plage","Pourcentage d'inconfort"]
[null,null,"Sensible","Latent","Eclairage","Equipement","Sensible",null,"Surchauffe moyenne mensuelle (°C)"]
[null,"Janvier",{"$f":"I103","v":6147.9511507313819},{"$f":"J103","v":11249.474303814071},{"$f":"E152","v":6917.9260273972595},{"$f":"F152","v":6626.6449315068494},{"$f":"IF(SUM(G25,F86,$C169,$E169:$F169)>0,SUM(G25,F86,$C169,$E169:$F169),0)","v":57237.832003339543},{"$f":"(G169/(VMOIS($B169)*24))*1000","v":76932.569896961752},{"$f":"H169/($C$182*$C$183+Données1!AD229*1005/3600*$C$184*$F$182)","v":3.070370800902833},{"$f":"C249","v":403},{"$f":"C255","v":"11h-23h"},{"$f":"J169/(VMOIS(B169)*24)","v":0.54166666666666663}]
[null,"Février",5602.0410350743568,10111.762601289278,6248.4493150684921,5985.3567123287667,52662.895308346429,78367.403732658378,{"$f":"H170/($C$182*$C$183+Données1!AD230*1005/3600*$C$184*$F$182)","v":3.1271244946098746},{"$f":"D249","v":364},{"$f":"D255","v":"11h-23h"},{"$f":"J170/(VMOIS(B170)*24)","v":0.54166666666666663}]
[null,"Mars",6178.5717067200167,11218.85374782544,6917.9260273972595,6626.6449315068494,59809.38415991237,80388.957204183302,{"$f":"H171/($C$182*$C$183+Données1!AD231*1005/3600*$C$184*$F$182)","v":3.2080198315779995},{"$f":"E249","v":403},{"$f":"E255","v":"11h-23h"},0.54166666666666663]
[null,"Avril",5788.4355914239623,11047.782590394221,6694.767123287671,6412.8821917808218,58508.862432228416,81262.30893365058,{"$f":"H172/($C$182*$C$183+Données1!AD232*1005/3600*$C$184*$F$182)","v":3.2447852399388091},{"$f":"F249","v":420},{"$f":"F255","v":"11h-0h"},0.58333333333333337]
[null,"Mai",5553.2502536573375,11844.175200888118,6917.9260273972595,6626.6449315068494,58560.438324155228,78710.266564724763,{"$f":"H173/($C$182*$C$183+Données1!AD233*1005/3600*$C$184*$F$182)","v":3.146850282851231},{"$f":"G249","v":465},{"$f":"G255","v":"10h-0h"},0.625]
[null,"Juin",6151.6374604243874,10684.580721393795,6694.767123287671,6412.8821917808218,60301.100646170031,83751.528675236157,{"$f":"H174/($C$182*$C$183+Données1!AD234*1005/3600*$C$184*$F$182)","v":3.3404107805625913},{"$f":"H249","v":390},{"$f":"H255","v":"11h-23h"},0.54166666666666663]
[null,"Juillet",5990.2294801065946,11407.195974438859,6917.9260273972595,6626.6449315068494,66554.911101484118,89455.525674037781,{"$f":"H175/($C$182*$C$183+Données1!AD235*1005/3600*$C$184*$F$182)","v":3.5718444140058212},{"$f":"I249","v":434},{"$f":"I255","v":"11h-0h"},0.58333333333333337]
[null,"Août",5458.1010771108167,11939.324377434639,6917.9260273972595,6626.6449315068494,69741.027640983433,93737.940377665902,{"$f":"H176/($C$182*$C$183+Données1!AD236*1005/3600*$C$184*$F$182)","v":3.7486973782969795},{"$f":"J249","v":465},{"$f":"J255","v":"10h-0h"},0.625]
[null,"Septembre",5195.0209137338888,11641.197268084296,6694.767123287671,6412.8821917808218,70491.265414774069,97904.535298297313,{"$f":"H177/($C$182*$C$183+Données1!AD237*1005/3600*$C$184*$F$182)","v":3.916345152621298},{"$f":"K249","v":480},{"$f":"K255","v":"10h-1h"},0.66666666666666663]
[null,"Octobre",5074.0217322409926,12323.403722304462,6917.9260273972595,6626.6449315068494,72798.414432380509,97847.331226317896,{"$f":"H178/($C$182*$C$183+Données1!AD238*1005/3600*$C$184*$F$182)","v":3.9173662497877086},{"$f":"L249","v":496},{"$f":"L255","v":"10h-1h"},0.66666666666666663]
[null,"Novembre",5696.4941415986777,11139.724040219504,6694.767123287671,6412.8821917808218,68172.522626248276,94684.059203122597,{"$f":"H179/($C$182*$C$183+Données1!AD239*1005/3600*$C$184*$F$182)","v":3.7817795971101265},{"$f":"M249","v":420},{"$f":"M255","v":"11h-0h"},0.58333333333333337]
[null,"Décembre",6002.8689273453274,11394.556527200128,6917.9260273972595,6626.6449315068494,61477.054126309275,82630.449094501717,{"$f":"H180/($C$182*$C$183+Données1!AD240*1005/3600*$C$184*$F$182)","v":3.299203631849589},{"$f":"N249","v":434},{"$f":"N255","v":"11h-0h"},0.58333333333333337]
[]
[null,"U_bat",{"$f":"C47","v":1.8112497087008539},null,"Renouv Air",{"$f":"VLOOKUP(PotentielVN,TablePotentielVN,2,FALSE)","v":5}]
[null,"Surf_enveloppe",{"$f":"SUM(Calculs!C43:C45)","v":3346.2184993053979},null,"Période omega ",{"$f":"PI()/12","v":0.26179938779914941}]
[null,"Volume_bat",{"$f":"Calculs!C58","v":11574.900000000001}]
[]
[null,"Text","Janvier","Février","Mars","Avril","Mai","Juin","Juillet","Août","Septembre","Octobre","Novembre","Décembre"]
[null,0,{"$f":"IF(Station=\"Saint-Denis\",Données1!C296,Données1!C323)","v":26.241935483870964},{"$f":"IF(Station=\"Saint-Denis\",Données1!D296,Données1!D323)","v":26.235714285714288},{"$f":"IF(Station=\"Saint-Denis\",Données1!E296,Données1!E323)","v":26.429032258064517},{"$f":"IF(Station=\"Saint-Denis\",Données1!F296,Données1!F323)","v":26.392499999999998},{"$f":"IF(Station=\"Saint-Denis\",Données1!G296,Données1!G323)","v":26.75403225806452},{"$f":"IF(Station=\"Saint-Denis\",Données1!H296,Données1!H323)","v":25.568333333333328},{"$f":"IF(Station=\"Saint-Denis\",Données1!I296,Données1!I323)","v":26.062096774193556},{"$f":"IF(Station=\"Saint-Denis\",Données1!J296,Données1!J323)","v":26.58790322580645},{"$f":"IF(Station=\"Saint-Denis\",Données1!K296,Données1!K323)","v":26.403333333333343},{"$f":"IF(Station=\"Saint-Denis\",Données1!L296,Données1!L323)","v":26.821774193548389},{"$f":"IF(Station=\"Saint-Denis\",Données1!M296,Données1!M323)","v":26.043333333333337},{"$f":"IF(Station=\"Saint-Denis\",Données1!N296,Données1!N323)","v":26.033870967741933}]
[null,1,{"$f":"IF(Station=\"Saint-Denis\",Données1!C297,Données1!C324)","v":25.915322580645157},{"$f":"IF(Station=\"Saint-Denis\",Données1!D297,Données1!D324)","v":25.80892857142857},{"$f":"IF(Station=\"Saint-Denis\",Données1!E297,Données1!E324)","v":25.968548387096774},{"$f":"IF(Station=\"Saint-Denis\",Données1!F297,Données1!F324)","v":25.960000000000004},{"$f":"IF(Station=\"Saint-Denis\",Données1!G297,Données1!G324)","v":26.295161290322579},{"$f":"IF(Station=\"Saint-Denis\",Données1!H297,Données1!H324)","v":25.150833333333328},{"$f":"IF(Station=\"Saint-Denis\",Données1!I297,Données1!I324)","v":25.472580645161294},{"$f":"IF(Station=\"Saint-Denis\",Données1!J297,Données1!J324)","v":25.899193548387093},{"$f":"IF(Station=\"Saint-Denis\",Données1!K297,Données1!K324)","v":25.915833333333332},{"$f":"IF(Station=\"Saint-Denis\",Données1!L297,Données1!L324)","v":26.131451612903223},{"$f":"IF(Station=\"Saint-Denis\",Données1!M297,Données1!M324)","v":25.592500000000008},{"$f":"IF(Station=\"Saint-Denis\",Données1!N297,Données1!N324)","v":25.712096774193547}]
[null,2,{"$f":"IF(Station=\"Saint-Denis\",Données1!C298,Données1!C325)","v":25.504838709677426},{"$f":"IF(Station=\"Saint-Denis\",Données1!D298,Données1!D325)","v":25.43035714285714},{"$f":"IF(Station=\"Saint-Denis\",Données1!E298,Données1!E325)","v":25.438709677419347},{"$f":"IF(Station=\"Saint-Denis\",Données1!F298,Données1!F325)","v":25.577500000000004},{"$f":"IF(Station=\"Saint-Denis\",Données1!G298,Données1!G325)","v":25.887903225806454},{"$f":"IF(Station=\"Saint-Denis\",Données1!H298,Données1!H325)","v":24.736666666666672},{"$f":"IF(Station=\"Saint-Denis\",Données1!I298,Données1!I325)","v":24.941935483870971},{"$f":"IF(Station=\"Saint-Denis\",Données1!J298,Données1!J325)","v":25.332258064516132},{"$f":"IF(Station=\"Saint-Denis\",Données1!K298,Données1!K325)","v":25.370833333333334},{"$f":"IF(Station=\"Saint-Denis\",Données1!L298,Données1!L325)","v":25.575000000000003},{"$f":"IF(Station=\"Saint-Denis\",Données1!M298,Données1!M325)","v":25.045833333333338},{"$f":"IF(Station=\"Saint-Denis\",Données1!N298,Données1!N325)","v":25.220967741935489}]
[null,3,{"$f":"IF(Station=\"Saint-Denis\",Données1!C299,Données1!C326)","v":25.098387096774193},{"$f":"IF(Station=\"Saint-Denis\",Données1!D299,Données1!D326)","v":25.13214285714286},{"$f":"IF(Station=\"Saint-Denis\",Données1!E299,Données1!E326)","v":25.044354838709676},{"$f":"IF(Station=\"Saint-Denis\",Données1!F299,Données1!F326)","v":25.27833333333334},{"$f":"IF(Station=\"Saint-Denis\",Données1!G299,Données1!G326)","v":25.595967741935489},{"$f":"IF(Station=\"Saint-Denis\",Données1!H299,Données1!H326)","v":24.331666666666663},{"$f":"IF(Station=\"Saint-Denis\",Données1!I299,Données1!I326)","v":24.441935483870967},{"$f":"IF(Station=\"Saint-Denis\",Données1!J299,Données1!J326)","v":24.758870967741931},{"$f":"IF(Station=\"Saint-Denis\",Données1!K299,Données1!K326)","v":24.850833333333334},{"$f":"IF(Station=\"Saint-Denis\",Données1!L299,Données1!L326)","v":25.020161290322573},{"$f":"IF(Station=\"Saint-Denis\",Données1!M299,Données1!M326)","v":24.510833333333334},{"$f":"IF(Station=\"Saint-Denis\",Données1!N299,Données1!N326)","v":24.779838709677421}]
[null,4,{"$f":"IF(Station=\"Saint-Denis\",Données1!C300,Données1!C327)","v":24.837903225806453},{"$f":"IF(Station=\"Saint-Denis\",Données1!D300,Données1!D327)","v":24.883928571428562},{"$f":"IF(Station=\"Saint-Denis\",Données1!E300,Données1!E327)","v":24.869354838709672},{"$f":"IF(Station=\"Saint-Denis\",Données1!F300,Données1!F327)","v":24.94916666666667},{"$f":"IF(Station=\"Saint-Denis\",Données1!G300,Données1!G327)","v":25.411290322580641},{"$f":"IF(Station=\"Saint-Denis\",Données1!H300,Données1!H327)","v":23.934999999999999},{"$f":"IF(Station=\"Saint-Denis\",Données1!I300,Données1!I327)","v":24.10483870967742},{"$f":"IF(Station=\"Saint-Denis\",Données1!J300,Données1!J327)","v":24.390322580645162},{"$f":"IF(Station=\"Saint-Denis\",Données1!K300,Données1!K327)","v":24.548333333333332},{"$f":"IF(Station=\"Saint-Denis\",Données1!L300,Données1!L327)","v":24.694354838709682},{"$f":"IF(Station=\"Saint-Denis\",Données1!M300,Données1!M327)","v":24.125},{"$f":"IF(Station=\"Saint-Denis\",Données1!N300,Données1!N327)","v":24.498387096774184}]
[null,5,{"$f":"IF(Station=\"Saint-Denis\",Données1!C301,Données1!C328)","v":24.682258064516127},{"$f":"IF(Station=\"Saint-Denis\",Données1!D301,Données1!D328)","v":24.699107142857144},{"$f":"IF(Station=\"Saint-Denis\",Données1!E301,Données1!E328)","v":24.683870967741932},{"$f":"IF(Station=\"Saint-Denis\",Données1!F301,Données1!F328)","v":24.680833333333329},{"$f":"IF(Station=\"Saint-Denis\",Données1!G301,Données1!G328)","v":25.25725806451613},{"$f":"IF(Station=\"Saint-Denis\",Données1!H301,Données1!H328)","v":23.651666666666664},{"$f":"IF(Station=\"Saint-Denis\",Données1!I301,Données1!I328)","v":23.751612903225805},{"$f":"IF(Station=\"Saint-Denis\",Données1!J301,Données1!J328)","v":24.132258064516126},{"$f":"IF(Station=\"Saint-Denis\",Données1!K301,Données1!K328)","v":24.215},{"$f":"IF(Station=\"Saint-Denis\",Données1!L301,Données1!L328)","v":24.421774193548387},{"$f":"IF(Station=\"Saint-Denis\",Données1!M301,Données1!M328)","v":23.805},{"$f":"IF(Station=\"Saint-Denis\",Données1!N301,Données1!N328)","v":24.245161290322574}]
[null,6,{"$f":"IF(Station=\"Saint-Denis\",Données1!C302,Données1!C329)","v":24.590322580645161},{"$f":"IF(Station=\"Saint-Denis\",Données1!D302,Données1!D329)","v":24.528571428571432},{"$f":"IF(Station=\"Saint-Denis\",Données1!E302,Données1!E329)","v":24.537903225806449},{"$f":"IF(Station=\"Saint-Denis\",Données1!F302,Données1!F329)","v":24.54000000000001},{"$f":"IF(Station=\"Saint-Denis\",Données1!G302,Données1!G329)","v":25.064516129032263},{"$f":"IF(Station=\"Saint-Denis\",Données1!H302,Données1!H329)","v":23.46},{"$f":"IF(Station=\"Saint-Denis\",Données1!I302,Données1!I329)","v":23.437903225806448},{"$f":"IF(Station=\"Saint-Denis\",Données1!J302,Données1!J329)","v":23.99596774193548},{"$f":"IF(Station=\"Saint-Denis\",Données1!K302,Données1!K329)","v":23.943333333333332},{"$f":"IF(Station=\"Saint-Denis\",Données1!L302,Données1!L329)","v":24.184677419354831},{"$f":"IF(Station=\"Saint-Denis\",Données1!M302,Données1!M329)","v":23.561666666666667},{"$f":"IF(Station=\"Saint-Denis\",Données1!N302,Données1!N329)","v":24.05725806451613}]
[null,7,{"$f":"IF(Station=\"Saint-Denis\",Données1!C303,Données1!C330)","v":24.53709677419355},{"$f":"IF(Station=\"Saint-Denis\",Données1!D303,Données1!D330)","v":24.474999999999998},{"$f":"IF(Station=\"Saint-Denis\",Données1!E303,Données1!E330)","v":24.579032258064519},{"$f":"IF(Station=\"Saint-Denis\",Données1!F303,Données1!F330)","v":24.53083333333333},{"$f":"IF(Station=\"Saint-Denis\",Données1!G303,Données1!G330)","v":25.068548387096779},{"$f":"IF(Station=\"Saint-Denis\",Données1!H303,Données1!H330)","v":23.47666666666667},{"$f":"IF(Station=\"Saint-Denis\",Données1!I303,Données1!I330)","v":23.410483870967738},{"$f":"IF(Station=\"Saint-Denis\",Données1!J303,Données1!J330)","v":23.992741935483878},{"$f":"IF(Station=\"Saint-Denis\",Données1!K303,Données1!K330)","v":23.915833333333332},{"$f":"IF(Station=\"Saint-Denis\",Données1!L303,Données1!L330)","v":24.24274193548387},{"$f":"IF(Station=\"Saint-Denis\",Données1!M303,Données1!M330)","v":23.616666666666674},{"$f":"IF(Station=\"Saint-Denis\",Données1!N303,Données1!N330)","v":24.059677419354834}]
[null,8,{"$f":"IF(Station=\"Saint-Denis\",Données1!C304,Données1!C331)","v":24.995161290322589},{"$f":"IF(Station=\"Saint-Denis\",Données1!D304,Données1!D331)","v":24.902678571428577},{"$f":"IF(Station=\"Saint-Denis\",Données1!E304,Données1!E331)","v":24.980645161290326},{"$f":"IF(Station=\"Saint-Denis\",Données1!F304,Données1!F331)","v":25.151666666666664},{"$f":"IF(Station=\"Saint-Denis\",Données1!G304,Données1!G331)","v":25.788709677419355},{"$f":"IF(Station=\"Saint-Denis\",Données1!H304,Données1!H331)","v":24.47166666666666},{"$f":"IF(Station=\"Saint-Denis\",Données1!I304,Données1!I331)","v":24.316129032258072},{"$f":"IF(Station=\"Saint-Denis\",Données1!J304,Données1!J331)","v":24.781451612903233},{"$f":"IF(Station=\"Saint-Denis\",Données1!K304,Données1!K331)","v":24.929166666666664},{"$f":"IF(Station=\"Saint-Denis\",Données1!L304,Données1!L331)","v":25.371774193548386},{"$f":"IF(Station=\"Saint-Denis\",Données1!M304,Données1!M331)","v":24.580833333333334},{"$f":"IF(Station=\"Saint-Denis\",Données1!N304,Données1!N331)","v":24.763709677419349}]
[null,9,{"$f":"IF(Station=\"Saint-Denis\",Données1!C305,Données1!C332)","v":25.862903225806452},{"$f":"IF(Station=\"Saint-Denis\",Données1!D305,Données1!D332)","v":25.667857142857148},{"$f":"IF(Station=\"Saint-Denis\",Données1!E305,Données1!E332)","v":25.810483870967751},{"$f":"IF(Station=\"Saint-Denis\",Données1!F305,Données1!F332)","v":26.14416666666666},{"$f":"IF(Station=\"Saint-Denis\",Données1!G305,Données1!G332)","v":26.789516129032261},{"$f":"IF(Station=\"Saint-Denis\",Données1!H305,Données1!H332)","v":25.691666666666666},{"$f":"IF(Station=\"Saint-Denis\",Données1!I305,Données1!I332)","v":25.602419354838709},{"$f":"IF(Station=\"Saint-Denis\",Données1!J305,Données1!J332)","v":26.159677419354836},{"$f":"IF(Station=\"Saint-Denis\",Données1!K305,Données1!K332)","v":26.448333333333334},{"$f":"IF(Station=\"Saint-Denis\",Données1!L305,Données1!L332)","v":26.901612903225804},{"$f":"IF(Station=\"Saint-Denis\",Données1!M305,Données1!M332)","v":25.982500000000002},{"$f":"IF(Station=\"Saint-Denis\",Données1!N305,Données1!N332)","v":25.937096774193545}]
[null,10,{"$f":"IF(Station=\"Saint-Denis\",Données1!C306,Données1!C333)","v":26.86451612903226},{"$f":"IF(Station=\"Saint-Denis\",Données1!D306,Données1!D333)","v":26.681250000000002},{"$f":"IF(Station=\"Saint-Denis\",Données1!E306,Données1!E333)","v":26.800000000000008},{"$f":"IF(Station=\"Saint-Denis\",Données1!F306,Données1!F333)","v":27.151666666666667},{"$f":"IF(Station=\"Saint-Denis\",Données1!G306,Données1!G333)","v":27.816935483870978},{"$f":"IF(Station=\"Saint-Denis\",Données1!H306,Données1!H333)","v":26.972500000000004},{"$f":"IF(Station=\"Saint-Denis\",Données1!I306,Données1!I333)","v":26.91935483870968},{"$f":"IF(Station=\"Saint-Denis\",Données1!J306,Données1!J333)","v":27.705645161290331},{"$f":"IF(Station=\"Saint-Denis\",Données1!K306,Données1!K333)","v":28.035833333333333},{"$f":"IF(Station=\"Saint-Denis\",Données1!L306,Données1!L333)","v":28.408064516129034},{"$f":"IF(Station=\"Saint-Denis\",Données1!M306,Données1!M333)","v":27.391666666666666},{"$f":"IF(Station=\"Saint-Denis\",Données1!N306,Données1!N333)","v":27.226612903225806}]
[null,11,{"$f":"IF(Station=\"Saint-Denis\",Données1!C307,Données1!C334)","v":27.883870967741938},{"$f":"IF(Station=\"Saint-Denis\",Données1!D307,Données1!D334)","v":27.69464285714286},{"$f":"IF(Station=\"Saint-Denis\",Données1!E307,Données1!E334)","v":27.736290322580647},{"$f":"IF(Station=\"Saint-Denis\",Données1!F307,Données1!F334)","v":28.175000000000008},{"$f":"IF(Station=\"Saint-Denis\",Données1!G307,Données1!G334)","v":28.845967741935482},{"$f":"IF(Station=\"Saint-Denis\",Données1!H307,Données1!H334)","v":28.147499999999994},{"$f":"IF(Station=\"Saint-Denis\",Données1!I307,Données1!I334)","v":28.305645161290325},{"$f":"IF(Station=\"Saint-Denis\",Données1!J307,Données1!J334)","v":29.151612903225807},{"$f":"IF(Station=\"Saint-Denis\",Données1!K307,Données1!K334)","v":29.50333333333333},{"$f":"IF(Station=\"Saint-Denis\",Données1!L307,Données1!L334)","v":29.859677419354835},{"$f":"IF(Station=\"Saint-Denis\",Données1!M307,Données1!M334)","v":28.714999999999996},{"$f":"IF(Station=\"Saint-Denis\",Données1!N307,Données1!N334)","v":28.352419354838702}]
[null,12,{"$f":"IF(Station=\"Saint-Denis\",Données1!C308,Données1!C335)","v":28.712096774193551},{"$f":"IF(Station=\"Saint-Denis\",Données1!D308,Données1!D335)","v":28.521428571428576},{"$f":"IF(Station=\"Saint-Denis\",Données1!E308,Données1!E335)","v":28.549999999999994},{"$f":"IF(Station=\"Saint-Denis\",Données1!F308,Données1!F335)","v":28.920833333333331},{"$f":"IF(Station=\"Saint-Denis\",Données1!G308,Données1!G335)","v":29.676612903225813},{"$f":"IF(Station=\"Saint-Denis\",Données1!H308,Données1!H335)","v":29.154999999999994},{"$f":"IF(Station=\"Saint-Denis\",Données1!I308,Données1!I335)","v":29.478225806451615},{"$f":"IF(Station=\"Saint-Denis\",Données1!J308,Données1!J335)","v":30.354838709677423},{"$f":"IF(Station=\"Saint-Denis\",Données1!K308,Données1!K335)","v":30.69},{"$f":"IF(Station=\"Saint-Denis\",Données1!L308,Données1!L335)","v":31.06370967741935},{"$f":"IF(Station=\"Saint-Denis\",Données1!M308,Données1!M335)","v":29.837499999999999},{"$f":"IF(Station=\"Saint-Denis\",Données1!N308,Données1!N335)","v":29.304032258064513}]
[null,13,{"$f":"IF(Station=\"Saint-Denis\",Données1!C309,Données1!C336)","v":29.377419354838711},{"$f":"IF(Station=\"Saint-Denis\",Données1!D309,Données1!D336)","v":29.191071428571426},{"$f":"IF(Station=\"Saint-Denis\",Données1!E309,Données1!E336)","v":29.139516129032256},{"$f":"IF(Station=\"Saint-Denis\",Données1!F309,Données1!F336)","v":29.585833333333323},{"$f":"IF(Station=\"Saint-Denis\",Données1!G309,Données1!G336)","v":30.291129032258063},{"$f":"IF(Station=\"Saint-Denis\",Données1!H309,Données1!H336)","v":29.799166666666668},{"$f":"IF(Station=\"Saint-Denis\",Données1!I309,Données1!I336)","v":30.346774193548388},{"$f":"IF(Station=\"Saint-Denis\",Données1!J309,Données1!J336)","v":31.333064516129031},{"$f":"IF(Station=\"Saint-Denis\",Données1!K309,Données1!K336)","v":31.609166666666656},{"$f":"IF(Station=\"Saint-Denis\",Données1!L309,Données1!L336)","v":32.010483870967747},{"$f":"IF(Station=\"Saint-Denis\",Données1!M309,Données1!M336)","v":30.760833333333323},{"$f":"IF(Station=\"Saint-Denis\",Données1!N309,Données1!N336)","v":29.96290322580645}]
[null,14,{"$f":"IF(Station=\"Saint-Denis\",Données1!C310,Données1!C337)","v":29.874193548387098},{"$f":"IF(Station=\"Saint-Denis\",Données1!D310,Données1!D337)","v":29.644642857142856},{"$f":"IF(Station=\"Saint-Denis\",Données1!E310,Données1!E337)","v":29.495967741935484},{"$f":"IF(Station=\"Saint-Denis\",Données1!F310,Données1!F337)","v":30.068333333333335},{"$f":"IF(Station=\"Saint-Denis\",Données1!G310,Données1!G337)","v":30.69596774193548},{"$f":"IF(Station=\"Saint-Denis\",Données1!H310,Données1!H337)","v":30.185833333333324},{"$f":"IF(Station=\"Saint-Denis\",Données1!I310,Données1!I337)","v":30.944354838709678},{"$f":"IF(Station=\"Saint-Denis\",Données1!J310,Données1!J337)","v":31.980645161290326},{"$f":"IF(Station=\"Saint-Denis\",Données1!K310,Données1!K337)","v":32.238333333333337},{"$f":"IF(Station=\"Saint-Denis\",Données1!L310,Données1!L337)","v":32.665322580645167},{"$f":"IF(Station=\"Saint-Denis\",Données1!M310,Données1!M337)","v":31.382499999999997},{"$f":"IF(Station=\"Saint-Denis\",Données1!N310,Données1!N337)","v":30.539516129032265}]
[null,15,{"$f":"IF(Station=\"Saint-Denis\",Données1!C311,Données1!C338)","v":30.076612903225804},{"$f":"IF(Station=\"Saint-Denis\",Données1!D311,Données1!D338)","v":29.836607142857137},{"$f":"IF(Station=\"Saint-Denis\",Données1!E311,Données1!E338)","v":29.6991935483871},{"$f":"IF(Station=\"Saint-Denis\",Données1!F311,Données1!F338)","v":30.273333333333333},{"$f":"IF(Station=\"Saint-Denis\",Données1!G311,Données1!G338)","v":30.839516129032251},{"$f":"IF(Station=\"Saint-Denis\",Données1!H311,Données1!H338)","v":30.422499999999999},{"$f":"IF(Station=\"Saint-Denis\",Données1!I311,Données1!I338)","v":31.3991935483871},{"$f":"IF(Station=\"Saint-Denis\",Données1!J311,Données1!J338)","v":32.281451612903226},{"$f":"IF(Station=\"Saint-Denis\",Données1!K311,Données1!K338)","v":32.546666666666667},{"$f":"IF(Station=\"Saint-Denis\",Données1!L311,Données1!L338)","v":32.991129032258065},{"$f":"IF(Station=\"Saint-Denis\",Données1!M311,Données1!M338)","v":31.639166666666664},{"$f":"IF(Station=\"Saint-Denis\",Données1!N311,Données1!N338)","v":30.920967741935478}]
[null,16,{"$f":"IF(Station=\"Saint-Denis\",Données1!C312,Données1!C339)","v":30.067741935483877},{"$f":"IF(Station=\"Saint-Denis\",Données1!D312,Données1!D339)","v":29.902678571428563},{"$f":"IF(Station=\"Saint-Denis\",Données1!E312,Données1!E339)","v":29.821774193548389},{"$f":"IF(Station=\"Saint-Denis\",Données1!F312,Données1!F339)","v":30.331666666666663},{"$f":"IF(Station=\"Saint-Denis\",Données1!G312,Données1!G339)","v":30.79032258064516},{"$f":"IF(Station=\"Saint-Denis\",Données1!H312,Données1!H339)","v":30.415833333333339},{"$f":"IF(Station=\"Saint-Denis\",Données1!I312,Données1!I339)","v":31.436290322580643},{"$f":"IF(Station=\"Saint-Denis\",Données1!J312,Données1!J339)","v":32.291935483870972},{"$f":"IF(Station=\"Saint-Denis\",Données1!K312,Données1!K339)","v":32.523333333333333},{"$f":"IF(Station=\"Saint-Denis\",Données1!L312,Données1!L339)","v":32.954838709677418},{"$f":"IF(Station=\"Saint-Denis\",Données1!M312,Données1!M339)","v":31.55},{"$f":"IF(Station=\"Saint-Denis\",Données1!N312,Données1!N339)","v":30.951612903225808}]
[null,17,{"$f":"IF(Station=\"Saint-Denis\",Données1!C313,Données1!C340)","v":29.754838709677415},{"$f":"IF(Station=\"Saint-Denis\",Données1!D313,Données1!D340)","v":29.691964285714288},{"$f":"IF(Station=\"Saint-Denis\",Données1!E313,Données1!E340)","v":29.688709677419347},{"$f":"IF(Station=\"Saint-Denis\",Données1!F313,Données1!F340)","v":30.097500000000004},{"$f":"IF(Station=\"Saint-Denis\",Données1!G313,Données1!G340)","v":30.537903225806453},{"$f":"IF(Station=\"Saint-Denis\",Données1!H313,Données1!H340)","v":30.074166666666663},{"$f":"IF(Station=\"Saint-Denis\",Données1!I313,Données1!I340)","v":31.103225806451615},{"$f":"IF(Station=\"Saint-Denis\",Données1!J313,Données1!J340)","v":31.837096774193551},{"$f":"IF(Station=\"Saint-Denis\",Données1!K313,Données1!K340)","v":32.046666666666667},{"$f":"IF(Station=\"Saint-Denis\",Données1!L313,Données1!L340)","v":32.431451612903224},{"$f":"IF(Station=\"Saint-Denis\",Données1!M313,Données1!M340)","v":31.109166666666667},{"$f":"IF(Station=\"Saint-Denis\",Données1!N313,Données1!N340)","v":30.543548387096774}]
[null,18,{"$f":"IF(Station=\"Saint-Denis\",Données1!C314,Données1!C341)","v":29.212096774193544},{"$f":"IF(Station=\"Saint-Denis\",Données1!D314,Données1!D341)","v":29.213392857142857},{"$f":"IF(Station=\"Saint-Denis\",Données1!E314,Données1!E341)","v":29.255645161290325},{"$f":"IF(Station=\"Saint-Denis\",Données1!F314,Données1!F341)","v":29.564166666666672},{"$f":"IF(Station=\"Saint-Denis\",Données1!G314,Données1!G341)","v":29.967741935483872},{"$f":"IF(Station=\"Saint-Denis\",Données1!H314,Données1!H341)","v":29.47166666666666},{"$f":"IF(Station=\"Saint-Denis\",Données1!I314,Données1!I341)","v":30.460483870967742},{"$f":"IF(Station=\"Saint-Denis\",Données1!J314,Données1!J341)","v":31.056451612903224},{"$f":"IF(Station=\"Saint-Denis\",Données1!K314,Données1!K341)","v":31.176666666666666},{"$f":"IF(Station=\"Saint-Denis\",Données1!L314,Données1!L341)","v":31.493548387096777},{"$f":"IF(Station=\"Saint-Denis\",Données1!M314,Données1!M341)","v":30.291666666666661},{"$f":"IF(Station=\"Saint-Denis\",Données1!N314,Données1!N341)","v":29.771774193548392}]
[null,19,{"$f":"IF(Station=\"Saint-Denis\",Données1!C315,Données1!C342)","v":28.522580645161291},{"$f":"IF(Station=\"Saint-Denis\",Données1!D315,Données1!D342)","v":28.620535714285715},{"$f":"IF(Station=\"Saint-Denis\",Données1!E315,Données1!E342)","v":28.630645161290325},{"$f":"IF(Station=\"Saint-Denis\",Données1!F315,Données1!F342)","v":28.910833333333333},{"$f":"IF(Station=\"Saint-Denis\",Données1!G315,Données1!G342)","v":29.283064516129031},{"$f":"IF(Station=\"Saint-Denis\",Données1!H315,Données1!H342)","v":28.596666666666668},{"$f":"IF(Station=\"Saint-Denis\",Données1!I315,Données1!I342)","v":29.506451612903227},{"$f":"IF(Station=\"Saint-Denis\",Données1!J315,Données1!J342)","v":30.100000000000009},{"$f":"IF(Station=\"Saint-Denis\",Données1!K315,Données1!K342)","v":30.104166666666664},{"$f":"IF(Station=\"Saint-Denis\",Données1!L315,Données1!L342)","v":30.410483870967742},{"$f":"IF(Station=\"Saint-Denis\",Données1!M315,Données1!M342)","v":29.318333333333339},{"$f":"IF(Station=\"Saint-Denis\",Données1!N315,Données1!N342)","v":29.006451612903231}]
[null,20,{"$f":"IF(Station=\"Saint-Denis\",Données1!C316,Données1!C343)","v":27.995967741935491},{"$f":"IF(Station=\"Saint-Denis\",Données1!D316,Données1!D343)","v":28.082142857142859},{"$f":"IF(Station=\"Saint-Denis\",Données1!E316,Données1!E343)","v":28.179032258064517},{"$f":"IF(Station=\"Saint-Denis\",Données1!F316,Données1!F343)","v":28.295833333333341},{"$f":"IF(Station=\"Saint-Denis\",Données1!G316,Données1!G343)","v":28.72983870967742},{"$f":"IF(Station=\"Saint-Denis\",Données1!H316,Données1!H343)","v":27.942499999999999},{"$f":"IF(Station=\"Saint-Denis\",Données1!I316,Données1!I343)","v":28.779032258064518},{"$f":"IF(Station=\"Saint-Denis\",Données1!J316,Données1!J343)","v":29.336290322580645},{"$f":"IF(Station=\"Saint-Denis\",Données1!K316,Données1!K343)","v":29.286666666666676},{"$f":"IF(Station=\"Saint-Denis\",Données1!L316,Données1!L343)","v":29.625},{"$f":"IF(Station=\"Saint-Denis\",Données1!M316,Données1!M343)","v":28.6},{"$f":"IF(Station=\"Saint-Denis\",Données1!N316,Données1!N343)","v":28.418548387096774}]
[null,21,{"$f":"IF(Station=\"Saint-Denis\",Données1!C317,Données1!C344)","v":27.544354838709666},{"$f":"IF(Station=\"Saint-Denis\",Données1!D317,Données1!D344)","v":27.648214285714278},{"$f":"IF(Station=\"Saint-Denis\",Données1!E317,Données1!E344)","v":27.735483870967741},{"$f":"IF(Station=\"Saint-Denis\",Données1!F317,Données1!F344)","v":27.894166666666671},{"$f":"IF(Station=\"Saint-Denis\",Données1!G317,Données1!G344)","v":28.250000000000007},{"$f":"IF(Station=\"Saint-Denis\",Données1!H317,Données1!H344)","v":27.363333333333333},{"$f":"IF(Station=\"Saint-Denis\",Données1!I317,Données1!I344)","v":28.102419354838709},{"$f":"IF(Station=\"Saint-Denis\",Données1!J317,Données1!J344)","v":28.656451612903226},{"$f":"IF(Station=\"Saint-Denis\",Données1!K317,Données1!K344)","v":28.571666666666662},{"$f":"IF(Station=\"Saint-Denis\",Données1!L317,Données1!L344)","v":28.91532258064516},{"$f":"IF(Station=\"Saint-Denis\",Données1!M317,Données1!M344)","v":27.948333333333331},{"$f":"IF(Station=\"Saint-Denis\",Données1!N317,Données1!N344)","v":27.848387096774193}]
[null,22,{"$f":"IF(Station=\"Saint-Denis\",Données1!C318,Données1!C345)","v":27.139516129032259},{"$f":"IF(Station=\"Saint-Denis\",Données1!D318,Données1!D345)","v":27.206250000000001},{"$f":"IF(Station=\"Saint-Denis\",Données1!E318,Données1!E345)","v":27.22983870967742},{"$f":"IF(Station=\"Saint-Denis\",Données1!F318,Données1!F345)","v":27.3825},{"$f":"IF(Station=\"Saint-Denis\",Données1!G318,Données1!G345)","v":27.798387096774189},{"$f":"IF(Station=\"Saint-Denis\",Données1!H318,Données1!H345)","v":26.791666666666668},{"$f":"IF(Station=\"Saint-Denis\",Données1!I318,Données1!I345)","v":27.411290322580648},{"$f":"IF(Station=\"Saint-Denis\",Données1!J318,Données1!J345)","v":27.96935483870968},{"$f":"IF(Station=\"Saint-Denis\",Données1!K318,Données1!K345)","v":27.843333333333323},{"$f":"IF(Station=\"Saint-Denis\",Données1!L318,Données1!L345)","v":28.215322580645168},{"$f":"IF(Station=\"Saint-Denis\",Données1!M318,Données1!M345)","v":27.31583333333333},{"$f":"IF(Station=\"Saint-Denis\",Données1!N318,Données1!N345)","v":27.277419354838713}]
[null,23,{"$f":"IF(Station=\"Saint-Denis\",Données1!C319,Données1!C346)","v":26.688709677419357},{"$f":"IF(Station=\"Saint-Denis\",Données1!D319,Données1!D346)","v":26.723214285714285},{"$f":"IF(Station=\"Saint-Denis\",Données1!E319,Données1!E346)","v":26.814516129032263},{"$f":"IF(Station=\"Saint-Denis\",Données1!F319,Données1!F346)","v":26.85},{"$f":"IF(Station=\"Saint-Denis\",Données1!G319,Données1!G346)","v":27.290322580645157},{"$f":"IF(Station=\"Saint-Denis\",Données1!H319,Données1!H346)","v":26.180000000000007},{"$f":"IF(Station=\"Saint-Denis\",Données1!I319,Données1!I346)","v":26.742741935483874},{"$f":"IF(Station=\"Saint-Denis\",Données1!J319,Données1!J346)","v":27.28387096774193},{"$f":"IF(Station=\"Saint-Denis\",Données1!K319,Données1!K346)","v":27.122500000000002},{"$f":"IF(Station=\"Saint-Denis\",Données1!L319,Données1!L346)","v":27.51693548387097},{"$f":"IF(Station=\"Saint-Denis\",Données1!M319,Données1!M346)","v":26.667500000000004},{"$f":"IF(Station=\"Saint-Denis\",Données1!N319,Données1!N346)","v":26.661290322580644}]
[]
[null,"Tint","Janvier","Février","Mars","Avril","Mai","Juin","Juillet","Août","Septembre","Octobre","Novembre","Décembre"]
[null,0,{"$f":"IF($B213<C$241,C$247+C$248+C$245*SIN($F$183*$B213+$C$243),C$247+C$248+C$246*SIN($F$183*$B213+$C$243))","v":29.736046256503421},{"$f":"IF($B213<D$241,D$247+D$248+D$245*SIN($F$183*$B213+$C$243),D$247+D$248+D$246*SIN($F$183*$B213+$C$243))","v":29.728408912860626},29.844762802054891,30.068718240468144,30.477865194221767,29.599111371191462,30.174869804576499,30.964944154524002,31.20128621302382,31.526320343535641,30.511893712219482,30.012341927594679,1]
[null,1,29.085145303026252,29.078209525216561,29.202955758258547,29.367508192263848,29.784789466570654,28.743292932883474,29.198618216004078,29.979224250108231,30.171042205098754,30.479206148603097,29.543009882249713,29.200196720124417,1]
[null,2,28.512688938626201,28.506370176084445,28.638497333401002,28.750805831126669,29.17524110259059,27.99061511122239,28.34002147843832,29.112300289121276,29.264960049171471,29.558286948929823,28.690892963588688,28.485928765300077,1]
[null,3,28.057689118508261,28.051860772098419,28.189854436324641,28.260638403819257,28.690759815960512,27.392371655895495,27.657591540646127,28.423251706844805,28.54478774679685,28.826321866082608,28.013613316053362,27.918214243859335,1]
[null,4,27.751153328490716,27.745655378027834,27.88760133904778,27.930410010472649,28.364362205721076,26.989331869739274,27.197834875119252,27.959036025454346,28.059603850240723,28.333193110828006,27.557326428365734,27.535741962245766,1]
[null,5,27.613971476088917,27.608621385450256,27.752336090652975,27.782625170365183,28.218291729612549,26.808962248125525,26.992083138829528,27.751288776483964,27.842472840249091,28.112506592902811,27.353127497871981,27.364576774386013,1]
[null,6,27.655492277840317,27.65009743450047,27.793276794281937,27.827355176124193,28.262502849188849,26.863554682692339,27.054357972584285,27.814167591632437,27.908191836326921,28.179301733801914,27.414932344230561,27.416383304968861,1]
[null,7,27.872886159721926,27.867257000978114,28.007633408640071,28.061551751777031,28.493982649713185,27.149388789242245,27.380415449377161,28.143387383559546,28.252282197497291,28.529026555057236,27.738529069299478,27.687631024549436,1]
[null,8,28.251338087943886,28.245301019300889,28.380797884699916,28.469254787721098,28.896956165318279,27.646985445777062,27.948035291000185,28.716512367506891,28.851294734282639,29.137847888047808,28.301865091034156,28.15983484929637,1]
[null,9,28.765057189019259,28.758466414367376,28.887339680101455,29.022679995817928,29.443961416860862,28.322434262471305,28.718535143282882,29.494485022952279,29.664407732216077,29.964275565055161,29.066549990510175,28.800814868906876,1]
[null,10,{"$f":"IF($B223<C$241,C$247+C$248+C$245*SIN($F$183*$B223+$C$243),C$247+C$248+C$246*SIN($F$183*$B223+$C$243))","v":29.379034355170706},{"$f":"IF($B223<D$241,D$247+D$248+D$245*SIN($F$183*$B223+$C$243),D$247+D$248+D$246*SIN($F$183*$B223+$C$243))","v":29.37178181254971},29.492738808587969,29.684112362714117,30.097720900417229,29.129704518699203,29.6394067146034,30.424287799087708,30.63620888422119,30.951989905627542,29.980471755529781,29.566889354314068,1]
[null,11,30.051428057170256,30.043450783013377,30.155738320022461,30.408476365674368,30.813681987571648,30.013782080576,30.647894129188472,31.442556173291287,31.700471547766181,32.033679809730074,30.981348128134027,30.405851595335388,1]
[null,12,30.73641577540976,30.727700195406737,30.831155893359171,31.146407794965043,31.543053113416175,30.92389257194991,31.675270636338372,32.479896838629095,32.78466798110766,33.135629897975257,32.000971037556333,31.260527701695889,1]
[null,13,31.510794478438413,31.454887152742124,31.516662760340441,31.907583221192692,32.313552568205026,31.792039789182923,32.712966824782924,33.613283889672445,33.950320624092583,34.335384485406252,33.079994116613634,32.219104101198603,1]
[null,14,32.144658627505166,32.065013854201197,32.102853921191802,32.554107481696285,32.961605193733732,32.555560563098432,33.602121106291499,34.553645473027728,34.923744016266653,35.332214595247827,33.986885335226567,33.006195015151043,1]
[null,15,32.64846658867063,32.549954815079452,32.568770433486364,33.067977953796486,33.476690441063532,33.162422214731833,34.308838793966252,35.301063753058365,35.697440486218511,36.124515194685479,34.707700696879286,33.631790687652916,1]
[null,16,32.987884681963401,32.876662110295854,32.882660856874693,33.414175214030777,33.823706101807524,33.571268125410612,34.784958245298341,35.804603409147369,36.218683898114818,36.658292307206189,35.193317825878871,34.053257807468938,1]
[null,17,33.139782125240494,33.022871177590744,33.023134077731321,33.569106491232205,33.979003632156491,33.754236121971807,34.998032706504077,36.0299490458709,36.451952374830299,36.897169904700057,35.410642717404237,34.241874086891009,1]
[null,18,33.09380735876497,32.978618110649883,32.980617078197845,33.522213474895544,33.93199976205846,33.6988572378187,34.933541505174496,35.961743730487527,36.381349055171185,36.824868873661764,35.344865039244304,34.184785638179648,1]
[null,19,32.85309348689524,32.746918682853639,32.75800732152981,33.276691846589756,33.685897727583047,33.408905452388382,34.595879610103452,35.604635542526005,36.011685438694734,36.446316409873468,35.000467431462916,33.885882944771403,1]
[null,20,32.434044762200749,32.343562827304922,32.37047529476412,32.849273499540203,33.2574689756769,32.904140500689955,34.008058121427375,34.982960814846741,35.368153489965806,35.787310238154816,34.400920021886421,33.365535731262007,1]
[null,21,31.865218662758664,31.796038578982298,31.844430665097907,32.269086287756103,32.675910217770436,32.218961280018135,33.210136102178588,34.139085652774995,34.494608847803455,34.892760540049245,33.587080975678504,32.659204800337683,1]
[null,22,31.185379747216395,31.141658810582371,31.215722504713074,31.575669010915853,31.980853722143706,31.400061621949522,32.256490619340433,33.130518754036345,33.450582135970272,33.823629399169391,32.614412078905644,31.815025437673885,1]
[null,23,30.440857914181201,30.425018421907872,30.527196235750473,30.816276910509856,31.219666440338482,30.503248184885798,31.212111036594635,32.025992286044186,32.307222049541956,32.652776335943429,31.549199109471534,30.890527071763774,1]
[null,null,2,3,4,5,6,7,8,9,10,11,12,13]
[null,"Heure","Janvier","Février","Mars","Avril","Mai","Juin","Juillet","Août","Septembre","Octobre","Novembre","Décembre"]
[null,"NI",{"$f":"IF(Station=\"Saint-Denis\",VLOOKUP(Hypothèses!$J$19,Données1!$AX$297:$BJ$299,C$237,FALSE),VLOOKUP(Hypothèses!$J$19,Données1!$AX$304:$BJ$306,C$237,FALSE))","v":12.375092964591706},{"$f":"IF(Station=\"Saint-Denis\",VLOOKUP(Hypothèses!$J$19,Données1!$AX$297:$BJ$299,D$237,FALSE),VLOOKUP(Hypothèses!$J$19,Données1!$AX$304:$BJ$306,D$237,FALSE))","v":12.453972745062664},{"$f":"IF(Station=\"Saint-Denis\",VLOOKUP(Hypothèses!$J$19,Données1!$AX$297:$BJ$299,E$237,FALSE),VLOOKUP(Hypothèses!$J$19,Données1!$AX$304:$BJ$306,E$237,FALSE))","v":12.430009719984522},{"$f":"IF(Station=\"Saint-Denis\",VLOOKUP(Hypothèses!$J$19,Données1!$AX$297:$BJ$299,F$237,FALSE),VLOOKUP(Hypothèses!$J$19,Données1!$AX$304:$BJ$306,F$237,FALSE))","v":12.485343511690688},{"$f":"IF(Station=\"Saint-Denis\",VLOOKUP(Hypothèses!$J$19,Données1!$AX$297:$BJ$299,G$237,FALSE),VLOOKUP(Hypothèses!$J$19,Données1!$AX$304:$BJ$306,G$237,FALSE))","v":12.149046460880442},{"$f":"IF(Station=\"Saint-Denis\",VLOOKUP(Hypothèses!$J$19,Données1!$AX$297:$BJ$299,H$237,FALSE),VLOOKUP(Hypothèses!$J$19,Données1!$AX$304:$BJ$306,H$237,FALSE))","v":12.003176512301062},{"$f":"IF(Station=\"Saint-Denis\",VLOOKUP(Hypothèses!$J$19,Données1!$AX$297:$BJ$299,I$237,FALSE),VLOOKUP(Hypothèses!$J$19,Données1!$AX$304:$BJ$306,I$237,FALSE))","v":12.392216268732342},{"$f":"IF(Station=\"Saint-Denis\",VLOOKUP(Hypothèses!$J$19,Données1!$AX$297:$BJ$299,J$237,FALSE),VLOOKUP(Hypothèses!$J$19,Données1!$AX$304:$BJ$306,J$237,FALSE))","v":12.263554863844151},{"$f":"IF(Station=\"Saint-Denis\",VLOOKUP(Hypothèses!$J$19,Données1!$AX$297:$BJ$299,K$237,FALSE),VLOOKUP(Hypothèses!$J$19,Données1!$AX$304:$BJ$306,K$237,FALSE))","v":12.202509739194214},{"$f":"IF(Station=\"Saint-Denis\",VLOOKUP(Hypothèses!$J$19,Données1!$AX$297:$BJ$299,L$237,FALSE),VLOOKUP(Hypothèses!$J$19,Données1!$AX$304:$BJ$306,L$237,FALSE))","v":12.214668236867599},{"$f":"IF(Station=\"Saint-Denis\",VLOOKUP(Hypothèses!$J$19,Données1!$AX$297:$BJ$299,M$237,FALSE),VLOOKUP(Hypothèses!$J$19,Données1!$AX$304:$BJ$306,M$237,FALSE))","v":12.299511082087321},{"$f":"IF(Station=\"Saint-Denis\",VLOOKUP(Hypothèses!$J$19,Données1!$AX$297:$BJ$299,N$237,FALSE),VLOOKUP(Hypothèses!$J$19,Données1!$AX$304:$BJ$306,N$237,FALSE))","v":12.322982173025494}]
[null,"ISO",{"$f":"IF(Station=\"Saint-Denis\",VLOOKUP(Hypothèses!$J$19,Données1!$AX$300:$BJ$303,C$237,FALSE),VLOOKUP(Hypothèses!$J$19,Données1!$AX$307:$BJ$309,C$237,FALSE))","v":12.25457554919439},{"$f":"IF(Station=\"Saint-Denis\",VLOOKUP(Hypothèses!$J$19,Données1!$AX$300:$BJ$303,D$237,FALSE),VLOOKUP(Hypothèses!$J$19,Données1!$AX$307:$BJ$309,D$237,FALSE))","v":12.455311192801197},{"$f":"IF(Station=\"Saint-Denis\",VLOOKUP(Hypothèses!$J$19,Données1!$AX$300:$BJ$303,E$237,FALSE),VLOOKUP(Hypothèses!$J$19,Données1!$AX$307:$BJ$309,E$237,FALSE))","v":12.367768563972371},{"$f":"IF(Station=\"Saint-Denis\",VLOOKUP(Hypothèses!$J$19,Données1!$AX$300:$BJ$303,F$237,FALSE),VLOOKUP(Hypothèses!$J$19,Données1!$AX$307:$BJ$309,F$237,FALSE))","v":12.497822491315942},{"$f":"IF(Station=\"Saint-Denis\",VLOOKUP(Hypothèses!$J$19,Données1!$AX$300:$BJ$303,G$237,FALSE),VLOOKUP(Hypothèses!$J$19,Données1!$AX$307:$BJ$309,G$237,FALSE))","v":12.030939117054372},{"$f":"IF(Station=\"Saint-Denis\",VLOOKUP(Hypothèses!$J$19,Données1!$AX$300:$BJ$303,H$237,FALSE),VLOOKUP(Hypothèses!$J$19,Données1!$AX$307:$BJ$309,H$237,FALSE))","v":11.941338187992272},{"$f":"IF(Station=\"Saint-Denis\",VLOOKUP(Hypothèses!$J$19,Données1!$AX$300:$BJ$303,I$237,FALSE),VLOOKUP(Hypothèses!$J$19,Données1!$AX$307:$BJ$309,I$237,FALSE))","v":12.317887768490914},{"$f":"IF(Station=\"Saint-Denis\",VLOOKUP(Hypothèses!$J$19,Données1!$AX$300:$BJ$303,J$237,FALSE),VLOOKUP(Hypothèses!$J$19,Données1!$AX$307:$BJ$309,J$237,FALSE))","v":12.156009086908291},{"$f":"IF(Station=\"Saint-Denis\",VLOOKUP(Hypothèses!$J$19,Données1!$AX$300:$BJ$303,K$237,FALSE),VLOOKUP(Hypothèses!$J$19,Données1!$AX$307:$BJ$309,K$237,FALSE))","v":12.045750517040533},{"$f":"IF(Station=\"Saint-Denis\",VLOOKUP(Hypothèses!$J$19,Données1!$AX$300:$BJ$303,L$237,FALSE),VLOOKUP(Hypothèses!$J$19,Données1!$AX$307:$BJ$309,L$237,FALSE))","v":12.114110853504085},{"$f":"IF(Station=\"Saint-Denis\",VLOOKUP(Hypothèses!$J$19,Données1!$AX$300:$BJ$303,M$237,FALSE),VLOOKUP(Hypothèses!$J$19,Données1!$AX$307:$BJ$309,M$237,FALSE))","v":12.2639874818843},{"$f":"IF(Station=\"Saint-Denis\",VLOOKUP(Hypothèses!$J$19,Données1!$AX$300:$BJ$303,N$237,FALSE),VLOOKUP(Hypothèses!$J$19,Données1!$AX$307:$BJ$309,N$237,FALSE))","v":12.346566274854219}]
[null,"Heure de dépassement (extrapolation)",{"$f":"C239*Données1!$E$190+C240*Données1!$F$190","v":12.268749188261074},{"$f":"D239*Données1!$E$190+D240*Données1!$F$190","v":12.455153782562244},{"$f":"E239*Données1!$E$190+E240*Données1!$F$190","v":12.375088532439177},{"$f":"F239*Données1!$E$190+F240*Données1!$F$190","v":12.496354881406239},{"$f":"G239*Données1!$E$190+G240*Données1!$F$190","v":12.044829315885773},{"$f":"H239*Données1!$E$190+H240*Données1!$F$190","v":11.948610780806778},{"$f":"I239*Données1!$E$190+I240*Données1!$F$190","v":12.326629287974358},{"$f":"J239*Données1!$E$190+J240*Données1!$F$190","v":12.168657176152568},{"$f":"K239*Données1!$E$190+K240*Données1!$F$190","v":12.064186430454834},{"$f":"L239*Données1!$E$190+L240*Données1!$F$190","v":12.125937061795938},{"$f":"M239*Données1!$E$190+M240*Données1!$F$190","v":12.268165290427296},{"$f":"N239*Données1!$E$190+N240*Données1!$F$190","v":12.343792629684925}]
[null,"Déphasage phi HEURE",{"$f":"(2*PI()/$F$183)-C241+1","v":12.731250811738926},{"$f":"(2*PI()/$F$183)-D239+1","v":12.546027254937336},12.569990280015478,12.514656488309312,12.850953539119558,12.996823487698938,12.607783731267658,12.736445136155849,12.797490260805786,12.785331763132401,12.700488917912679,12.677017826974506]
[null,"Déphasage phi Sinus",{"$f":"C242*$F$183","v":3.3330336684306747},{"$f":"D242*$F$183","v":3.2845422546540375},3.2908157599493109,3.2763294071560307,3.3643717691768127,3.4025604324131877,3.3007100623499483,3.3343935393830555,3.3503751156445314,3.3471920283970822,3.3249802234594208,3.3188355062208292]
[]
[null,"Amin",{"$f":"AVERAGE(C187:C210)-MIN(C187:C210)","v":2.6287634408602081},{"$f":"AVERAGE(D187:D210)-MIN(D187:D210)","v":2.6259300595238102},2.5920362903225822,2.8319444444444528,2.7990927419354747,3.4563541666666602,3.9427419354838769,3.9809811827956914,4.1607986111111117,4.2289314516129082,3.9129861111111133,3.2799731182795639]
[null,"Amax",{"$f":"MAX(C187:C210)-AVERAGE(C187:C210)","v":2.910752688172046},2.8017485119047549,2.691834677419358,2.9688888888888805,2.9759072580645132,3.5061458333333384,4.0830645161290278,4.3182123655914033,4.4700347222222234,4.5775201612903267,4.1645138888888837,3.6143817204301136]
[null,"Textmoy",{"$f":"AVERAGE(C187:C210)","v":27.165860215053758},{"$f":"AVERAGE(D187:D210)","v":27.100930059523808},27.129939516129031,27.362777777777783,27.863608870967738,26.916354166666661,27.353225806451615,27.973723118279569,28.076631944444443,28.413608870967739,27.474652777777781,27.337231182795694]
[null,"Surchauffe",{"$f":"I169","v":3.070370800902833},{"$f":"I170","v":3.1271244946098746},{"$f":"I171","v":3.2080198315779995},{"$f":"I172","v":3.2447852399388091},{"$f":"I173","v":3.146850282851231},{"$f":"I174","v":3.3404107805625913},{"$f":"I175","v":3.5718444140058212},{"$f":"I176","v":3.7486973782969795},{"$f":"I177","v":3.916345152621298},{"$f":"I178","v":3.9173662497877086},{"$f":"I179","v":3.7817795971101265},{"$f":"I180","v":3.299203631849589}]
[null,"Nb d'heures > Tmax",{"$f":"SUMIF(C213:C236,\">\"&Hypothèses!$J$31,Calculs!$O$213:$O$236)*VMOIS(C238)","v":403},{"$f":"SUMIF(D213:D236,\">\"&Hypothèses!$J$31,Calculs!$O$213:$O$236)*VMOIS(D238)","v":364},{"$f":"SUMIF(E213:E236,\">\"&Hypothèses!$J$31,Calculs!$O$213:$O$236)*VMOIS(E238)","v":403},{"$f":"SUMIF(F213:F236,\">\"&Hypothèses!$J$31,Calculs!$O$213:$O$236)*VMOIS(F238)","v":420},{"$f":"SUMIF(G213:G236,\">\"&Hypothèses!$J$31,Calculs!$O$213:$O$236)*VMOIS(G238)","v":465},{"$f":"SUMIF(H213:H236,\">\"&Hypothèses!$J$31,Calculs!$O$213:$O$236)*VMOIS(H238)","v":390},{"$f":"SUMIF(I213:I236,\">\"&Hypothèses!$J$31,Calculs!$O$213:$O$236)*VMOIS(I238)","v":434},{"$f":"SUMIF(J213:J236,\">\"&Hypothèses!$J$31,Calculs!$O$213:$O$236)*VMOIS(J238)","v":465},{"$f":"SUMIF(K213:K236,\">\"&Hypothèses!$J$31,Calculs!$O$213:$O$236)*VMOIS(K238)","v":480},{"$f":"SUMIF(L213:L236,\">\"&Hypothèses!$J$31,Calculs!$O$213:$O$236)*VMOIS(L238)","v":496},{"$f":"SUMIF(M213:M236,\">\"&Hypothèses!$J$31,Calculs!$O$213:$O$236)*VMOIS(M238)","v":420},{"$f":"SUMIF(N213:N236,\">\"&Hypothèses!$J$31,Calculs!$O$213:$O$236)*VMOIS(N238)","v":434}]
[null,"Heure 1",{"$f":"HeureX(C$213:C$236,Hypothèses!$J$31,1)","v":11},{"$f":"HeureX(D$213:D$236,Hypothèses!$J$31,1)","v":11},{"$f":"HeureX(E$213:E$236,Hypothèses!$J$31,1)","v":11},{"$f":"HeureX(F$213:F$236,Hypothèses!$J$31,1)","v":11},{"$f":"HeureX(G$213:G$236,Hypothèses!$J$31,1)","v":10},{"$f":"HeureX(H$213:H$236,Hypothèses!$J$31,1)","v":11},{"$f":"HeureX(I$213:I$236,Hypothèses!$J$31,1)","v":11},{"$f":"HeureX(J$213:J$236,Hypothèses!$J$31,1)","v":10},{"$f":"HeureX(K$213:K$236,Hypothèses!$J$31,1)","v":10},{"$f":"HeureX(L$213:L$236,Hypothèses!$J$31,1)","v":10},{"$f":"HeureX(M$213:M$236,Hypothèses!$J$31,1)","v":11},{"$f":"HeureX(N$213:N$236,Hypothèses!$J$31,1)","v":11}]
[null,"Heure 2",{"$f":"HeureX(C$213:C$236,Hypothèses!$J$31,2)","v":23},{"$f":"HeureX(D$213:D$236,Hypothèses!$J$31,2)","v":23},{"$f":"HeureX(E$213:E$236,Hypothèses!$J$31,2)","v":23},{"$f":"HeureX(F$213:F$236,Hypothèses!$J$31,2)","v":23},{"$f":"HeureX(G$213:G$236,Hypothèses!$J$31,2)","v":23},{"$f":"HeureX(H$213:H$236,Hypothèses!$J$31,2)","v":23},{"$f":"HeureX(I$213:I$236,Hypothèses!$J$31,2)","v":23},{"$f":"HeureX(J$213:J$236,Hypothèses!$J$31,2)","v":23},{"$f":"HeureX(K$213:K$236,Hypothèses!$J$31,2)","v":23},{"$f":"HeureX(L$213:L$236,Hypothèses!$J$31,2)","v":23},{"$f":"HeureX(M$213:M$236,Hypothèses!$J$31,2)","v":23},{"$f":"HeureX(N$213:N$236,Hypothèses!$J$31,2)","v":23}]
[null,"Heure 1",{"$f":"HeureX(C$213:C$236,Hypothèses!$J$31,3)","v":0},{"$f":"HeureX(D$213:D$236,Hypothèses!$J$31,3)","v":0},{"$f":"HeureX(E$213:E$236,Hypothèses!$J$31,3)","v":0},{"$f":"HeureX(F$213:F$236,Hypothèses!$J$31,3)","v":1},{"$f":"HeureX(G$213:G$236,Hypothèses!$J$31,3)","v":1},{"$f":"HeureX(H$213:H$236,Hypothèses!$J$31,3)","v":0},{"$f":"HeureX(I$213:I$236,Hypothèses!$J$31,3)","v":1},{"$f":"HeureX(J$213:J$236,Hypothèses!$J$31,3)","v":1},{"$f":"HeureX(K$213:K$236,Hypothèses!$J$31,3)","v":2},{"$f":"HeureX(L$213:L$236,Hypothèses!$J$31,3)","v":2},{"$f":"HeureX(M$213:M$236,Hypothèses!$J$31,3)","v":1},{"$f":"HeureX(N$213:N$236,Hypothèses!$J$31,3)","v":1}]
[null,"Heure 2",{"$f":"HeureX(C$213:C$236,Hypothèses!$J$31,4)","v":50},{"$f":"HeureX(D$213:D$236,Hypothèses!$J$31,4)","v":50},{"$f":"HeureX(E$213:E$236,Hypothèses!$J$31,4)","v":50},{"$f":"HeureX(F$213:F$236,Hypothèses!$J$31,4)","v":0},{"$f":"HeureX(G$213:G$236,Hypothèses!$J$31,4)","v":0},{"$f":"HeureX(H$213:H$236,Hypothèses!$J$31,4)","v":50},{"$f":"HeureX(I$213:I$236,Hypothèses!$J$31,4)","v":0},{"$f":"HeureX(J$213:J$236,Hypothèses!$J$31,4)","v":0},{"$f":"HeureX(K$213:K$236,Hypothèses!$J$31,4)","v":0},{"$f":"HeureX(L$213:L$236,Hypothèses!$J$31,4)","v":0},{"$f":"HeureX(M$213:M$236,Hypothèses!$J$31,4)","v":0},{"$f":"HeureX(N$213:N$236,Hypothèses!$J$31,4)","v":0}]
[null,"Minuit",{"$f":"C251 & \"h\"","v":"23h"},{"$f":"IF(D251=0,\"Minuit\",D251 & \"h\")","v":"23h"},"23h","23h","23h","23h","23h","23h","23h","23h","23h","23h"]
[null,"Plage horaire",{"$f":"IF(AND(C250=0,C251=23,C252=0,C253=0),\"Permanent\",IF(AND(C250=0,C251=23,C252=50,C253=0),\"\",IF(C252=0,C250 & \"h-\" & C251 & \"h\",C250 & \"h-\" & C252-1 & \"h\")))","v":"11h-23h"},{"$f":"IF(AND(D250=0,D251=23,D252=0,D253=0),\"Permanent\",IF(AND(D250=0,D251=23),\"\",IF(D252=0,D250 & \"h-\" & D251 & \"h\",D250 & \"h-\" & D252-1 & \"h\")))","v":"11h-23h"},"11h-23h","11h-0h","10h-0h","11h-23h","11h-0h","10h-0h","10h-1h","10h-1h","11h-0h","11h-0h"]
[]
[null,"Mois sélectionnés","Retenu",null,null,"Retenu"]
[null,"Janvier",true,null,"Janvier",{"$f":"HLOOKUP(Secteur,TableauSecteursAnnée,Calculs!B189,FALSE)","v":1},{"$f":"F258*Calculs!$C$106*VMOIS(Calculs!B258)","v":744}]
[null,"Février",true,null,"Février",{"$f":"HLOOKUP(Secteur,TableauSecteursAnnée,Calculs!B190,FALSE)","v":1},{"$f":"F259*Calculs!$C$106*VMOIS(Calculs!B259)","v":672}]
[null,"Mars",true,null,"Mars",{"$f":"HLOOKUP(Secteur,TableauSecteursAnnée,Calculs!B191,FALSE)","v":1},{"$f":"F260*Calculs!$C$106*VMOIS(Calculs!B260)","v":744}]
[null,"Avril",true,null,"Avril",{"$f":"HLOOKUP(Secteur,TableauSecteursAnnée,Calculs!B192,FALSE)","v":1},{"$f":"F261*Calculs!$C$106*VMOIS(Calculs!B261)","v":720}]
[null,"Mai",true,null,"Mai",{"$f":"HLOOKUP(Secteur,TableauSecteursAnnée,Calculs!B193,FALSE)","v":1},{"$f":"F262*Calculs!$C$106*VMOIS(Calculs!B262)","v":744}]
[null,"Juin",true,null,"Juin",{"$f":"HLOOKUP(Secteur,TableauSecteursAnnée,Calculs!B194,FALSE)","v":1},{"$f":"F263*Calculs!$C$106*VMOIS(Calculs!B263)","v":720}]
[null,"Juillet",true,null,"Juillet",{"$f":"HLOOKUP(Secteur,TableauSecteursAnnée,Calculs!B195,FALSE)","v":1},{"$f":"F264*Calculs!$C$106*VMOIS(Calculs!B264)","v":744}]
[null,"Août",true,null,"Août",{"$f":"HLOOKUP(Secteur,TableauSecteursAnnée,Calculs!B196,FALSE)","v":1},{"$f":"F265*Calculs!$C$106*VMOIS(Calculs!B265)","v":744}]
[null,"Septembre",true,null,"Septembre",{"$f":"HLOOKUP(Secteur,TableauSecteursAnnée,Calculs!B197,FALSE)","v":1},{"$f":"F266*Calculs!$C$106*VMOIS(Calculs!B266)","v":720}]
[null,"Octobre",true,null,"Octobre",{"$f":"HLOOKUP(Secteur,TableauSecteursAnnée,Calculs!B198,FALSE)","v":1},{"$f":"F267*Calculs!$C$106*VMOIS(Calculs!B267)","v":744}]
[null,"Novembre",true,null,"Novembre",{"$f":"HLOOKUP(Secteur,TableauSecteursAnnée,Calculs!B199,FALSE)","v":1},{"$f":"F268*Calculs!$C$106*VMOIS(Calculs!B268)","v":720}]
[null,"Décembre",true,null,"Décembre",{"$f":"HLOOKUP(Secteur,TableauSecteursAnnée,Calculs!B200,FALSE)","v":1},{"$f":"F269*Calculs!$C$106*VMOIS(Calculs!B269)","v":744}]
[null,null,null,null,null,null,{"$f":"SUM(G258:G269)","v":8760}]

{"sheet":"Données1","index":3,"n_rows":349,"n_cols":87,"rows_kept":349,"cut":false,"hidden":true,"merged":[[112,49,112,53],[112,54,112,58],[112,59,112,63],[112,43,113,43],[96,44,96,83],[97,44,97,48],[97,49,97,53],[97,54,97,58],[97,59,97,63],[97,64,97,68],[97,69,97,73],[97,74,97,78],[97,79,97,83],[260,38,261,38],[260,39,260,43],[276,38,277,38],[260,46,261,46],[112,65,113,65],[112,81,113,81],[276,45,277,45],[191,1,191,10],[195,10,195,14],[199,10,199,14],[225,12,226,14],[242,24,242,25],[194,17,194,18],[195,17,195,18],[197,17,197,18],[199,17,199,18],[201,17,201,18],[226,25,226,29],[260,27,260,31],[260,32,260,36],[276,2,276,6],[276,7,276,11],[276,12,276,16],[276,17,276,21],[291,63,294,63],[291,62,294,62],[276,46,276,50],[260,45,261,45],[276,39,276,43],[64,22,64,26],[64,27,64,31],[64,32,64,36],[64,37,64,41],[96,2,96,41],[97,2,97,6],[97,7,97,11],[97,12,97,16],[97,17,97,21],[97,22,97,26],[97,27,97,31],[97,32,97,36],[97,37,97,41],[64,2,64,6],[64,7,64,11],[64,12,64,16],[64,44,64,48],[64,49,64,53],[64,54,64,58],[63,43,65,43],[112,82,112,85],[63,2,63,41],[63,44,63,83],[64,59,64,63],[64,64,64,68],[64,69,64,73],[64,74,64,78],[64,79,64,83],[79,43,81,43],[79,44,79,83],[80,44,80,48],[80,49,80,53],[80,54,80,58],[80,59,80,63],[80,64,80,68],[80,69,80,73],[80,74,80,78],[80,79,80,83],[112,66,112,73],[112,75,113,75],[112,76,112,79],[96,43,98,43],[112,44,112,48],[276,32,276,36],[260,2,260,6],[260,7,260,11],[260,12,260,16],[260,17,260,21],[260,22,260,26],[28,35,28,40],[242,1,242,2],[226,20,226,24],[226,30,226,34],[226,38,226,39],[242,19,242,21],[224,1,224,10],[64,17,64,21],[112,1,113,1],[112,2,112,41],[113,2,113,6],[113,7,113,11],[113,12,113,16],[113,17,113,21],[113,22,113,26],[113,27,113,31],[80,7,80,11],[80,12,80,16],[28,12,28,21],[145,1,155,2],[95,1,95,10],[96,1,97,1],[193,10,193,11],[197,10,197,11],[63,1,64,1],[79,1,80,1],[79,2,79,41],[80,2,80,6],[80,17,80,21],[80,22,80,26],[80,27,80,31],[80,32,80,36],[80,37,80,41],[10,9,10,10],[16,4,16,5],[10,4,10,5],[193,1,193,2],[209,1,209,2],[193,4,193,5],[26,1,26,9],[62,1,62,10],[28,1,28,10],[295,50,295,61],[44,1,44,10],[225,1,225,10],[258,1,258,15],[157,1,167,2],[157,4,157,5],[9,14,9,15],[128,4,129,5],[128,7,129,8],[131,1,141,2],[131,4,131,5],[131,7,131,8],[157,7,157,8],[59,1,59,9],[145,4,145,5],[145,7,145,8],[44,12,44,21],[260,59,261,59],[28,23,28,32],[44,23,44,32],[113,32,113,36],[113,37,113,41],[276,22,276,26],[276,27,276,31],[260,62,261,62],[260,63,261,63],[260,64,261,64],[260,65,261,65],[260,66,261,66],[260,67,261,67],[260,68,261,68],[276,52,277,52],[276,53,277,53],[276,54,277,54],[276,55,277,55],[276,56,277,56],[276,57,277,57],[276,58,277,58],[276,59,277,59],[260,61,261,61],[260,52,261,52],[260,53,261,53],[260,57,261,57],[260,54,261,54],[260,55,261,55],[260,56,261,56],[260,58,261,58]]}
[null,null,null,null,null,null,null,null,null,null,null,null,null,null,null,null,null,null,null,null,null,null,null,null,null,null,null,"Poste de consommation"]
[null,null,null,null,null,null,null,null,null,null,null,null,null,null,null,null,null,null,null,null,null,null,null,null,null,null,null,"Climatisation"]
[null,null,null,null,null,null,null,null,null,null,null,null,null,null,null,null,null,null,null,null,null,null,null,null,null,null,null,"Brasseurs d'air"]
[null,"Jan","Orientation des plus grandes façades",null,"U",null,"Installation","consigne clim",null,"Localisation","correspondance pour nom tableaux",null,"% vitrage ",null,"Facteur solaire murs",null,"TempInconfort",null,null,null,null,null,null,"VMC",null,"Typologie","Niveau de consommation","Ventilation"]
[null,"Fév","Nord / Sud",null,0.5,null,"Centralisée Eau-Glacée",28,null,"Cayenne","Cayenne",null,0,null,"Base",null,28,null,null,null,null,null,null,"Jamais",null,"Logement","Sans objet","Eau chaude sanitaire"]
[null,"Mars","Est / Ouest",null,1,null,"Centralisée VRV",27,null,"Saint-Denis","SaintDenis",null,0.05,null,"RTAA DOM 2016",null,29,null,null,null,null,null,null,"Permanent",null,"Commerces","Niveau de base","Eclairage intérieur"]
[null,"Avril","Nord-Est / Sud-Ouest",null,1.5,null,"Individuelle",26,null,null,null,null,0.1,null,"Ecodom",null,30,null,null,null,null,null,null,"Occupation",null,"Bureaux","Performant","Eclairage extérieur"]
[null,"Mai","Nord-Ouest / Sud-Est",null,2,null,null,25,null,null,null,null,0.15,null,"NF Habitat HQE",null,31,null,null,null,null,null,null,"Nuit",null,"Enseignement","Très performant","Bureautique"]
[null,"Juin",null,null,3,null,null,24,null,null,null,null,0.2,null,"PERENE 2009",null,null,null,null,null,null,null,null,null,null,"Santé",null,"Froid alimentaire"]
[null,"Juil","Orientation ",null,null,null,null,23,null,null,null,null,0.25,null,"Niveau ventilation",null,null,null,null,null,null,null,null,null,null,"Hôtellerie",null,"Chaud alimentaire"]
[null,"Août","Nord",null,"coeff d'absorption solaire",null,null,22,null,"PLANNING RENOUV. AIR",null,null,0.3,null,"Base (5 vol/h)",5,null,null,null,null,null,null,null,null,null,null,null,"Autres"]
[null,"Sept","Sud",null,"Couleur claire",0.4,null,21,null,"Type",null,null,0.35,null,"Décharge (15 vol/h)",15,null,null,null,null,null,null,null,null,null,null,null,"Equipements spécifiques avec apports"]
[null,"Oct","Est",null,"Couleur moyenne",0.6,null,20,null,"Permanent",null,null,0.4,null,"Confort (50 vol/h)",50,null,null,null,null,null,null,null,null,null,null,null,"Equipements spécifiques sans apports"]
[null,"Nov","Ouest",null,"couleur sombre",0.8,null,null,null,"Jour-calé sur l'occupation",null,null,0.45]
[null,"Déc",null,null,null,null,null,null,null,"Nuit",null,null,0.5]
[null,null,null,null,null,null,null,null,null,null,null,null,0.55000000000000004]
[null,null,"Type de vitrage",null,"exposition au vent",null,null,null,null,"Attention, si chgt de formulation dans ce tableau, modifier à la main les formules (apports renouv. Air et peut être d'autre)",null,null,0.6,null,"Facteur solaire murs"]
[null,null,"SV",null,"Type","K_vent",null,null,null,null,null,null,0.65,null,"Léger"]
[null,null,"DV",null,"Zone littorale au vent",1.1499999999999999,null,null,null,null,null,null,0.7,null,"Moyen"]
[null,null,"Attention, si chgt de formulation dans ce tableau, modifier à la main les formules (apports  par clo transmis vitrage))",null,"Zone au vent",1,null,null,null,null,null,null,0.75,null,"Lourd",null,null,null,null,null,null,null,null,null,null,null,null,null,null,null,null,null,null,null,null,null,null,null,null,null,null,null,null,"Valeurs limites"]
[null,null,null,null,"Zone continentale",0.9,null,null,null,null,null,null,0.8,null,null,null,null,null,null,null,null,null,null,null,null,null,null,null,null,null,null,null,null,null,null,null,null,null,null,null,null,null,null,"Centralisée Eau Glacée","Centralisée DRV","Climatisation individuelle"]
[null,null,null,null,"Zone sous le vent",0.65,null,null,null,null,null,null,0.85,null,null,null,null,null,null,null,null,null,null,null,null,null,null,null,null,null,null,null,null,null,null,null,null,null,null,null,null,null,null,2.9,5.6,5.6]
[null,null,null,null,null,null,null,null,null,null,null,null,0.9,null,null,null,null,null,null,null,null,null,null,null,null,null,null,null,null,null,null,null,null,null,null,null,null,null,null,null,null,null,null,3.1,6.1,7]
[null,null,null,null,null,null,null,null,null,null,null,null,0.95,null,null,null,null,null,null,null,null,null,null,null,null,null,null,null,null,null,null,null,null,null,null,null,null,null,null,null,null,null,null,3.4,7,8.5]
[null,null,null,null,null,null,null,null,null,null,null,null,1]
[null,null,null,null,null,null,null,null,null,null,null,null,null,null,null,null,null,null,null,null,null,null,null,null,null,null,null,null,null,null,null,null,null,null,null,null,null,null,null,null,null,null,null,"Valeurs hypothétiques"]
[null,"APPORT SOLAIRE CLO INCIDENT (Wh/m² de paroi)",null,null,null,null,null,null,null,null,null,null,null,null,null,null,null,null,null,null,null,null,null,null,null,null,null,null,null,null,null,null,null,null,null,null,null,null,null,null,null,null,null,"Centralisée Eau Glacée","Centralisée DRV","Climatisation individuelle"]
[null,null,null,null,null,null,null,null,null,null,null,null,null,null,null,null,null,null,null,null,null,null,null,null,null,null,null,null,null,null,null,null,null,null,null,null,null,null,null,null,null,null,null,3,5.75,6.3]
[null,"CAYENNE (Wh/m² de paroi)",null,null,null,null,null,null,null,null,null,null,"CAYENNE (Wh/m² de paroi)",null,null,null,null,null,null,null,null,null,null,"CAYENNE (Wh/m² de paroi)",null,null,null,null,null,null,null,null,null,null,null,"(Wh/m² de paroi)",null,null,null,null,null,null,null,3.25,6.55,7.75]
[null,"RDC ","NORD","NORD-EST","EST","SUD-EST","SUD","SUD-OUEST","OUEST","NORD-OUEST","TOIT",null,"Etage","NORD","NORD-EST","EST","SUD-EST","SUD","SUD-OUEST","OUEST","NORD-OUEST","TOIT",null,"MOYEN","NORD","NORD-EST","EST","SUD-EST","SUD","SUD-OUEST","OUEST","NORD-OUEST","TOIT",null,null,"Tampon 1",{"$f":"Calculs!B7","v":"Est"},{"$f":"Calculs!C7","v":"Sud"},{"$f":"Calculs!D7","v":"Ouest"},{"$f":"Calculs!E7","v":"Nord"},"TOIT",null,null,3.6,7.5,9.25]
[null,"Janvier ",38722.337105977196,46302.732919423535,66796.875126128652,76592.178905121677,79597.474158802608,72860.150260286202,63476.196831681234,45340.292831625535,118322.75793343103,null,"Janvier ",38722.337105977196,46302.732919423535,66796.875126128652,76592.178905121677,79597.474158802608,72860.150260286202,63476.196831681234,45340.292831625535,118322.75793343103,null,"Janvier ",{"$f":"(C31+(NombreNiveaux-1)*N31)/NombreNiveaux","v":38722.337105977196},{"$f":"(D31+(NombreNiveaux-1)*O31)/NombreNiveaux","v":46302.732919423535},{"$f":"(E31+(NombreNiveaux-1)*P31)/NombreNiveaux","v":66796.875126128652},{"$f":"(F31+(NombreNiveaux-1)*Q31)/NombreNiveaux","v":76592.178905121677},{"$f":"(G31+(NombreNiveaux-1)*R31)/NombreNiveaux","v":79597.474158802608},{"$f":"(H31+(NombreNiveaux-1)*S31)/NombreNiveaux","v":72860.150260286202},{"$f":"(I31+(NombreNiveaux-1)*T31)/NombreNiveaux","v":63476.196831681234},{"$f":"(J31+(NombreNiveaux-1)*U31)/NombreNiveaux","v":45340.292831625535},{"$f":"(K31+(NombreNiveaux-1)*V31)/NombreNiveaux","v":118322.75793343103},null,null,"Janvier ",{"$f":"HLOOKUP(AK30,INDIRECT(VLOOKUP(Station,$J$5:$K$8,2,FALSE)&1),2,FALSE)","v":66796.875126128652},{"$f":"HLOOKUP(AL30,INDIRECT(VLOOKUP(Station,$J$5:$K$8,2,FALSE)&1),2,FALSE)","v":79597.474158802608},{"$f":"HLOOKUP(AM30,INDIRECT(VLOOKUP(Station,$J$5:$K$8,2,FALSE)&1),2,FALSE)","v":63476.196831681234},{"$f":"HLOOKUP(AN30,INDIRECT(VLOOKUP(Station,$J$5:$K$8,2,FALSE)&1),2,FALSE)","v":38722.337105977196},{"$f":"HLOOKUP(AO30,INDIRECT(VLOOKUP(Station,$J$5:$K$8,2,FALSE)&1),2,FALSE)","v":118322.75793343103}]
[null,"Février",36751.525422925217,47290.594888621665,63580.592815840544,66799.171549856997,62626.034582941393,62846.304848230982,59701.895322791024,45755.842289161606,113487.74757723649,null,"Février",36751.525422925217,47290.594888621665,63580.592815840544,66799.171549856997,62626.034582941393,62846.304848230982,59701.895322791024,45755.842289161606,113487.74757723649,null,"Février",36751.525422925217,47290.594888621665,63580.592815840544,66799.171549856997,62626.034582941393,62846.304848230982,59701.895322791024,45755.842289161606,113487.74757723649,null,null,"Février",{"$f":"HLOOKUP(AK30,INDIRECT(VLOOKUP(Station,$J$5:$K$8,2,FALSE)&1),3,FALSE)","v":63580.592815840544},{"$f":"HLOOKUP(AL30,INDIRECT(VLOOKUP(Station,$J$5:$K$8,2,FALSE)&1),3,FALSE)","v":62626.034582941393},{"$f":"HLOOKUP(AM30,INDIRECT(VLOOKUP(Station,$J$5:$K$8,2,FALSE)&1),3,FALSE)","v":59701.895322791024},{"$f":"HLOOKUP(AN30,INDIRECT(VLOOKUP(Station,$J$5:$K$8,2,FALSE)&1),3,FALSE)","v":36751.525422925217},{"$f":"HLOOKUP(AO30,INDIRECT(VLOOKUP(Station,$J$5:$K$8,2,FALSE)&1),3,FALSE)","v":113487.74757723649}]
[null,"Mars",40358.52188676528,62190.546399429128,74379.227671430854,66390.3173018011,45949.659696059833,66066.917288110344,74171.795269135779,62220.995152794087,136872.37677847699,null,"Mars",40358.52188676528,62190.546399429128,74379.227671430854,66390.3173018011,45949.659696059833,66066.917288110344,74171.795269135779,62220.995152794087,136872.37677847699,null,"Mars",40358.52188676528,62190.546399429128,74379.227671430854,66390.3173018011,45949.659696059833,66066.917288110344,74171.795269135779,62220.995152794087,136872.37677847699,null,null,"Mars",{"$f":"HLOOKUP(AK30,INDIRECT(VLOOKUP(Station,$J$5:$K$8,2,FALSE)&1),4,FALSE)","v":74379.227671430854},{"$f":"HLOOKUP(AL30,INDIRECT(VLOOKUP(Station,$J$5:$K$8,2,FALSE)&1),4,FALSE)","v":45949.659696059833},{"$f":"HLOOKUP(AM30,INDIRECT(VLOOKUP(Station,$J$5:$K$8,2,FALSE)&1),4,FALSE)","v":74171.795269135779},{"$f":"HLOOKUP(AN30,INDIRECT(VLOOKUP(Station,$J$5:$K$8,2,FALSE)&1),4,FALSE)","v":40358.52188676528},{"$f":"HLOOKUP(AO30,INDIRECT(VLOOKUP(Station,$J$5:$K$8,2,FALSE)&1),4,FALSE)","v":136872.37677847699}]
[null,"Avril",51259.020129454322,65994.246870598072,71079.659960504097,58904.5833247271,41239.419464062077,61012.411733977635,74284.537264169034,68408.858515959728,136359.9088110677,null,"Avril",51259.020129454322,65994.246870598072,71079.659960504097,58904.5833247271,41239.419464062077,61012.411733977635,74284.537264169034,68408.858515959728,136359.9088110677,null,"Avril",51259.020129454322,65994.246870598072,71079.659960504097,58904.5833247271,41239.419464062077,61012.411733977635,74284.537264169034,68408.858515959728,136359.9088110677,null,null,"Avril",{"$f":"HLOOKUP(AK30,INDIRECT(VLOOKUP(Station,$J$5:$K$8,2,FALSE)&1),5,FALSE)","v":71079.659960504097},{"$f":"HLOOKUP(AL30,INDIRECT(VLOOKUP(Station,$J$5:$K$8,2,FALSE)&1),5,FALSE)","v":41239.419464062077},{"$f":"HLOOKUP(AM30,INDIRECT(VLOOKUP(Station,$J$5:$K$8,2,FALSE)&1),5,FALSE)","v":74284.537264169034},{"$f":"HLOOKUP(AN30,INDIRECT(VLOOKUP(Station,$J$5:$K$8,2,FALSE)&1),5,FALSE)","v":51259.020129454322},{"$f":"HLOOKUP(AO30,INDIRECT(VLOOKUP(Station,$J$5:$K$8,2,FALSE)&1),5,FALSE)","v":136359.9088110677}]
[null,"Mai",71923.879330533469,75376.208733206251,72127.365421975512,51046.12044423911,37598.709155818833,50843.551662106067,71760.373058231955,75055.834125994195,134982.45054563147,null,"Mai",71923.879330533469,75376.208733206251,72127.365421975512,51046.12044423911,37598.709155818833,50843.551662106067,71760.373058231955,75055.834125994195,134982.45054563147,null,"Mai",71923.879330533469,75376.208733206251,72127.365421975512,51046.12044423911,37598.709155818833,50843.551662106067,71760.373058231955,75055.834125994195,134982.45054563147,null,null,"Mai",{"$f":"HLOOKUP(AK30,INDIRECT(VLOOKUP(Station,$J$5:$K$8,2,FALSE)&1),6,FALSE)","v":72127.365421975512},{"$f":"HLOOKUP(AL30,INDIRECT(VLOOKUP(Station,$J$5:$K$8,2,FALSE)&1),6,FALSE)","v":37598.709155818833},{"$f":"HLOOKUP(AM30,INDIRECT(VLOOKUP(Station,$J$5:$K$8,2,FALSE)&1),6,FALSE)","v":71760.373058231955},{"$f":"HLOOKUP(AN30,INDIRECT(VLOOKUP(Station,$J$5:$K$8,2,FALSE)&1),6,FALSE)","v":71923.879330533469},{"$f":"HLOOKUP(AO30,INDIRECT(VLOOKUP(Station,$J$5:$K$8,2,FALSE)&1),6,FALSE)","v":134982.45054563147}]
[null,"Juin",82725.106295195277,83373.09091808903,76128.679468342089,51441.154438495825,39936.127898690276,49907.225874679782,71588.246277875398,78487.122355750063,136442.2341456468,null,"Juin",82725.106295195277,83373.09091808903,76128.679468342089,51441.154438495825,39936.127898690276,49907.225874679782,71588.246277875398,78487.122355750063,136442.2341456468,null,"Juin",82725.106295195277,83373.09091808903,76128.679468342089,51441.154438495825,39936.127898690276,49907.225874679782,71588.246277875398,78487.122355750063,136442.2341456468,null,null,"Juin",{"$f":"HLOOKUP(AK30,INDIRECT(VLOOKUP(Station,$J$5:$K$8,2,FALSE)&1),7,FALSE)","v":76128.679468342089},{"$f":"HLOOKUP(AL30,INDIRECT(VLOOKUP(Station,$J$5:$K$8,2,FALSE)&1),7,FALSE)","v":39936.127898690276},{"$f":"HLOOKUP(AM30,INDIRECT(VLOOKUP(Station,$J$5:$K$8,2,FALSE)&1),7,FALSE)","v":71588.246277875398},{"$f":"HLOOKUP(AN30,INDIRECT(VLOOKUP(Station,$J$5:$K$8,2,FALSE)&1),7,FALSE)","v":82725.106295195277},{"$f":"HLOOKUP(AO30,INDIRECT(VLOOKUP(Station,$J$5:$K$8,2,FALSE)&1),7,FALSE)","v":136442.2341456468}]
[null,"Juillet",90644.238131265811,92641.811909859913,86061.59079240101,57591.674681136377,41836.208017927944,56788.188523279343,84164.937057795672,90760.556618428498,160743.60366065885,null,"Juillet",90644.238131265811,92641.811909859913,86061.59079240101,57591.674681136377,41836.208017927944,56788.188523279343,84164.937057795672,90760.556618428498,160743.60366065885,null,"Juillet",90644.238131265811,92641.811909859913,86061.59079240101,57591.674681136377,41836.208017927944,56788.188523279343,84164.937057795672,90760.556618428498,160743.60366065885,null,null,"Juillet",{"$f":"HLOOKUP(AK30,INDIRECT(VLOOKUP(Station,$J$5:$K$8,2,FALSE)&1),8,FALSE)","v":86061.59079240101},{"$f":"HLOOKUP(AL30,INDIRECT(VLOOKUP(Station,$J$5:$K$8,2,FALSE)&1),8,FALSE)","v":41836.208017927944},{"$f":"HLOOKUP(AM30,INDIRECT(VLOOKUP(Station,$J$5:$K$8,2,FALSE)&1),8,FALSE)","v":84164.937057795672},{"$f":"HLOOKUP(AN30,INDIRECT(VLOOKUP(Station,$J$5:$K$8,2,FALSE)&1),8,FALSE)","v":90644.238131265811},{"$f":"HLOOKUP(AO30,INDIRECT(VLOOKUP(Station,$J$5:$K$8,2,FALSE)&1),8,FALSE)","v":160743.60366065885}]
[null,"Août",76385.315337648062,93981.62875551988,96455.880020015087,70184.69797232667,44821.453207675906,67494.105515710558,90564.649787039758,88345.246481854745,176323.58761270178,null,"Août",76385.315337648062,93981.62875551988,96455.880020015087,70184.69797232667,44821.453207675906,67494.105515710558,90564.649787039758,88345.246481854745,176323.58761270178,null,"Août",76385.315337648062,93981.62875551988,96455.880020015087,70184.69797232667,44821.453207675906,67494.105515710558,90564.649787039758,88345.246481854745,176323.58761270178,null,null,"Août",{"$f":"HLOOKUP(AK30,INDIRECT(VLOOKUP(Station,$J$5:$K$8,2,FALSE)&1),9,FALSE)","v":96455.880020015087},{"$f":"HLOOKUP(AL30,INDIRECT(VLOOKUP(Station,$J$5:$K$8,2,FALSE)&1),9,FALSE)","v":44821.453207675906},{"$f":"HLOOKUP(AM30,INDIRECT(VLOOKUP(Station,$J$5:$K$8,2,FALSE)&1),9,FALSE)","v":90564.649787039758},{"$f":"HLOOKUP(AN30,INDIRECT(VLOOKUP(Station,$J$5:$K$8,2,FALSE)&1),9,FALSE)","v":76385.315337648062},{"$f":"HLOOKUP(AO30,INDIRECT(VLOOKUP(Station,$J$5:$K$8,2,FALSE)&1),9,FALSE)","v":176323.58761270178}]
[null,"Septembre",47731.878617301649,81307.046340354253,98307.573845252395,83145.452361483607,50152.176351430629,82426.488353094959,97364.172492540005,80682.723504099369,183193.27833349872,null,"Septembre",47731.878617301649,81307.046340354253,98307.573845252395,83145.452361483607,50152.176351430629,82426.488353094959,97364.172492540005,80682.723504099369,183193.27833349872,null,"Septembre",47731.878617301649,81307.046340354253,98307.573845252395,83145.452361483607,50152.176351430629,82426.488353094959,97364.172492540005,80682.723504099369,183193.27833349872,null,null,"Septembre",{"$f":"HLOOKUP(AK30,INDIRECT(VLOOKUP(Station,$J$5:$K$8,2,FALSE)&1),10,FALSE)","v":98307.573845252395},{"$f":"HLOOKUP(AL30,INDIRECT(VLOOKUP(Station,$J$5:$K$8,2,FALSE)&1),10,FALSE)","v":50152.176351430629},{"$f":"HLOOKUP(AM30,INDIRECT(VLOOKUP(Station,$J$5:$K$8,2,FALSE)&1),10,FALSE)","v":97364.172492540005},{"$f":"HLOOKUP(AN30,INDIRECT(VLOOKUP(Station,$J$5:$K$8,2,FALSE)&1),10,FALSE)","v":47731.878617301649},{"$f":"HLOOKUP(AO30,INDIRECT(VLOOKUP(Station,$J$5:$K$8,2,FALSE)&1),10,FALSE)","v":183193.27833349872}]
[null,"Octobre",44773.443181125731,67995.857047740094,93603.925172780146,93765.579811939053,84545.333460542548,102973.01795262097,103307.17901105006,72508.908230166489,181095.62723796794,null,"Octobre",44773.443181125731,67995.857047740094,93603.925172780146,93765.579811939053,84545.333460542548,102973.01795262097,103307.17901105006,72508.908230166489,181095.62723796794,null,"Octobre",44773.443181125731,67995.857047740094,93603.925172780146,93765.579811939053,84545.333460542548,102973.01795262097,103307.17901105006,72508.908230166489,181095.62723796794,null,null,"Octobre",{"$f":"HLOOKUP(AK30,INDIRECT(VLOOKUP(Station,$J$5:$K$8,2,FALSE)&1),11,FALSE)","v":93603.925172780146},{"$f":"HLOOKUP(AL30,INDIRECT(VLOOKUP(Station,$J$5:$K$8,2,FALSE)&1),11,FALSE)","v":84545.333460542548},{"$f":"HLOOKUP(AM30,INDIRECT(VLOOKUP(Station,$J$5:$K$8,2,FALSE)&1),11,FALSE)","v":103307.17901105006},{"$f":"HLOOKUP(AN30,INDIRECT(VLOOKUP(Station,$J$5:$K$8,2,FALSE)&1),11,FALSE)","v":44773.443181125731},{"$f":"HLOOKUP(AO30,INDIRECT(VLOOKUP(Station,$J$5:$K$8,2,FALSE)&1),11,FALSE)","v":181095.62723796794}]
[null,"Novembre",40266.202391327883,52461.942977499777,81611.935438155851,94507.408029266648,104203.61965695528,104893.45759377361,91825.23362189543,56518.925670958895,155199.18726836785,null,"Novembre",40266.202391327883,52461.942977499777,81611.935438155851,94507.408029266648,104203.61965695528,104893.45759377361,91825.23362189543,56518.925670958895,155199.18726836785,null,"Novembre",40266.202391327883,52461.942977499777,81611.935438155851,94507.408029266648,104203.61965695528,104893.45759377361,91825.23362189543,56518.925670958895,155199.18726836785,null,null,"Novembre",{"$f":"HLOOKUP(AK30,INDIRECT(VLOOKUP(Station,$J$5:$K$8,2,FALSE)&1),12,FALSE)","v":81611.935438155851},{"$f":"HLOOKUP(AL30,INDIRECT(VLOOKUP(Station,$J$5:$K$8,2,FALSE)&1),12,FALSE)","v":104203.61965695528},{"$f":"HLOOKUP(AM30,INDIRECT(VLOOKUP(Station,$J$5:$K$8,2,FALSE)&1),12,FALSE)","v":91825.23362189543},{"$f":"HLOOKUP(AN30,INDIRECT(VLOOKUP(Station,$J$5:$K$8,2,FALSE)&1),12,FALSE)","v":40266.202391327883},{"$f":"HLOOKUP(AO30,INDIRECT(VLOOKUP(Station,$J$5:$K$8,2,FALSE)&1),12,FALSE)","v":155199.18726836785}]
[null,"Décembre",39822.600226682742,47139.522600565833,71854.827322071054,85803.981019861894,95282.549368317879,87171.100441051138,73008.389583548007,47403.863211843498,128757.035110096,null,"Décembre",39822.600226682742,47139.522600565833,71854.827322071054,85803.981019861894,95282.549368317879,87171.100441051138,73008.389583548007,47403.863211843498,128757.035110096,null,"Décembre",39822.600226682742,47139.522600565833,71854.827322071054,85803.981019861894,95282.549368317879,87171.100441051138,73008.389583548007,47403.863211843498,128757.035110096,null,null,"Décembre",{"$f":"HLOOKUP(AK30,INDIRECT(VLOOKUP(Station,$J$5:$K$8,2,FALSE)&1),13,FALSE)","v":71854.827322071054},{"$f":"HLOOKUP(AL30,INDIRECT(VLOOKUP(Station,$J$5:$K$8,2,FALSE)&1),13,FALSE)","v":95282.549368317879},{"$f":"HLOOKUP(AM30,INDIRECT(VLOOKUP(Station,$J$5:$K$8,2,FALSE)&1),13,FALSE)","v":73008.389583548007},{"$f":"HLOOKUP(AN30,INDIRECT(VLOOKUP(Station,$J$5:$K$8,2,FALSE)&1),13,FALSE)","v":39822.600226682742},{"$f":"HLOOKUP(AO30,INDIRECT(VLOOKUP(Station,$J$5:$K$8,2,FALSE)&1),13,FALSE)","v":128757.035110096}]
[]
[]
[null,"ST-DENIS REUNION (Wh/m² de paroi)",null,null,null,null,null,null,null,null,null,null,"ST-DENIS REUNION (Wh/m² de paroi)",null,null,null,null,null,null,null,null,null,null,"ST-DENIS REUNION (Wh/m² de paroi)"]
[null,"RDC ","NORD","NORD-EST","EST","SUD-EST","SUD","SUD-OUEST","OUEST","NORD-OUEST","TOIT",null,"Etage","NORD","NORD-EST","EST","SUD-EST","SUD","SUD-OUEST","OUEST","NORD-OUEST","TOIT",null,"MOYEN","NORD","NORD-EST","EST","SUD-EST","SUD","SUD-OUEST","OUEST","NORD-OUEST","TOIT"]
[null,"Janvier ",48746.903174175684,87953.347619501394,117782.71031758271,106699.79466466935,72280.68349207849,94107.846941941461,102936.52119267469,79549.890626683613,198759.61170454553,null,"Janvier ",48746.903174175684,87953.347619501394,117782.71031758271,106699.79466466935,72280.68349207849,94107.846941941461,102936.52119267469,79549.890626683613,198759.61170454553,null,"Janvier ",{"$f":"(C47+(NombreNiveaux-1)*N47)/NombreNiveaux","v":48746.903174175684},{"$f":"(D47+(NombreNiveaux-1)*O47)/NombreNiveaux","v":87953.347619501394},{"$f":"(E47+(NombreNiveaux-1)*P47)/NombreNiveaux","v":117782.71031758271},{"$f":"(F47+(NombreNiveaux-1)*Q47)/NombreNiveaux","v":106699.79466466935},{"$f":"(G47+(NombreNiveaux-1)*R47)/NombreNiveaux","v":72280.68349207849},{"$f":"(H47+(NombreNiveaux-1)*S47)/NombreNiveaux","v":94107.846941941461},{"$f":"(I47+(NombreNiveaux-1)*T47)/NombreNiveaux","v":102936.52119267469},{"$f":"(J47+(NombreNiveaux-1)*U47)/NombreNiveaux","v":79549.890626683613},{"$f":"(K47+(NombreNiveaux-1)*V47)/NombreNiveaux","v":198759.61170454553}]
[null,"Février",54614.7405294161,77682.447702094374,87599.46792625729,72745.102709673403,47361.424883331762,70989.076861005407,85389.602010844988,76322.110923353554,161964.84049769049,null,"Février",54614.7405294161,77682.447702094374,87599.46792625729,72745.102709673403,47361.424883331762,70989.076861005407,85389.602010844988,76322.110923353554,161964.84049769049,null,"Février",54614.7405294161,77682.447702094374,87599.46792625729,72745.102709673403,47361.424883331762,70989.076861005407,85389.602010844988,76322.110923353554,161964.84049769049]
[null,"Mars",88503.742241790111,101798.36290076593,99506.302974541453,70574.704316336414,44455.784507622971,71684.158836135553,100969.85491866537,102756.58001205657,178017.03094429951,null,"Mars",88503.742241790111,101798.36290076593,99506.302974541453,70574.704316336414,44455.784507622971,71684.158836135553,100969.85491866537,102756.58001205657,178017.03094429951,null,"Mars",88503.742241790111,101798.36290076593,99506.302974541453,70574.704316336414,44455.784507622971,71684.158836135553,100969.85491866537,102756.58001205657,178017.03094429951]
[null,"Avril",108592.2439281144,103764.39727750416,85321.849067166957,51350.675022942334,36639.916897757183,49710.475496985411,80832.101129318165,99042.983410140732,146868.84341800344,null,"Avril",108592.2439281144,103764.39727750416,85321.849067166957,51350.675022942334,36639.916897757183,49710.475496985411,80832.101129318165,99042.983410140732,146868.84341800344,null,"Avril",108592.2439281144,103764.39727750416,85321.849067166957,51350.675022942334,36639.916897757183,49710.475496985411,80832.101129318165,99042.983410140732,146868.84341800344]
[null,"Mai",134468.28162046178,113748.58878411261,79438.116636934254,41113.628416911524,32919.774948623119,39593.018068033183,76114.563013949752,110569.29379995679,132588.27249625346,null,"Mai",134468.28162046178,113748.58878411261,79438.116636934254,41113.628416911524,32919.774948623119,39593.018068033183,76114.563013949752,110569.29379995679,132588.27249625346,null,"Mai",134468.28162046178,113748.58878411261,79438.116636934254,41113.628416911524,32919.774948623119,39593.018068033183,76114.563013949752,110569.29379995679,132588.27249625346]
[null,"Juin",141212.59695747431,115962.63479363233,74497.620835295995,34256.337474404449,28207.148215170961,32886.658092408768,70015.328779808813,110993.7974834304,119463.47672590513,null,"Juin",141212.59695747431,115962.63479363233,74497.620835295995,34256.337474404449,28207.148215170961,32886.658092408768,70015.328779808813,110993.7974834304,119463.47672590513,null,"Juin",141212.59695747431,115962.63479363233,74497.620835295995,34256.337474404449,28207.148215170961,32886.658092408768,70015.328779808813,110993.7974834304,119463.47672590513]
[null,"Juillet",144511.80704425255,120833.22760055085,79711.079100451345,37875.533306391182,30432.764070951158,35649.349316314896,73321.832669420852,114023.9171717366,130521.85342490394,null,"Juillet",144511.80704425255,120833.22760055085,79711.079100451345,37875.533306391182,30432.764070951158,35649.349316314896,73321.832669420852,114023.9171717366,130521.85342490394,null,"Juillet",144511.80704425255,120833.22760055085,79711.079100451345,37875.533306391182,30432.764070951158,35649.349316314896,73321.832669420852,114023.9171717366,130521.85342490394]
[null,"Août",129206.51789761981,115595.05962317051,88182.771311094155,49198.850009435111,36415.702434389103,48545.389592189371,86141.858431733475,113365.22389665408,148452.44497431291,null,"Août",129206.51789761981,115595.05962317051,88182.771311094155,49198.850009435111,36415.702434389103,48545.389592189371,86141.858431733475,113365.22389665408,148452.44497431291,null,"Août",129206.51789761981,115595.05962317051,88182.771311094155,49198.850009435111,36415.702434389103,48545.389592189371,86141.858431733475,113365.22389665408,148452.44497431291]
[null,"Septembre",99136.257049140477,100929.53684498327,91009.49797513368,59842.448806089888,40198.187553122661,65064.256281756148,99220.923244123202,107327.68021971,164789.27481173401,null,"Septembre",99136.257049140477,100929.53684498327,91009.49797513368,59842.448806089888,40198.187553122661,65064.256281756148,99220.923244123202,107327.68021971,164789.27481173401,null,"Septembre",99136.257049140477,100929.53684498327,91009.49797513368,59842.448806089888,40198.187553122661,65064.256281756148,99220.923244123202,107327.68021971,164789.27481173401]
[null,"Octobre",73755.516401184796,99579.732685649855,107213.72805836787,82855.204647550563,50633.476514656155,81404.655097828756,104637.99597148733,97378.484325736616,185262.22449276398,null,"Octobre",73755.516401184796,99579.732685649855,107213.72805836787,82855.204647550563,50633.476514656155,81404.655097828756,104637.99597148733,97378.484325736616,185262.22449276398,null,"Octobre",73755.516401184796,99579.732685649855,107213.72805836787,82855.204647550563,50633.476514656155,81404.655097828756,104637.99597148733,97378.484325736616,185262.22449276398]
[null,"Novembre",51109.338487951871,84466.640421981356,105252.53890779648,92468.617322355349,62405.023021838271,91859.298406157512,104414.93741987352,83893.501273096073,192884.14601982795,null,"Novembre",51109.338487951871,84466.640421981356,105252.53890779648,92468.617322355349,62405.023021838271,91859.298406157512,104414.93741987352,83893.501273096073,192884.14601982795,null,"Novembre",51109.338487951871,84466.640421981356,105252.53890779648,92468.617322355349,62405.023021838271,91859.298406157512,104414.93741987352,83893.501273096073,192884.14601982795]
[null,"Décembre",51016.722115531069,79137.965242417718,104313.7306235702,98360.809753365305,77858.889905046453,98304.830494458409,104564.34531073189,79544.999089282865,197689.27672531793,null,"Décembre",51016.722115531069,79137.965242417718,104313.7306235702,98360.809753365305,77858.889905046453,98304.830494458409,104564.34531073189,79544.999089282865,197689.27672531793,null,"Décembre",51016.722115531069,79137.965242417718,104313.7306235702,98360.809753365305,77858.889905046453,98304.830494458409,104564.34531073189,79544.999089282865,197689.27672531793]
[]
[null,"APPORT SOLAIRE CLO TRANSMIS FENETRE"]
[null,null,null,"CGCS = x"]
[null,null,null,"% solaire transmis = a * x² + b*x+c",null,null,null,null,null,null,null,null,null,null,null,null,null,null,null,null,null,null,null,null,null,null,null,"CGCS =",{"$f":"Hypothèses!J26","v":0.7}]
[null,"CAYENNE"]
[null,"DV","ORIENTATION",null,null,null,null,null,null,null,null,null,null,null,null,null,null,null,null,null,null,null,null,null,null,null,null,null,null,null,null,null,null,null,null,null,null,null,null,null,null,null,null,"Tampon 1","ORIENTATION"]
[null,null,"NORD",null,null,null,null,"NORD-EST",null,null,null,null,"EST",null,null,null,null,"SUD-EST",null,null,null,null,"SUD",null,null,null,null,"SUD-OUEST",null,null,null,null,"OUEST",null,null,null,null,"NORD-OUEST",null,null,null,null,null,null,"NORD",null,null,null,null,"NORD-EST",null,null,null,null,"EST",null,null,null,null,"SUD-EST",null,null,null,null,"SUD",null,null,null,null,"SUD-OUEST",null,null,null,null,"OUEST",null,null,null,null,"NORD-OUEST"]
[null,null,"a","b","c","d","e","a","b","c","d","e","a","b","c","d","e","a","b","c","d","e","a","b","c","d","e","a","b","c","d","e","a","b","c","d","e","a","b","c","d","e",null,null,"a","b","c","d","e","a","b","c","d","e","a","b","c","d","e","a","b","c","d","e","a","b","c","d","e","a","b","c","d","e","a","b","c","d","e","a","b","c","d","e"]
[null,"Janvier",0.23358171630941918,-0.94756657318825865,1.239937104452344,0.29897870953085987,-8.0445058606417319E-3,0.1277617825225246,-0.73724102585386853,1.0982091931006754,0.29520822438135408,-8.1157691251763052E-3,0.2452621249994934,-0.9743296218177645,1.2624018207532592,0.30159990806167042,-8.0984172293211698E-3,0.2452621249994934,-0.9743296218177645,1.2624018207532592,0.30159990806167042,-8.0984172293211698E-3,-3.2677215730929528E-2,-0.44786098163677807,0.9400064252285536,0.30758987805339028,-8.7323233554078075E-3,0.24907851160243896,-0.97939658922367845,1.2626720926868904,0.30017607933826662,-8.0521124170504013E-3,0.24907851160243896,-0.97939658922367845,1.2626720926868904,0.30017607933826662,-8.0521124170504013E-3,0.13448342338672609,-0.75058852234109186,1.107186439898227,0.29543297945923641,-8.1108719724795851E-3,null,"Janvier",{"$f":"IF(Hypothèses!$J$24=\"SV\",Données1!C83,Données1!C67)","v":-2.4753395395996702},{"$f":"IF(Hypothèses!$J$24=\"SV\",Données1!D83,Données1!D67)","v":4.3057939937583756},{"$f":"IF(Hypothèses!$J$24=\"SV\",Données1!E83,Données1!E67)","v":-1.6400664593626766},{"$f":"IF(Hypothèses!$J$24=\"SV\",Données1!F83,Données1!F67)","v":0.70122639854682423},{"$f":"IF(Hypothèses!$J$24=\"SV\",Données1!G83,Données1!G67)","v":-3.3050707536873947E-2},{"$f":"IF(Hypothèses!$J$24=\"SV\",Données1!H83,Données1!H67)","v":-2.5451551650293509},{"$f":"IF(Hypothèses!$J$24=\"SV\",Données1!I83,Données1!I67)","v":4.4675020255701003},{"$f":"IF(Hypothèses!$J$24=\"SV\",Données1!J83,Données1!J67)","v":-1.7782866531424328},{"$f":"IF(Hypothèses!$J$24=\"SV\",Données1!K83,Données1!K67)","v":0.7198615746448801},{"$f":"IF(Hypothèses!$J$24=\"SV\",Données1!L83,Données1!L67)","v":-3.4727553162436697E-2},{"$f":"IF(Hypothèses!$J$24=\"SV\",Données1!M83,Données1!M67)","v":-2.479354476804521},{"$f":"IF(Hypothèses!$J$24=\"SV\",Données1!N83,Données1!N67)","v":4.3083776970053949},{"$f":"IF(Hypothèses!$J$24=\"SV\",Données1!O83,Données1!O67)","v":-1.6325004785026511},{"$f":"IF(Hypothèses!$J$24=\"SV\",Données1!P83,Données1!P67)","v":0.70276770967226254},{"$f":"IF(Hypothèses!$J$24=\"SV\",Données1!Q83,Données1!Q67)","v":-3.3033767234172229E-2},{"$f":"IF(Hypothèses!$J$24=\"SV\",Données1!R83,Données1!R67)","v":-2.479354476804521},{"$f":"IF(Hypothèses!$J$24=\"SV\",Données1!S83,Données1!S67)","v":4.3083776970053949},{"$f":"IF(Hypothèses!$J$24=\"SV\",Données1!T83,Données1!T67)","v":-1.6325004785026511},{"$f":"IF(Hypothèses!$J$24=\"SV\",Données1!U83,Données1!U67)","v":0.70276770967226254},{"$f":"IF(Hypothèses!$J$24=\"SV\",Données1!V83,Données1!V67)","v":-3.3033767234172229E-2},{"$f":"IF(Hypothèses!$J$24=\"SV\",Données1!W83,Données1!W67)","v":-2.7777850285108672},{"$f":"IF(Hypothèses!$J$24=\"SV\",Données1!X83,Données1!X67)","v":4.9353373235901348},{"$f":"IF(Hypothèses!$J$24=\"SV\",Données1!Y83,Données1!Y67)","v":-2.0768494723013449},{"$f":"IF(Hypothèses!$J$24=\"SV\",Données1!Z83,Données1!Z67)","v":0.78376335610669878},{"$f":"IF(Hypothèses!$J$24=\"SV\",Données1!AA83,Données1!AA67)","v":-3.8994104640358629E-2},{"$f":"IF(Hypothèses!$J$24=\"SV\",Données1!AB83,Données1!AB67)","v":-2.4681731601116583},{"$f":"IF(Hypothèses!$J$24=\"SV\",Données1!AC83,Données1!AC67)","v":4.287459605158463},{"$f":"IF(Hypothèses!$J$24=\"SV\",Données1!AD83,Données1!AD67)","v":-1.6217605544829989},{"$f":"IF(Hypothèses!$J$24=\"SV\",Données1!AE83,Données1!AE67)","v":0.69960671073810965},{"$f":"IF(Hypothèses!$J$24=\"SV\",Données1!AF83,Données1!AF67)","v":-3.2855952133643507E-2},{"$f":"IF(Hypothèses!$J$24=\"SV\",Données1!AG83,Données1!AG67)","v":-2.4681731601116583},{"$f":"IF(Hypothèses!$J$24=\"SV\",Données1!AH83,Données1!AH67)","v":4.287459605158463},{"$f":"IF(Hypothèses!$J$24=\"SV\",Données1!AI83,Données1!AI67)","v":-1.6217605544829989},{"$f":"IF(Hypothèses!$J$24=\"SV\",Données1!AJ83,Données1!AJ67)","v":0.69960671073810965},{"$f":"IF(Hypothèses!$J$24=\"SV\",Données1!AK83,Données1!AK67)","v":-3.2855952133643507E-2},{"$f":"IF(Hypothèses!$J$24=\"SV\",Données1!AL83,Données1!AL67)","v":-2.5412368926890063},{"$f":"IF(Hypothèses!$J$24=\"SV\",Données1!AM83,Données1!AM67)","v":4.4581834898156414},{"$f":"IF(Hypothèses!$J$24=\"SV\",Données1!AN83,Données1!AN67)","v":-1.7699758861819272},{"$f":"IF(Hypothèses!$J$24=\"SV\",Données1!AO83,Données1!AO67)","v":0.71882020817885905},{"$f":"IF(Hypothèses!$J$24=\"SV\",Données1!AP83,Données1!AP67)","v":-3.4628856801194263E-2}]
[null,"Février",0.23358171630942257,-0.94756657318832527,1.2399371044524248,0.29897870953083322,-8.0445058606396433E-3,0.10988451500334816,-0.70844202271820189,1.0872078449674938,0.29873479072035841,-8.2445897514384393E-3,0.19992707596857251,-0.89107991103807183,1.2148670945626647,0.30424100372006424,-8.2482358230554706E-3,0.19992707596857251,-0.89107991103807183,1.2148670945626647,0.30424100372006424,-8.2482358230554706E-3,-3.412738297572096E-2,-0.41819757436578769,0.88658944711188059,0.29098009318104934,-8.2688604624248686E-3,0.20404775690347735,-0.89619394084778081,1.2144734022619166,0.30248541134959378,-8.192102835435984E-3,0.20404775690347735,-0.89619394084778081,1.2144734022619166,0.30248541134959378,-8.192102835435984E-3,0.12493515385020906,-0.73750435028786465,1.105726170285525,0.2987361411376161,-8.2194990965498531E-3,null,"Février",{"$f":"IF(Hypothèses!$J$24=\"SV\",Données1!C84,Données1!C68)","v":-2.4753395395998061},{"$f":"IF(Hypothèses!$J$24=\"SV\",Données1!D84,Données1!D68)","v":4.3057939937586154},{"$f":"IF(Hypothèses!$J$24=\"SV\",Données1!E84,Données1!E68)","v":-1.6400664593628096},{"$f":"IF(Hypothèses!$J$24=\"SV\",Données1!F84,Données1!F68)","v":0.70122639854685154},{"$f":"IF(Hypothèses!$J$24=\"SV\",Données1!G84,Données1!G68)","v":-3.3050707536875779E-2},{"$f":"IF(Hypothèses!$J$24=\"SV\",Données1!H84,Données1!H68)","v":-2.5829523918308031},{"$f":"IF(Hypothèses!$J$24=\"SV\",Données1!I84,Données1!I68)","v":4.5402702503215675},{"$f":"IF(Hypothèses!$J$24=\"SV\",Données1!J84,Données1!J68)","v":-1.8193730498097},{"$f":"IF(Hypothèses!$J$24=\"SV\",Données1!K84,Données1!K68)","v":0.73035658547616311},{"$f":"IF(Hypothèses!$J$24=\"SV\",Données1!L84,Données1!L68)","v":-3.5361554381573013E-2},{"$f":"IF(Hypothèses!$J$24=\"SV\",Données1!M84,Données1!M68)","v":-2.5317219670577149},{"$f":"IF(Hypothèses!$J$24=\"SV\",Données1!N84,Données1!N68)","v":4.4166458105701532},{"$f":"IF(Hypothèses!$J$24=\"SV\",Données1!O84,Données1!O68)","v":-1.7064025627250639},{"$f":"IF(Hypothèses!$J$24=\"SV\",Données1!P84,Données1!P68)","v":0.71715243897255143},{"$f":"IF(Hypothèses!$J$24=\"SV\",Données1!Q84,Données1!Q68)","v":-3.4052075096493661E-2},{"$f":"IF(Hypothèses!$J$24=\"SV\",Données1!R84,Données1!R68)","v":-2.5317219670577149},{"$f":"IF(Hypothèses!$J$24=\"SV\",Données1!S84,Données1!S68)","v":4.4166458105701532},{"$f":"IF(Hypothèses!$J$24=\"SV\",Données1!T84,Données1!T68)","v":-1.7064025627250639},{"$f":"IF(Hypothèses!$J$24=\"SV\",Données1!U84,Données1!U68)","v":0.71715243897255143},{"$f":"IF(Hypothèses!$J$24=\"SV\",Données1!V84,Données1!V68)","v":-3.4052075096493661E-2},{"$f":"IF(Hypothèses!$J$24=\"SV\",Données1!W84,Données1!W68)","v":-2.6738184331639046},{"$f":"IF(Hypothèses!$J$24=\"SV\",Données1!X84,Données1!X68)","v":4.7541152951306538},{"$f":"IF(Hypothèses!$J$24=\"SV\",Données1!Y84,Données1!Y68)","v":-2.0070065975068552},{"$f":"IF(Hypothèses!$J$24=\"SV\",Données1!Z84,Données1!Z68)","v":0.75448461742485362},{"$f":"IF(Hypothèses!$J$24=\"SV\",Données1!AA84,Données1!AA68)","v":-3.7605332702053518E-2},{"$f":"IF(Hypothèses!$J$24=\"SV\",Données1!AB84,Données1!AB68)","v":-2.5177468995447132},{"$f":"IF(Hypothèses!$J$24=\"SV\",Données1!AC84,Données1!AC68)","v":4.390700124356349},{"$f":"IF(Hypothèses!$J$24=\"SV\",Données1!AD84,Données1!AD68)","v":-1.6934243417929353},{"$f":"IF(Hypothèses!$J$24=\"SV\",Données1!AE84,Données1!AE68)","v":0.71321066257467414},{"$f":"IF(Hypothèses!$J$24=\"SV\",Données1!AF84,Données1!AF68)","v":-3.3834080493649554E-2},{"$f":"IF(Hypothèses!$J$24=\"SV\",Données1!AG84,Données1!AG68)","v":-2.5177468995447132},{"$f":"IF(Hypothèses!$J$24=\"SV\",Données1!AH84,Données1!AH68)","v":4.390700124356349},{"$f":"IF(Hypothèses!$J$24=\"SV\",Données1!AI84,Données1!AI68)","v":-1.6934243417929353},{"$f":"IF(Hypothèses!$J$24=\"SV\",Données1!AJ84,Données1!AJ68)","v":0.71321066257467414},{"$f":"IF(Hypothèses!$J$24=\"SV\",Données1!AK84,Données1!AK68)","v":-3.3834080493649554E-2},{"$f":"IF(Hypothèses!$J$24=\"SV\",Données1!AL84,Données1!AL68)","v":-2.5704542891933921},{"$f":"IF(Hypothèses!$J$24=\"SV\",Données1!AM84,Données1!AM68)","v":4.5128418642297952},{"$f":"IF(Hypothèses!$J$24=\"SV\",Données1!AN84,Données1!AN68)","v":-1.7981044442193352},{"$f":"IF(Hypothèses!$J$24=\"SV\",Données1!AO84,Données1!AO68)","v":0.72697171022282248},{"$f":"IF(Hypothèses!$J$24=\"SV\",Données1!AP84,Données1!AP68)","v":-3.5089258360258946E-2}]
[null,"Mars",0.22374959989751592,-0.9199649931739301,1.2113075333590015,0.29377651342205646,-7.9142466139469E-3,0.11585413468338258,-0.72862740371742418,1.1112025133726409,0.30412413658493093,-8.3855741725614372E-3,0.11878558707617624,-0.73653193843202502,1.1191248733786534,0.30552254379115634,-8.4198390984029613E-3,0.11878558707617624,-0.73653193843202502,1.1191248733786534,0.30552254379115634,-8.4198390984029613E-3,0.16695118400150341,-0.79831280931605497,1.1184154000505147,0.28641799453989963,-7.8023693163587898E-3,0.11949226613698942,-0.73788997095694342,1.11998202284764,0.30551956752271753,-8.4185696828967364E-3,0.11949226613698942,-0.73788997095694342,1.11998202284764,0.30551956752271753,-8.4185696828967364E-3,0.11986938783886912,-0.73694753172642902,1.1172339150583577,0.30448208601358506,-8.3888673402798541E-3,null,"Mars",{"$f":"IF(Hypothèses!$J$24=\"SV\",Données1!C85,Données1!C69)","v":-2.4391678062982374},{"$f":"IF(Hypothèses!$J$24=\"SV\",Données1!D85,Données1!D69)","v":4.2452428631900867},{"$f":"IF(Hypothèses!$J$24=\"SV\",Données1!E85,Données1!E69)","v":-1.6214896906354348},{"$f":"IF(Hypothèses!$J$24=\"SV\",Données1!F85,Données1!F69)","v":0.69094509141230531},{"$f":"IF(Hypothèses!$J$24=\"SV\",Données1!G85,Données1!G69)","v":-3.2612823541582958E-2},{"$f":"IF(Hypothèses!$J$24=\"SV\",Données1!H85,Données1!H69)","v":-2.6056715391917091},{"$f":"IF(Hypothèses!$J$24=\"SV\",Données1!I85,Données1!I69)","v":4.5773906622327711},{"$f":"IF(Hypothèses!$J$24=\"SV\",Données1!J85,Données1!J69)","v":-1.8288581804433093},{"$f":"IF(Hypothèses!$J$24=\"SV\",Données1!K85,Données1!K69)","v":0.73700076105368151},{"$f":"IF(Hypothèses!$J$24=\"SV\",Données1!L85,Données1!L69)","v":-3.5625969798844137E-2},{"$f":"IF(Hypothèses!$J$24=\"SV\",Données1!M85,Données1!M69)","v":-2.6106347596017372},{"$f":"IF(Hypothèses!$J$24=\"SV\",Données1!N85,Données1!N69)","v":4.5848842677261459},{"$f":"IF(Hypothèses!$J$24=\"SV\",Données1!O85,Données1!O69)","v":-1.8295331221753406},{"$f":"IF(Hypothèses!$J$24=\"SV\",Données1!P85,Données1!P69)","v":0.73845538863285154},{"$f":"IF(Hypothèses!$J$24=\"SV\",Données1!Q85,Données1!Q69)","v":-3.5671790971071204E-2},{"$f":"IF(Hypothèses!$J$24=\"SV\",Données1!R85,Données1!R69)","v":-2.6106347596017372},{"$f":"IF(Hypothèses!$J$24=\"SV\",Données1!S85,Données1!S69)","v":4.5848842677261459},{"$f":"IF(Hypothèses!$J$24=\"SV\",Données1!T85,Données1!T69)","v":-1.8295331221753406},{"$f":"IF(Hypothèses!$J$24=\"SV\",Données1!U85,Données1!U69)","v":0.73845538863285154},{"$f":"IF(Hypothèses!$J$24=\"SV\",Données1!V85,Données1!V69)","v":-3.5671790971071204E-2},{"$f":"IF(Hypothèses!$J$24=\"SV\",Données1!W85,Données1!W69)","v":-2.4368073610269754},{"$f":"IF(Hypothèses!$J$24=\"SV\",Données1!X85,Données1!X69)","v":4.2618956591124952},{"$f":"IF(Hypothèses!$J$24=\"SV\",Données1!Y85,Données1!Y69)","v":-1.6672630411516125},{"$f":"IF(Hypothèses!$J$24=\"SV\",Données1!Z85,Données1!Z69)","v":0.68980441183404018},{"$f":"IF(Hypothèses!$J$24=\"SV\",Données1!AA85,Données1!AA69)","v":-3.2969759823827938E-2},{"$f":"IF(Hypothèses!$J$24=\"SV\",Données1!AB85,Données1!AB69)","v":-2.609916336183475},{"$f":"IF(Hypothèses!$J$24=\"SV\",Données1!AC85,Données1!AC69)","v":4.5833582147825895},{"$f":"IF(Hypothèses!$J$24=\"SV\",Données1!AD85,Données1!AD69)","v":-1.8284253176922864},{"$f":"IF(Hypothèses!$J$24=\"SV\",Données1!AE85,Données1!AE69)","v":0.73826064760176635},{"$f":"IF(Hypothèses!$J$24=\"SV\",Données1!AF85,Données1!AF69)","v":-3.5657123653755951E-2},{"$f":"IF(Hypothèses!$J$24=\"SV\",Données1!AG85,Données1!AG69)","v":-2.609916336183475},{"$f":"IF(Hypothèses!$J$24=\"SV\",Données1!AH85,Données1!AH69)","v":4.5833582147825895},{"$f":"IF(Hypothèses!$J$24=\"SV\",Données1!AI85,Données1!AI69)","v":-1.8284253176922864},{"$f":"IF(Hypothèses!$J$24=\"SV\",Données1!AJ85,Données1!AJ69)","v":0.73826064760176635},{"$f":"IF(Hypothèses!$J$24=\"SV\",Données1!AK85,Données1!AK69)","v":-3.5657123653755951E-2},{"$f":"IF(Hypothèses!$J$24=\"SV\",Données1!AL85,Données1!AL69)","v":-2.6037430399743},{"$f":"IF(Hypothèses!$J$24=\"SV\",Données1!AM85,Données1!AM69)","v":4.5724701880739298},{"$f":"IF(Hypothèses!$J$24=\"SV\",Données1!AN85,Données1!AN69)","v":-1.8239982525871734},{"$f":"IF(Hypothèses!$J$24=\"SV\",Données1!AO85,Données1!AO69)","v":0.73650804613132859},{"$f":"IF(Hypothèses!$J$24=\"SV\",Données1!AP85,Données1!AP69)","v":-3.55716165565646E-2}]
[null,"Avril",0.11361247746041724,-0.6835473580706769,1.0301782849565422,0.27919598847901178,-7.6884919951520185E-3,0.15564144344409014,-0.80465645206251857,1.1586259614324783,0.30365532148704527,-8.3058650453976743E-3,0.10441698770985594,-0.70342537225564639,1.0911339870513712,0.3021748799360971,-8.3501208473001354E-3,0.10441698770985594,-0.70342537225564639,1.0911339870513712,0.3021748799360971,-8.3501208473001354E-3,0.23261344062138953,-0.94423751820385704,1.2359460019241795,0.29809938008909787,-8.021319281090511E-3,9.9233050447369228E-2,-0.69480739795852497,1.0874320697802944,0.30303865414654851,-8.3829824983517841E-3,9.9233050447369228E-2,-0.69480739795852497,1.0874320697802944,0.30303865414654851,-8.3829824983517841E-3,0.15771181332953924,-0.80920227918596943,1.162227467326068,0.30399796889880221,-8.3119973380628188E-3,null,"Avril",{"$f":"IF(Hypothèses!$J$24=\"SV\",Données1!C86,Données1!C70)","v":-2.4312338177064112},{"$f":"IF(Hypothèses!$J$24=\"SV\",Données1!D86,Données1!D70)","v":4.2715500481499147},{"$f":"IF(Hypothèses!$J$24=\"SV\",Données1!E86,Données1!E70)","v":-1.7077012760085906},{"$f":"IF(Hypothèses!$J$24=\"SV\",Données1!F86,Données1!F70)","v":0.68777374620058018},{"$f":"IF(Hypothèses!$J$24=\"SV\",Données1!G86,Données1!G70)","v":-3.3256964817452883E-2},{"$f":"IF(Hypothèses!$J$24=\"SV\",Données1!H86,Données1!H70)","v":-2.567158062553704},{"$f":"IF(Hypothèses!$J$24=\"SV\",Données1!I86,Données1!I70)","v":4.4951451357829821},{"$f":"IF(Hypothèses!$J$24=\"SV\",Données1!J86,Données1!J70)","v":-1.7684617746686409},{"$f":"IF(Hypothèses!$J$24=\"SV\",Données1!K86,Données1!K70)","v":0.72659269509432756},{"$f":"IF(Hypothèses!$J$24=\"SV\",Données1!L86,Données1!L70)","v":-3.483235760323683E-2},{"$f":"IF(Hypothèses!$J$24=\"SV\",Données1!M86,Données1!M70)","v":-2.6068460611940938},{"$f":"IF(Hypothèses!$J$24=\"SV\",Données1!N86,Données1!N70)","v":4.5839199184876618},{"$f":"IF(Hypothèses!$J$24=\"SV\",Données1!O86,Données1!O70)","v":-1.8399488325474656},{"$f":"IF(Hypothèses!$J$24=\"SV\",Données1!P86,Données1!P70)","v":0.73710128402328567},{"$f":"IF(Hypothèses!$J$24=\"SV\",Données1!Q86,Données1!Q70)","v":-3.5720549193998419E-2},{"$f":"IF(Hypothèses!$J$24=\"SV\",Données1!R86,Données1!R70)","v":-2.6068460611940938},{"$f":"IF(Hypothèses!$J$24=\"SV\",Données1!S86,Données1!S70)","v":4.5839199184876618},{"$f":"IF(Hypothèses!$J$24=\"SV\",Données1!T86,Données1!T70)","v":-1.8399488325474656},{"$f":"IF(Hypothèses!$J$24=\"SV\",Données1!U86,Données1!U70)","v":0.73710128402328567},{"$f":"IF(Hypothèses!$J$24=\"SV\",Données1!V86,Données1!V70)","v":-3.5720549193998419E-2},{"$f":"IF(Hypothèses!$J$24=\"SV\",Données1!W86,Données1!W70)","v":-2.4683986141007055},{"$f":"IF(Hypothèses!$J$24=\"SV\",Données1!X86,Données1!X70)","v":4.2938361319984315},{"$f":"IF(Hypothèses!$J$24=\"SV\",Données1!Y86,Données1!Y70)","v":-1.6357306823142548},{"$f":"IF(Hypothèses!$J$24=\"SV\",Données1!Z86,Données1!Z70)","v":0.69925884797122106},{"$f":"IF(Hypothèses!$J$24=\"SV\",Données1!AA86,Données1!AA70)","v":-3.2960249665770158E-2},{"$f":"IF(Hypothèses!$J$24=\"SV\",Données1!AB86,Données1!AB70)","v":-2.616009515710076},{"$f":"IF(Hypothèses!$J$24=\"SV\",Données1!AC86,Données1!AC70)","v":4.6018245912627185},{"$f":"IF(Hypothèses!$J$24=\"SV\",Données1!AD86,Données1!AD70)","v":-1.850500859139371},{"$f":"IF(Hypothèses!$J$24=\"SV\",Données1!AE86,Données1!AE70)","v":0.73965306246824336},{"$f":"IF(Hypothèses!$J$24=\"SV\",Données1!AF86,Données1!AF70)","v":-3.5879694167715803E-2},{"$f":"IF(Hypothèses!$J$24=\"SV\",Données1!AG86,Données1!AG70)","v":-2.616009515710076},{"$f":"IF(Hypothèses!$J$24=\"SV\",Données1!AH86,Données1!AH70)","v":4.6018245912627185},{"$f":"IF(Hypothèses!$J$24=\"SV\",Données1!AI86,Données1!AI70)","v":-1.850500859139371},{"$f":"IF(Hypothèses!$J$24=\"SV\",Données1!AJ86,Données1!AJ70)","v":0.73965306246824336},{"$f":"IF(Hypothèses!$J$24=\"SV\",Données1!AK86,Données1!AK70)","v":-3.5879694167715803E-2},{"$f":"IF(Hypothèses!$J$24=\"SV\",Données1!AL86,Données1!AL70)","v":-2.5669199703142866},{"$f":"IF(Hypothèses!$J$24=\"SV\",Données1!AM86,Données1!AM70)","v":4.4939239806448725},{"$f":"IF(Hypothèses!$J$24=\"SV\",Données1!AN86,Données1!AN70)","v":-1.7664431275818377},{"$f":"IF(Hypothèses!$J$24=\"SV\",Données1!AO86,Données1!AO70)","v":0.72657625725311137},{"$f":"IF(Hypothèses!$J$24=\"SV\",Données1!AP86,Données1!AP70)","v":-3.4815344762271661E-2}]
[null,"Mai",-0.12877767873743673,-0.22872587624721627,0.75722209801440787,0.28672692191952287,-8.3081891910492221E-3,0.1961728186988918,-0.88276427911344302,1.2081985700501494,0.30358211222454357,-8.2360184344516113E-3,5.6608056350562437E-2,-0.60138854322766622,1.0136136607216459,0.29609389773860534,-8.2597837640787999E-3,5.6608056350562437E-2,-0.60138854322766622,1.0136136607216459,0.29609389773860534,-8.2597837640787999E-3,0.2335817163095478,-0.94756657318853099,1.2399371044525338,0.29897870953081263,-8.0445058606381931E-3,6.0290595537447027E-2,-0.6088069282695977,1.0187357615903512,0.29628454271284504,-8.2589816894230866E-3,6.0290595537447027E-2,-0.6088069282695977,1.0187357615903512,0.29628454271284504,-8.2589816894230866E-3,0.20924593252628593,-0.90654824716412308,1.2214783409401999,0.30268269190057623,-8.1889517591007405E-3,null,"Mai",{"$f":"IF(Hypothèses!$J$24=\"SV\",Données1!C87,Données1!C71)","v":-2.7347067502377911},{"$f":"IF(Hypothèses!$J$24=\"SV\",Données1!D87,Données1!D71)","v":4.8963680895266686},{"$f":"IF(Hypothèses!$J$24=\"SV\",Données1!E87,Données1!E71)","v":-2.1303443195444749},{"$f":"IF(Hypothèses!$J$24=\"SV\",Données1!F87,Données1!F71)","v":0.77070222730130067},{"$f":"IF(Hypothèses!$J$24=\"SV\",Données1!G87,Données1!G71)","v":-3.909036599814647E-2},{"$f":"IF(Hypothèses!$J$24=\"SV\",Données1!H87,Données1!H71)","v":-2.531345916643323},{"$f":"IF(Hypothèses!$J$24=\"SV\",Données1!I87,Données1!I71)","v":4.4174261534526815},{"$f":"IF(Hypothèses!$J$24=\"SV\",Données1!J87,Données1!J71)","v":-1.7094077865588182},{"$f":"IF(Hypothèses!$J$24=\"SV\",Données1!K87,Données1!K71)","v":0.71703975173707801},{"$f":"IF(Hypothèses!$J$24=\"SV\",Données1!L87,Données1!L71)","v":-3.4074923679401237E-2},{"$f":"IF(Hypothèses!$J$24=\"SV\",Données1!M87,Données1!M71)","v":-2.6157435479794149},{"$f":"IF(Hypothèses!$J$24=\"SV\",Données1!N87,Données1!N71)","v":4.6177390117054724},{"$f":"IF(Hypothèses!$J$24=\"SV\",Données1!O87,Données1!O71)","v":-1.8877717026711567},{"$f":"IF(Hypothèses!$J$24=\"SV\",Données1!P87,Données1!P71)","v":0.73904475920887625},{"$f":"IF(Hypothèses!$J$24=\"SV\",Données1!Q87,Données1!Q71)","v":-3.6176371651270745E-2},{"$f":"IF(Hypothèses!$J$24=\"SV\",Données1!R87,Données1!R71)","v":-2.6157435479794149},{"$f":"IF(Hypothèses!$J$24=\"SV\",Données1!S87,Données1!S71)","v":4.6177390117054724},{"$f":"IF(Hypothèses!$J$24=\"SV\",Données1!T87,Données1!T71)","v":-1.8877717026711567},{"$f":"IF(Hypothèses!$J$24=\"SV\",Données1!U87,Données1!U71)","v":0.73904475920887625},{"$f":"IF(Hypothèses!$J$24=\"SV\",Données1!V87,Données1!V71)","v":-3.6176371651270745E-2},{"$f":"IF(Hypothèses!$J$24=\"SV\",Données1!W87,Données1!W71)","v":-2.4753395395999256},{"$f":"IF(Hypothèses!$J$24=\"SV\",Données1!X87,Données1!X71)","v":4.3057939937588579},{"$f":"IF(Hypothèses!$J$24=\"SV\",Données1!Y87,Données1!Y71)","v":-1.640066459362971},{"$f":"IF(Hypothèses!$J$24=\"SV\",Données1!Z87,Données1!Z71)","v":0.70122639854689017},{"$f":"IF(Hypothèses!$J$24=\"SV\",Données1!AA87,Données1!AA71)","v":-3.3050707536878221E-2},{"$f":"IF(Hypothèses!$J$24=\"SV\",Données1!AB87,Données1!AB71)","v":-2.6138294121518193},{"$f":"IF(Hypothèses!$J$24=\"SV\",Données1!AC87,Données1!AC71)","v":4.6130237949804718},{"$f":"IF(Hypothèses!$J$24=\"SV\",Données1!AD87,Données1!AD71)","v":-1.8833405607273042},{"$f":"IF(Hypothèses!$J$24=\"SV\",Données1!AE87,Données1!AE71)","v":0.7385390712959794},{"$f":"IF(Hypothèses!$J$24=\"SV\",Données1!AF87,Données1!AF71)","v":-3.6125081361122968E-2},{"$f":"IF(Hypothèses!$J$24=\"SV\",Données1!AG87,Données1!AG71)","v":-2.6138294121518193},{"$f":"IF(Hypothèses!$J$24=\"SV\",Données1!AH87,Données1!AH71)","v":4.6130237949804718},{"$f":"IF(Hypothèses!$J$24=\"SV\",Données1!AI87,Données1!AI71)","v":-1.8833405607273042},{"$f":"IF(Hypothèses!$J$24=\"SV\",Données1!AJ87,Données1!AJ71)","v":0.7385390712959794},{"$f":"IF(Hypothèses!$J$24=\"SV\",Données1!AK87,Données1!AK71)","v":-3.6125081361122968E-2},{"$f":"IF(Hypothèses!$J$24=\"SV\",Données1!AL87,Données1!AL71)","v":-2.5152816384838381},{"$f":"IF(Hypothèses!$J$24=\"SV\",Données1!AM87,Données1!AM71)","v":4.384517196468634},{"$f":"IF(Hypothèses!$J$24=\"SV\",Données1!AN87,Données1!AN71)","v":-1.6874274366343476},{"$f":"IF(Hypothèses!$J$24=\"SV\",Données1!AO87,Données1!AO71)","v":0.71262338939791225},{"$f":"IF(Hypothèses!$J$24=\"SV\",Données1!AP87,Données1!AP71)","v":-3.3768349266413922E-2}]
[null,"Juin",-0.10568113509283282,-0.29279990447376036,0.82305951690052126,0.29871167162353945,-8.6061404373952363E-3,0.23258340518479981,-0.95084332408667127,1.2487156348504016,0.30221232528744102,-8.1367766122765542E-3,7.8279879065769803E-2,-0.63890576724828252,1.0319586162082854,0.29343262547042304,-8.1488688983139251E-3,7.8279879065769803E-2,-0.63890576724828252,1.0319586162082854,0.29343262547042304,-8.1488688983139251E-3,0.23358171630934832,-0.94756657318815496,1.2399371044523009,0.29897870953086486,-8.0445058606418707E-3,9.6538521941744157E-2,-0.67476476653696338,1.0555852222264361,0.29382359153987503,-8.1292477108368261E-3,9.6538521941744157E-2,-0.67476476653696338,1.0555852222264361,0.29382359153987503,-8.1292477108368261E-3,0.2261047970328256,-0.93731133790408017,1.2387806119259517,0.30158246676382494,-8.1299107092993664E-3,null,"Juin",{"$f":"IF(Hypothèses!$J$24=\"SV\",Données1!C88,Données1!C72)","v":-2.7959817147155395},{"$f":"IF(Hypothèses!$J$24=\"SV\",Données1!D88,Données1!D72)","v":4.9953046651426787},{"$f":"IF(Hypothèses!$J$24=\"SV\",Données1!E88,Données1!E72)","v":-2.1535832124765442},{"$f":"IF(Hypothèses!$J$24=\"SV\",Données1!F88,Données1!F72)","v":0.78810064924144163},{"$f":"IF(Hypothèses!$J$24=\"SV\",Données1!G88,Données1!G72)","v":-3.9760169266062795E-2},{"$f":"IF(Hypothèses!$J$24=\"SV\",Données1!H88,Données1!H72)","v":-2.4935400386531681},{"$f":"IF(Hypothèses!$J$24=\"SV\",Données1!I88,Données1!I72)","v":4.3378782597898997},{"$f":"IF(Hypothèses!$J$24=\"SV\",Données1!J88,Données1!J72)","v":-1.6529009729010349},{"$f":"IF(Hypothèses!$J$24=\"SV\",Données1!K88,Données1!K72)","v":0.70667861775785923},{"$f":"IF(Hypothèses!$J$24=\"SV\",Données1!L88,Données1!L72)","v":-3.3313543946369262E-2},{"$f":"IF(Hypothèses!$J$24=\"SV\",Données1!M88,Données1!M72)","v":-2.5794875831237181},{"$f":"IF(Hypothèses!$J$24=\"SV\",Données1!N88,Données1!N72)","v":4.5462107779067589},{"$f":"IF(Hypothèses!$J$24=\"SV\",Données1!O88,Données1!O72)","v":-1.8444083072280859},{"$f":"IF(Hypothèses!$J$24=\"SV\",Données1!P88,Données1!P72)","v":0.72903841594940422},{"$f":"IF(Hypothèses!$J$24=\"SV\",Données1!Q88,Données1!Q72)","v":-3.5536732703976281E-2},{"$f":"IF(Hypothèses!$J$24=\"SV\",Données1!R88,Données1!R72)","v":-2.5794875831237181},{"$f":"IF(Hypothèses!$J$24=\"SV\",Données1!S88,Données1!S72)","v":4.5462107779067589},{"$f":"IF(Hypothèses!$J$24=\"SV\",Données1!T88,Données1!T72)","v":-1.8444083072280859},{"$f":"IF(Hypothèses!$J$24=\"SV\",Données1!U88,Données1!U72)","v":0.72903841594940422},{"$f":"IF(Hypothèses!$J$24=\"SV\",Données1!V88,Données1!V72)","v":-3.5536732703976281E-2},{"$f":"IF(Hypothèses!$J$24=\"SV\",Données1!W88,Données1!W72)","v":-2.4753395395996867},{"$f":"IF(Hypothèses!$J$24=\"SV\",Données1!X88,Données1!X72)","v":4.3057939937584226},{"$f":"IF(Hypothèses!$J$24=\"SV\",Données1!Y88,Données1!Y72)","v":-1.6400664593627126},{"$f":"IF(Hypothèses!$J$24=\"SV\",Données1!Z88,Données1!Z72)","v":0.70122639854683244},{"$f":"IF(Hypothèses!$J$24=\"SV\",Données1!AA88,Données1!AA72)","v":-3.3050707536874724E-2},{"$f":"IF(Hypothèses!$J$24=\"SV\",Données1!AB88,Données1!AB72)","v":-2.5651886734848737},{"$f":"IF(Hypothèses!$J$24=\"SV\",Données1!AC88,Données1!AC72)","v":4.5143203272084307},{"$f":"IF(Hypothèses!$J$24=\"SV\",Données1!AD88,Données1!AD72)","v":-1.8189031666028763},{"$f":"IF(Hypothèses!$J$24=\"SV\",Données1!AE88,Données1!AE72)","v":0.72519169114032056},{"$f":"IF(Hypothèses!$J$24=\"SV\",Données1!AF88,Données1!AF72)","v":-3.5216212570733652E-2},{"$f":"IF(Hypothèses!$J$24=\"SV\",Données1!AG88,Données1!AG72)","v":-2.5651886734848737},{"$f":"IF(Hypothèses!$J$24=\"SV\",Données1!AH88,Données1!AH72)","v":4.5143203272084307},{"$f":"IF(Hypothèses!$J$24=\"SV\",Données1!AI88,Données1!AI72)","v":-1.8189031666028763},{"$f":"IF(Hypothèses!$J$24=\"SV\",Données1!AJ88,Données1!AJ72)","v":0.72519169114032056},{"$f":"IF(Hypothèses!$J$24=\"SV\",Données1!AK88,Données1!AK72)","v":-3.5216212570733652E-2},{"$f":"IF(Hypothèses!$J$24=\"SV\",Données1!AL88,Données1!AL72)","v":-2.4948544050900772},{"$f":"IF(Hypothèses!$J$24=\"SV\",Données1!AM88,Données1!AM72)","v":4.3425568408707234},{"$f":"IF(Hypothèses!$J$24=\"SV\",Données1!AN88,Données1!AN72)","v":-1.6592493572515565},{"$f":"IF(Hypothèses!$J$24=\"SV\",Données1!AO88,Données1!AO72)","v":0.70696128773485301},{"$f":"IF(Hypothèses!$J$24=\"SV\",Données1!AP88,Données1!AP72)","v":-3.3374490523401135E-2}]
[null,"Juillet",-0.14923687990660964,-0.19610896203080888,0.74527342602099234,0.2909091103082137,-8.4601087570713059E-3,0.20236554145620345,-0.89342956892743364,1.21333364386941,0.30278398623319586,-8.2032890975157549E-3,5.0854410794638844E-2,-0.58779001468822401,1.001751792431202,0.29455614859450363,-8.2262498281316931E-3,5.0854410794638844E-2,-0.58779001468822401,1.001751792431202,0.29455614859450363,-8.2262498281316931E-3,0.23358171630936575,-0.94756657318815296,1.239937104452276,0.29897870953087696,-8.0445058606429809E-3,5.5876378397877215E-2,-0.59757928236192737,1.0081073538666339,0.29461213636979228,-8.2194436641484063E-3,5.5876378397877215E-2,-0.59757928236192737,1.0081073538666339,0.29461213636979228,-8.2194436641484063E-3,0.20241921994862058,-0.89314615864909397,1.212655834244641,0.30254511577932852,-8.1964967570838723E-3,null,"Juillet",{"$f":"IF(Hypothèses!$J$24=\"SV\",Données1!C89,Données1!C73)","v":-2.784535594255543},{"$f":"IF(Hypothèses!$J$24=\"SV\",Données1!D89,Données1!D73)","v":4.9915771242337099},{"$f":"IF(Hypothèses!$J$24=\"SV\",Données1!E89,Données1!E73)","v":-2.1829041270804006},{"$f":"IF(Hypothèses!$J$24=\"SV\",Données1!F89,Données1!F73)","v":0.78448647202257893},{"$f":"IF(Hypothèses!$J$24=\"SV\",Données1!G89,Données1!G73)","v":-3.9910019818280129E-2},{"$f":"IF(Hypothèses!$J$24=\"SV\",Données1!H89,Données1!H73)","v":-2.5218474627897467},{"$f":"IF(Hypothèses!$J$24=\"SV\",Données1!I89,Données1!I73)","v":4.3985606145466489},{"$f":"IF(Hypothèses!$J$24=\"SV\",Données1!J89,Données1!J73)","v":-1.6977676928708025},{"$f":"IF(Hypothèses!$J$24=\"SV\",Données1!K89,Données1!K73)","v":0.71440769566768958},{"$f":"IF(Hypothèses!$J$24=\"SV\",Données1!L89,Données1!L73)","v":-3.3904463480847025E-2},{"$f":"IF(Hypothèses!$J$24=\"SV\",Données1!M89,Données1!M73)","v":-2.610735773384631},{"$f":"IF(Hypothèses!$J$24=\"SV\",Données1!N89,Données1!N73)","v":4.6111067210253722},{"$f":"IF(Hypothèses!$J$24=\"SV\",Données1!O89,Données1!O73)","v":-1.8891958813307292},{"$f":"IF(Hypothèses!$J$24=\"SV\",Données1!P89,Données1!P73)","v":0.73757544860966473},{"$f":"IF(Hypothèses!$J$24=\"SV\",Données1!Q89,Données1!Q73)","v":-3.6148271717822367E-2},{"$f":"IF(Hypothèses!$J$24=\"SV\",Données1!R89,Données1!R73)","v":-2.610735773384631},{"$f":"IF(Hypothèses!$J$24=\"SV\",Données1!S89,Données1!S73)","v":4.6111067210253722},{"$f":"IF(Hypothèses!$J$24=\"SV\",Données1!T89,Données1!T73)","v":-1.8891958813307292},{"$f":"IF(Hypothèses!$J$24=\"SV\",Données1!U89,Données1!U73)","v":0.73757544860966473},{"$f":"IF(Hypothèses!$J$24=\"SV\",Données1!V89,Données1!V73)","v":-3.6148271717822367E-2},{"$f":"IF(Hypothèses!$J$24=\"SV\",Données1!W89,Données1!W73)","v":-2.4753395395997049},{"$f":"IF(Hypothèses!$J$24=\"SV\",Données1!X89,Données1!X73)","v":4.3057939937584377},{"$f":"IF(Hypothèses!$J$24=\"SV\",Données1!Y89,Données1!Y73)","v":-1.6400664593627055},{"$f":"IF(Hypothèses!$J$24=\"SV\",Données1!Z89,Données1!Z73)","v":0.70122639854682867},{"$f":"IF(Hypothèses!$J$24=\"SV\",Données1!AA89,Données1!AA73)","v":-3.305070753687428E-2},{"$f":"IF(Hypothèses!$J$24=\"SV\",Données1!AB89,Données1!AB73)","v":-2.60698025878933},{"$f":"IF(Hypothèses!$J$24=\"SV\",Données1!AC89,Données1!AC73)","v":4.6026867626294639},{"$f":"IF(Hypothèses!$J$24=\"SV\",Données1!AD89,Données1!AD73)","v":-1.8823979546378473},{"$f":"IF(Hypothèses!$J$24=\"SV\",Données1!AE89,Données1!AE73)","v":0.73656378118997456},{"$f":"IF(Hypothèses!$J$24=\"SV\",Données1!AF89,Données1!AF73)","v":-3.606317186325031E-2},{"$f":"IF(Hypothèses!$J$24=\"SV\",Données1!AG89,Données1!AG73)","v":-2.60698025878933},{"$f":"IF(Hypothèses!$J$24=\"SV\",Données1!AH89,Données1!AH73)","v":4.6026867626294639},{"$f":"IF(Hypothèses!$J$24=\"SV\",Données1!AI89,Données1!AI73)","v":-1.8823979546378473},{"$f":"IF(Hypothèses!$J$24=\"SV\",Données1!AJ89,Données1!AJ73)","v":0.73656378118997456},{"$f":"IF(Hypothèses!$J$24=\"SV\",Données1!AK89,Données1!AK73)","v":-3.606317186325031E-2},{"$f":"IF(Hypothèses!$J$24=\"SV\",Données1!AL89,Données1!AL73)","v":-2.5201910593070447},{"$f":"IF(Hypothèses!$J$24=\"SV\",Données1!AM89,Données1!AM73)","v":4.3956382743155684},{"$f":"IF(Hypothèses!$J$24=\"SV\",Données1!AN89,Données1!AN73)","v":-1.6965740989203109},{"$f":"IF(Hypothèses!$J$24=\"SV\",Données1!AO89,Données1!AO73)","v":0.71394331543070555},{"$f":"IF(Hypothèses!$J$24=\"SV\",Données1!AP89,Données1!AP73)","v":-3.3881730856403391E-2}]
[null,"Août",-5.2537572593603518E-2,-0.34878349447700546,0.79892940438649207,0.27040119966970233,-7.7202070449593763E-3,0.16324368582747761,-0.82133248319930319,1.1718197304361297,0.3049031267773416,-8.3280947258517445E-3,4.0331430891231868E-2,-0.57686157348040057,1.0068575694618385,0.3003748952093736,-8.4069486601695154E-3,4.0331430891231868E-2,-0.57686157348040057,1.0068575694618385,0.3003748952093736,-8.4069486601695154E-3,0.23358171630924618,-0.94756657318793591,1.239937104452151,0.29897870953090239,-8.0445058606444519E-3,5.8327298620630817E-2,-0.61177144835226516,1.0293115323983879,0.30049129244585332,-8.3800735095893066E-3,5.8327298620630817E-2,-0.61177144835226516,1.0293115323983879,0.30049129244585332,-8.3800735095893066E-3,0.15898463542202693,-0.81170196310381904,1.163875426286554,0.30402990840297711,-8.3107324390795864E-3,null,"Août",{"$f":"IF(Hypothèses!$J$24=\"SV\",Données1!C90,Données1!C74)","v":-2.5296982891892328},{"$f":"IF(Hypothèses!$J$24=\"SV\",Données1!D90,Données1!D74)","v":4.5065505282884883},{"$f":"IF(Hypothèses!$J$24=\"SV\",Données1!E90,Données1!E74)","v":-1.9184369250907205},{"$f":"IF(Hypothèses!$J$24=\"SV\",Données1!F90,Données1!F74)","v":0.71392778443603255},{"$f":"IF(Hypothèses!$J$24=\"SV\",Données1!G90,Données1!G74)","v":-3.5752836371676366E-2},{"$f":"IF(Hypothèses!$J$24=\"SV\",Données1!H90,Données1!H74)","v":-2.5664304465778733},{"$f":"IF(Hypothèses!$J$24=\"SV\",Données1!I90,Données1!I74)","v":4.4909445119350462},{"$f":"IF(Hypothèses!$J$24=\"SV\",Données1!J90,Données1!J74)","v":-1.7611836977308186},{"$f":"IF(Hypothèses!$J$24=\"SV\",Données1!K90,Données1!K74)","v":0.72661660406239192},{"$f":"IF(Hypothèses!$J$24=\"SV\",Données1!L90,Données1!L74)","v":-3.4774057880389786E-2},{"$f":"IF(Hypothèses!$J$24=\"SV\",Données1!M90,Données1!M74)","v":-2.6545516788768411},{"$f":"IF(Hypothèses!$J$24=\"SV\",Données1!N90,Données1!N74)","v":4.6914995184800556},{"$f":"IF(Hypothèses!$J$24=\"SV\",Données1!O90,Données1!O74)","v":-1.9277622212064764},{"$f":"IF(Hypothèses!$J$24=\"SV\",Données1!P90,Données1!P74)","v":0.74987289418859793},{"$f":"IF(Hypothèses!$J$24=\"SV\",Données1!Q90,Données1!Q74)","v":-3.6810671540085327E-2},{"$f":"IF(Hypothèses!$J$24=\"SV\",Données1!R90,Données1!R74)","v":-2.6545516788768411},{"$f":"IF(Hypothèses!$J$24=\"SV\",Données1!S90,Données1!S74)","v":4.6914995184800556},{"$f":"IF(Hypothèses!$J$24=\"SV\",Données1!T90,Données1!T74)","v":-1.9277622212064764},{"$f":"IF(Hypothèses!$J$24=\"SV\",Données1!U90,Données1!U74)","v":0.74987289418859793},{"$f":"IF(Hypothèses!$J$24=\"SV\",Données1!V90,Données1!V74)","v":-3.6810671540085327E-2},{"$f":"IF(Hypothèses!$J$24=\"SV\",Données1!W90,Données1!W74)","v":-2.4753395395998039},{"$f":"IF(Hypothèses!$J$24=\"SV\",Données1!X90,Données1!X74)","v":4.3057939937585958},{"$f":"IF(Hypothèses!$J$24=\"SV\",Données1!Y90,Données1!Y74)","v":-1.6400664593627858},{"$f":"IF(Hypothèses!$J$24=\"SV\",Données1!Z90,Données1!Z74)","v":0.70122639854684432},{"$f":"IF(Hypothèses!$J$24=\"SV\",Données1!AA90,Données1!AA74)","v":-3.3050707536875279E-2},{"$f":"IF(Hypothèses!$J$24=\"SV\",Données1!AB90,Données1!AB74)","v":-2.6389104581280773},{"$f":"IF(Hypothèses!$J$24=\"SV\",Données1!AC90,Données1!AC74)","v":4.6573709583213621},{"$f":"IF(Hypothèses!$J$24=\"SV\",Données1!AD90,Données1!AD74)","v":-1.9015907210441343},{"$f":"IF(Hypothèses!$J$24=\"SV\",Données1!AE90,Données1!AE74)","v":0.74564015790926552},{"$f":"IF(Hypothèses!$J$24=\"SV\",Données1!AF90,Données1!AF74)","v":-3.6473902542220049E-2},{"$f":"IF(Hypothèses!$J$24=\"SV\",Données1!AG90,Données1!AG74)","v":-2.6389104581280773},{"$f":"IF(Hypothèses!$J$24=\"SV\",Données1!AH90,Données1!AH74)","v":4.6573709583213621},{"$f":"IF(Hypothèses!$J$24=\"SV\",Données1!AI90,Données1!AI74)","v":-1.9015907210441343},{"$f":"IF(Hypothèses!$J$24=\"SV\",Données1!AJ90,Données1!AJ74)","v":0.74564015790926552},{"$f":"IF(Hypothèses!$J$24=\"SV\",Données1!AK90,Données1!AK74)","v":-3.6473902542220049E-2},{"$f":"IF(Hypothèses!$J$24=\"SV\",Données1!AL90,Données1!AL74)","v":-2.5650139129907359},{"$f":"IF(Hypothèses!$J$24=\"SV\",Données1!AM90,Données1!AM74)","v":4.4900742441058288},{"$f":"IF(Hypothèses!$J$24=\"SV\",Données1!AN90,Données1!AN74)","v":-1.7639031067818991},{"$f":"IF(Hypothèses!$J$24=\"SV\",Données1!AO90,Données1!AO74)","v":0.72614173450762332},{"$f":"IF(Hypothèses!$J$24=\"SV\",Données1!AP90,Données1!AP74)","v":-3.4783518694077087E-2}]
[null,"Septembre",0.18676113308942566,-0.82646426482301072,1.1234289259748325,0.28041328976981938,-7.5994295288698763E-3,8.2565123494264897E-2,-0.66721466047657063,1.0757547374012562,0.30589351707711604,-8.4907855498494045E-3,6.5566132631309351E-2,-0.63604108421879713,1.0580111296648491,0.30690714740273867,-8.547632144561515E-3,6.5566132631309351E-2,-0.63604108421879713,1.0580111296648491,0.30690714740273867,-8.547632144561515E-3,0.14504356630718931,-0.74060502265395278,1.0618995667460567,0.27710526561590565,-7.5764449541029164E-3,7.2565794929263655E-2,-0.6491507609081022,1.0658434978373885,0.30666183355005,-8.529032370943013E-3,7.2565794929263655E-2,-0.6491507609081022,1.0658434978373885,0.30666183355005,-8.529032370943013E-3,9.105392442762017E-2,-0.68335582421811192,1.085719589739337,0.30574653927754403,-8.4724472094771346E-3,null,"Septembre",{"$f":"IF(Hypothèses!$J$24=\"SV\",Données1!C91,Données1!C75)","v":-2.3600059228118222},{"$f":"IF(Hypothèses!$J$24=\"SV\",Données1!D91,Données1!D75)","v":4.1184241065173008},{"$f":"IF(Hypothèses!$J$24=\"SV\",Données1!E91,Données1!E75)","v":-1.5938134636600572},{"$f":"IF(Hypothèses!$J$24=\"SV\",Données1!F91,Données1!F75)","v":0.66833576574523235},{"$f":"IF(Hypothèses!$J$24=\"SV\",Données1!G91,Données1!G75)","v":-3.1761939110331094E-2},{"$f":"IF(Hypothèses!$J$24=\"SV\",Données1!H91,Données1!H75)","v":-2.6433425991346184},{"$f":"IF(Hypothèses!$J$24=\"SV\",Données1!I91,Données1!I75)","v":4.6555423812397585},{"$f":"IF(Hypothèses!$J$24=\"SV\",Données1!J91,Données1!J75)","v":-1.8826078714315064},{"$f":"IF(Hypothèses!$J$24=\"SV\",Données1!K91,Données1!K75)","v":0.74737984282599368},{"$f":"IF(Hypothèses!$J$24=\"SV\",Données1!L91,Données1!L75)","v":-3.6364965029847041E-2},{"$f":"IF(Hypothèses!$J$24=\"SV\",Données1!M91,Données1!M75)","v":-2.6646478625727026},{"$f":"IF(Hypothèses!$J$24=\"SV\",Données1!N91,Données1!N75)","v":4.6991384791532784},{"$f":"IF(Hypothèses!$J$24=\"SV\",Données1!O91,Données1!O75)","v":-1.9116726804099906},{"$f":"IF(Hypothèses!$J$24=\"SV\",Données1!P91,Données1!P75)","v":0.75319692076973765},{"$f":"IF(Hypothèses!$J$24=\"SV\",Données1!Q91,Données1!Q75)","v":-3.676903389590358E-2},{"$f":"IF(Hypothèses!$J$24=\"SV\",Données1!R91,Données1!R75)","v":-2.6646478625727026},{"$f":"IF(Hypothèses!$J$24=\"SV\",Données1!S91,Données1!S75)","v":4.6991384791532784},{"$f":"IF(Hypothèses!$J$24=\"SV\",Données1!T91,Données1!T75)","v":-1.9116726804099906},{"$f":"IF(Hypothèses!$J$24=\"SV\",Données1!U91,Données1!U75)","v":0.75319692076973765},{"$f":"IF(Hypothèses!$J$24=\"SV\",Données1!V91,Données1!V75)","v":-3.676903389590358E-2},{"$f":"IF(Hypothèses!$J$24=\"SV\",Données1!W91,Données1!W75)","v":-2.3780000704597892},{"$f":"IF(Hypothèses!$J$24=\"SV\",Données1!X91,Données1!X75)","v":4.1656820175513953},{"$f":"IF(Hypothèses!$J$24=\"SV\",Données1!Y91,Données1!Y75)","v":-1.6421147407994996},{"$f":"IF(Hypothèses!$J$24=\"SV\",Données1!Z91,Données1!Z75)","v":0.67308587958051214},{"$f":"IF(Hypothèses!$J$24=\"SV\",Données1!AA91,Données1!AA75)","v":-3.2301406354391604E-2},{"$f":"IF(Hypothèses!$J$24=\"SV\",Données1!AB91,Données1!AB75)","v":-2.6566645462759131},{"$f":"IF(Hypothèses!$J$24=\"SV\",Données1!AC91,Données1!AC75)","v":4.6825433741912104},{"$f":"IF(Hypothèses!$J$24=\"SV\",Données1!AD91,Données1!AD75)","v":-1.9001904467297379},{"$f":"IF(Hypothèses!$J$24=\"SV\",Données1!AE91,Données1!AE75)","v":0.75102362054670369},{"$f":"IF(Hypothèses!$J$24=\"SV\",Données1!AF91,Données1!AF75)","v":-3.6612795670203091E-2},{"$f":"IF(Hypothèses!$J$24=\"SV\",Données1!AG91,Données1!AG75)","v":-2.6566645462759131},{"$f":"IF(Hypothèses!$J$24=\"SV\",Données1!AH91,Données1!AH75)","v":4.6825433741912104},{"$f":"IF(Hypothèses!$J$24=\"SV\",Données1!AI91,Données1!AI75)","v":-1.9001904467297379},{"$f":"IF(Hypothèses!$J$24=\"SV\",Données1!AJ91,Données1!AJ75)","v":0.75102362054670369},{"$f":"IF(Hypothèses!$J$24=\"SV\",Données1!AK91,Données1!AK75)","v":-3.6612795670203091E-2},{"$f":"IF(Hypothèses!$J$24=\"SV\",Données1!AL91,Données1!AL75)","v":-2.6345250766559345},{"$f":"IF(Hypothèses!$J$24=\"SV\",Données1!AM91,Données1!AM75)","v":4.6369218459250794},{"$f":"IF(Hypothèses!$J$24=\"SV\",Données1!AN91,Données1!AN75)","v":-1.8692592804515433},{"$f":"IF(Hypothèses!$J$24=\"SV\",Données1!AO91,Données1!AO75)","v":0.7449894911742867},{"$f":"IF(Hypothèses!$J$24=\"SV\",Données1!AP91,Données1!AP75)","v":-3.618708171587065E-2}]
[null,"Octobre",0.2335817163091583,-0.94756657318780035,1.239937104452089,0.29897870953091138,-8.0445058606448336E-3,6.473804150118749E-2,-0.62435927749412667,1.0376047422066583,0.30063847998733467,-8.3733933236448295E-3,0.13862559319437567,-0.77492769860924104,1.1437033903585732,0.30559202076141018,-8.3885728810863674E-3,0.13862559319437567,-0.77492769860924104,1.1437033903585732,0.30559202076141018,-8.3885728810863674E-3,-9.5994400567089716E-2,-0.27341666616805488,0.76184861640972901,0.2755080467424898,-7.9370515115186023E-3,0.16922283856221884,-0.83498360770746838,1.1832250370213189,0.30621231296163975,-8.354792205560832E-3,0.16922283856221884,-0.83498360770746838,1.1832250370213189,0.30621231296163975,-8.354792205560832E-3,4.632750656763486E-2,-0.59089784054681216,1.0189652449726376,0.30192010470556779,-8.4401290102045553E-3,null,"Octobre",{"$f":"IF(Hypothèses!$J$24=\"SV\",Données1!C92,Données1!C76)","v":-2.4753395395998723},{"$f":"IF(Hypothèses!$J$24=\"SV\",Données1!D92,Données1!D76)","v":4.3057939937587797},{"$f":"IF(Hypothèses!$J$24=\"SV\",Données1!E92,Données1!E76)","v":-1.6400664593629413},{"$f":"IF(Hypothèses!$J$24=\"SV\",Données1!F92,Données1!F76)","v":0.70122639854688829},{"$f":"IF(Hypothèses!$J$24=\"SV\",Données1!G92,Données1!G76)","v":-3.3050707536878499E-2},{"$f":"IF(Hypothèses!$J$24=\"SV\",Données1!H92,Données1!H76)","v":-2.6323372670065122},{"$f":"IF(Hypothèses!$J$24=\"SV\",Données1!I92,Données1!I76)","v":4.6433513763093579},{"$f":"IF(Hypothèses!$J$24=\"SV\",Données1!J92,Données1!J76)","v":-1.8913085277938222},{"$f":"IF(Hypothèses!$J$24=\"SV\",Données1!K92,Données1!K76)","v":0.74388556294014496},{"$f":"IF(Hypothèses!$J$24=\"SV\",Données1!L92,Données1!L76)","v":-3.6339641993449967E-2},{"$f":"IF(Hypothèses!$J$24=\"SV\",Données1!M92,Données1!M76)","v":-2.5914429237598702},{"$f":"IF(Hypothèses!$J$24=\"SV\",Données1!N92,Données1!N76)","v":4.5438184418550236},{"$f":"IF(Hypothèses!$J$24=\"SV\",Données1!O92,Données1!O76)","v":-1.7991631984054011},{"$f":"IF(Hypothèses!$J$24=\"SV\",Données1!P92,Données1!P76)","v":0.73340879641253598},{"$f":"IF(Hypothèses!$J$24=\"SV\",Données1!Q92,Données1!Q76)","v":-3.5280150655970455E-2},{"$f":"IF(Hypothèses!$J$24=\"SV\",Données1!R92,Données1!R76)","v":-2.5914429237598702},{"$f":"IF(Hypothèses!$J$24=\"SV\",Données1!S92,Données1!S76)","v":4.5438184418550236},{"$f":"IF(Hypothèses!$J$24=\"SV\",Données1!T92,Données1!T76)","v":-1.7991631984054011},{"$f":"IF(Hypothèses!$J$24=\"SV\",Données1!U92,Données1!U76)","v":0.73340879641253598},{"$f":"IF(Hypothèses!$J$24=\"SV\",Données1!V92,Données1!V76)","v":-3.5280150655970455E-2},{"$f":"IF(Hypothèses!$J$24=\"SV\",Données1!W92,Données1!W76)","v":-2.6124471911923721},{"$f":"IF(Hypothèses!$J$24=\"SV\",Données1!X92,Données1!X76)","v":4.668495175169836},{"$f":"IF(Hypothèses!$J$24=\"SV\",Données1!Y92,Données1!Y76)","v":-2.0144741458093471},{"$f":"IF(Hypothèses!$J$24=\"SV\",Données1!Z92,Données1!Z76)","v":0.73671740612962389},{"$f":"IF(Hypothèses!$J$24=\"SV\",Données1!AA92,Données1!AA76)","v":-3.7185210071107699E-2},{"$f":"IF(Hypothèses!$J$24=\"SV\",Données1!AB92,Données1!AB76)","v":-2.5679261906500992},{"$f":"IF(Hypothèses!$J$24=\"SV\",Données1!AC92,Données1!AC76)","v":4.4912482210110349},{"$f":"IF(Hypothèses!$J$24=\"SV\",Données1!AD92,Données1!AD76)","v":-1.7568847583553495},{"$f":"IF(Hypothèses!$J$24=\"SV\",Données1!AE92,Données1!AE76)","v":0.72717082551365109},{"$f":"IF(Hypothèses!$J$24=\"SV\",Données1!AF92,Données1!AF76)","v":-3.4754061432544447E-2},{"$f":"IF(Hypothèses!$J$24=\"SV\",Données1!AG92,Données1!AG76)","v":-2.5679261906500992},{"$f":"IF(Hypothèses!$J$24=\"SV\",Données1!AH92,Données1!AH76)","v":4.4912482210110349},{"$f":"IF(Hypothèses!$J$24=\"SV\",Données1!AI92,Données1!AI76)","v":-1.7568847583553495},{"$f":"IF(Hypothèses!$J$24=\"SV\",Données1!AJ92,Données1!AJ76)","v":0.72717082551365109},{"$f":"IF(Hypothèses!$J$24=\"SV\",Données1!AK92,Données1!AK76)","v":-3.4754061432544447E-2},{"$f":"IF(Hypothèses!$J$24=\"SV\",Données1!AL92,Données1!AL76)","v":-2.6562334942989279},{"$f":"IF(Hypothèses!$J$24=\"SV\",Données1!AM92,Données1!AM76)","v":4.6920017596720109},{"$f":"IF(Hypothèses!$J$24=\"SV\",Données1!AN92,Données1!AN76)","v":-1.9233166971433415},{"$f":"IF(Hypothèses!$J$24=\"SV\",Données1!AO92,Données1!AO76)","v":0.75045818478750637},{"$f":"IF(Hypothèses!$J$24=\"SV\",Données1!AP92,Données1!AP76)","v":-3.6789867727047676E-2}]
[null,"Novembre",0.23358171630953045,-0.9475665731884868,1.2399371044524969,0.29897870953082328,-8.0445058606391229E-3,7.4729286304920803E-2,-0.63292610776317237,1.0292783434482811,0.29399117150588433,-8.1703612446798399E-3,0.21723743150441785,-0.92220420081747101,1.2317443369571395,0.30282905285976247,-8.1796736272318066E-3,0.21723743150441785,-0.92220420081747101,1.2317443369571395,0.30282905285976247,-8.1796736272318066E-3,-0.15230082004980289,-0.21335670360164627,0.78602628302981437,0.30523074985666881,-8.8669322856793284E-3,0.25601025563705992,-0.99639615059490039,1.2781510179210951,0.30242340398533751,-8.103502812579183E-3,0.25601025563705992,-0.99639615059490039,1.2781510179210951,0.30242340398533751,-8.103502812579183E-3,3.7536025564550018E-2,-0.5627453622370906,0.98665703214232647,0.29496710461259978,-8.2600359773851977E-3,null,"Novembre",{"$f":"IF(Hypothèses!$J$24=\"SV\",Données1!C93,Données1!C77)","v":-2.4753395395997169},{"$f":"IF(Hypothèses!$J$24=\"SV\",Données1!D93,Données1!D77)","v":4.3057939937584706},{"$f":"IF(Hypothèses!$J$24=\"SV\",Données1!E93,Données1!E77)","v":-1.6400664593627352},{"$f":"IF(Hypothèses!$J$24=\"SV\",Données1!F93,Données1!F77)","v":0.70122639854683733},{"$f":"IF(Hypothèses!$J$24=\"SV\",Données1!G93,Données1!G77)","v":-3.305070753687489E-2},{"$f":"IF(Hypothèses!$J$24=\"SV\",Données1!H93,Données1!H77)","v":-2.5845786075878801},{"$f":"IF(Hypothèses!$J$24=\"SV\",Données1!I93,Données1!I77)","v":4.5563121995552898},{"$f":"IF(Hypothèses!$J$24=\"SV\",Données1!J93,Données1!J77)","v":-1.8506235312081101},{"$f":"IF(Hypothèses!$J$24=\"SV\",Données1!K93,Données1!K77)","v":0.73045000809891414},{"$f":"IF(Hypothèses!$J$24=\"SV\",Données1!L93,Données1!L77)","v":-3.562792957281119E-2},{"$f":"IF(Hypothèses!$J$24=\"SV\",Données1!M93,Données1!M77)","v":-2.5088594742382004},{"$f":"IF(Hypothèses!$J$24=\"SV\",Données1!N93,Données1!N77)","v":4.3702862297616436},{"$f":"IF(Hypothèses!$J$24=\"SV\",Données1!O93,Données1!O77)","v":-1.6761582765180807},{"$f":"IF(Hypothèses!$J$24=\"SV\",Données1!P93,Données1!P77)","v":0.71093174053771724},{"$f":"IF(Hypothèses!$J$24=\"SV\",Données1!Q93,Données1!Q77)","v":-3.3627597736994586E-2},{"$f":"IF(Hypothèses!$J$24=\"SV\",Données1!R93,Données1!R77)","v":-2.5088594742382004},{"$f":"IF(Hypothèses!$J$24=\"SV\",Données1!S93,Données1!S77)","v":4.3702862297616436},{"$f":"IF(Hypothèses!$J$24=\"SV\",Données1!T93,Données1!T77)","v":-1.6761582765180807},{"$f":"IF(Hypothèses!$J$24=\"SV\",Données1!U93,Données1!U77)","v":0.71093174053771724},{"$f":"IF(Hypothèses!$J$24=\"SV\",Données1!V93,Données1!V77)","v":-3.3627597736994586E-2},{"$f":"IF(Hypothèses!$J$24=\"SV\",Données1!W93,Données1!W77)","v":-2.8780237518982972},{"$f":"IF(Hypothèses!$J$24=\"SV\",Données1!X93,Données1!X77)","v":5.1561666429809847},{"$f":"IF(Hypothèses!$J$24=\"SV\",Données1!Y93,Données1!Y77)","v":-2.2494358800470784},{"$f":"IF(Hypothèses!$J$24=\"SV\",Données1!Z93,Données1!Z77)","v":0.81076767621974777},{"$f":"IF(Hypothèses!$J$24=\"SV\",Données1!AA93,Données1!AA77)","v":-4.1188996547285528E-2},{"$f":"IF(Hypothèses!$J$24=\"SV\",Données1!AB93,Données1!AB77)","v":-2.4740894788231169},{"$f":"IF(Hypothèses!$J$24=\"SV\",Données1!AC93,Données1!AC77)","v":4.2951253874068707},{"$f":"IF(Hypothèses!$J$24=\"SV\",Données1!AD93,Données1!AD77)","v":-1.6195695019180965},{"$f":"IF(Hypothèses!$J$24=\"SV\",Données1!AE93,Données1!AE77)","v":0.70153833845380931},{"$f":"IF(Hypothèses!$J$24=\"SV\",Données1!AF93,Données1!AF77)","v":-3.2893418697484744E-2},{"$f":"IF(Hypothèses!$J$24=\"SV\",Données1!AG93,Données1!AG77)","v":-2.4740894788231169},{"$f":"IF(Hypothèses!$J$24=\"SV\",Données1!AH93,Données1!AH77)","v":4.2951253874068707},{"$f":"IF(Hypothèses!$J$24=\"SV\",Données1!AI93,Données1!AI77)","v":-1.6195695019180965},{"$f":"IF(Hypothèses!$J$24=\"SV\",Données1!AJ93,Données1!AJ77)","v":0.70153833845380931},{"$f":"IF(Hypothèses!$J$24=\"SV\",Données1!AK93,Données1!AK77)","v":-3.2893418697484744E-2},{"$f":"IF(Hypothèses!$J$24=\"SV\",Données1!AL93,Données1!AL77)","v":-2.6247862086806069},{"$f":"IF(Hypothèses!$J$24=\"SV\",Données1!AM93,Données1!AM77)","v":4.6406372168593641},{"$f":"IF(Hypothèses!$J$24=\"SV\",Données1!AN93,Données1!AN77)","v":-1.9101308114156172},{"$f":"IF(Hypothèses!$J$24=\"SV\",Données1!AO93,Données1!AO77)","v":0.74141087727110588},{"$f":"IF(Hypothèses!$J$24=\"SV\",Données1!AP93,Données1!AP77)","v":-3.6429993089909907E-2}]
[null,"Décembre",0.23358171630937732,-0.94756657318819737,1.2399371044523166,0.29897870953086486,-8.0445058606420095E-3,0.12427868545118549,-0.72677897433656546,1.086745065286463,0.29291045157291901,-8.0570581663794195E-3,0.26503413872696918,-1.0107768162407951,1.2834022270759684,0.30053893793606518,-8.0355979232554497E-3,0.26503413872696918,-1.0107768162407951,1.2834022270759684,0.30053893793606518,-8.0355979232554497E-3,-3.597697437012809E-2,-0.45018953489349978,0.95268197313827185,0.31302692911120983,-8.8899861952773419E-3,0.26481674685046441,-1.0103617431296084,1.2831430908870574,0.30053873621845284,-8.0359738515043411E-3,0.26481674685046441,-1.0103617431296084,1.2831430908870574,0.30053873621845284,-8.0359738515043411E-3,0.12498860980605823,-0.72880210485420716,1.088871824259539,0.29331174441498797,-8.0671412119410375E-3,null,"Décembre",{"$f":"IF(Hypothèses!$J$24=\"SV\",Données1!C94,Données1!C78)","v":-2.4753395395997497},{"$f":"IF(Hypothèses!$J$24=\"SV\",Données1!D94,Données1!D78)","v":4.3057939937585354},{"$f":"IF(Hypothèses!$J$24=\"SV\",Données1!E94,Données1!E78)","v":-1.6400664593627787},{"$f":"IF(Hypothèses!$J$24=\"SV\",Données1!F94,Données1!F78)","v":0.70122639854684832},{"$f":"IF(Hypothèses!$J$24=\"SV\",Données1!G94,Données1!G78)","v":-3.3050707536875723E-2},{"$f":"IF(Hypothèses!$J$24=\"SV\",Données1!H94,Données1!H78)","v":-2.5324602766391751},{"$f":"IF(Hypothèses!$J$24=\"SV\",Données1!I94,Données1!I78)","v":4.446510767661489},{"$f":"IF(Hypothèses!$J$24=\"SV\",Données1!J94,Données1!J78)","v":-1.7723520256965752},{"$f":"IF(Hypothèses!$J$24=\"SV\",Données1!K94,Données1!K78)","v":0.71625914215266862},{"$f":"IF(Hypothèses!$J$24=\"SV\",Données1!L94,Données1!L78)","v":-3.4579194082937859E-2},{"$f":"IF(Hypothèses!$J$24=\"SV\",Données1!M94,Données1!M78)","v":-2.4563626943554611},{"$f":"IF(Hypothèses!$J$24=\"SV\",Données1!N94,Données1!N78)","v":4.260841956818826},{"$f":"IF(Hypothèses!$J$24=\"SV\",Données1!O94,Données1!O78)","v":-1.6000466097434682},{"$f":"IF(Hypothèses!$J$24=\"SV\",Données1!P94,Données1!P78)","v":0.69646037194161559},{"$f":"IF(Hypothèses!$J$24=\"SV\",Données1!Q94,Données1!Q78)","v":-3.2586982911157414E-2},{"$f":"IF(Hypothèses!$J$24=\"SV\",Données1!R94,Données1!R78)","v":-2.4563626943554611},{"$f":"IF(Hypothèses!$J$24=\"SV\",Données1!S94,Données1!S78)","v":4.260841956818826},{"$f":"IF(Hypothèses!$J$24=\"SV\",Données1!T94,Données1!T78)","v":-1.6000466097434682},{"$f":"IF(Hypothèses!$J$24=\"SV\",Données1!U94,Données1!U78)","v":0.69646037194161559},{"$f":"IF(Hypothèses!$J$24=\"SV\",Données1!V94,Données1!V78)","v":-3.2586982911157414E-2},{"$f":"IF(Hypothèses!$J$24=\"SV\",Données1!W94,Données1!W78)","v":-2.8098423329383246},{"$f":"IF(Hypothèses!$J$24=\"SV\",Données1!X94,Données1!X78)","v":4.9922076030408293},{"$f":"IF(Hypothèses!$J$24=\"SV\",Données1!Y94,Données1!Y78)","v":-2.1006096983100293},{"$f":"IF(Hypothèses!$J$24=\"SV\",Données1!Z94,Données1!Z78)","v":0.79282730524995237},{"$f":"IF(Hypothèses!$J$24=\"SV\",Données1!AA94,Données1!AA78)","v":-3.9443157005708884E-2},{"$f":"IF(Hypothèses!$J$24=\"SV\",Données1!AB94,Données1!AB78)","v":-2.4571259489952788},{"$f":"IF(Hypothèses!$J$24=\"SV\",Données1!AC94,Données1!AC78)","v":4.2622889280487817},{"$f":"IF(Hypothèses!$J$24=\"SV\",Données1!AD94,Données1!AD78)","v":-1.6008428108972854},{"$f":"IF(Hypothèses!$J$24=\"SV\",Données1!AE94,Données1!AE78)","v":0.69664472464435145},{"$f":"IF(Hypothèses!$J$24=\"SV\",Données1!AF94,Données1!AF78)","v":-3.2598275237854468E-2},{"$f":"IF(Hypothèses!$J$24=\"SV\",Données1!AG94,Données1!AG78)","v":-2.4571259489952788},{"$f":"IF(Hypothèses!$J$24=\"SV\",Données1!AH94,Données1!AH78)","v":4.2622889280487817},{"$f":"IF(Hypothèses!$J$24=\"SV\",Données1!AI94,Données1!AI78)","v":-1.6008428108972854},{"$f":"IF(Hypothèses!$J$24=\"SV\",Données1!AJ94,Données1!AJ78)","v":0.69664472464435145},{"$f":"IF(Hypothèses!$J$24=\"SV\",Données1!AK94,Données1!AK78)","v":-3.2598275237854468E-2},{"$f":"IF(Hypothèses!$J$24=\"SV\",Données1!AL94,Données1!AL78)","v":-2.5345677082285945},{"$f":"IF(Hypothèses!$J$24=\"SV\",Données1!AM94,Données1!AM78)","v":4.4499450023592324},{"$f":"IF(Hypothèses!$J$24=\"SV\",Données1!AN94,Données1!AN78)","v":-1.773222941243735},{"$f":"IF(Hypothèses!$J$24=\"SV\",Données1!AO94,Données1!AO78)","v":0.71685710406360503},{"$f":"IF(Hypothèses!$J$24=\"SV\",Données1!AP94,Données1!AP78)","v":-3.4602831616930396E-2}]
[]
[null,"SV","ORIENTATION",null,null,null,null,null,null,null,null,null,null,null,null,null,null,null,null,null,null,null,null,null,null,null,null,null,null,null,null,null,null,null,null,null,null,null,null,null,null,null,null,"Tampon 1","ORIENTATION"]
[null,null,"NORD",null,null,null,null,"NORD-EST",null,null,null,null,"EST",null,null,null,null,"SUD-EST",null,null,null,null,"SUD",null,null,null,null,"SUD-OUEST",null,null,null,null,"OUEST",null,null,null,null,"NORD-OUEST",null,null,null,null,null,null,"NORD",null,null,null,null,"NORD-EST",null,null,null,null,"EST",null,null,null,null,"SUD-EST",null,null,null,null,"SUD",null,null,null,null,"SUD-OUEST",null,null,null,null,"OUEST",null,null,null,null,"NORD-OUEST"]
[null,null,"a","b","c","d","e","a","b","c","d","e","a","b","c","d","e","a","b","c","d","e","a","b","c","d","e","a","b","c","d","e","a","b","c","d","e","a","b","c","d","e",null,null,"a","b","c","d","e","a","b","c","d","e","a","b","c","d","e","a","b","c","d","e","a","b","c","d","e","a","b","c","d","e","a","b","c","d","e","a","b","c","d","e"]
[null,"Janvier",-2.4753395395996702,4.3057939937583756,-1.6400664593626766,0.70122639854682423,-3.3050707536873947E-2,-2.5451551650293509,4.4675020255701003,-1.7782866531424328,0.7198615746448801,-3.4727553162436697E-2,-2.479354476804521,4.3083776970053949,-1.6325004785026511,0.70276770967226254,-3.3033767234172229E-2,-2.479354476804521,4.3083776970053949,-1.6325004785026511,0.70276770967226254,-3.3033767234172229E-2,-2.7777850285108672,4.9353373235901348,-2.0768494723013449,0.78376335610669878,-3.8994104640358629E-2,-2.4681731601116583,4.287459605158463,-1.6217605544829989,0.69960671073810965,-3.2855952133643507E-2,-2.4681731601116583,4.287459605158463,-1.6217605544829989,0.69960671073810965,-3.2855952133643507E-2,-2.5412368926890063,4.4581834898156414,-1.7699758861819272,0.71882020817885905,-3.4628856801194263E-2,null,"Janvier",{"$f":"IF(Hypothèses!$J$24=\"SV\",Données1!C116,Données1!C100)","v":-2.4523228959667307},{"$f":"IF(Hypothèses!$J$24=\"SV\",Données1!D116,Données1!D100)","v":4.2677587839689908},{"$f":"IF(Hypothèses!$J$24=\"SV\",Données1!E116,Données1!E100)","v":-1.6293713810772255},{"$f":"IF(Hypothèses!$J$24=\"SV\",Données1!F116,Données1!F100)","v":0.69467594067746152},{"$f":"IF(Hypothèses!$J$24=\"SV\",Données1!G116,Données1!G100)","v":-3.2781441317257909E-2},{"$f":"IF(Hypothèses!$J$24=\"SV\",Données1!H116,Données1!H100)","v":-2.7530565936871341},{"$f":"IF(Hypothèses!$J$24=\"SV\",Données1!I116,Données1!I100)","v":4.893323797188998},{"$f":"IF(Hypothèses!$J$24=\"SV\",Données1!J116,Données1!J100)","v":-2.062692124938815},{"$f":"IF(Hypothèses!$J$24=\"SV\",Données1!K116,Données1!K100)","v":0.77682372775932462},{"$f":"IF(Hypothèses!$J$24=\"SV\",Données1!L116,Données1!L100)","v":-3.8686089459262329E-2},{"$f":"IF(Hypothèses!$J$24=\"SV\",Données1!M116,Données1!M100)","v":-2.5310987619713652},{"$f":"IF(Hypothèses!$J$24=\"SV\",Données1!N116,Données1!N100)","v":4.4152139479858974},{"$f":"IF(Hypothèses!$J$24=\"SV\",Données1!O116,Données1!O100)","v":-1.7051731337325049},{"$f":"IF(Hypothèses!$J$24=\"SV\",Données1!P116,Données1!P100)","v":0.71702078240508904},{"$f":"IF(Hypothèses!$J$24=\"SV\",Données1!Q116,Données1!Q100)","v":-3.4038680462981696E-2},{"$f":"IF(Hypothèses!$J$24=\"SV\",Données1!R116,Données1!R100)","v":-2.5310987619713652},{"$f":"IF(Hypothèses!$J$24=\"SV\",Données1!S116,Données1!S100)","v":4.4152139479858974},{"$f":"IF(Hypothèses!$J$24=\"SV\",Données1!T116,Données1!T100)","v":-1.7051731337325049},{"$f":"IF(Hypothèses!$J$24=\"SV\",Données1!U116,Données1!U100)","v":0.71702078240508904},{"$f":"IF(Hypothèses!$J$24=\"SV\",Données1!V116,Données1!V100)","v":-3.4038680462981696E-2},{"$f":"IF(Hypothèses!$J$24=\"SV\",Données1!W116,Données1!W100)","v":-2.5046710705294308},{"$f":"IF(Hypothèses!$J$24=\"SV\",Données1!X116,Données1!X100)","v":4.4460374568594654},{"$f":"IF(Hypothèses!$J$24=\"SV\",Données1!Y116,Données1!Y100)","v":-1.8631416139061698},{"$f":"IF(Hypothèses!$J$24=\"SV\",Données1!Z116,Données1!Z100)","v":0.70721684331295354},{"$f":"IF(Hypothèses!$J$24=\"SV\",Données1!AA116,Données1!AA100)","v":-3.5100674889041117E-2},{"$f":"IF(Hypothèses!$J$24=\"SV\",Données1!AB116,Données1!AB100)","v":-2.5317488767568173},{"$f":"IF(Hypothèses!$J$24=\"SV\",Données1!AC116,Données1!AC100)","v":4.419125307026742},{"$f":"IF(Hypothèses!$J$24=\"SV\",Données1!AD116,Données1!AD100)","v":-1.711982595622684},{"$f":"IF(Hypothèses!$J$24=\"SV\",Données1!AE116,Données1!AE100)","v":0.71708132410467784},{"$f":"IF(Hypothèses!$J$24=\"SV\",Données1!AF116,Données1!AF100)","v":-3.4097047711969808E-2},{"$f":"IF(Hypothèses!$J$24=\"SV\",Données1!AG116,Données1!AG100)","v":-2.5317488767568173},{"$f":"IF(Hypothèses!$J$24=\"SV\",Données1!AH116,Données1!AH100)","v":4.419125307026742},{"$f":"IF(Hypothèses!$J$24=\"SV\",Données1!AI116,Données1!AI100)","v":-1.711982595622684},{"$f":"IF(Hypothèses!$J$24=\"SV\",Données1!AJ116,Données1!AJ100)","v":0.71708132410467784},{"$f":"IF(Hypothèses!$J$24=\"SV\",Données1!AK116,Données1!AK100)","v":-3.4097047711969808E-2},{"$f":"IF(Hypothèses!$J$24=\"SV\",Données1!AL116,Données1!AL100)","v":-2.7059615798922798},{"$f":"IF(Hypothèses!$J$24=\"SV\",Données1!AM116,Données1!AM100)","v":4.7964468569292604},{"$f":"IF(Hypothèses!$J$24=\"SV\",Données1!AN116,Données1!AN100)","v":-1.997312677169198},{"$f":"IF(Hypothèses!$J$24=\"SV\",Données1!AO116,Données1!AO100)","v":0.76393385732560182},{"$f":"IF(Hypothèses!$J$24=\"SV\",Données1!AP116,Données1!AP100)","v":-3.7781725538142519E-2}]
[null,"Février",-2.4753395395998061,4.3057939937586154,-1.6400664593628096,0.70122639854685154,-3.3050707536875779E-2,-2.5829523918308031,4.5402702503215675,-1.8193730498097,0.73035658547616311,-3.5361554381573013E-2,-2.5317219670577149,4.4166458105701532,-1.7064025627250639,0.71715243897255143,-3.4052075096493661E-2,-2.5317219670577149,4.4166458105701532,-1.7064025627250639,0.71715243897255143,-3.4052075096493661E-2,-2.6738184331639046,4.7541152951306538,-2.0070065975068552,0.75448461742485362,-3.7605332702053518E-2,-2.5177468995447132,4.390700124356349,-1.6934243417929353,0.71321066257467414,-3.3834080493649554E-2,-2.5177468995447132,4.390700124356349,-1.6934243417929353,0.71321066257467414,-3.3834080493649554E-2,-2.5704542891933921,4.5128418642297952,-1.7981044442193352,0.72697171022282248,-3.5089258360258946E-2,null,"Février",{"$f":"IF(Hypothèses!$J$24=\"SV\",Données1!C117,Données1!C101)","v":-2.4196367807650674},{"$f":"IF(Hypothèses!$J$24=\"SV\",Données1!D117,Données1!D101)","v":4.2485224758439903},{"$f":"IF(Hypothèses!$J$24=\"SV\",Données1!E117,Données1!E101)","v":-1.6935014912094788},{"$f":"IF(Hypothèses!$J$24=\"SV\",Données1!F117,Données1!F101)","v":0.68456297471213678},{"$f":"IF(Hypothèses!$J$24=\"SV\",Données1!G117,Données1!G101)","v":-3.30490719483027E-2},{"$f":"IF(Hypothèses!$J$24=\"SV\",Données1!H117,Données1!H101)","v":-2.6681987287388202},{"$f":"IF(Hypothèses!$J$24=\"SV\",Données1!I117,Données1!I101)","v":4.7056877808870849},{"$f":"IF(Hypothèses!$J$24=\"SV\",Données1!J117,Données1!J101)","v":-1.9149543977154535},{"$f":"IF(Hypothèses!$J$24=\"SV\",Données1!K117,Données1!K101)","v":0.75406899455985943},{"$f":"IF(Hypothèses!$J$24=\"SV\",Données1!L117,Données1!L101)","v":-3.6818554101609557E-2},{"$f":"IF(Hypothèses!$J$24=\"SV\",Données1!M117,Données1!M101)","v":-2.5850660232121969},{"$f":"IF(Hypothèses!$J$24=\"SV\",Données1!N117,Données1!N101)","v":4.5336843580839883},{"$f":"IF(Hypothèses!$J$24=\"SV\",Données1!O117,Données1!O101)","v":-1.7972042588697059},{"$f":"IF(Hypothèses!$J$24=\"SV\",Données1!P117,Données1!P101)","v":0.73145288902455941},{"$f":"IF(Hypothèses!$J$24=\"SV\",Données1!Q117,Données1!Q101)","v":-3.520798766141392E-2},{"$f":"IF(Hypothèses!$J$24=\"SV\",Données1!R117,Données1!R101)","v":-2.5850660232121969},{"$f":"IF(Hypothèses!$J$24=\"SV\",Données1!S117,Données1!S101)","v":4.5336843580839883},{"$f":"IF(Hypothèses!$J$24=\"SV\",Données1!T117,Données1!T101)","v":-1.7972042588697059},{"$f":"IF(Hypothèses!$J$24=\"SV\",Données1!U117,Données1!U101)","v":0.73145288902455941},{"$f":"IF(Hypothèses!$J$24=\"SV\",Données1!V117,Données1!V101)","v":-3.520798766141392E-2},{"$f":"IF(Hypothèses!$J$24=\"SV\",Données1!W117,Données1!W101)","v":-2.4431521878915023},{"$f":"IF(Hypothèses!$J$24=\"SV\",Données1!X117,Données1!X101)","v":4.265702241285652},{"$f":"IF(Hypothèses!$J$24=\"SV\",Données1!Y117,Données1!Y101)","v":-1.6549860786709689},{"$f":"IF(Hypothèses!$J$24=\"SV\",Données1!Z117,Données1!Z101)","v":0.69175611552188332},{"$f":"IF(Hypothèses!$J$24=\"SV\",Données1!AA117,Données1!AA101)","v":-3.2918789704228679E-2},{"$f":"IF(Hypothèses!$J$24=\"SV\",Données1!AB117,Données1!AB101)","v":-2.5793352639653064},{"$f":"IF(Hypothèses!$J$24=\"SV\",Données1!AC117,Données1!AC101)","v":4.522206462744621},{"$f":"IF(Hypothèses!$J$24=\"SV\",Données1!AD117,Données1!AD101)","v":-1.7899647701584118},{"$f":"IF(Hypothèses!$J$24=\"SV\",Données1!AE117,Données1!AE101)","v":0.72986470243688395},{"$f":"IF(Hypothèses!$J$24=\"SV\",Données1!AF117,Données1!AF101)","v":-3.5103262199446428E-2},{"$f":"IF(Hypothèses!$J$24=\"SV\",Données1!AG117,Données1!AG101)","v":-2.5793352639653064},{"$f":"IF(Hypothèses!$J$24=\"SV\",Données1!AH117,Données1!AH101)","v":4.522206462744621},{"$f":"IF(Hypothèses!$J$24=\"SV\",Données1!AI117,Données1!AI101)","v":-1.7899647701584118},{"$f":"IF(Hypothèses!$J$24=\"SV\",Données1!AJ117,Données1!AJ101)","v":0.72986470243688395},{"$f":"IF(Hypothèses!$J$24=\"SV\",Données1!AK117,Données1!AK101)","v":-3.5103262199446428E-2},{"$f":"IF(Hypothèses!$J$24=\"SV\",Données1!AL117,Données1!AL101)","v":-2.6550575836634001},{"$f":"IF(Hypothèses!$J$24=\"SV\",Données1!AM117,Données1!AM101)","v":4.678728453595804},{"$f":"IF(Hypothèses!$J$24=\"SV\",Données1!AN117,Données1!AN101)","v":-1.8968719079422327},{"$f":"IF(Hypothèses!$J$24=\"SV\",Données1!AO117,Données1!AO101)","v":0.75047875742633097},{"$f":"IF(Hypothèses!$J$24=\"SV\",Données1!AP117,Données1!AP101)","v":-3.6567881419401149E-2}]
[null,"Mars",-2.4391678062982374,4.2452428631900867,-1.6214896906354348,0.69094509141230531,-3.2612823541582958E-2,-2.6056715391917091,4.5773906622327711,-1.8288581804433093,0.73700076105368151,-3.5625969798844137E-2,-2.6106347596017372,4.5848842677261459,-1.8295331221753406,0.73845538863285154,-3.5671790971071204E-2,-2.6106347596017372,4.5848842677261459,-1.8295331221753406,0.73845538863285154,-3.5671790971071204E-2,-2.4368073610269754,4.2618956591124952,-1.6672630411516125,0.68980441183404018,-3.2969759823827938E-2,-2.609916336183475,4.5833582147825895,-1.8284253176922864,0.73826064760176635,-3.5657123653755951E-2,-2.609916336183475,4.5833582147825895,-1.8284253176922864,0.73826064760176635,-3.5657123653755951E-2,-2.6037430399743,4.5724701880739298,-1.8239982525871734,0.73650804613132859,-3.55716165565646E-2,null,"Mars",{"$f":"IF(Hypothèses!$J$24=\"SV\",Données1!C118,Données1!C102)","v":-2.6877618979276567},{"$f":"IF(Hypothèses!$J$24=\"SV\",Données1!D118,Données1!D102)","v":4.807709441503607},{"$f":"IF(Hypothèses!$J$24=\"SV\",Données1!E118,Données1!E102)","v":-2.0832030104107195},{"$f":"IF(Hypothèses!$J$24=\"SV\",Données1!F118,Données1!F102)","v":0.7576840081352858},{"$f":"IF(Hypothèses!$J$24=\"SV\",Données1!G118,Données1!G102)","v":-3.8337295493618584E-2},{"$f":"IF(Hypothèses!$J$24=\"SV\",Données1!H118,Données1!H102)","v":-2.6170880459588015},{"$f":"IF(Hypothèses!$J$24=\"SV\",Données1!I118,Données1!I102)","v":4.59139314660362},{"$f":"IF(Hypothèses!$J$24=\"SV\",Données1!J118,Données1!J102)","v":-1.8228964293176584},{"$f":"IF(Hypothèses!$J$24=\"SV\",Données1!K118,Données1!K102)","v":0.74063936495933325},{"$f":"IF(Hypothèses!$J$24=\"SV\",Données1!L118,Données1!L102)","v":-3.5679344342335495E-2},{"$f":"IF(Hypothèses!$J$24=\"SV\",Données1!M118,Données1!M102)","v":-2.6253886871533596},{"$f":"IF(Hypothèses!$J$24=\"SV\",Données1!N118,Données1!N102)","v":4.6244176293998827},{"$f":"IF(Hypothèses!$J$24=\"SV\",Données1!O118,Données1!O102)","v":-1.8710147348130828},{"$f":"IF(Hypothèses!$J$24=\"SV\",Données1!P118,Données1!P102)","v":0.74219405337323208},{"$f":"IF(Hypothèses!$J$24=\"SV\",Données1!Q118,Données1!Q102)","v":-3.6123445493474071E-2},{"$f":"IF(Hypothèses!$J$24=\"SV\",Données1!R118,Données1!R102)","v":-2.6253886871533596},{"$f":"IF(Hypothèses!$J$24=\"SV\",Données1!S118,Données1!S102)","v":4.6244176293998827},{"$f":"IF(Hypothèses!$J$24=\"SV\",Données1!T118,Données1!T102)","v":-1.8710147348130828},{"$f":"IF(Hypothèses!$J$24=\"SV\",Données1!U118,Données1!U102)","v":0.74219405337323208},{"$f":"IF(Hypothèses!$J$24=\"SV\",Données1!V118,Données1!V102)","v":-3.6123445493474071E-2},{"$f":"IF(Hypothèses!$J$24=\"SV\",Données1!W118,Données1!W102)","v":-2.4711434750264254},{"$f":"IF(Hypothèses!$J$24=\"SV\",Données1!X118,Données1!X102)","v":4.2990236603461005},{"$f":"IF(Hypothèses!$J$24=\"SV\",Données1!Y118,Données1!Y102)","v":-1.6384902875270431},{"$f":"IF(Hypothèses!$J$24=\"SV\",Données1!Z118,Données1!Z102)","v":0.70002800788302022},{"$f":"IF(Hypothèses!$J$24=\"SV\",Données1!AA118,Données1!AA102)","v":-3.3004663333163653E-2},{"$f":"IF(Hypothèses!$J$24=\"SV\",Données1!AB118,Données1!AB102)","v":-2.6277383942391697},{"$f":"IF(Hypothèses!$J$24=\"SV\",Données1!AC118,Données1!AC102)","v":4.6268207036683178},{"$f":"IF(Hypothèses!$J$24=\"SV\",Données1!AD118,Données1!AD102)","v":-1.8687165549689855},{"$f":"IF(Hypothèses!$J$24=\"SV\",Données1!AE118,Données1!AE102)","v":0.74292086395150359},{"$f":"IF(Hypothèses!$J$24=\"SV\",Données1!AF118,Données1!AF102)","v":-3.612419083336299E-2},{"$f":"IF(Hypothèses!$J$24=\"SV\",Données1!AG118,Données1!AG102)","v":-2.6277383942391697},{"$f":"IF(Hypothèses!$J$24=\"SV\",Données1!AH118,Données1!AH102)","v":4.6268207036683178},{"$f":"IF(Hypothèses!$J$24=\"SV\",Données1!AI118,Données1!AI102)","v":-1.8687165549689855},{"$f":"IF(Hypothèses!$J$24=\"SV\",Données1!AJ118,Données1!AJ102)","v":0.74292086395150359},{"$f":"IF(Hypothèses!$J$24=\"SV\",Données1!AK118,Données1!AK102)","v":-3.612419083336299E-2},{"$f":"IF(Hypothèses!$J$24=\"SV\",Données1!AL118,Données1!AL102)","v":-2.6089426760263392},{"$f":"IF(Hypothèses!$J$24=\"SV\",Données1!AM118,Données1!AM102)","v":4.5741648203488756},{"$f":"IF(Hypothèses!$J$24=\"SV\",Données1!AN118,Données1!AN102)","v":-1.8104966991869871},{"$f":"IF(Hypothèses!$J$24=\"SV\",Données1!AO118,Données1!AO102)","v":0.7384423200352761},{"$f":"IF(Hypothèses!$J$24=\"SV\",Données1!AP118,Données1!AP102)","v":-3.5514917975863758E-2}]
[null,"Avril",-2.4312338177064112,4.2715500481499147,-1.7077012760085906,0.68777374620058018,-3.3256964817452883E-2,-2.567158062553704,4.4951451357829821,-1.7684617746686409,0.72659269509432756,-3.483235760323683E-2,-2.6068460611940938,4.5839199184876618,-1.8399488325474656,0.73710128402328567,-3.5720549193998419E-2,-2.6068460611940938,4.5839199184876618,-1.8399488325474656,0.73710128402328567,-3.5720549193998419E-2,-2.4683986141007055,4.2938361319984315,-1.6357306823142548,0.69925884797122106,-3.2960249665770158E-2,-2.616009515710076,4.6018245912627185,-1.850500859139371,0.73965306246824336,-3.5879694167715803E-2,-2.616009515710076,4.6018245912627185,-1.850500859139371,0.73965306246824336,-3.5879694167715803E-2,-2.5669199703142866,4.4939239806448725,-1.7664431275818377,0.72657625725311137,-3.4815344762271661E-2,null,"Avril",{"$f":"IF(Hypothèses!$J$24=\"SV\",Données1!C119,Données1!C103)","v":-2.8630986265732745},{"$f":"IF(Hypothèses!$J$24=\"SV\",Données1!D119,Données1!D103)","v":5.1124272900083438},{"$f":"IF(Hypothèses!$J$24=\"SV\",Données1!E119,Données1!E103)","v":-2.19885953129014},{"$f":"IF(Hypothèses!$J$24=\"SV\",Données1!F119,Données1!F103)","v":0.80717886792203819},{"$f":"IF(Hypothèses!$J$24=\"SV\",Données1!G119,Données1!G103)","v":-4.0666171686025099E-2},{"$f":"IF(Hypothèses!$J$24=\"SV\",Données1!H119,Données1!H103)","v":-2.518256470809956},{"$f":"IF(Hypothèses!$J$24=\"SV\",Données1!I119,Données1!I103)","v":4.3854122383948919},{"$f":"IF(Hypothèses!$J$24=\"SV\",Données1!J119,Données1!J103)","v":-1.6795063164380117},{"$f":"IF(Hypothèses!$J$24=\"SV\",Données1!K119,Données1!K103)","v":0.7137739388612605},{"$f":"IF(Hypothèses!$J$24=\"SV\",Données1!L119,Données1!L103)","v":-3.3736154630944759E-2},{"$f":"IF(Hypothèses!$J$24=\"SV\",Données1!M119,Données1!M103)","v":-2.6095523854865044},{"$f":"IF(Hypothèses!$J$24=\"SV\",Données1!N119,Données1!N103)","v":4.603551498490023},{"$f":"IF(Hypothèses!$J$24=\"SV\",Données1!O119,Données1!O103)","v":-1.8758368395944547},{"$f":"IF(Hypothèses!$J$24=\"SV\",Données1!P119,Données1!P103)","v":0.73742914689923911},{"$f":"IF(Hypothèses!$J$24=\"SV\",Données1!Q119,Données1!Q103)","v":-3.6032093417304401E-2},{"$f":"IF(Hypothèses!$J$24=\"SV\",Données1!R119,Données1!R103)","v":-2.6095523854865044},{"$f":"IF(Hypothèses!$J$24=\"SV\",Données1!S119,Données1!S103)","v":4.603551498490023},{"$f":"IF(Hypothèses!$J$24=\"SV\",Données1!T119,Données1!T103)","v":-1.8758368395944547},{"$f":"IF(Hypothèses!$J$24=\"SV\",Données1!U119,Données1!U103)","v":0.73742914689923911},{"$f":"IF(Hypothèses!$J$24=\"SV\",Données1!V119,Données1!V103)","v":-3.6032093417304401E-2},{"$f":"IF(Hypothèses!$J$24=\"SV\",Données1!W119,Données1!W103)","v":-2.4753395395997058},{"$f":"IF(Hypothèses!$J$24=\"SV\",Données1!X119,Données1!X103)","v":4.3057939937584546},{"$f":"IF(Hypothèses!$J$24=\"SV\",Données1!Y119,Données1!Y103)","v":-1.6400664593627328},{"$f":"IF(Hypothèses!$J$24=\"SV\",Données1!Z119,Données1!Z103)","v":0.70122639854683855},{"$f":"IF(Hypothèses!$J$24=\"SV\",Données1!AA119,Données1!AA103)","v":-3.305070753687489E-2},{"$f":"IF(Hypothèses!$J$24=\"SV\",Données1!AB119,Données1!AB103)","v":-2.595999269957888},{"$f":"IF(Hypothèses!$J$24=\"SV\",Données1!AC119,Données1!AC103)","v":4.5746362975935355},{"$f":"IF(Hypothèses!$J$24=\"SV\",Données1!AD119,Données1!AD103)","v":-1.8546547225537355},{"$f":"IF(Hypothèses!$J$24=\"SV\",Données1!AE119,Données1!AE103)","v":0.73375151479805711},{"$f":"IF(Hypothèses!$J$24=\"SV\",Données1!AF119,Données1!AF103)","v":-3.5752774076768135E-2},{"$f":"IF(Hypothèses!$J$24=\"SV\",Données1!AG119,Données1!AG103)","v":-2.595999269957888},{"$f":"IF(Hypothèses!$J$24=\"SV\",Données1!AH119,Données1!AH103)","v":4.5746362975935355},{"$f":"IF(Hypothèses!$J$24=\"SV\",Données1!AI119,Données1!AI103)","v":-1.8546547225537355},{"$f":"IF(Hypothèses!$J$24=\"SV\",Données1!AJ119,Données1!AJ103)","v":0.73375151479805711},{"$f":"IF(Hypothèses!$J$24=\"SV\",Données1!AK119,Données1!AK103)","v":-3.5752774076768135E-2},{"$f":"IF(Hypothèses!$J$24=\"SV\",Données1!AL119,Données1!AL103)","v":-2.5272343182899748},{"$f":"IF(Hypothèses!$J$24=\"SV\",Données1!AM119,Données1!AM103)","v":4.4051463142629697},{"$f":"IF(Hypothèses!$J$24=\"SV\",Données1!AN119,Données1!AN103)","v":-1.6948678122221192},{"$f":"IF(Hypothèses!$J$24=\"SV\",Données1!AO119,Données1!AO103)","v":0.71618541565749771},{"$f":"IF(Hypothèses!$J$24=\"SV\",Données1!AP119,Données1!AP103)","v":-3.393159114857297E-2}]
[null,"Mai",-2.7347067502377911,4.8963680895266686,-2.1303443195444749,0.77070222730130067,-3.909036599814647E-2,-2.531345916643323,4.4174261534526815,-1.7094077865588182,0.71703975173707801,-3.4074923679401237E-2,-2.6157435479794149,4.6177390117054724,-1.8877717026711567,0.73904475920887625,-3.6176371651270745E-2,-2.6157435479794149,4.6177390117054724,-1.8877717026711567,0.73904475920887625,-3.6176371651270745E-2,-2.4753395395999256,4.3057939937588579,-1.640066459362971,0.70122639854689017,-3.3050707536878221E-2,-2.6138294121518193,4.6130237949804718,-1.8833405607273042,0.7385390712959794,-3.6125081361122968E-2,-2.6138294121518193,4.6130237949804718,-1.8833405607273042,0.7385390712959794,-3.6125081361122968E-2,-2.5152816384838381,4.384517196468634,-1.6874274366343476,0.71262338939791225,-3.3768349266413922E-2,null,"Mai",{"$f":"IF(Hypothèses!$J$24=\"SV\",Données1!C120,Données1!C104)","v":-2.7851787909048791},{"$f":"IF(Hypothèses!$J$24=\"SV\",Données1!D120,Données1!D104)","v":4.9168524778968514},{"$f":"IF(Hypothèses!$J$24=\"SV\",Données1!E120,Données1!E104)","v":-2.0098447439345044},{"$f":"IF(Hypothèses!$J$24=\"SV\",Données1!F120,Données1!F104)","v":0.78724005743639125},{"$f":"IF(Hypothèses!$J$24=\"SV\",Données1!G120,Données1!G104)","v":-3.8532229836660048E-2},{"$f":"IF(Hypothèses!$J$24=\"SV\",Données1!H120,Données1!H104)","v":-2.4219965699064563},{"$f":"IF(Hypothèses!$J$24=\"SV\",Données1!I120,Données1!I104)","v":4.1866930885519666},{"$f":"IF(Hypothèses!$J$24=\"SV\",Données1!J120,Données1!J104)","v":-1.5444529408005481},{"$f":"IF(Hypothèses!$J$24=\"SV\",Données1!K120,Données1!K104)","v":0.68713977142669258},{"$f":"IF(Hypothèses!$J$24=\"SV\",Données1!L120,Données1!L104)","v":-3.1862645489848906E-2},{"$f":"IF(Hypothèses!$J$24=\"SV\",Données1!M120,Données1!M104)","v":-2.5460696506434717},{"$f":"IF(Hypothèses!$J$24=\"SV\",Données1!N120,Données1!N104)","v":4.482630036110085},{"$f":"IF(Hypothèses!$J$24=\"SV\",Données1!O120,Données1!O104)","v":-1.8097853654013436},{"$f":"IF(Hypothèses!$J$24=\"SV\",Données1!P120,Données1!P104)","v":0.71977647385314136},{"$f":"IF(Hypothèses!$J$24=\"SV\",Données1!Q120,Données1!Q104)","v":-3.4991672372910232E-2},{"$f":"IF(Hypothèses!$J$24=\"SV\",Données1!R120,Données1!R104)","v":-2.5460696506434717},{"$f":"IF(Hypothèses!$J$24=\"SV\",Données1!S120,Données1!S104)","v":4.482630036110085},{"$f":"IF(Hypothèses!$J$24=\"SV\",Données1!T120,Données1!T104)","v":-1.8097853654013436},{"$f":"IF(Hypothèses!$J$24=\"SV\",Données1!U120,Données1!U104)","v":0.71977647385314136},{"$f":"IF(Hypothèses!$J$24=\"SV\",Données1!V120,Données1!V104)","v":-3.4991672372910232E-2},{"$f":"IF(Hypothèses!$J$24=\"SV\",Données1!W120,Données1!W104)","v":-2.4753395395996893},{"$f":"IF(Hypothèses!$J$24=\"SV\",Données1!X120,Données1!X104)","v":4.3057939937583702},{"$f":"IF(Hypothèses!$J$24=\"SV\",Données1!Y120,Données1!Y104)","v":-1.6400664593626422},{"$f":"IF(Hypothèses!$J$24=\"SV\",Données1!Z120,Données1!Z104)","v":0.70122639854681024},{"$f":"IF(Hypothèses!$J$24=\"SV\",Données1!AA120,Données1!AA104)","v":-3.3050707536872614E-2},{"$f":"IF(Hypothèses!$J$24=\"SV\",Données1!AB120,Données1!AB104)","v":-2.519522321446833},{"$f":"IF(Hypothèses!$J$24=\"SV\",Données1!AC120,Données1!AC104)","v":4.4286179536326626},{"$f":"IF(Hypothèses!$J$24=\"SV\",Données1!AD120,Données1!AD104)","v":-1.7742886069415695},{"$f":"IF(Hypothèses!$J$24=\"SV\",Données1!AE120,Données1!AE104)","v":0.71250375885026096},{"$f":"IF(Hypothèses!$J$24=\"SV\",Données1!AF120,Données1!AF104)","v":-3.4493325539959818E-2},{"$f":"IF(Hypothèses!$J$24=\"SV\",Données1!AG120,Données1!AG104)","v":-2.519522321446833},{"$f":"IF(Hypothèses!$J$24=\"SV\",Données1!AH120,Données1!AH104)","v":4.4286179536326626},{"$f":"IF(Hypothèses!$J$24=\"SV\",Données1!AI120,Données1!AI104)","v":-1.7742886069415695},{"$f":"IF(Hypothèses!$J$24=\"SV\",Données1!AJ120,Données1!AJ104)","v":0.71250375885026096},{"$f":"IF(Hypothèses!$J$24=\"SV\",Données1!AK120,Données1!AK104)","v":-3.4493325539959818E-2},{"$f":"IF(Hypothèses!$J$24=\"SV\",Données1!AL120,Données1!AL104)","v":-2.4349585061486678},{"$f":"IF(Hypothèses!$J$24=\"SV\",Données1!AM120,Données1!AM104)","v":4.214065380567237},{"$f":"IF(Hypothèses!$J$24=\"SV\",Données1!AN120,Données1!AN104)","v":-1.5640443804905542},{"$f":"IF(Hypothèses!$J$24=\"SV\",Données1!AO120,Données1!AO104)","v":0.69070210328903714},{"$f":"IF(Hypothèses!$J$24=\"SV\",Données1!AP120,Données1!AP104)","v":-3.212601288432132E-2}]
[null,"Juin",-2.7959817147155395,4.9953046651426787,-2.1535832124765442,0.78810064924144163,-3.9760169266062795E-2,-2.4935400386531681,4.3378782597898997,-1.6529009729010349,0.70667861775785923,-3.3313543946369262E-2,-2.5794875831237181,4.5462107779067589,-1.8444083072280859,0.72903841594940422,-3.5536732703976281E-2,-2.5794875831237181,4.5462107779067589,-1.8444083072280859,0.72903841594940422,-3.5536732703976281E-2,-2.4753395395996867,4.3057939937584226,-1.6400664593627126,0.70122639854683244,-3.3050707536874724E-2,-2.5651886734848737,4.5143203272084307,-1.8189031666028763,0.72519169114032056,-3.5216212570733652E-2,-2.5651886734848737,4.5143203272084307,-1.8189031666028763,0.72519169114032056,-3.5216212570733652E-2,-2.4948544050900772,4.3425568408707234,-1.6592493572515565,0.70696128773485301,-3.3374490523401135E-2,null,"Juin",{"$f":"IF(Hypothèses!$J$24=\"SV\",Données1!C121,Données1!C105)","v":-2.7076361286553481},{"$f":"IF(Hypothèses!$J$24=\"SV\",Données1!D121,Données1!D105)","v":4.7499138123634843},{"$f":"IF(Hypothèses!$J$24=\"SV\",Données1!E121,Données1!E105)","v":-1.8850671300129234},{"$f":"IF(Hypothèses!$J$24=\"SV\",Données1!F121,Données1!F105)","v":0.76648280846366379},{"$f":"IF(Hypothèses!$J$24=\"SV\",Données1!G121,Données1!G105)","v":-3.6915690286559222E-2},{"$f":"IF(Hypothèses!$J$24=\"SV\",Données1!H121,Données1!H105)","v":-2.3838003273024775},{"$f":"IF(Hypothèses!$J$24=\"SV\",Données1!I121,Données1!I105)","v":4.1073627810783195},{"$f":"IF(Hypothèses!$J$24=\"SV\",Données1!J121,Données1!J105)","v":-1.4898570977162182},{"$f":"IF(Hypothèses!$J$24=\"SV\",Données1!K121,Données1!K105)","v":0.67644995500563043},{"$f":"IF(Hypothèses!$J$24=\"SV\",Données1!L121,Données1!L105)","v":-3.1105160005875654E-2},{"$f":"IF(Hypothèses!$J$24=\"SV\",Données1!M121,Données1!M105)","v":-2.5160661040851005},{"$f":"IF(Hypothèses!$J$24=\"SV\",Données1!N121,Données1!N105)","v":4.4258899878589109},{"$f":"IF(Hypothèses!$J$24=\"SV\",Données1!O121,Données1!O105)","v":-1.7794878201109905},{"$f":"IF(Hypothèses!$J$24=\"SV\",Données1!P121,Données1!P105)","v":0.7114493774167967},{"$f":"IF(Hypothèses!$J$24=\"SV\",Données1!Q121,Données1!Q105)","v":-3.4508607686302817E-2},{"$f":"IF(Hypothèses!$J$24=\"SV\",Données1!R121,Données1!R105)","v":-2.5160661040851005},{"$f":"IF(Hypothèses!$J$24=\"SV\",Données1!S121,Données1!S105)","v":4.4258899878589109},{"$f":"IF(Hypothèses!$J$24=\"SV\",Données1!T121,Données1!T105)","v":-1.7794878201109905},{"$f":"IF(Hypothèses!$J$24=\"SV\",Données1!U121,Données1!U105)","v":0.7114493774167967},{"$f":"IF(Hypothèses!$J$24=\"SV\",Données1!V121,Données1!V105)","v":-3.4508607686302817E-2},{"$f":"IF(Hypothèses!$J$24=\"SV\",Données1!W121,Données1!W105)","v":-2.4753395395994948},{"$f":"IF(Hypothèses!$J$24=\"SV\",Données1!X121,Données1!X105)","v":4.3057939937580549},{"$f":"IF(Hypothèses!$J$24=\"SV\",Données1!Y121,Données1!Y105)","v":-1.6400664593624801},{"$f":"IF(Hypothèses!$J$24=\"SV\",Données1!Z121,Données1!Z105)","v":0.7012263985467786},{"$f":"IF(Hypothèses!$J$24=\"SV\",Données1!AA121,Données1!AA105)","v":-3.3050707536870894E-2},{"$f":"IF(Hypothèses!$J$24=\"SV\",Données1!AB121,Données1!AB105)","v":-2.4904229063292358},{"$f":"IF(Hypothèses!$J$24=\"SV\",Données1!AC121,Données1!AC105)","v":4.3711057343423523},{"$f":"IF(Hypothèses!$J$24=\"SV\",Données1!AD121,Données1!AD105)","v":-1.7392392247766817},{"$f":"IF(Hypothèses!$J$24=\"SV\",Données1!AE121,Données1!AE105)","v":0.7044919680862235},{"$f":"IF(Hypothèses!$J$24=\"SV\",Données1!AF121,Données1!AF105)","v":-3.397868101442969E-2},{"$f":"IF(Hypothèses!$J$24=\"SV\",Données1!AG121,Données1!AG105)","v":-2.4904229063292358},{"$f":"IF(Hypothèses!$J$24=\"SV\",Données1!AH121,Données1!AH105)","v":4.3711057343423523},{"$f":"IF(Hypothèses!$J$24=\"SV\",Données1!AI121,Données1!AI105)","v":-1.7392392247766817},{"$f":"IF(Hypothèses!$J$24=\"SV\",Données1!AJ121,Données1!AJ105)","v":0.7044919680862235},{"$f":"IF(Hypothèses!$J$24=\"SV\",Données1!AK121,Données1!AK105)","v":-3.397868101442969E-2},{"$f":"IF(Hypothèses!$J$24=\"SV\",Données1!AL121,Données1!AL105)","v":-2.4058217830093365},{"$f":"IF(Hypothèses!$J$24=\"SV\",Données1!AM121,Données1!AM105)","v":4.1532354779727818},{"$f":"IF(Hypothèses!$J$24=\"SV\",Données1!AN121,Données1!AN105)","v":-1.5216844704704673},{"$f":"IF(Hypothèses!$J$24=\"SV\",Données1!AO121,Données1!AO105)","v":0.68254540646800166},{"$f":"IF(Hypothèses!$J$24=\"SV\",Données1!AP121,Données1!AP105)","v":-3.1541919118416972E-2}]
[null,"Juillet",-2.784535594255543,4.9915771242337099,-2.1829041270804006,0.78448647202257893,-3.9910019818280129E-2,-2.5218474627897467,4.3985606145466489,-1.6977676928708025,0.71440769566768958,-3.3904463480847025E-2,-2.610735773384631,4.6111067210253722,-1.8891958813307292,0.73757544860966473,-3.6148271717822367E-2,-2.610735773384631,4.6111067210253722,-1.8891958813307292,0.73757544860966473,-3.6148271717822367E-2,-2.4753395395997049,4.3057939937584377,-1.6400664593627055,0.70122639854682867,-3.305070753687428E-2,-2.60698025878933,4.6026867626294639,-1.8823979546378473,0.73656378118997456,-3.606317186325031E-2,-2.60698025878933,4.6026867626294639,-1.8823979546378473,0.73656378118997456,-3.606317186325031E-2,-2.5201910593070447,4.3956382743155684,-1.6965740989203109,0.71394331543070555,-3.3881730856403391E-2,null,"Juillet",{"$f":"IF(Hypothèses!$J$24=\"SV\",Données1!C122,Données1!C106)","v":-2.7488970345783859},{"$f":"IF(Hypothèses!$J$24=\"SV\",Données1!D122,Données1!D106)","v":4.8371297592031857},{"$f":"IF(Hypothèses!$J$24=\"SV\",Données1!E122,Données1!E106)","v":-1.9477572229327782},{"$f":"IF(Hypothèses!$J$24=\"SV\",Données1!F122,Données1!F106)","v":0.77760625115493442},{"$f":"IF(Hypothèses!$J$24=\"SV\",Données1!G122,Données1!G106)","v":-3.774729349207695E-2},{"$f":"IF(Hypothèses!$J$24=\"SV\",Données1!H122,Données1!H106)","v":-2.405892050382834},{"$f":"IF(Hypothèses!$J$24=\"SV\",Données1!I122,Données1!I106)","v":4.1526434459909929},{"$f":"IF(Hypothèses!$J$24=\"SV\",Données1!J122,Données1!J106)","v":-1.5200597016365038},{"$f":"IF(Hypothèses!$J$24=\"SV\",Données1!K122,Données1!K106)","v":0.68264886148919013},{"$f":"IF(Hypothèses!$J$24=\"SV\",Données1!L122,Données1!L106)","v":-3.1532103328520189E-2},{"$f":"IF(Hypothèses!$J$24=\"SV\",Données1!M122,Données1!M106)","v":-2.5370454811845522},{"$f":"IF(Hypothèses!$J$24=\"SV\",Données1!N122,Données1!N106)","v":4.4684143260570099},{"$f":"IF(Hypothèses!$J$24=\"SV\",Données1!O122,Données1!O106)","v":-1.8071766721007398},{"$f":"IF(Hypothèses!$J$24=\"SV\",Données1!P122,Données1!P106)","v":0.71719939601970262},{"$f":"IF(Hypothèses!$J$24=\"SV\",Données1!Q122,Données1!Q106)","v":-3.48994121588595E-2},{"$f":"IF(Hypothèses!$J$24=\"SV\",Données1!R122,Données1!R106)","v":-2.5370454811845522},{"$f":"IF(Hypothèses!$J$24=\"SV\",Données1!S122,Données1!S106)","v":4.4684143260570099},{"$f":"IF(Hypothèses!$J$24=\"SV\",Données1!T122,Données1!T106)","v":-1.8071766721007398},{"$f":"IF(Hypothèses!$J$24=\"SV\",Données1!U122,Données1!U106)","v":0.71719939601970262},{"$f":"IF(Hypothèses!$J$24=\"SV\",Données1!V122,Données1!V106)","v":-3.48994121588595E-2},{"$f":"IF(Hypothèses!$J$24=\"SV\",Données1!W122,Données1!W106)","v":-2.475339539599815},{"$f":"IF(Hypothèses!$J$24=\"SV\",Données1!X122,Données1!X106)","v":4.3057939937586189},{"$f":"IF(Hypothèses!$J$24=\"SV\",Données1!Y122,Données1!Y106)","v":-1.640066459362802},{"$f":"IF(Hypothèses!$J$24=\"SV\",Données1!Z122,Données1!Z106)","v":0.70122639854684721},{"$f":"IF(Hypothèses!$J$24=\"SV\",Données1!AA122,Données1!AA106)","v":-3.305070753687539E-2},{"$f":"IF(Hypothèses!$J$24=\"SV\",Données1!AB122,Données1!AB106)","v":-2.4951554372816194},{"$f":"IF(Hypothèses!$J$24=\"SV\",Données1!AC122,Données1!AC106)","v":4.3804348711730512},{"$f":"IF(Hypothèses!$J$24=\"SV\",Données1!AD122,Données1!AD106)","v":-1.7448844302497901},{"$f":"IF(Hypothèses!$J$24=\"SV\",Données1!AE122,Données1!AE106)","v":0.70579497732814611},{"$f":"IF(Hypothèses!$J$24=\"SV\",Données1!AF122,Données1!AF106)","v":-3.4061904949474198E-2},{"$f":"IF(Hypothèses!$J$24=\"SV\",Données1!AG122,Données1!AG106)","v":-2.4951554372816194},{"$f":"IF(Hypothèses!$J$24=\"SV\",Données1!AH122,Données1!AH106)","v":4.3804348711730512},{"$f":"IF(Hypothèses!$J$24=\"SV\",Données1!AI122,Données1!AI106)","v":-1.7448844302497901},{"$f":"IF(Hypothèses!$J$24=\"SV\",Données1!AJ122,Données1!AJ106)","v":0.70579497732814611},{"$f":"IF(Hypothèses!$J$24=\"SV\",Données1!AK122,Données1!AK106)","v":-3.4061904949474198E-2},{"$f":"IF(Hypothèses!$J$24=\"SV\",Données1!AL122,Données1!AL106)","v":-2.4325020899212535},{"$f":"IF(Hypothèses!$J$24=\"SV\",Données1!AM122,Données1!AM106)","v":4.2089851079805518},{"$f":"IF(Hypothèses!$J$24=\"SV\",Données1!AN122,Données1!AN106)","v":-1.5606143092097109},{"$f":"IF(Hypothèses!$J$24=\"SV\",Données1!AO122,Données1!AO106)","v":0.68996353775261521},{"$f":"IF(Hypothèses!$J$24=\"SV\",Données1!AP122,Données1!AP106)","v":-3.2075737037064955E-2}]
[null,"Août",-2.5296982891892328,4.5065505282884883,-1.9184369250907205,0.71392778443603255,-3.5752836371676366E-2,-2.5664304465778733,4.4909445119350462,-1.7611836977308186,0.72661660406239192,-3.4774057880389786E-2,-2.6545516788768411,4.6914995184800556,-1.9277622212064764,0.74987289418859793,-3.6810671540085327E-2,-2.6545516788768411,4.6914995184800556,-1.9277622212064764,0.74987289418859793,-3.6810671540085327E-2,-2.4753395395998039,4.3057939937585958,-1.6400664593627858,0.70122639854684432,-3.3050707536875279E-2,-2.6389104581280773,4.6573709583213621,-1.9015907210441343,0.74564015790926552,-3.6473902542220049E-2,-2.6389104581280773,4.6573709583213621,-1.9015907210441343,0.74564015790926552,-3.6473902542220049E-2,-2.5650139129907359,4.4900742441058288,-1.7639031067818991,0.72614173450762332,-3.4783518694077087E-2,null,"Août",{"$f":"IF(Hypothèses!$J$24=\"SV\",Données1!C123,Données1!C107)","v":-2.8499096621715454},{"$f":"IF(Hypothèses!$J$24=\"SV\",Données1!D123,Données1!D107)","v":5.0671800994114591},{"$f":"IF(Hypothèses!$J$24=\"SV\",Données1!E123,Données1!E107)","v":-2.1390793006278299},{"$f":"IF(Hypothèses!$J$24=\"SV\",Données1!F123,Données1!F107)","v":0.80423085362867031},{"$f":"IF(Hypothèses!$J$24=\"SV\",Données1!G123,Données1!G107)","v":-4.0083585028130975E-2},{"$f":"IF(Hypothèses!$J$24=\"SV\",Données1!H123,Données1!H107)","v":-2.4684816149577236},{"$f":"IF(Hypothèses!$J$24=\"SV\",Données1!I123,Données1!I107)","v":4.2826845754329472},{"$f":"IF(Hypothèses!$J$24=\"SV\",Données1!J123,Données1!J107)","v":-1.6096988645651213},{"$f":"IF(Hypothèses!$J$24=\"SV\",Données1!K123,Données1!K107)","v":0.70005806579460639},{"$f":"IF(Hypothèses!$J$24=\"SV\",Données1!L123,Données1!L107)","v":-3.2770113328380424E-2},{"$f":"IF(Hypothèses!$J$24=\"SV\",Données1!M123,Données1!M107)","v":-2.5940274855903809},{"$f":"IF(Hypothèses!$J$24=\"SV\",Données1!N123,Données1!N107)","v":4.5762917729003156},{"$f":"IF(Hypothèses!$J$24=\"SV\",Données1!O123,Données1!O107)","v":-1.8649695151304984},{"$f":"IF(Hypothèses!$J$24=\"SV\",Données1!P123,Données1!P107)","v":0.73303804965321817},{"$f":"IF(Hypothèses!$J$24=\"SV\",Données1!Q123,Données1!Q107)","v":-3.5820084226358295E-2},{"$f":"IF(Hypothèses!$J$24=\"SV\",Données1!R123,Données1!R107)","v":-2.5940274855903809},{"$f":"IF(Hypothèses!$J$24=\"SV\",Données1!S123,Données1!S107)","v":4.5762917729003156},{"$f":"IF(Hypothèses!$J$24=\"SV\",Données1!T123,Données1!T107)","v":-1.8649695151304984},{"$f":"IF(Hypothèses!$J$24=\"SV\",Données1!U123,Données1!U107)","v":0.73303804965321817},{"$f":"IF(Hypothèses!$J$24=\"SV\",Données1!V123,Données1!V107)","v":-3.5820084226358295E-2},{"$f":"IF(Hypothèses!$J$24=\"SV\",Données1!W123,Données1!W107)","v":-2.4753395395996574},{"$f":"IF(Hypothèses!$J$24=\"SV\",Données1!X123,Données1!X107)","v":4.3057939937583916},{"$f":"IF(Hypothèses!$J$24=\"SV\",Données1!Y123,Données1!Y107)","v":-1.6400664593627097},{"$f":"IF(Hypothèses!$J$24=\"SV\",Données1!Z123,Données1!Z107)","v":0.70122639854683599},{"$f":"IF(Hypothèses!$J$24=\"SV\",Données1!AA123,Données1!AA107)","v":-3.3050707536874946E-2},{"$f":"IF(Hypothèses!$J$24=\"SV\",Données1!AB123,Données1!AB107)","v":-2.585920277595966},{"$f":"IF(Hypothèses!$J$24=\"SV\",Données1!AC123,Données1!AC107)","v":4.5586245307136988},{"$f":"IF(Hypothèses!$J$24=\"SV\",Données1!AD123,Données1!AD107)","v":-1.8514490752856165},{"$f":"IF(Hypothèses!$J$24=\"SV\",Données1!AE123,Données1!AE107)","v":0.73085339751940526},{"$f":"IF(Hypothèses!$J$24=\"SV\",Données1!AF123,Données1!AF107)","v":-3.5646327466261452E-2},{"$f":"IF(Hypothèses!$J$24=\"SV\",Données1!AG123,Données1!AG107)","v":-2.585920277595966},{"$f":"IF(Hypothèses!$J$24=\"SV\",Données1!AH123,Données1!AH107)","v":4.5586245307136988},{"$f":"IF(Hypothèses!$J$24=\"SV\",Données1!AI123,Données1!AI107)","v":-1.8514490752856165},{"$f":"IF(Hypothèses!$J$24=\"SV\",Données1!AJ123,Données1!AJ107)","v":0.73085339751940526},{"$f":"IF(Hypothèses!$J$24=\"SV\",Données1!AK123,Données1!AK107)","v":-3.5646327466261452E-2},{"$f":"IF(Hypothèses!$J$24=\"SV\",Données1!AL123,Données1!AL107)","v":-2.4794265425349273},{"$f":"IF(Hypothèses!$J$24=\"SV\",Données1!AM123,Données1!AM107)","v":4.3053666905193806},{"$f":"IF(Hypothèses!$J$24=\"SV\",Données1!AN123,Données1!AN107)","v":-1.6252512861496842},{"$f":"IF(Hypothèses!$J$24=\"SV\",Données1!AO123,Données1!AO107)","v":0.70308863797352561},{"$f":"IF(Hypothèses!$J$24=\"SV\",Données1!AP123,Données1!AP107)","v":-3.2984933105822734E-2}]
[null,"Septembre",-2.3600059228118222,4.1184241065173008,-1.5938134636600572,0.66833576574523235,-3.1761939110331094E-2,-2.6433425991346184,4.6555423812397585,-1.8826078714315064,0.74737984282599368,-3.6364965029847041E-2,-2.6646478625727026,4.6991384791532784,-1.9116726804099906,0.75319692076973765,-3.676903389590358E-2,-2.6646478625727026,4.6991384791532784,-1.9116726804099906,0.75319692076973765,-3.676903389590358E-2,-2.3780000704597892,4.1656820175513953,-1.6421147407994996,0.67308587958051214,-3.2301406354391604E-2,-2.6566645462759131,4.6825433741912104,-1.9001904467297379,0.75102362054670369,-3.6612795670203091E-2,-2.6566645462759131,4.6825433741912104,-1.9001904467297379,0.75102362054670369,-3.6612795670203091E-2,-2.6345250766559345,4.6369218459250794,-1.8692592804515433,0.7449894911742867,-3.618708171587065E-2,null,"Septembre",{"$f":"IF(Hypothèses!$J$24=\"SV\",Données1!C124,Données1!C108)","v":-2.80721191891993},{"$f":"IF(Hypothèses!$J$24=\"SV\",Données1!D124,Données1!D108)","v":5.0325404003824792},{"$f":"IF(Hypothèses!$J$24=\"SV\",Données1!E124,Données1!E108)","v":-2.2013858051111539},{"$f":"IF(Hypothèses!$J$24=\"SV\",Données1!F124,Données1!F108)","v":0.79088399954091448},{"$f":"IF(Hypothèses!$J$24=\"SV\",Données1!G124,Données1!G108)","v":-4.0241524175115673E-2},{"$f":"IF(Hypothèses!$J$24=\"SV\",Données1!H124,Données1!H108)","v":-2.5751600571557103},{"$f":"IF(Hypothèses!$J$24=\"SV\",Données1!I124,Données1!I108)","v":4.5035709945609064},{"$f":"IF(Hypothèses!$J$24=\"SV\",Données1!J124,Données1!J108)","v":-1.7610402045703921},{"$f":"IF(Hypothèses!$J$24=\"SV\",Données1!K124,Données1!K108)","v":0.72929513327100703},{"$f":"IF(Hypothèses!$J$24=\"SV\",Données1!L124,Données1!L108)","v":-3.4848458727172293E-2},{"$f":"IF(Hypothèses!$J$24=\"SV\",Données1!M124,Données1!M108)","v":-2.6291352881234942},{"$f":"IF(Hypothèses!$J$24=\"SV\",Données1!N124,Données1!N108)","v":4.6384327489817752},{"$f":"IF(Hypothèses!$J$24=\"SV\",Données1!O124,Données1!O108)","v":-1.8906667783873243},{"$f":"IF(Hypothèses!$J$24=\"SV\",Données1!P124,Données1!P108)","v":0.74297169808424879},{"$f":"IF(Hypothèses!$J$24=\"SV\",Données1!Q124,Données1!Q108)","v":-3.6309384711243564E-2},{"$f":"IF(Hypothèses!$J$24=\"SV\",Données1!R124,Données1!R108)","v":-2.6291352881234942},{"$f":"IF(Hypothèses!$J$24=\"SV\",Données1!S124,Données1!S108)","v":4.6384327489817752},{"$f":"IF(Hypothèses!$J$24=\"SV\",Données1!T124,Données1!T108)","v":-1.8906667783873243},{"$f":"IF(Hypothèses!$J$24=\"SV\",Données1!U124,Données1!U108)","v":0.74297169808424879},{"$f":"IF(Hypothèses!$J$24=\"SV\",Données1!V124,Données1!V108)","v":-3.6309384711243564E-2},{"$f":"IF(Hypothèses!$J$24=\"SV\",Données1!W124,Données1!W108)","v":-2.4750241218370403},{"$f":"IF(Hypothèses!$J$24=\"SV\",Données1!X124,Données1!X108)","v":4.3052506370550416},{"$f":"IF(Hypothèses!$J$24=\"SV\",Données1!Y124,Données1!Y108)","v":-1.6398695335425102},{"$f":"IF(Hypothèses!$J$24=\"SV\",Données1!Z124,Données1!Z108)","v":0.70113698669806424},{"$f":"IF(Hypothèses!$J$24=\"SV\",Données1!AA124,Données1!AA108)","v":-3.3046597753416396E-2},{"$f":"IF(Hypothèses!$J$24=\"SV\",Données1!AB124,Données1!AB108)","v":-2.649043610525661},{"$f":"IF(Hypothèses!$J$24=\"SV\",Données1!AC124,Données1!AC108)","v":4.6747594280508551},{"$f":"IF(Hypothèses!$J$24=\"SV\",Données1!AD124,Données1!AD108)","v":-1.9077059641036918},{"$f":"IF(Hypothèses!$J$24=\"SV\",Données1!AE124,Données1!AE108)","v":0.7486048462120779},{"$f":"IF(Hypothèses!$J$24=\"SV\",Données1!AF124,Données1!AF108)","v":-3.6608190576928767E-2},{"$f":"IF(Hypothèses!$J$24=\"SV\",Données1!AG124,Données1!AG108)","v":-2.649043610525661},{"$f":"IF(Hypothèses!$J$24=\"SV\",Données1!AH124,Données1!AH108)","v":4.6747594280508551},{"$f":"IF(Hypothèses!$J$24=\"SV\",Données1!AI124,Données1!AI108)","v":-1.9077059641036918},{"$f":"IF(Hypothèses!$J$24=\"SV\",Données1!AJ124,Données1!AJ108)","v":0.7486048462120779},{"$f":"IF(Hypothèses!$J$24=\"SV\",Données1!AK124,Données1!AK108)","v":-3.6608190576928767E-2},{"$f":"IF(Hypothèses!$J$24=\"SV\",Données1!AL124,Données1!AL108)","v":-2.5580508380933962},{"$f":"IF(Hypothèses!$J$24=\"SV\",Données1!AM124,Données1!AM108)","v":4.4665823585046427},{"$f":"IF(Hypothèses!$J$24=\"SV\",Données1!AN124,Données1!AN108)","v":-1.7331540054471146},{"$f":"IF(Hypothèses!$J$24=\"SV\",Données1!AO124,Données1!AO108)","v":0.72472161783231337},{"$f":"IF(Hypothèses!$J$24=\"SV\",Données1!AP124,Données1!AP108)","v":-3.4488996028889551E-2}]
[null,"Octobre",-2.4753395395998723,4.3057939937587797,-1.6400664593629413,0.70122639854688829,-3.3050707536878499E-2,-2.6323372670065122,4.6433513763093579,-1.8913085277938222,0.74388556294014496,-3.6339641993449967E-2,-2.5914429237598702,4.5438184418550236,-1.7991631984054011,0.73340879641253598,-3.5280150655970455E-2,-2.5914429237598702,4.5438184418550236,-1.7991631984054011,0.73340879641253598,-3.5280150655970455E-2,-2.6124471911923721,4.668495175169836,-2.0144741458093471,0.73671740612962389,-3.7185210071107699E-2,-2.5679261906500992,4.4912482210110349,-1.7568847583553495,0.72717082551365109,-3.4754061432544447E-2,-2.5679261906500992,4.4912482210110349,-1.7568847583553495,0.72717082551365109,-3.4754061432544447E-2,-2.6562334942989279,4.6920017596720109,-1.9233166971433415,0.75045818478750637,-3.6789867727047676E-2,null,"Octobre",{"$f":"IF(Hypothèses!$J$24=\"SV\",Données1!C125,Données1!C109)","v":-2.5447410181111794},{"$f":"IF(Hypothèses!$J$24=\"SV\",Données1!D125,Données1!D109)","v":4.5165004428807496},{"$f":"IF(Hypothèses!$J$24=\"SV\",Données1!E125,Données1!E109)","v":-1.8914601048337836},{"$f":"IF(Hypothèses!$J$24=\"SV\",Données1!F125,Données1!F109)","v":0.71850104252766211},{"$f":"IF(Hypothèses!$J$24=\"SV\",Données1!G125,Données1!G109)","v":-3.5648024793211497E-2},{"$f":"IF(Hypothèses!$J$24=\"SV\",Données1!H125,Données1!H109)","v":-2.6507217986758147},{"$f":"IF(Hypothèses!$J$24=\"SV\",Données1!I125,Données1!I109)","v":4.6636621652381836},{"$f":"IF(Hypothèses!$J$24=\"SV\",Données1!J125,Données1!J109)","v":-1.8767125415021571},{"$f":"IF(Hypothèses!$J$24=\"SV\",Données1!K125,Données1!K109)","v":0.7496249300824025},{"$f":"IF(Hypothèses!$J$24=\"SV\",Données1!L125,Données1!L109)","v":-3.6377080488164126E-2},{"$f":"IF(Hypothèses!$J$24=\"SV\",Données1!M125,Données1!M109)","v":-2.5974934960111944},{"$f":"IF(Hypothèses!$J$24=\"SV\",Données1!N125,Données1!N109)","v":4.5597892417199217},{"$f":"IF(Hypothèses!$J$24=\"SV\",Données1!O125,Données1!O109)","v":-1.81568232656466},{"$f":"IF(Hypothèses!$J$24=\"SV\",Données1!P125,Données1!P109)","v":0.73485430336005109},{"$f":"IF(Hypothèses!$J$24=\"SV\",Données1!Q125,Données1!Q109)","v":-3.5457232139194494E-2},{"$f":"IF(Hypothèses!$J$24=\"SV\",Données1!R125,Données1!R109)","v":-2.5974934960111944},{"$f":"IF(Hypothèses!$J$24=\"SV\",Données1!S125,Données1!S109)","v":4.5597892417199217},{"$f":"IF(Hypothèses!$J$24=\"SV\",Données1!T125,Données1!T109)","v":-1.81568232656466},{"$f":"IF(Hypothèses!$J$24=\"SV\",Données1!U125,Données1!U109)","v":0.73485430336005109},{"$f":"IF(Hypothèses!$J$24=\"SV\",Données1!V125,Données1!V109)","v":-3.5457232139194494E-2},{"$f":"IF(Hypothèses!$J$24=\"SV\",Données1!W125,Données1!W109)","v":-2.4511578591341219},{"$f":"IF(Hypothèses!$J$24=\"SV\",Données1!X125,Données1!X109)","v":4.2764317228060058},{"$f":"IF(Hypothèses!$J$24=\"SV\",Données1!Y125,Données1!Y109)","v":-1.653004434899517},{"$f":"IF(Hypothèses!$J$24=\"SV\",Données1!Z125,Données1!Z109)","v":0.69409263302819124},{"$f":"IF(Hypothèses!$J$24=\"SV\",Données1!AA125,Données1!AA109)","v":-3.2965714970717708E-2},{"$f":"IF(Hypothèses!$J$24=\"SV\",Données1!AB125,Données1!AB109)","v":-2.5874138304578338},{"$f":"IF(Hypothèses!$J$24=\"SV\",Données1!AC125,Données1!AC109)","v":4.5386562715105301},{"$f":"IF(Hypothèses!$J$24=\"SV\",Données1!AD125,Données1!AD109)","v":-1.8007750301108578},{"$f":"IF(Hypothèses!$J$24=\"SV\",Données1!AE125,Données1!AE109)","v":0.73211307384711433},{"$f":"IF(Hypothèses!$J$24=\"SV\",Données1!AF125,Données1!AF109)","v":-3.5256544472019924E-2},{"$f":"IF(Hypothèses!$J$24=\"SV\",Données1!AG125,Données1!AG109)","v":-2.5874138304578338},{"$f":"IF(Hypothèses!$J$24=\"SV\",Données1!AH125,Données1!AH109)","v":4.5386562715105301},{"$f":"IF(Hypothèses!$J$24=\"SV\",Données1!AI125,Données1!AI109)","v":-1.8007750301108578},{"$f":"IF(Hypothèses!$J$24=\"SV\",Données1!AJ125,Données1!AJ109)","v":0.73211307384711433},{"$f":"IF(Hypothèses!$J$24=\"SV\",Données1!AK125,Données1!AK109)","v":-3.5256544472019924E-2},{"$f":"IF(Hypothèses!$J$24=\"SV\",Données1!AL125,Données1!AL109)","v":-2.6437171871311866},{"$f":"IF(Hypothèses!$J$24=\"SV\",Données1!AM125,Données1!AM109)","v":4.6496055583106024},{"$f":"IF(Hypothèses!$J$24=\"SV\",Données1!AN125,Données1!AN109)","v":-1.8677914402590936},{"$f":"IF(Hypothèses!$J$24=\"SV\",Données1!AO125,Données1!AO109)","v":0.74770013685821091},{"$f":"IF(Hypothèses!$J$24=\"SV\",Données1!AP125,Données1!AP109)","v":-3.6249177222655804E-2}]
[null,"Novembre",-2.4753395395997169,4.3057939937584706,-1.6400664593627352,0.70122639854683733,-3.305070753687489E-2,-2.5845786075878801,4.5563121995552898,-1.8506235312081101,0.73045000809891414,-3.562792957281119E-2,-2.5088594742382004,4.3702862297616436,-1.6761582765180807,0.71093174053771724,-3.3627597736994586E-2,-2.5088594742382004,4.3702862297616436,-1.6761582765180807,0.71093174053771724,-3.3627597736994586E-2,-2.8780237518982972,5.1561666429809847,-2.2494358800470784,0.81076767621974777,-4.1188996547285528E-2,-2.4740894788231169,4.2951253874068707,-1.6195695019180965,0.70153833845380931,-3.2893418697484744E-2,-2.4740894788231169,4.2951253874068707,-1.6195695019180965,0.70153833845380931,-3.2893418697484744E-2,-2.6247862086806069,4.6406372168593641,-1.9101308114156172,0.74141087727110588,-3.6429993089909907E-2,null,"Novembre",{"$f":"IF(Hypothèses!$J$24=\"SV\",Données1!C126,Données1!C110)","v":-2.4145738709230771},{"$f":"IF(Hypothèses!$J$24=\"SV\",Données1!D126,Données1!D110)","v":4.2105129431331143},{"$f":"IF(Hypothèses!$J$24=\"SV\",Données1!E126,Données1!E110)","v":-1.6235314900160263},{"$f":"IF(Hypothèses!$J$24=\"SV\",Données1!F126,Données1!F110)","v":0.68382897799227582},{"$f":"IF(Hypothèses!$J$24=\"SV\",Données1!G126,Données1!G110)","v":-3.2436415641537431E-2},{"$f":"IF(Hypothèses!$J$24=\"SV\",Données1!H126,Données1!H110)","v":-2.7098330621304827},{"$f":"IF(Hypothèses!$J$24=\"SV\",Données1!I126,Données1!I110)","v":4.7999887771077541},{"$f":"IF(Hypothèses!$J$24=\"SV\",Données1!J126,Données1!J110)","v":-1.9925627705140441},{"$f":"IF(Hypothèses!$J$24=\"SV\",Données1!K126,Données1!K110)","v":0.76515873545034729},{"$f":"IF(Hypothèses!$J$24=\"SV\",Données1!L126,Données1!L110)","v":-3.7775834181175305E-2},{"$f":"IF(Hypothèses!$J$24=\"SV\",Données1!M126,Données1!M110)","v":-2.5482843771500781},{"$f":"IF(Hypothèses!$J$24=\"SV\",Données1!N126,Données1!N110)","v":4.4551436925173578},{"$f":"IF(Hypothèses!$J$24=\"SV\",Données1!O126,Données1!O110)","v":-1.7395039702158253},{"$f":"IF(Hypothèses!$J$24=\"SV\",Données1!P126,Données1!P110)","v":0.7215674576527642},{"$f":"IF(Hypothèses!$J$24=\"SV\",Données1!Q126,Données1!Q110)","v":-3.4452309084652133E-2},{"$f":"IF(Hypothèses!$J$24=\"SV\",Données1!R126,Données1!R110)","v":-2.5482843771500781},{"$f":"IF(Hypothèses!$J$24=\"SV\",Données1!S126,Données1!S110)","v":4.4551436925173578},{"$f":"IF(Hypothèses!$J$24=\"SV\",Données1!T126,Données1!T110)","v":-1.7395039702158253},{"$f":"IF(Hypothèses!$J$24=\"SV\",Données1!U126,Données1!U110)","v":0.7215674576527642},{"$f":"IF(Hypothèses!$J$24=\"SV\",Données1!V126,Données1!V110)","v":-3.4452309084652133E-2},{"$f":"IF(Hypothèses!$J$24=\"SV\",Données1!W126,Données1!W110)","v":-2.4715450651584319},{"$f":"IF(Hypothèses!$J$24=\"SV\",Données1!X126,Données1!X110)","v":4.3607074243638113},{"$f":"IF(Hypothèses!$J$24=\"SV\",Données1!Y126,Données1!Y110)","v":-1.7779209266922171},{"$f":"IF(Hypothèses!$J$24=\"SV\",Données1!Z126,Données1!Z110)","v":0.69860232547862589},{"$f":"IF(Hypothèses!$J$24=\"SV\",Données1!AA126,Données1!AA110)","v":-3.4145297085644621E-2},{"$f":"IF(Hypothèses!$J$24=\"SV\",Données1!AB126,Données1!AB110)","v":-2.5470061219838938},{"$f":"IF(Hypothèses!$J$24=\"SV\",Données1!AC126,Données1!AC110)","v":4.4514967341661844},{"$f":"IF(Hypothèses!$J$24=\"SV\",Données1!AD126,Données1!AD110)","v":-1.7353919044888999},{"$f":"IF(Hypothèses!$J$24=\"SV\",Données1!AE126,Données1!AE110)","v":0.72126798194625508},{"$f":"IF(Hypothèses!$J$24=\"SV\",Données1!AF126,Données1!AF110)","v":-3.4409779427626574E-2},{"$f":"IF(Hypothèses!$J$24=\"SV\",Données1!AG126,Données1!AG110)","v":-2.5470061219838938},{"$f":"IF(Hypothèses!$J$24=\"SV\",Données1!AH126,Données1!AH110)","v":4.4514967341661844},{"$f":"IF(Hypothèses!$J$24=\"SV\",Données1!AI126,Données1!AI110)","v":-1.7353919044888999},{"$f":"IF(Hypothèses!$J$24=\"SV\",Données1!AJ126,Données1!AJ110)","v":0.72126798194625508},{"$f":"IF(Hypothèses!$J$24=\"SV\",Données1!AK126,Données1!AK110)","v":-3.4409779427626574E-2},{"$f":"IF(Hypothèses!$J$24=\"SV\",Données1!AL126,Données1!AL110)","v":-2.7092295378680316},{"$f":"IF(Hypothèses!$J$24=\"SV\",Données1!AM126,Données1!AM110)","v":4.7978191319230561},{"$f":"IF(Hypothèses!$J$24=\"SV\",Données1!AN126,Données1!AN110)","v":-1.9896008564230032},{"$f":"IF(Hypothèses!$J$24=\"SV\",Données1!AO126,Données1!AO110)","v":0.76502656607634267},{"$f":"IF(Hypothèses!$J$24=\"SV\",Données1!AP126,Données1!AP110)","v":-3.7747338400436481E-2}]
[null,"Décembre",-2.4753395395997497,4.3057939937585354,-1.6400664593627787,0.70122639854684832,-3.3050707536875723E-2,-2.5324602766391751,4.446510767661489,-1.7723520256965752,0.71625914215266862,-3.4579194082937859E-2,-2.4563626943554611,4.260841956818826,-1.6000466097434682,0.69646037194161559,-3.2586982911157414E-2,-2.4563626943554611,4.260841956818826,-1.6000466097434682,0.69646037194161559,-3.2586982911157414E-2,-2.8098423329383246,4.9922076030408293,-2.1006096983100293,0.79282730524995237,-3.9443157005708884E-2,-2.4571259489952788,4.2622889280487817,-1.6008428108972854,0.69664472464435145,-3.2598275237854468E-2,-2.4571259489952788,4.2622889280487817,-1.6008428108972854,0.69664472464435145,-3.2598275237854468E-2,-2.5345677082285945,4.4499450023592324,-1.773222941243735,0.71685710406360503,-3.4602831616930396E-2,null,"Décembre",{"$f":"IF(Hypothèses!$J$24=\"SV\",Données1!C127,Données1!C111)","v":-2.4752134472717269},{"$f":"IF(Hypothèses!$J$24=\"SV\",Données1!D127,Données1!D111)","v":4.3055749394412786},{"$f":"IF(Hypothèses!$J$24=\"SV\",Données1!E127,Données1!E111)","v":-1.6399835522119903},{"$f":"IF(Hypothèses!$J$24=\"SV\",Données1!F127,Données1!F111)","v":0.70119067569914584},{"$f":"IF(Hypothèses!$J$24=\"SV\",Données1!G127,Données1!G111)","v":-3.3049029337138602E-2},{"$f":"IF(Hypothèses!$J$24=\"SV\",Données1!H127,Données1!H111)","v":-2.6699089958891391},{"$f":"IF(Hypothèses!$J$24=\"SV\",Données1!I127,Données1!I111)","v":4.7264618047838898},{"$f":"IF(Hypothèses!$J$24=\"SV\",Données1!J127,Données1!J111)","v":-1.9568148843274316},{"$f":"IF(Hypothèses!$J$24=\"SV\",Données1!K127,Données1!K111)","v":0.75392869441964028},{"$f":"IF(Hypothèses!$J$24=\"SV\",Données1!L127,Données1!L111)","v":-3.716591874618419E-2},{"$f":"IF(Hypothèses!$J$24=\"SV\",Données1!M127,Données1!M111)","v":-2.5164251624745173},{"$f":"IF(Hypothèses!$J$24=\"SV\",Données1!N127,Données1!N111)","v":4.3890530154258283},{"$f":"IF(Hypothèses!$J$24=\"SV\",Données1!O127,Données1!O111)","v":-1.6940585298123458},{"$f":"IF(Hypothèses!$J$24=\"SV\",Données1!P127,Données1!P111)","v":0.71278490419725937},{"$f":"IF(Hypothèses!$J$24=\"SV\",Données1!Q127,Données1!Q111)","v":-3.3827217287678346E-2},{"$f":"IF(Hypothèses!$J$24=\"SV\",Données1!R127,Données1!R111)","v":-2.5164251624745173},{"$f":"IF(Hypothèses!$J$24=\"SV\",Données1!S127,Données1!S111)","v":4.3890530154258283},{"$f":"IF(Hypothèses!$J$24=\"SV\",Données1!T127,Données1!T111)","v":-1.6940585298123458},{"$f":"IF(Hypothèses!$J$24=\"SV\",Données1!U127,Données1!U111)","v":0.71278490419725937},{"$f":"IF(Hypothèses!$J$24=\"SV\",Données1!V127,Données1!V111)","v":-3.3827217287678346E-2},{"$f":"IF(Hypothèses!$J$24=\"SV\",Données1!W127,Données1!W111)","v":-2.5071897535254548},{"$f":"IF(Hypothèses!$J$24=\"SV\",Données1!X127,Données1!X111)","v":4.4449481357423419},{"$f":"IF(Hypothèses!$J$24=\"SV\",Données1!Y127,Données1!Y111)","v":-1.852326654608907},{"$f":"IF(Hypothèses!$J$24=\"SV\",Données1!Z127,Données1!Z111)","v":0.70806902529034543},{"$f":"IF(Hypothèses!$J$24=\"SV\",Données1!AA127,Données1!AA111)","v":-3.5032490602929955E-2},{"$f":"IF(Hypothèses!$J$24=\"SV\",Données1!AB127,Données1!AB111)","v":-2.5279716246563408},{"$f":"IF(Hypothèses!$J$24=\"SV\",Données1!AC127,Données1!AC111)","v":4.4121030113337696},{"$f":"IF(Hypothèses!$J$24=\"SV\",Données1!AD127,Données1!AD111)","v":-1.7084477282490802},{"$f":"IF(Hypothèses!$J$24=\"SV\",Données1!AE127,Données1!AE111)","v":0.71602442344406747},{"$f":"IF(Hypothèses!$J$24=\"SV\",Données1!AF127,Données1!AF111)","v":-3.4038269543976152E-2},{"$f":"IF(Hypothèses!$J$24=\"SV\",Données1!AG127,Données1!AG111)","v":-2.5279716246563408},{"$f":"IF(Hypothèses!$J$24=\"SV\",Données1!AH127,Données1!AH111)","v":4.4121030113337696},{"$f":"IF(Hypothèses!$J$24=\"SV\",Données1!AI127,Données1!AI111)","v":-1.7084477282490802},{"$f":"IF(Hypothèses!$J$24=\"SV\",Données1!AJ127,Données1!AJ111)","v":0.71602442344406747},{"$f":"IF(Hypothèses!$J$24=\"SV\",Données1!AK127,Données1!AK111)","v":-3.4038269543976152E-2},{"$f":"IF(Hypothèses!$J$24=\"SV\",Données1!AL127,Données1!AL111)","v":-2.6757312026932243},{"$f":"IF(Hypothèses!$J$24=\"SV\",Données1!AM127,Données1!AM111)","v":4.7376778895876184},{"$f":"IF(Hypothèses!$J$24=\"SV\",Données1!AN127,Données1!AN111)","v":-1.9631603135202707},{"$f":"IF(Hypothèses!$J$24=\"SV\",Données1!AO127,Données1!AO111)","v":0.75554427469569185},{"$f":"IF(Hypothèses!$J$24=\"SV\",Données1!AP127,Données1!AP111)","v":-3.7263675771755378E-2}]
[]
[null,"ST-DENIS REUNION"]
[null,"DV","ORIENTATION",null,null,null,null,null,null,null,null,null,null,null,null,null,null,null,null,null,null,null,null,null,null,null,null,null,null,null,null,null,null,null,null,null,null,null,null,null,null,null,null,"Final","ORIENTATION"]
[null,null,"NORD",null,null,null,null,"NORD-EST",null,null,null,null,"EST",null,null,null,null,"SUD-EST",null,null,null,null,"SUD",null,null,null,null,"SUD-OUEST",null,null,null,null,"OUEST",null,null,null,null,"NORD-OUEST",null,null,null,null,null,null,"NORD",null,null,null,null,"NORD-EST",null,null,null,null,"EST",null,null,null,null,"SUD-EST",null,null,null,null,"SUD",null,null,null,null,"SUD-OUEST",null,null,null,null,"OUEST",null,null,null,null,"NORD-OUEST"]
[null,null,"a","b","c","d","e","a","b","c","d","e","a","b","c","d","e","a","b","c","d","e","a","b","c","d","e","a","b","c","d","e","a","b","c","d","e","a","b","c","d","e",null,null,"a","b","c","d","e","a","b","c","d","e","a","b","c","d","e","a","b","c","d","e","a","b","c","d","e","a","b","c","d","e","a","b","c","d","e","a","b","c","d","e"]
[null,"Janvier",0.22598471498435072,-0.92713235709861586,1.2195282139844108,0.29549541117121736,-7.958995182091734E-3,-3.7602163903115167E-2,-0.4327894569234545,0.92327642802691279,0.30423653942924733,-8.6459714323942876E-3,0.20117915994270888,-0.89319007980825704,1.2158151157386063,0.30404483390367021,-8.240679858080309E-3,0.20117915994270888,-0.89319007980825704,1.2158151157386063,0.30404483390367021,-8.240679858080309E-3,-9.6167884902100282E-3,-0.43684037484377986,0.86171418434826752,0.27370530587564257,-7.740628507537782E-3,0.19358694353582603,-0.87713805531686762,1.203799513969952,0.30318709630533003,-8.2292766535807457E-3,0.19358694353582603,-0.87713805531686762,1.203799513969952,0.30318709630533003,-8.2292766535807457E-3,8.8473752568533058E-4,-0.50406551325277194,0.96479445153860355,0.30239801920603626,-8.5299147485865222E-3,null,"Janvier",{"$f":"IF(Station=Données1!$J$5,AS67,AS83)","v":-2.4753395395996702},{"$f":"IF(Station=Données1!$J$5,AT67,AT83)","v":4.3057939937583756},{"$f":"IF(Station=Données1!$J$5,AU67,AU83)","v":-1.6400664593626766},{"$f":"IF(Station=Données1!$J$5,AV67,AV83)","v":0.70122639854682423},{"$f":"IF(Station=Données1!$J$5,AW67,AW83)","v":-3.3050707536873947E-2},{"$f":"IF(Station=Données1!$J$5,AX67,AX83)","v":-2.5451551650293509},{"$f":"IF(Station=Données1!$J$5,AY67,AY83)","v":4.4675020255701003},{"$f":"IF(Station=Données1!$J$5,AZ67,AZ83)","v":-1.7782866531424328},{"$f":"IF(Station=Données1!$J$5,BA67,BA83)","v":0.7198615746448801},{"$f":"IF(Station=Données1!$J$5,BB67,BB83)","v":-3.4727553162436697E-2},{"$f":"IF(Station=Données1!$J$5,BC67,BC83)","v":-2.479354476804521},{"$f":"IF(Station=Données1!$J$5,BD67,BD83)","v":4.3083776970053949},{"$f":"IF(Station=Données1!$J$5,BE67,BE83)","v":-1.6325004785026511},{"$f":"IF(Station=Données1!$J$5,BF67,BF83)","v":0.70276770967226254},{"$f":"IF(Station=Données1!$J$5,BG67,BG83)","v":-3.3033767234172229E-2},{"$f":"IF(Station=Données1!$J$5,BH67,BH83)","v":-2.479354476804521},{"$f":"IF(Station=Données1!$J$5,BI67,BI83)","v":4.3083776970053949},{"$f":"IF(Station=Données1!$J$5,BJ67,BJ83)","v":-1.6325004785026511},{"$f":"IF(Station=Données1!$J$5,BK67,BK83)","v":0.70276770967226254},{"$f":"IF(Station=Données1!$J$5,BL67,BL83)","v":-3.3033767234172229E-2},{"$f":"IF(Station=Données1!$J$5,BM67,BM83)","v":-2.7777850285108672},{"$f":"IF(Station=Données1!$J$5,BN67,BN83)","v":4.9353373235901348},{"$f":"IF(Station=Données1!$J$5,BO67,BO83)","v":-2.0768494723013449},{"$f":"IF(Station=Données1!$J$5,BP67,BP83)","v":0.78376335610669878},{"$f":"IF(Station=Données1!$J$5,BQ67,BQ83)","v":-3.8994104640358629E-2},{"$f":"IF(Station=Données1!$J$5,BR67,BR83)","v":-2.4681731601116583},{"$f":"IF(Station=Données1!$J$5,BS67,BS83)","v":4.287459605158463},{"$f":"IF(Station=Données1!$J$5,BT67,BT83)","v":-1.6217605544829989},{"$f":"IF(Station=Données1!$J$5,BU67,BU83)","v":0.69960671073810965},{"$f":"IF(Station=Données1!$J$5,BV67,BV83)","v":-3.2855952133643507E-2},{"$f":"IF(Station=Données1!$J$5,BW67,BW83)","v":-2.4681731601116583},{"$f":"IF(Station=Données1!$J$5,BX67,BX83)","v":4.287459605158463},{"$f":"IF(Station=Données1!$J$5,BY67,BY83)","v":-1.6217605544829989},{"$f":"IF(Station=Données1!$J$5,BZ67,BZ83)","v":0.69960671073810965},{"$f":"IF(Station=Données1!$J$5,CA67,CA83)","v":-3.2855952133643507E-2},{"$f":"IF(Station=Données1!$J$5,CB67,CB83)","v":-2.5412368926890063},{"$f":"IF(Station=Données1!$J$5,CC67,CC83)","v":4.4581834898156414},{"$f":"IF(Station=Données1!$J$5,CD67,CD83)","v":-1.7699758861819272},{"$f":"IF(Station=Données1!$J$5,CE67,CE83)","v":0.71882020817885905},{"$f":"IF(Station=Données1!$J$5,CF67,CF83)","v":-3.4628856801194263E-2}]
[null,"Février",0.120316039175022,-0.69572429847204509,1.0369588512394921,0.27875550102398355,-7.6647431683478442E-3,6.5301035449591843E-2,-0.63536866816617554,1.0573717958570974,0.30678739981433656,-8.5448393724817228E-3,0.13633764222533296,-0.76762737451852414,1.1353449855127795,0.30379532920945834,-8.3420840795313742E-3,0.13633764222533296,-0.76762737451852414,1.1353449855127795,0.30379532920945834,-8.3420840795313742E-3,0.18717124127252785,-0.8427089610918117,1.1535730897081338,0.28969501883127385,-7.8607305197457983E-3,0.14018269830260979,-0.77448334305037925,1.1389839593177953,0.30344900496774746,-8.3259204365828156E-3,0.14018269830260979,-0.77448334305037925,1.1389839593177953,0.30344900496774746,-8.3259204365828156E-3,7.5799850474532429E-2,-0.65481623914411846,1.0687058488966386,0.30628963068204512,-8.5132788868833385E-3,null,"Février",{"$f":"IF(Station=Données1!$J$5,AS68,AS84)","v":-2.4753395395998061},{"$f":"IF(Station=Données1!$J$5,AT68,AT84)","v":4.3057939937586154},{"$f":"IF(Station=Données1!$J$5,AU68,AU84)","v":-1.6400664593628096},{"$f":"IF(Station=Données1!$J$5,AV68,AV84)","v":0.70122639854685154},{"$f":"IF(Station=Données1!$J$5,AW68,AW84)","v":-3.3050707536875779E-2},{"$f":"IF(Station=Données1!$J$5,AX68,AX84)","v":-2.5829523918308031},{"$f":"IF(Station=Données1!$J$5,AY68,AY84)","v":4.5402702503215675},{"$f":"IF(Station=Données1!$J$5,AZ68,AZ84)","v":-1.8193730498097},{"$f":"IF(Station=Données1!$J$5,BA68,BA84)","v":0.73035658547616311},{"$f":"IF(Station=Données1!$J$5,BB68,BB84)","v":-3.5361554381573013E-2},{"$f":"IF(Station=Données1!$J$5,BC68,BC84)","v":-2.5317219670577149},{"$f":"IF(Station=Données1!$J$5,BD68,BD84)","v":4.4166458105701532},{"$f":"IF(Station=Données1!$J$5,BE68,BE84)","v":-1.7064025627250639},{"$f":"IF(Station=Données1!$J$5,BF68,BF84)","v":0.71715243897255143},{"$f":"IF(Station=Données1!$J$5,BG68,BG84)","v":-3.4052075096493661E-2},{"$f":"IF(Station=Données1!$J$5,BH68,BH84)","v":-2.5317219670577149},{"$f":"IF(Station=Données1!$J$5,BI68,BI84)","v":4.4166458105701532},{"$f":"IF(Station=Données1!$J$5,BJ68,BJ84)","v":-1.7064025627250639},{"$f":"IF(Station=Données1!$J$5,BK68,BK84)","v":0.71715243897255143},{"$f":"IF(Station=Données1!$J$5,BL68,BL84)","v":-3.4052075096493661E-2},{"$f":"IF(Station=Données1!$J$5,BM68,BM84)","v":-2.6738184331639046},{"$f":"IF(Station=Données1!$J$5,BN68,BN84)","v":4.7541152951306538},{"$f":"IF(Station=Données1!$J$5,BO68,BO84)","v":-2.0070065975068552},{"$f":"IF(Station=Données1!$J$5,BP68,BP84)","v":0.75448461742485362},{"$f":"IF(Station=Données1!$J$5,BQ68,BQ84)","v":-3.7605332702053518E-2},{"$f":"IF(Station=Données1!$J$5,BR68,BR84)","v":-2.5177468995447132},{"$f":"IF(Station=Données1!$J$5,BS68,BS84)","v":4.390700124356349},{"$f":"IF(Station=Données1!$J$5,BT68,BT84)","v":-1.6934243417929353},{"$f":"IF(Station=Données1!$J$5,BU68,BU84)","v":0.71321066257467414},{"$f":"IF(Station=Données1!$J$5,BV68,BV84)","v":-3.3834080493649554E-2},{"$f":"IF(Station=Données1!$J$5,BW68,BW84)","v":-2.5177468995447132},{"$f":"IF(Station=Données1!$J$5,BX68,BX84)","v":4.390700124356349},{"$f":"IF(Station=Données1!$J$5,BY68,BY84)","v":-1.6934243417929353},{"$f":"IF(Station=Données1!$J$5,BZ68,BZ84)","v":0.71321066257467414},{"$f":"IF(Station=Données1!$J$5,CA68,CA84)","v":-3.3834080493649554E-2},{"$f":"IF(Station=Données1!$J$5,CB68,CB84)","v":-2.5704542891933921},{"$f":"IF(Station=Données1!$J$5,CC68,CC84)","v":4.5128418642297952},{"$f":"IF(Station=Données1!$J$5,CD68,CD84)","v":-1.7981044442193352},{"$f":"IF(Station=Données1!$J$5,CE68,CE84)","v":0.72697171022282248},{"$f":"IF(Station=Données1!$J$5,CF68,CF84)","v":-3.5089258360258946E-2}]
[null,"Mars",-0.11444875366938054,-0.25106689798563148,0.764653555639081,0.28361682579274067,-8.1959296655714359E-3,0.13068587090723061,-0.76531422700779062,1.1449277823060395,0.309141296324278,-8.5012939608443208E-3,8.2297480407328691E-2,-0.66127415459669125,1.064998149928388,0.30252847863176069,-8.3969165992389821E-3,8.2297480407328691E-2,-0.66127415459669125,1.064998149928388,0.30252847863176069,-8.3969165992389821E-3,0.23174959958501931,-0.94288841623053277,1.235494380706226,0.29828859016529302,-8.0281163983376425E-3,8.6777378370313241E-2,-0.67166665353977162,1.0738592145092043,0.30360971617544297,-8.4197415872706988E-3,8.6777378370313241E-2,-0.67166665353977162,1.0738592145092043,0.30360971617544297,-8.4197415872706988E-3,0.13866597759272481,-0.78047060438921256,1.1542609346826052,0.30898841973042862,-8.4836653949973938E-3,null,"Mars",{"$f":"IF(Station=Données1!$J$5,AS69,AS85)","v":-2.4391678062982374},{"$f":"IF(Station=Données1!$J$5,AT69,AT85)","v":4.2452428631900867},{"$f":"IF(Station=Données1!$J$5,AU69,AU85)","v":-1.6214896906354348},{"$f":"IF(Station=Données1!$J$5,AV69,AV85)","v":0.69094509141230531},{"$f":"IF(Station=Données1!$J$5,AW69,AW85)","v":-3.2612823541582958E-2},{"$f":"IF(Station=Données1!$J$5,AX69,AX85)","v":-2.6056715391917091},{"$f":"IF(Station=Données1!$J$5,AY69,AY85)","v":4.5773906622327711},{"$f":"IF(Station=Données1!$J$5,AZ69,AZ85)","v":-1.8288581804433093},{"$f":"IF(Station=Données1!$J$5,BA69,BA85)","v":0.73700076105368151},{"$f":"IF(Station=Données1!$J$5,BB69,BB85)","v":-3.5625969798844137E-2},{"$f":"IF(Station=Données1!$J$5,BC69,BC85)","v":-2.6106347596017372},{"$f":"IF(Station=Données1!$J$5,BD69,BD85)","v":4.5848842677261459},{"$f":"IF(Station=Données1!$J$5,BE69,BE85)","v":-1.8295331221753406},{"$f":"IF(Station=Données1!$J$5,BF69,BF85)","v":0.73845538863285154},{"$f":"IF(Station=Données1!$J$5,BG69,BG85)","v":-3.5671790971071204E-2},{"$f":"IF(Station=Données1!$J$5,BH69,BH85)","v":-2.6106347596017372},{"$f":"IF(Station=Données1!$J$5,BI69,BI85)","v":4.5848842677261459},{"$f":"IF(Station=Données1!$J$5,BJ69,BJ85)","v":-1.8295331221753406},{"$f":"IF(Station=Données1!$J$5,BK69,BK85)","v":0.73845538863285154},{"$f":"IF(Station=Données1!$J$5,BL69,BL85)","v":-3.5671790971071204E-2},{"$f":"IF(Station=Données1!$J$5,BM69,BM85)","v":-2.4368073610269754},{"$f":"IF(Station=Données1!$J$5,BN69,BN85)","v":4.2618956591124952},{"$f":"IF(Station=Données1!$J$5,BO69,BO85)","v":-1.6672630411516125},{"$f":"IF(Station=Données1!$J$5,BP69,BP85)","v":0.68980441183404018},{"$f":"IF(Station=Données1!$J$5,BQ69,BQ85)","v":-3.2969759823827938E-2},{"$f":"IF(Station=Données1!$J$5,BR69,BR85)","v":-2.609916336183475},{"$f":"IF(Station=Données1!$J$5,BS69,BS85)","v":4.5833582147825895},{"$f":"IF(Station=Données1!$J$5,BT69,BT85)","v":-1.8284253176922864},{"$f":"IF(Station=Données1!$J$5,BU69,BU85)","v":0.73826064760176635},{"$f":"IF(Station=Données1!$J$5,BV69,BV85)","v":-3.5657123653755951E-2},{"$f":"IF(Station=Données1!$J$5,BW69,BW85)","v":-2.609916336183475},{"$f":"IF(Station=Données1!$J$5,BX69,BX85)","v":4.5833582147825895},{"$f":"IF(Station=Données1!$J$5,BY69,BY85)","v":-1.8284253176922864},{"$f":"IF(Station=Données1!$J$5,BZ69,BZ85)","v":0.73826064760176635},{"$f":"IF(Station=Données1!$J$5,CA69,CA85)","v":-3.5657123653755951E-2},{"$f":"IF(Station=Données1!$J$5,CB69,CB85)","v":-2.6037430399743},{"$f":"IF(Station=Données1!$J$5,CC69,CC85)","v":4.5724701880739298},{"$f":"IF(Station=Données1!$J$5,CD69,CD85)","v":-1.8239982525871734},{"$f":"IF(Station=Données1!$J$5,CE69,CE85)","v":0.73650804613132859},{"$f":"IF(Station=Données1!$J$5,CF69,CF85)","v":-3.55716165565646E-2}]
[null,"Avril",-0.10833734472474239,-0.30795170124953614,0.85881085475594887,0.31142150233594967,-8.9660439410336849E-3,0.22034557113915684,-0.93206733003470066,1.2429923597286989,0.30522528302635865,-8.24164483288857E-3,6.4702430637009811E-2,-0.6182897878436201,1.0260273796403441,0.29692916749914988,-8.2694052463502532E-3,6.4702430637009811E-2,-0.6182897878436201,1.0260273796403441,0.29692916749914988,-8.2694052463502532E-3,0.23358171630925045,-0.94756657318798565,1.2399371044522052,0.29897870953088573,-8.0445058606431544E-3,7.8560861537295273E-2,-0.64479811268112985,1.0425971174411959,0.29678549339027677,-8.2421720972548664E-3,7.8560861537295273E-2,-0.64479811268112985,1.0425971174411959,0.29678549339027677,-8.2421720972548664E-3,0.20949895865172416,-0.91105472859211678,1.229514772326175,0.305177905951241,-8.2584512793682577E-3,null,"Avril",{"$f":"IF(Station=Données1!$J$5,AS70,AS86)","v":-2.4312338177064112},{"$f":"IF(Station=Données1!$J$5,AT70,AT86)","v":4.2715500481499147},{"$f":"IF(Station=Données1!$J$5,AU70,AU86)","v":-1.7077012760085906},{"$f":"IF(Station=Données1!$J$5,AV70,AV86)","v":0.68777374620058018},{"$f":"IF(Station=Données1!$J$5,AW70,AW86)","v":-3.3256964817452883E-2},{"$f":"IF(Station=Données1!$J$5,AX70,AX86)","v":-2.567158062553704},{"$f":"IF(Station=Données1!$J$5,AY70,AY86)","v":4.4951451357829821},{"$f":"IF(Station=Données1!$J$5,AZ70,AZ86)","v":-1.7684617746686409},{"$f":"IF(Station=Données1!$J$5,BA70,BA86)","v":0.72659269509432756},{"$f":"IF(Station=Données1!$J$5,BB70,BB86)","v":-3.483235760323683E-2},{"$f":"IF(Station=Données1!$J$5,BC70,BC86)","v":-2.6068460611940938},{"$f":"IF(Station=Données1!$J$5,BD70,BD86)","v":4.5839199184876618},{"$f":"IF(Station=Données1!$J$5,BE70,BE86)","v":-1.8399488325474656},{"$f":"IF(Station=Données1!$J$5,BF70,BF86)","v":0.73710128402328567},{"$f":"IF(Station=Données1!$J$5,BG70,BG86)","v":-3.5720549193998419E-2},{"$f":"IF(Station=Données1!$J$5,BH70,BH86)","v":-2.6068460611940938},{"$f":"IF(Station=Données1!$J$5,BI70,BI86)","v":4.5839199184876618},{"$f":"IF(Station=Données1!$J$5,BJ70,BJ86)","v":-1.8399488325474656},{"$f":"IF(Station=Données1!$J$5,BK70,BK86)","v":0.73710128402328567},{"$f":"IF(Station=Données1!$J$5,BL70,BL86)","v":-3.5720549193998419E-2},{"$f":"IF(Station=Données1!$J$5,BM70,BM86)","v":-2.4683986141007055},{"$f":"IF(Station=Données1!$J$5,BN70,BN86)","v":4.2938361319984315},{"$f":"IF(Station=Données1!$J$5,BO70,BO86)","v":-1.6357306823142548},{"$f":"IF(Station=Données1!$J$5,BP70,BP86)","v":0.69925884797122106},{"$f":"IF(Station=Données1!$J$5,BQ70,BQ86)","v":-3.2960249665770158E-2},{"$f":"IF(Station=Données1!$J$5,BR70,BR86)","v":-2.616009515710076},{"$f":"IF(Station=Données1!$J$5,BS70,BS86)","v":4.6018245912627185},{"$f":"IF(Station=Données1!$J$5,BT70,BT86)","v":-1.850500859139371},{"$f":"IF(Station=Données1!$J$5,BU70,BU86)","v":0.73965306246824336},{"$f":"IF(Station=Données1!$J$5,BV70,BV86)","v":-3.5879694167715803E-2},{"$f":"IF(Station=Données1!$J$5,BW70,BW86)","v":-2.616009515710076},{"$f":"IF(Station=Données1!$J$5,BX70,BX86)","v":4.6018245912627185},{"$f":"IF(Station=Données1!$J$5,BY70,BY86)","v":-1.850500859139371},{"$f":"IF(Station=Données1!$J$5,BZ70,BZ86)","v":0.73965306246824336},{"$f":"IF(Station=Données1!$J$5,CA70,CA86)","v":-3.5879694167715803E-2},{"$f":"IF(Station=Données1!$J$5,CB70,CB86)","v":-2.5669199703142866},{"$f":"IF(Station=Données1!$J$5,CC70,CC86)","v":4.4939239806448725},{"$f":"IF(Station=Données1!$J$5,CD70,CD86)","v":-1.7664431275818377},{"$f":"IF(Station=Données1!$J$5,CE70,CE86)","v":0.72657625725311137},{"$f":"IF(Station=Données1!$J$5,CF70,CF86)","v":-3.4815344762271661E-2}]
[null,"Mai",4.5071189851358877E-2,-0.62540540631257235,1.0884300266655857,0.32485411447329304,-9.0849070403484361E-3,0.30333167191739641,-1.0835523401901372,1.3282634290289146,0.29981502269749277,-7.9513533645870632E-3,9.0841837368233772E-2,-0.65873699186925072,1.0389247589416652,0.29076844080675124,-8.0527402766809343E-3,9.0841837368233772E-2,-0.65873699186925072,1.0389247589416652,0.29076844080675124,-8.0527402766809343E-3,0.23358171630938063,-0.94756657318823334,1.2399371044523586,0.29897870953085254,-8.0445058606410172E-3,0.11068201073079531,-0.69520560527889008,1.0598031975626108,0.28966576676042488,-7.9884781591008092E-3,0.11068201073079531,-0.69520560527889008,1.0598031975626108,0.28966576676042488,-7.9884781591008092E-3,0.29055841202743532,-1.0596347796834091,1.3139831877054313,0.30027498300350752,-7.9855863480872841E-3,null,"Mai",{"$f":"IF(Station=Données1!$J$5,AS71,AS87)","v":-2.7347067502377911},{"$f":"IF(Station=Données1!$J$5,AT71,AT87)","v":4.8963680895266686},{"$f":"IF(Station=Données1!$J$5,AU71,AU87)","v":-2.1303443195444749},{"$f":"IF(Station=Données1!$J$5,AV71,AV87)","v":0.77070222730130067},{"$f":"IF(Station=Données1!$J$5,AW71,AW87)","v":-3.909036599814647E-2},{"$f":"IF(Station=Données1!$J$5,AX71,AX87)","v":-2.531345916643323},{"$f":"IF(Station=Données1!$J$5,AY71,AY87)","v":4.4174261534526815},{"$f":"IF(Station=Données1!$J$5,AZ71,AZ87)","v":-1.7094077865588182},{"$f":"IF(Station=Données1!$J$5,BA71,BA87)","v":0.71703975173707801},{"$f":"IF(Station=Données1!$J$5,BB71,BB87)","v":-3.4074923679401237E-2},{"$f":"IF(Station=Données1!$J$5,BC71,BC87)","v":-2.6157435479794149},{"$f":"IF(Station=Données1!$J$5,BD71,BD87)","v":4.6177390117054724},{"$f":"IF(Station=Données1!$J$5,BE71,BE87)","v":-1.8877717026711567},{"$f":"IF(Station=Données1!$J$5,BF71,BF87)","v":0.73904475920887625},{"$f":"IF(Station=Données1!$J$5,BG71,BG87)","v":-3.6176371651270745E-2},{"$f":"IF(Station=Données1!$J$5,BH71,BH87)","v":-2.6157435479794149},{"$f":"IF(Station=Données1!$J$5,BI71,BI87)","v":4.6177390117054724},{"$f":"IF(Station=Données1!$J$5,BJ71,BJ87)","v":-1.8877717026711567},{"$f":"IF(Station=Données1!$J$5,BK71,BK87)","v":0.73904475920887625},{"$f":"IF(Station=Données1!$J$5,BL71,BL87)","v":-3.6176371651270745E-2},{"$f":"IF(Station=Données1!$J$5,BM71,BM87)","v":-2.4753395395999256},{"$f":"IF(Station=Données1!$J$5,BN71,BN87)","v":4.3057939937588579},{"$f":"IF(Station=Données1!$J$5,BO71,BO87)","v":-1.640066459362971},{"$f":"IF(Station=Données1!$J$5,BP71,BP87)","v":0.70122639854689017},{"$f":"IF(Station=Données1!$J$5,BQ71,BQ87)","v":-3.3050707536878221E-2},{"$f":"IF(Station=Données1!$J$5,BR71,BR87)","v":-2.6138294121518193},{"$f":"IF(Station=Données1!$J$5,BS71,BS87)","v":4.6130237949804718},{"$f":"IF(Station=Données1!$J$5,BT71,BT87)","v":-1.8833405607273042},{"$f":"IF(Station=Données1!$J$5,BU71,BU87)","v":0.7385390712959794},{"$f":"IF(Station=Données1!$J$5,BV71,BV87)","v":-3.6125081361122968E-2},{"$f":"IF(Station=Données1!$J$5,BW71,BW87)","v":-2.6138294121518193},{"$f":"IF(Station=Données1!$J$5,BX71,BX87)","v":4.6130237949804718},{"$f":"IF(Station=Données1!$J$5,BY71,BY87)","v":-1.8833405607273042},{"$f":"IF(Station=Données1!$J$5,BZ71,BZ87)","v":0.7385390712959794},{"$f":"IF(Station=Données1!$J$5,CA71,CA87)","v":-3.6125081361122968E-2},{"$f":"IF(Station=Données1!$J$5,CB71,CB87)","v":-2.5152816384838381},{"$f":"IF(Station=Données1!$J$5,CC71,CC87)","v":4.384517196468634},{"$f":"IF(Station=Données1!$J$5,CD71,CD87)","v":-1.6874274366343476},{"$f":"IF(Station=Données1!$J$5,CE71,CE87)","v":0.71262338939791225},{"$f":"IF(Station=Données1!$J$5,CF71,CF87)","v":-3.3768349266413922E-2}]
[null,"Juin",0.12760073570754568,-0.78554428941294407,1.1914844955779345,0.32541660317704424,-8.9624422722357037E-3,0.33771074871643764,-1.1465418319667697,1.3640325798692299,0.29769823580129007,-7.8347039960558196E-3,0.10150956826664297,-0.67489469061052754,1.0435244324001052,0.28807047498167559,-7.9589703267924257E-3,0.10150956826664297,-0.67489469061052754,1.0435244324001052,0.28807047498167559,-7.9589703267924257E-3,0.23358171630947938,-0.94756657318841409,1.2399371044524685,0.29897870953082573,-8.0445058606391368E-3,0.12758333843797037,-0.72508283389092176,1.0753081447213202,0.2880145177382869,-7.9136249485686101E-3,0.12758333843797037,-0.72508283389092176,1.0753081447213202,0.2880145177382869,-7.9136249485686101E-3,0.31763118627575426,-1.109489104619535,1.3426341914211226,0.29876457147031682,-7.8981113007249235E-3,null,"Juin",{"$f":"IF(Station=Données1!$J$5,AS72,AS88)","v":-2.7959817147155395},{"$f":"IF(Station=Données1!$J$5,AT72,AT88)","v":4.9953046651426787},{"$f":"IF(Station=Données1!$J$5,AU72,AU88)","v":-2.1535832124765442},{"$f":"IF(Station=Données1!$J$5,AV72,AV88)","v":0.78810064924144163},{"$f":"IF(Station=Données1!$J$5,AW72,AW88)","v":-3.9760169266062795E-2},{"$f":"IF(Station=Données1!$J$5,AX72,AX88)","v":-2.4935400386531681},{"$f":"IF(Station=Données1!$J$5,AY72,AY88)","v":4.3378782597898997},{"$f":"IF(Station=Données1!$J$5,AZ72,AZ88)","v":-1.6529009729010349},{"$f":"IF(Station=Données1!$J$5,BA72,BA88)","v":0.70667861775785923},{"$f":"IF(Station=Données1!$J$5,BB72,BB88)","v":-3.3313543946369262E-2},{"$f":"IF(Station=Données1!$J$5,BC72,BC88)","v":-2.5794875831237181},{"$f":"IF(Station=Données1!$J$5,BD72,BD88)","v":4.5462107779067589},{"$f":"IF(Station=Données1!$J$5,BE72,BE88)","v":-1.8444083072280859},{"$f":"IF(Station=Données1!$J$5,BF72,BF88)","v":0.72903841594940422},{"$f":"IF(Station=Données1!$J$5,BG72,BG88)","v":-3.5536732703976281E-2},{"$f":"IF(Station=Données1!$J$5,BH72,BH88)","v":-2.5794875831237181},{"$f":"IF(Station=Données1!$J$5,BI72,BI88)","v":4.5462107779067589},{"$f":"IF(Station=Données1!$J$5,BJ72,BJ88)","v":-1.8444083072280859},{"$f":"IF(Station=Données1!$J$5,BK72,BK88)","v":0.72903841594940422},{"$f":"IF(Station=Données1!$J$5,BL72,BL88)","v":-3.5536732703976281E-2},{"$f":"IF(Station=Données1!$J$5,BM72,BM88)","v":-2.4753395395996867},{"$f":"IF(Station=Données1!$J$5,BN72,BN88)","v":4.3057939937584226},{"$f":"IF(Station=Données1!$J$5,BO72,BO88)","v":-1.6400664593627126},{"$f":"IF(Station=Données1!$J$5,BP72,BP88)","v":0.70122639854683244},{"$f":"IF(Station=Données1!$J$5,BQ72,BQ88)","v":-3.3050707536874724E-2},{"$f":"IF(Station=Données1!$J$5,BR72,BR88)","v":-2.5651886734848737},{"$f":"IF(Station=Données1!$J$5,BS72,BS88)","v":4.5143203272084307},{"$f":"IF(Station=Données1!$J$5,BT72,BT88)","v":-1.8189031666028763},{"$f":"IF(Station=Données1!$J$5,BU72,BU88)","v":0.72519169114032056},{"$f":"IF(Station=Données1!$J$5,BV72,BV88)","v":-3.5216212570733652E-2},{"$f":"IF(Station=Données1!$J$5,BW72,BW88)","v":-2.5651886734848737},{"$f":"IF(Station=Données1!$J$5,BX72,BX88)","v":4.5143203272084307},{"$f":"IF(Station=Données1!$J$5,BY72,BY88)","v":-1.8189031666028763},{"$f":"IF(Station=Données1!$J$5,BZ72,BZ88)","v":0.72519169114032056},{"$f":"IF(Station=Données1!$J$5,CA72,CA88)","v":-3.5216212570733652E-2},{"$f":"IF(Station=Données1!$J$5,CB72,CB88)","v":-2.4948544050900772},{"$f":"IF(Station=Données1!$J$5,CC72,CC88)","v":4.3425568408707234},{"$f":"IF(Station=Données1!$J$5,CD72,CD88)","v":-1.6592493572515565},{"$f":"IF(Station=Données1!$J$5,CE72,CE88)","v":0.70696128773485301},{"$f":"IF(Station=Données1!$J$5,CF72,CF88)","v":-3.3374490523401135E-2}]
[null,"Juillet",8.7680603185409892E-2,-0.70938847660562243,1.1441459048080311,0.32596102920551251,-9.0445215619239794E-3,0.3194708412168657,-1.1136036870955379,1.3459801099483326,0.29911990066630223,-7.9049610803554882E-3,8.6282172578459326E-2,-0.64701953949038304,1.027720016059396,0.2889855971301723,-8.0102343159347764E-3,8.6282172578459326E-2,-0.64701953949038304,1.027720016059396,0.2889855971301723,-8.0102343159347764E-3,0.23358171630967722,-0.94756657318877657,1.239937104452687,0.29897870953077593,-8.0445058606357089E-3,0.1248908204803256,-0.72035368933012045,1.0728968278056976,0.28829667075940468,-7.9260839959783939E-3,0.1248908204803256,-0.72035368933012045,1.0728968278056976,0.28829667075940468,-7.9260839959783939E-3,0.29286823039507515,-1.0636542337895052,1.3159761331955981,0.29999410536331444,-7.9739032938415527E-3,null,"Juillet",{"$f":"IF(Station=Données1!$J$5,AS73,AS89)","v":-2.784535594255543},{"$f":"IF(Station=Données1!$J$5,AT73,AT89)","v":4.9915771242337099},{"$f":"IF(Station=Données1!$J$5,AU73,AU89)","v":-2.1829041270804006},{"$f":"IF(Station=Données1!$J$5,AV73,AV89)","v":0.78448647202257893},{"$f":"IF(Station=Données1!$J$5,AW73,AW89)","v":-3.9910019818280129E-2},{"$f":"IF(Station=Données1!$J$5,AX73,AX89)","v":-2.5218474627897467},{"$f":"IF(Station=Données1!$J$5,AY73,AY89)","v":4.3985606145466489},{"$f":"IF(Station=Données1!$J$5,AZ73,AZ89)","v":-1.6977676928708025},{"$f":"IF(Station=Données1!$J$5,BA73,BA89)","v":0.71440769566768958},{"$f":"IF(Station=Données1!$J$5,BB73,BB89)","v":-3.3904463480847025E-2},{"$f":"IF(Station=Données1!$J$5,BC73,BC89)","v":-2.610735773384631},{"$f":"IF(Station=Données1!$J$5,BD73,BD89)","v":4.6111067210253722},{"$f":"IF(Station=Données1!$J$5,BE73,BE89)","v":-1.8891958813307292},{"$f":"IF(Station=Données1!$J$5,BF73,BF89)","v":0.73757544860966473},{"$f":"IF(Station=Données1!$J$5,BG73,BG89)","v":-3.6148271717822367E-2},{"$f":"IF(Station=Données1!$J$5,BH73,BH89)","v":-2.610735773384631},{"$f":"IF(Station=Données1!$J$5,BI73,BI89)","v":4.6111067210253722},{"$f":"IF(Station=Données1!$J$5,BJ73,BJ89)","v":-1.8891958813307292},{"$f":"IF(Station=Données1!$J$5,BK73,BK89)","v":0.73757544860966473},{"$f":"IF(Station=Données1!$J$5,BL73,BL89)","v":-3.6148271717822367E-2},{"$f":"IF(Station=Données1!$J$5,BM73,BM89)","v":-2.4753395395997049},{"$f":"IF(Station=Données1!$J$5,BN73,BN89)","v":4.3057939937584377},{"$f":"IF(Station=Données1!$J$5,BO73,BO89)","v":-1.6400664593627055},{"$f":"IF(Station=Données1!$J$5,BP73,BP89)","v":0.70122639854682867},{"$f":"IF(Station=Données1!$J$5,BQ73,BQ89)","v":-3.305070753687428E-2},{"$f":"IF(Station=Données1!$J$5,BR73,BR89)","v":-2.60698025878933},{"$f":"IF(Station=Données1!$J$5,BS73,BS89)","v":4.6026867626294639},{"$f":"IF(Station=Données1!$J$5,BT73,BT89)","v":-1.8823979546378473},{"$f":"IF(Station=Données1!$J$5,BU73,BU89)","v":0.73656378118997456},{"$f":"IF(Station=Données1!$J$5,BV73,BV89)","v":-3.606317186325031E-2},{"$f":"IF(Station=Données1!$J$5,BW73,BW89)","v":-2.60698025878933},{"$f":"IF(Station=Données1!$J$5,BX73,BX89)","v":4.6026867626294639},{"$f":"IF(Station=Données1!$J$5,BY73,BY89)","v":-1.8823979546378473},{"$f":"IF(Station=Données1!$J$5,BZ73,BZ89)","v":0.73656378118997456},{"$f":"IF(Station=Données1!$J$5,CA73,CA89)","v":-3.606317186325031E-2},{"$f":"IF(Station=Données1!$J$5,CB73,CB89)","v":-2.5201910593070447},{"$f":"IF(Station=Données1!$J$5,CC73,CC89)","v":4.3956382743155684},{"$f":"IF(Station=Données1!$J$5,CD73,CD89)","v":-1.6965740989203109},{"$f":"IF(Station=Données1!$J$5,CE73,CE89)","v":0.71394331543070555},{"$f":"IF(Station=Données1!$J$5,CF73,CF89)","v":-3.3881730856403391E-2}]
[null,"Août",-5.1337428776106211E-2,-0.43036278097502129,0.95270235138347981,0.31918859202858785,-9.087960403604909E-3,0.26315769487358515,-1.0102568968606493,1.2870595620885816,0.30246258267787501,-8.0926569288922653E-3,6.511345002671319E-2,-0.61504483831955359,1.018770001741188,0.29442932702039598,-8.1986182973708809E-3,6.511345002671319E-2,-0.61504483831955359,1.018770001741188,0.29442932702039598,-8.1986182973708809E-3,0.23358171630924848,-0.94756657318798843,1.2399371044522129,0.29897870953088385,-8.0445058606429046E-3,7.4211602517883474E-2,-0.63284926800730534,1.0304219697863255,0.29459232710745159,-8.1879026008150318E-3,7.4211602517883474E-2,-0.63284926800730534,1.0304219697863255,0.29459232710745159,-8.1879026008150318E-3,0.2535167048470654,-0.99256462029189829,1.2769733545343156,0.30303200313005751,-8.124731945849839E-3,null,"Août",{"$f":"IF(Station=Données1!$J$5,AS74,AS90)","v":-2.5296982891892328},{"$f":"IF(Station=Données1!$J$5,AT74,AT90)","v":4.5065505282884883},{"$f":"IF(Station=Données1!$J$5,AU74,AU90)","v":-1.9184369250907205},{"$f":"IF(Station=Données1!$J$5,AV74,AV90)","v":0.71392778443603255},{"$f":"IF(Station=Données1!$J$5,AW74,AW90)","v":-3.5752836371676366E-2},{"$f":"IF(Station=Données1!$J$5,AX74,AX90)","v":-2.5664304465778733},{"$f":"IF(Station=Données1!$J$5,AY74,AY90)","v":4.4909445119350462},{"$f":"IF(Station=Données1!$J$5,AZ74,AZ90)","v":-1.7611836977308186},{"$f":"IF(Station=Données1!$J$5,BA74,BA90)","v":0.72661660406239192},{"$f":"IF(Station=Données1!$J$5,BB74,BB90)","v":-3.4774057880389786E-2},{"$f":"IF(Station=Données1!$J$5,BC74,BC90)","v":-2.6545516788768411},{"$f":"IF(Station=Données1!$J$5,BD74,BD90)","v":4.6914995184800556},{"$f":"IF(Station=Données1!$J$5,BE74,BE90)","v":-1.9277622212064764},{"$f":"IF(Station=Données1!$J$5,BF74,BF90)","v":0.74987289418859793},{"$f":"IF(Station=Données1!$J$5,BG74,BG90)","v":-3.6810671540085327E-2},{"$f":"IF(Station=Données1!$J$5,BH74,BH90)","v":-2.6545516788768411},{"$f":"IF(Station=Données1!$J$5,BI74,BI90)","v":4.6914995184800556},{"$f":"IF(Station=Données1!$J$5,BJ74,BJ90)","v":-1.9277622212064764},{"$f":"IF(Station=Données1!$J$5,BK74,BK90)","v":0.74987289418859793},{"$f":"IF(Station=Données1!$J$5,BL74,BL90)","v":-3.6810671540085327E-2},{"$f":"IF(Station=Données1!$J$5,BM74,BM90)","v":-2.4753395395998039},{"$f":"IF(Station=Données1!$J$5,BN74,BN90)","v":4.3057939937585958},{"$f":"IF(Station=Données1!$J$5,BO74,BO90)","v":-1.6400664593627858},{"$f":"IF(Station=Données1!$J$5,BP74,BP90)","v":0.70122639854684432},{"$f":"IF(Station=Données1!$J$5,BQ74,BQ90)","v":-3.3050707536875279E-2},{"$f":"IF(Station=Données1!$J$5,BR74,BR90)","v":-2.6389104581280773},{"$f":"IF(Station=Données1!$J$5,BS74,BS90)","v":4.6573709583213621},{"$f":"IF(Station=Données1!$J$5,BT74,BT90)","v":-1.9015907210441343},{"$f":"IF(Station=Données1!$J$5,BU74,BU90)","v":0.74564015790926552},{"$f":"IF(Station=Données1!$J$5,BV74,BV90)","v":-3.6473902542220049E-2},{"$f":"IF(Station=Données1!$J$5,BW74,BW90)","v":-2.6389104581280773},{"$f":"IF(Station=Données1!$J$5,BX74,BX90)","v":4.6573709583213621},{"$f":"IF(Station=Données1!$J$5,BY74,BY90)","v":-1.9015907210441343},{"$f":"IF(Station=Données1!$J$5,BZ74,BZ90)","v":0.74564015790926552},{"$f":"IF(Station=Données1!$J$5,CA74,CA90)","v":-3.6473902542220049E-2},{"$f":"IF(Station=Données1!$J$5,CB74,CB90)","v":-2.5650139129907359},{"$f":"IF(Station=Données1!$J$5,CC74,CC90)","v":4.4900742441058288},{"$f":"IF(Station=Données1!$J$5,CD74,CD90)","v":-1.7639031067818991},{"$f":"IF(Station=Données1!$J$5,CE74,CE90)","v":0.72614173450762332},{"$f":"IF(Station=Données1!$J$5,CF74,CF90)","v":-3.4783518694077087E-2}]
[null,"Septembre",-0.15495275017750387,-0.1919244696303915,0.75143863299029989,0.29526402053155604,-8.5910883859766016E-3,0.16979061581270194,-0.83858198517077887,1.1887343153771401,0.30776669267101725,-8.3973985832868914E-3,6.2762028880564813E-2,-0.61946760068186812,1.0331067755381826,0.29997991320717449,-8.358178638961258E-3,6.2762028880564813E-2,-0.61946760068186812,1.0331067755381826,0.29997991320717449,-8.358178638961258E-3,0.2335375887156555,-0.94741501927111538,1.2397555278957935,0.29893873322759607,-8.0434519266827445E-3,5.8450157841419749E-2,-0.61570999038527219,1.0365831641029342,0.30280785212022465,-8.4446762082693791E-3,5.8450157841419749E-2,-0.61570999038527219,1.0365831641029342,0.30280785212022465,-8.4446762082693791E-3,0.18864016791844929,-0.87499332812472919,1.2119549873747475,0.30778707697539576,-8.366436520580646E-3,null,"Septembre",{"$f":"IF(Station=Données1!$J$5,AS75,AS91)","v":-2.3600059228118222},{"$f":"IF(Station=Données1!$J$5,AT75,AT91)","v":4.1184241065173008},{"$f":"IF(Station=Données1!$J$5,AU75,AU91)","v":-1.5938134636600572},{"$f":"IF(Station=Données1!$J$5,AV75,AV91)","v":0.66833576574523235},{"$f":"IF(Station=Données1!$J$5,AW75,AW91)","v":-3.1761939110331094E-2},{"$f":"IF(Station=Données1!$J$5,AX75,AX91)","v":-2.6433425991346184},{"$f":"IF(Station=Données1!$J$5,AY75,AY91)","v":4.6555423812397585},{"$f":"IF(Station=Données1!$J$5,AZ75,AZ91)","v":-1.8826078714315064},{"$f":"IF(Station=Données1!$J$5,BA75,BA91)","v":0.74737984282599368},{"$f":"IF(Station=Données1!$J$5,BB75,BB91)","v":-3.6364965029847041E-2},{"$f":"IF(Station=Données1!$J$5,BC75,BC91)","v":-2.6646478625727026},{"$f":"IF(Station=Données1!$J$5,BD75,BD91)","v":4.6991384791532784},{"$f":"IF(Station=Données1!$J$5,BE75,BE91)","v":-1.9116726804099906},{"$f":"IF(Station=Données1!$J$5,BF75,BF91)","v":0.75319692076973765},{"$f":"IF(Station=Données1!$J$5,BG75,BG91)","v":-3.676903389590358E-2},{"$f":"IF(Station=Données1!$J$5,BH75,BH91)","v":-2.6646478625727026},{"$f":"IF(Station=Données1!$J$5,BI75,BI91)","v":4.6991384791532784},{"$f":"IF(Station=Données1!$J$5,BJ75,BJ91)","v":-1.9116726804099906},{"$f":"IF(Station=Données1!$J$5,BK75,BK91)","v":0.75319692076973765},{"$f":"IF(Station=Données1!$J$5,BL75,BL91)","v":-3.676903389590358E-2},{"$f":"IF(Station=Données1!$J$5,BM75,BM91)","v":-2.3780000704597892},{"$f":"IF(Station=Données1!$J$5,BN75,BN91)","v":4.1656820175513953},{"$f":"IF(Station=Données1!$J$5,BO75,BO91)","v":-1.6421147407994996},{"$f":"IF(Station=Données1!$J$5,BP75,BP91)","v":0.67308587958051214},{"$f":"IF(Station=Données1!$J$5,BQ75,BQ91)","v":-3.2301406354391604E-2},{"$f":"IF(Station=Données1!$J$5,BR75,BR91)","v":-2.6566645462759131},{"$f":"IF(Station=Données1!$J$5,BS75,BS91)","v":4.6825433741912104},{"$f":"IF(Station=Données1!$J$5,BT75,BT91)","v":-1.9001904467297379},{"$f":"IF(Station=Données1!$J$5,BU75,BU91)","v":0.75102362054670369},{"$f":"IF(Station=Données1!$J$5,BV75,BV91)","v":-3.6612795670203091E-2},{"$f":"IF(Station=Données1!$J$5,BW75,BW91)","v":-2.6566645462759131},{"$f":"IF(Station=Données1!$J$5,BX75,BX91)","v":4.6825433741912104},{"$f":"IF(Station=Données1!$J$5,BY75,BY91)","v":-1.9001904467297379},{"$f":"IF(Station=Données1!$J$5,BZ75,BZ91)","v":0.75102362054670369},{"$f":"IF(Station=Données1!$J$5,CA75,CA91)","v":-3.6612795670203091E-2},{"$f":"IF(Station=Données1!$J$5,CB75,CB91)","v":-2.6345250766559345},{"$f":"IF(Station=Données1!$J$5,CC75,CC91)","v":4.6369218459250794},{"$f":"IF(Station=Données1!$J$5,CD75,CD91)","v":-1.8692592804515433},{"$f":"IF(Station=Données1!$J$5,CE75,CE91)","v":0.7449894911742867},{"$f":"IF(Station=Données1!$J$5,CF75,CF91)","v":-3.618708171587065E-2}]
[null,"Octobre",-8.0854968160704969E-3,-0.44758589615959032,0.87853867633531624,0.27838902698545342,-7.8702411826947379E-3,9.4955478159093928E-2,-0.69634874060392526,1.1010158194326469,0.30913539886192964,-8.5609075995318508E-3,0.12453778621010271,-0.74552357866265118,1.1221356667985454,0.30421382388434415,-8.3735338615947737E-3,0.12453778621010271,-0.74552357866265118,1.1221356667985454,0.30421382388434415,-8.3735338615947737E-3,0.19663276470289151,-0.86436371209760299,1.1717128157317416,0.29175505717141009,-7.9029180812783401E-3,0.13387699325205582,-0.76312318239823329,1.132793754334154,0.30395298971656315,-8.3505843792708832E-3,0.13387699325205582,-0.76312318239823329,1.132793754334154,0.30395298971656315,-8.3505843792708832E-3,9.9828851337025043E-2,-0.70501979637642176,1.1055912136759132,0.30867931859954179,-8.5399750109602136E-3,null,"Octobre",{"$f":"IF(Station=Données1!$J$5,AS76,AS92)","v":-2.4753395395998723},{"$f":"IF(Station=Données1!$J$5,AT76,AT92)","v":4.3057939937587797},{"$f":"IF(Station=Données1!$J$5,AU76,AU92)","v":-1.6400664593629413},{"$f":"IF(Station=Données1!$J$5,AV76,AV92)","v":0.70122639854688829},{"$f":"IF(Station=Données1!$J$5,AW76,AW92)","v":-3.3050707536878499E-2},{"$f":"IF(Station=Données1!$J$5,AX76,AX92)","v":-2.6323372670065122},{"$f":"IF(Station=Données1!$J$5,AY76,AY92)","v":4.6433513763093579},{"$f":"IF(Station=Données1!$J$5,AZ76,AZ92)","v":-1.8913085277938222},{"$f":"IF(Station=Données1!$J$5,BA76,BA92)","v":0.74388556294014496},{"$f":"IF(Station=Données1!$J$5,BB76,BB92)","v":-3.6339641993449967E-2},{"$f":"IF(Station=Données1!$J$5,BC76,BC92)","v":-2.5914429237598702},{"$f":"IF(Station=Données1!$J$5,BD76,BD92)","v":4.5438184418550236},{"$f":"IF(Station=Données1!$J$5,BE76,BE92)","v":-1.7991631984054011},{"$f":"IF(Station=Données1!$J$5,BF76,BF92)","v":0.73340879641253598},{"$f":"IF(Station=Données1!$J$5,BG76,BG92)","v":-3.5280150655970455E-2},{"$f":"IF(Station=Données1!$J$5,BH76,BH92)","v":-2.5914429237598702},{"$f":"IF(Station=Données1!$J$5,BI76,BI92)","v":4.5438184418550236},{"$f":"IF(Station=Données1!$J$5,BJ76,BJ92)","v":-1.7991631984054011},{"$f":"IF(Station=Données1!$J$5,BK76,BK92)","v":0.73340879641253598},{"$f":"IF(Station=Données1!$J$5,BL76,BL92)","v":-3.5280150655970455E-2},{"$f":"IF(Station=Données1!$J$5,BM76,BM92)","v":-2.6124471911923721},{"$f":"IF(Station=Données1!$J$5,BN76,BN92)","v":4.668495175169836},{"$f":"IF(Station=Données1!$J$5,BO76,BO92)","v":-2.0144741458093471},{"$f":"IF(Station=Données1!$J$5,BP76,BP92)","v":0.73671740612962389},{"$f":"IF(Station=Données1!$J$5,BQ76,BQ92)","v":-3.7185210071107699E-2},{"$f":"IF(Station=Données1!$J$5,BR76,BR92)","v":-2.5679261906500992},{"$f":"IF(Station=Données1!$J$5,BS76,BS92)","v":4.4912482210110349},{"$f":"IF(Station=Données1!$J$5,BT76,BT92)","v":-1.7568847583553495},{"$f":"IF(Station=Données1!$J$5,BU76,BU92)","v":0.72717082551365109},{"$f":"IF(Station=Données1!$J$5,BV76,BV92)","v":-3.4754061432544447E-2},{"$f":"IF(Station=Données1!$J$5,BW76,BW92)","v":-2.5679261906500992},{"$f":"IF(Station=Données1!$J$5,BX76,BX92)","v":4.4912482210110349},{"$f":"IF(Station=Données1!$J$5,BY76,BY92)","v":-1.7568847583553495},{"$f":"IF(Station=Données1!$J$5,BZ76,BZ92)","v":0.72717082551365109},{"$f":"IF(Station=Données1!$J$5,CA76,CA92)","v":-3.4754061432544447E-2},{"$f":"IF(Station=Données1!$J$5,CB76,CB92)","v":-2.6562334942989279},{"$f":"IF(Station=Données1!$J$5,CC76,CC92)","v":4.6920017596720109},{"$f":"IF(Station=Données1!$J$5,CD76,CD92)","v":-1.9233166971433415},{"$f":"IF(Station=Données1!$J$5,CE76,CE92)","v":0.75045818478750637},{"$f":"IF(Station=Données1!$J$5,CF76,CF92)","v":-3.6789867727047676E-2}]
[null,"Novembre",0.19957403000983817,-0.8637890879139819,1.1633375355919182,0.2880060255605148,-7.7921424242527251E-3,8.7447267790898738E-3,-0.52292437401040226,0.98155054454051327,0.30471552669405233,-8.5815506416457316E-3,0.17448422188528856,-0.84037331578239394,1.1805283899437702,0.30325343084394746,-8.2630757911090758E-3,0.17448422188528856,-0.84037331578239394,1.1805283899437702,0.30325343084394746,-8.2630757911090758E-3,6.4250138367020135E-2,-0.58690203563262866,0.96687613363697078,0.27830886118906795,-7.7463951658066459E-3,0.17812129340584795,-0.84808918400032463,1.1863365129082888,0.30368863825613746,-8.2691710572280544E-3,0.17812129340584795,-0.84808918400032463,1.1863365129082888,0.30368863825613746,-8.2691710572280544E-3,1.1572880153011262E-2,-0.52904382242696035,0.98629772237752578,0.30513164619205652,-8.5884474090973297E-3,null,"Novembre",{"$f":"IF(Station=Données1!$J$5,AS77,AS93)","v":-2.4753395395997169},{"$f":"IF(Station=Données1!$J$5,AT77,AT93)","v":4.3057939937584706},{"$f":"IF(Station=Données1!$J$5,AU77,AU93)","v":-1.6400664593627352},{"$f":"IF(Station=Données1!$J$5,AV77,AV93)","v":0.70122639854683733},{"$f":"IF(Station=Données1!$J$5,AW77,AW93)","v":-3.305070753687489E-2},{"$f":"IF(Station=Données1!$J$5,AX77,AX93)","v":-2.5845786075878801},{"$f":"IF(Station=Données1!$J$5,AY77,AY93)","v":4.5563121995552898},{"$f":"IF(Station=Données1!$J$5,AZ77,AZ93)","v":-1.8506235312081101},{"$f":"IF(Station=Données1!$J$5,BA77,BA93)","v":0.73045000809891414},{"$f":"IF(Station=Données1!$J$5,BB77,BB93)","v":-3.562792957281119E-2},{"$f":"IF(Station=Données1!$J$5,BC77,BC93)","v":-2.5088594742382004},{"$f":"IF(Station=Données1!$J$5,BD77,BD93)","v":4.3702862297616436},{"$f":"IF(Station=Données1!$J$5,BE77,BE93)","v":-1.6761582765180807},{"$f":"IF(Station=Données1!$J$5,BF77,BF93)","v":0.71093174053771724},{"$f":"IF(Station=Données1!$J$5,BG77,BG93)","v":-3.3627597736994586E-2},{"$f":"IF(Station=Données1!$J$5,BH77,BH93)","v":-2.5088594742382004},{"$f":"IF(Station=Données1!$J$5,BI77,BI93)","v":4.3702862297616436},{"$f":"IF(Station=Données1!$J$5,BJ77,BJ93)","v":-1.6761582765180807},{"$f":"IF(Station=Données1!$J$5,BK77,BK93)","v":0.71093174053771724},{"$f":"IF(Station=Données1!$J$5,BL77,BL93)","v":-3.3627597736994586E-2},{"$f":"IF(Station=Données1!$J$5,BM77,BM93)","v":-2.8780237518982972},{"$f":"IF(Station=Données1!$J$5,BN77,BN93)","v":5.1561666429809847},{"$f":"IF(Station=Données1!$J$5,BO77,BO93)","v":-2.2494358800470784},{"$f":"IF(Station=Données1!$J$5,BP77,BP93)","v":0.81076767621974777},{"$f":"IF(Station=Données1!$J$5,BQ77,BQ93)","v":-4.1188996547285528E-2},{"$f":"IF(Station=Données1!$J$5,BR77,BR93)","v":-2.4740894788231169},{"$f":"IF(Station=Données1!$J$5,BS77,BS93)","v":4.2951253874068707},{"$f":"IF(Station=Données1!$J$5,BT77,BT93)","v":-1.6195695019180965},{"$f":"IF(Station=Données1!$J$5,BU77,BU93)","v":0.70153833845380931},{"$f":"IF(Station=Données1!$J$5,BV77,BV93)","v":-3.2893418697484744E-2},{"$f":"IF(Station=Données1!$J$5,BW77,BW93)","v":-2.4740894788231169},{"$f":"IF(Station=Données1!$J$5,BX77,BX93)","v":4.2951253874068707},{"$f":"IF(Station=Données1!$J$5,BY77,BY93)","v":-1.6195695019180965},{"$f":"IF(Station=Données1!$J$5,BZ77,BZ93)","v":0.70153833845380931},{"$f":"IF(Station=Données1!$J$5,CA77,CA93)","v":-3.2893418697484744E-2},{"$f":"IF(Station=Données1!$J$5,CB77,CB93)","v":-2.6247862086806069},{"$f":"IF(Station=Données1!$J$5,CC77,CC93)","v":4.6406372168593641},{"$f":"IF(Station=Données1!$J$5,CD77,CD93)","v":-1.9101308114156172},{"$f":"IF(Station=Données1!$J$5,CE77,CE93)","v":0.74141087727110588},{"$f":"IF(Station=Données1!$J$5,CF77,CF93)","v":-3.6429993089909907E-2}]
[null,"Décembre",0.23356905900844721,-0.94751667662679551,1.2398726963999678,0.29896338028247538,-8.0440945476672535E-3,1.9744399695189874E-2,-0.53513462341260776,0.97771846559569298,0.29908783253150306,-8.4056100069952611E-3,0.20264631323721599,-0.89226381513234487,1.2103945670575318,0.30171994566735982,-8.1730238201928596E-3,0.20264631323721599,-0.89226381513234487,1.2103945670575318,0.30171994566735982,-8.1730238201928596E-3,5.6087393795726968E-3,-0.46970386476304943,0.88710008256625705,0.27582783597287458,-7.7748647676318863E-3,0.19470179088359871,-0.87856928446809357,1.2037846304294135,0.30274191861508376,-8.2149235886741223E-3,0.19470179088359871,-0.87856928446809357,1.2037846304294135,0.30274191861508376,-8.2149235886741223E-3,1.6956227399542757E-2,-0.5306364261902059,0.97599014245994686,0.2996348389108987,-8.4256101873758649E-3,null,"Décembre",{"$f":"IF(Station=Données1!$J$5,AS78,AS94)","v":-2.4753395395997497},{"$f":"IF(Station=Données1!$J$5,AT78,AT94)","v":4.3057939937585354},{"$f":"IF(Station=Données1!$J$5,AU78,AU94)","v":-1.6400664593627787},{"$f":"IF(Station=Données1!$J$5,AV78,AV94)","v":0.70122639854684832},{"$f":"IF(Station=Données1!$J$5,AW78,AW94)","v":-3.3050707536875723E-2},{"$f":"IF(Station=Données1!$J$5,AX78,AX94)","v":-2.5324602766391751},{"$f":"IF(Station=Données1!$J$5,AY78,AY94)","v":4.446510767661489},{"$f":"IF(Station=Données1!$J$5,AZ78,AZ94)","v":-1.7723520256965752},{"$f":"IF(Station=Données1!$J$5,BA78,BA94)","v":0.71625914215266862},{"$f":"IF(Station=Données1!$J$5,BB78,BB94)","v":-3.4579194082937859E-2},{"$f":"IF(Station=Données1!$J$5,BC78,BC94)","v":-2.4563626943554611},{"$f":"IF(Station=Données1!$J$5,BD78,BD94)","v":4.260841956818826},{"$f":"IF(Station=Données1!$J$5,BE78,BE94)","v":-1.6000466097434682},{"$f":"IF(Station=Données1!$J$5,BF78,BF94)","v":0.69646037194161559},{"$f":"IF(Station=Données1!$J$5,BG78,BG94)","v":-3.2586982911157414E-2},{"$f":"IF(Station=Données1!$J$5,BH78,BH94)","v":-2.4563626943554611},{"$f":"IF(Station=Données1!$J$5,BI78,BI94)","v":4.260841956818826},{"$f":"IF(Station=Données1!$J$5,BJ78,BJ94)","v":-1.6000466097434682},{"$f":"IF(Station=Données1!$J$5,BK78,BK94)","v":0.69646037194161559},{"$f":"IF(Station=Données1!$J$5,BL78,BL94)","v":-3.2586982911157414E-2},{"$f":"IF(Station=Données1!$J$5,BM78,BM94)","v":-2.8098423329383246},{"$f":"IF(Station=Données1!$J$5,BN78,BN94)","v":4.9922076030408293},{"$f":"IF(Station=Données1!$J$5,BO78,BO94)","v":-2.1006096983100293},{"$f":"IF(Station=Données1!$J$5,BP78,BP94)","v":0.79282730524995237},{"$f":"IF(Station=Données1!$J$5,BQ78,BQ94)","v":-3.9443157005708884E-2},{"$f":"IF(Station=Données1!$J$5,BR78,BR94)","v":-2.4571259489952788},{"$f":"IF(Station=Données1!$J$5,BS78,BS94)","v":4.2622889280487817},{"$f":"IF(Station=Données1!$J$5,BT78,BT94)","v":-1.6008428108972854},{"$f":"IF(Station=Données1!$J$5,BU78,BU94)","v":0.69664472464435145},{"$f":"IF(Station=Données1!$J$5,BV78,BV94)","v":-3.2598275237854468E-2},{"$f":"IF(Station=Données1!$J$5,BW78,BW94)","v":-2.4571259489952788},{"$f":"IF(Station=Données1!$J$5,BX78,BX94)","v":4.2622889280487817},{"$f":"IF(Station=Données1!$J$5,BY78,BY94)","v":-1.6008428108972854},{"$f":"IF(Station=Données1!$J$5,BZ78,BZ94)","v":0.69664472464435145},{"$f":"IF(Station=Données1!$J$5,CA78,CA94)","v":-3.2598275237854468E-2},{"$f":"IF(Station=Données1!$J$5,CB78,CB94)","v":-2.5345677082285945},{"$f":"IF(Station=Données1!$J$5,CC78,CC94)","v":4.4499450023592324},{"$f":"IF(Station=Données1!$J$5,CD78,CD94)","v":-1.773222941243735},{"$f":"IF(Station=Données1!$J$5,CE78,CE94)","v":0.71685710406360503},{"$f":"IF(Station=Données1!$J$5,CF78,CF94)","v":-3.4602831616930396E-2}]
[]
[null,"SV","ORIENTATION",null,null,null,null,null,null,null,null,null,null,null,null,null,null,null,null,null,null,null,null,null,null,null,null,null,null,null,null,null,null,null,null,null,null,null,null,null,null,null,null,"Final",{"$f":"Calculs!C24","v":"Est"},null,null,null,null,{"$f":"Calculs!D21","v":"Sud"},null,null,null,null,{"$f":"Calculs!E21","v":"Ouest"},null,null,null,null,{"$f":"Calculs!F21","v":"Nord"},null,null,null,null,null,"Tampon 2","coeff transmis/incident",null,null,null,null,null,null,null,null,"Tampon","Solaire transmis (Wh/m² de fenêtre)",null,null,null,null,"Tampon","Solaire transmis (Wh/m² de fenêtre)"]
[null,null,"NORD",null,null,null,null,"NORD-EST",null,null,null,null,"EST",null,null,null,null,"SUD-EST",null,null,null,null,"SUD",null,null,null,null,"SUD-OUEST",null,null,null,null,"OUEST",null,null,null,null,"NORD-OUEST",null,null,null,null,null,null,"a","b","c","d","e","a","b","c","d","e","a","b","c","d","e","a","b","c","d","e",null,null,"Nord","Nord-Est","Est","Sud-Est","Sud","Sud-Ouest","Ouest","Nord-Ouest",null,null,{"$f":"Calculs!B7","v":"Est"},{"$f":"Calculs!C7","v":"Sud"},{"$f":"Calculs!D7","v":"Ouest"},{"$f":"Calculs!E7","v":"Nord"},null,null,{"$f":"Calculs!B7","v":"Est"},{"$f":"Calculs!C7","v":"Sud"},{"$f":"Calculs!D7","v":"Ouest"},{"$f":"Calculs!E7","v":"Nord"}]
[null,null,"a","b","c","d","e","a","b","c","d","e","a","b","c","d","e","a","b","c","d","e","a","b","c","d","e","a","b","c","d","e","a","b","c","d","e","a","b","c","d","e",null,"Janvier",{"$f":"IF($AS$113=\"Nord\",AS100,IF($AS$113=\"Nord-Est\",AX100,IF($AS$113=\"Est\",BC100,IF($AS$113=\"Sud-Est\",BH100,IF($AS$113=\"Sud\",BM100,IF($AS$113=\"Sud-Ouest\",BR100,IF($AS$113=\"Ouest\",BW100,IF($AS$113=\"Nord-Ouest\",CB100,0))))))))","v":-2.479354476804521},{"$f":"IF($AS$113=\"Nord\",AT100,IF($AS$113=\"Nord-Est\",AY100,IF($AS$113=\"Est\",BD100,IF($AS$113=\"Sud-Est\",BI100,IF($AS$113=\"Sud\",BN100,IF($AS$113=\"Sud-Ouest\",BS100,IF($AS$113=\"Ouest\",BX100,IF($AS$113=\"Nord-Ouest\",CC100,0))))))))","v":4.3083776970053949},-1.6325004785026511,0.70276770967226254,{"$f":"IF($AS$113=\"Nord\",AW100,IF($AS$113=\"Nord-Est\",BB100,IF($AS$113=\"Est\",BG100,IF($AS$113=\"Sud-Est\",BL100,IF($AS$113=\"Sud\",BQ100,IF($AS$113=\"Sud-Ouest\",BV100,IF($AS$113=\"Ouest\",CA100,IF($AS$113=\"Nord-Ouest\",CF100,0))))))))","v":-3.3033767234172229E-2},{"$f":"IF($AX$113=\"Nord\",AS100,IF($AX$113=\"Nord-Est\",AX100,IF($AX$113=\"Est\",BC100,IF($AX$113=\"Sud-Est\",BH100,IF($AX$113=\"Sud\",BM100,IF($AX$113=\"Sud-Ouest\",BR100,IF($AX$113=\"Ouest\",BW100,IF($AX$113=\"Nord-Ouest\",CB100,0))))))))","v":-2.7777850285108672},{"$f":"IF($AX$113=\"Nord\",AT100,IF($AX$113=\"Nord-Est\",AY100,IF($AX$113=\"Est\",BD100,IF($AX$113=\"Sud-Est\",BI100,IF($AX$113=\"Sud\",BN100,IF($AX$113=\"Sud-Ouest\",BS100,IF($AX$113=\"Ouest\",BX100,IF($AX$113=\"Nord-Ouest\",CC100,0))))))))","v":4.9353373235901348},-2.0768494723013449,0.78376335610669878,-3.8994104640358629E-2,{"$f":"IF($BC$113=\"Nord\",AS100,IF($BC$113=\"Nord-Est\",AX100,IF($BC$113=\"Est\",BC100,IF($BC$113=\"Sud-Est\",BH100,IF($BC$113=\"Sud\",BM100,IF($BC$113=\"Sud-Ouest\",BR100,IF($BC$113=\"Ouest\",BW100,IF($BC$113=\"Nord-Ouest\",CB100,0))))))))","v":-2.4681731601116583},{"$f":"IF($BC$113=\"Nord\",AT100,IF($BC$113=\"Nord-Est\",AY100,IF($BC$113=\"Est\",BD100,IF($BC$113=\"Sud-Est\",BI100,IF($BC$113=\"Sud\",BN100,IF($BC$113=\"Sud-Ouest\",BS100,IF($BC$113=\"Ouest\",BX100,IF($BC$113=\"Nord-Ouest\",CC100,0))))))))","v":4.287459605158463},-1.6217605544829989,0.69960671073810965,-3.2855952133643507E-2,{"$f":"IF($BH$113=\"Nord\",AS100,IF($BH$113=\"Nord-Est\",AX100,IF($BH$113=\"Est\",BC100,IF($BH$113=\"Sud-Est\",BH100,IF($BH$113=\"Sud\",BM100,IF($BH$113=\"Sud-Ouest\",BR100,IF($BH$113=\"Ouest\",BW100,IF($BH$113=\"Nord-Ouest\",CB100,0))))))))","v":-2.4753395395996702},{"$f":"IF($BH$113=\"Nord\",AT100,IF($BH$113=\"Nord-Est\",AY100,IF($BH$113=\"Est\",BD100,IF($BH$113=\"Sud-Est\",BI100,IF($BH$113=\"Sud\",BN100,IF($BH$113=\"Sud-Ouest\",BS100,IF($BH$113=\"Ouest\",BX100,IF($BH$113=\"Nord-Ouest\",CC100,0))))))))","v":4.3057939937583756},-1.6400664593626766,0.70122639854682423,{"$f":"IF($BH$113=\"Nord\",AW100,IF($BH$113=\"Nord-Est\",BB100,IF($BH$113=\"Est\",BG100,IF($BH$113=\"Sud-Est\",BL100,IF($BH$113=\"Sud\",BQ100,IF($BH$113=\"Sud-Ouest\",BV100,IF($BH$113=\"Ouest\",CA100,IF($BH$113=\"Nord-Ouest\",CF100,0))))))))","v":-3.3050707536873947E-2},null,"Janvier ",{"$f":"AS100*$AC$62^4+AT100*$AC$62^3+AU100*$AC$62^2+AV100*$AC$62+AW100","v":0.53673352275943342},{"$f":"AX100*$AC$62^4+AY100*$AC$62^3+AZ100*$AC$62^2+BA100*$AC$62+BB100","v":0.51907652869618437},{"$f":"BC100*$AC$62^4+BD100*$AC$62^3+BE100*$AC$62^2+BF100*$AC$62+BG100","v":0.54145893526219746},{"$f":"BH100*$AC$62^4+BI100*$AC$62^3+BJ100*$AC$62^2+BK100*$AC$62+BL100","v":0.54145893526219746},{"$f":"BM100*$AC$62^4+BN100*$AC$62^3+BO100*$AC$62^2+BP100*$AC$62+BQ100","v":0.51785851985262843},{"$f":"BR100*$AC$62^4+BS100*$AC$62^3+BT100*$AC$62^2+BU100*$AC$62+BV100","v":0.54019634251290727},{"$f":"BW100*$AC$62^4+BX100*$AC$62^3+BY100*$AC$62^2+BZ100*$AC$62+CA100","v":0.54019634251290727},{"$f":"CB100*$AC$62^4+CC100*$AC$62^3+CD100*$AC$62^2+CE100*$AC$62+CF100","v":0.52026306376699716},null,"Janvier ",{"$f":"HLOOKUP(BY$114,$BO$114:$BV$126,$CI115,FALSE)","v":0.54145893526219746},0.51785851985262843,0.54019634251290727,0.53673352275943342,null,"Janvier ",{"$f":"BY115*AK31","v":36167.764884635581},{"$f":"BZ115*AL31","v":41220.230151885356},{"$f":"CA115*AM31","v":34289.609365103592},{"$f":"CB115*AN31","v":20783.576404369465},2]
[null,"Janvier",-2.4523228959667307,4.2677587839689908,-1.6293713810772255,0.69467594067746152,-3.2781441317257909E-2,-2.7530565936871341,4.893323797188998,-2.062692124938815,0.77682372775932462,-3.8686089459262329E-2,-2.5310987619713652,4.4152139479858974,-1.7051731337325049,0.71702078240508904,-3.4038680462981696E-2,-2.5310987619713652,4.4152139479858974,-1.7051731337325049,0.71702078240508904,-3.4038680462981696E-2,-2.5046710705294308,4.4460374568594654,-1.8631416139061698,0.70721684331295354,-3.5100674889041117E-2,-2.5317488767568173,4.419125307026742,-1.711982595622684,0.71708132410467784,-3.4097047711969808E-2,-2.5317488767568173,4.419125307026742,-1.711982595622684,0.71708132410467784,-3.4097047711969808E-2,-2.7059615798922798,4.7964468569292604,-1.997312677169198,0.76393385732560182,-3.7781725538142519E-2,null,"Février",{"$f":"IF($AS$113=\"Nord\",AS101,IF($AS$113=\"Nord-Est\",AX101,IF($AS$113=\"Est\",BC101,IF($AS$113=\"Sud-Est\",BH101,IF($AS$113=\"Sud\",BM101,IF($AS$113=\"Sud-Ouest\",BR101,IF($AS$113=\"Ouest\",BW101,IF($AS$113=\"Nord-Ouest\",CB101,0))))))))","v":-2.5317219670577149},{"$f":"IF($AS$113=\"Nord\",AT101,IF($AS$113=\"Nord-Est\",AY101,IF($AS$113=\"Est\",BD101,IF($AS$113=\"Sud-Est\",BI101,IF($AS$113=\"Sud\",BN101,IF($AS$113=\"Sud-Ouest\",BS101,IF($AS$113=\"Ouest\",BX101,IF($AS$113=\"Nord-Ouest\",CC101,0))))))))","v":4.4166458105701532},{"$f":"IF($AS$113=\"Nord\",AU101,IF($AS$113=\"Nord-Est\",AZ101,IF($AS$113=\"Est\",BE101,IF($AS$113=\"Sud-Est\",BJ101,IF($AS$113=\"Sud\",BO101,IF($AS$113=\"Sud-Ouest\",BT101,IF($AS$113=\"Ouest\",BY101,IF($AS$113=\"Nord-Ouest\",CD101,0))))))))","v":-1.7064025627250639},{"$f":"IF($AS$113=\"Nord\",AV101,IF($AS$113=\"Nord-Est\",BA101,IF($AS$113=\"Est\",BF101,IF($AS$113=\"Sud-Est\",BK101,IF($AS$113=\"Sud\",BP101,IF($AS$113=\"Sud-Ouest\",BU101,IF($AS$113=\"Ouest\",BZ101,IF($AS$113=\"Nord-Ouest\",CE101,0))))))))","v":0.71715243897255143},-3.4052075096493661E-2,{"$f":"IF($AX$113=\"Nord\",AS101,IF($AX$113=\"Nord-Est\",AX101,IF($AX$113=\"Est\",BC101,IF($AX$113=\"Sud-Est\",BH101,IF($AX$113=\"Sud\",BM101,IF($AX$113=\"Sud-Ouest\",BR101,IF($AX$113=\"Ouest\",BW101,IF($AX$113=\"Nord-Ouest\",CB101,0))))))))","v":-2.6738184331639046},{"$f":"IF($AX$113=\"Nord\",AT101,IF($AX$113=\"Nord-Est\",AY101,IF($AX$113=\"Est\",BD101,IF($AX$113=\"Sud-Est\",BI101,IF($AX$113=\"Sud\",BN101,IF($AX$113=\"Sud-Ouest\",BS101,IF($AX$113=\"Ouest\",BX101,IF($AX$113=\"Nord-Ouest\",CC101,0))))))))","v":4.7541152951306538},{"$f":"IF($AX$113=\"Nord\",AU101,IF($AX$113=\"Nord-Est\",AZ101,IF($AX$113=\"Est\",BE101,IF($AX$113=\"Sud-Est\",BJ101,IF($AX$113=\"Sud\",BO101,IF($AX$113=\"Sud-Ouest\",BT101,IF($AX$113=\"Ouest\",BY101,IF($AX$113=\"Nord-Ouest\",CD101,0))))))))","v":-2.0070065975068552},{"$f":"IF($AX$113=\"Nord\",AV101,IF($AX$113=\"Nord-Est\",BA101,IF($AX$113=\"Est\",BF101,IF($AX$113=\"Sud-Est\",BK101,IF($AX$113=\"Sud\",BP101,IF($AX$113=\"Sud-Ouest\",BU101,IF($AX$113=\"Ouest\",BZ101,IF($AX$113=\"Nord-Ouest\",CE101,0))))))))","v":0.75448461742485362},{"$f":"IF($AX$113=\"Nord\",AW101,IF($AX$113=\"Nord-Est\",BB101,IF($AX$113=\"Est\",BG101,IF($AX$113=\"Sud-Est\",BL101,IF($AX$113=\"Sud\",BQ101,IF($AX$113=\"Sud-Ouest\",BV101,IF($AX$113=\"Ouest\",CA101,IF($AX$113=\"Nord-Ouest\",CF101,0))))))))","v":-3.7605332702053518E-2},{"$f":"IF($BC$113=\"Nord\",AS101,IF($BC$113=\"Nord-Est\",AX101,IF($BC$113=\"Est\",BC101,IF($BC$113=\"Sud-Est\",BH101,IF($BC$113=\"Sud\",BM101,IF($BC$113=\"Sud-Ouest\",BR101,IF($BC$113=\"Ouest\",BW101,IF($BC$113=\"Nord-Ouest\",CB101,0))))))))","v":-2.5177468995447132},{"$f":"IF($BC$113=\"Nord\",AT101,IF($BC$113=\"Nord-Est\",AY101,IF($BC$113=\"Est\",BD101,IF($BC$113=\"Sud-Est\",BI101,IF($BC$113=\"Sud\",BN101,IF($BC$113=\"Sud-Ouest\",BS101,IF($BC$113=\"Ouest\",BX101,IF($BC$113=\"Nord-Ouest\",CC101,0))))))))","v":4.390700124356349},{"$f":"IF($BC$113=\"Nord\",AU101,IF($BC$113=\"Nord-Est\",AZ101,IF($BC$113=\"Est\",BE101,IF($BC$113=\"Sud-Est\",BJ101,IF($BC$113=\"Sud\",BO101,IF($BC$113=\"Sud-Ouest\",BT101,IF($BC$113=\"Ouest\",BY101,IF($BC$113=\"Nord-Ouest\",CD101,0))))))))","v":-1.6934243417929353},{"$f":"IF($BC$113=\"Nord\",AV101,IF($BC$113=\"Nord-Est\",BA101,IF($BC$113=\"Est\",BF101,IF($BC$113=\"Sud-Est\",BK101,IF($BC$113=\"Sud\",BP101,IF($BC$113=\"Sud-Ouest\",BU101,IF($BC$113=\"Ouest\",BZ101,IF($BC$113=\"Nord-Ouest\",CE101,0))))))))","v":0.71321066257467414},{"$f":"IF($BC$113=\"Nord\",AW101,IF($BC$113=\"Nord-Est\",BB101,IF($BC$113=\"Est\",BG101,IF($BC$113=\"Sud-Est\",BL101,IF($BC$113=\"Sud\",BQ101,IF($BC$113=\"Sud-Ouest\",BV101,IF($BC$113=\"Ouest\",CA101,IF($BC$113=\"Nord-Ouest\",CF101,0))))))))","v":-3.3834080493649554E-2},{"$f":"IF($BH$113=\"Nord\",AS101,IF($BH$113=\"Nord-Est\",AX101,IF($BH$113=\"Est\",BC101,IF($BH$113=\"Sud-Est\",BH101,IF($BH$113=\"Sud\",BM101,IF($BH$113=\"Sud-Ouest\",BR101,IF($BH$113=\"Ouest\",BW101,IF($BH$113=\"Nord-Ouest\",CB101,0))))))))","v":-2.4753395395998061},{"$f":"IF($BH$113=\"Nord\",AT101,IF($BH$113=\"Nord-Est\",AY101,IF($BH$113=\"Est\",BD101,IF($BH$113=\"Sud-Est\",BI101,IF($BH$113=\"Sud\",BN101,IF($BH$113=\"Sud-Ouest\",BS101,IF($BH$113=\"Ouest\",BX101,IF($BH$113=\"Nord-Ouest\",CC101,0))))))))","v":4.3057939937586154},{"$f":"IF($BH$113=\"Nord\",AU101,IF($BH$113=\"Nord-Est\",AZ101,IF($BH$113=\"Est\",BE101,IF($BH$113=\"Sud-Est\",BJ101,IF($BH$113=\"Sud\",BO101,IF($BH$113=\"Sud-Ouest\",BT101,IF($BH$113=\"Ouest\",BY101,IF($BH$113=\"Nord-Ouest\",CD101,0))))))))","v":-1.6400664593628096},{"$f":"IF($BH$113=\"Nord\",AV101,IF($BH$113=\"Nord-Est\",BA101,IF($BH$113=\"Est\",BF101,IF($BH$113=\"Sud-Est\",BK101,IF($BH$113=\"Sud\",BP101,IF($BH$113=\"Sud-Ouest\",BU101,IF($BH$113=\"Ouest\",BZ101,IF($BH$113=\"Nord-Ouest\",CE101,0))))))))","v":0.70122639854685154},{"$f":"IF($BH$113=\"Nord\",AW101,IF($BH$113=\"Nord-Est\",BB101,IF($BH$113=\"Est\",BG101,IF($BH$113=\"Sud-Est\",BL101,IF($BH$113=\"Sud\",BQ101,IF($BH$113=\"Sud-Ouest\",BV101,IF($BH$113=\"Ouest\",CA101,IF($BH$113=\"Nord-Ouest\",CF101,0))))))))","v":-3.3050707536875779E-2},null,"Février",0.53673352275943498,0.5215410876267097,0.5388604451840161,0.5388604451840161,0.49577840714414551,0.53713456790362601,0.53713456790362601,0.52345844572372857,null,"Février",0.5388604451840161,0.49577840714414551,0.53713456790362601,0.53673352275943498,null,"Février",34261.066549807489,31048.635671284854,32067.951747234867,19725.775707029585,3]
[null,"Février",-2.4196367807650674,4.2485224758439903,-1.6935014912094788,0.68456297471213678,-3.30490719483027E-2,-2.6681987287388202,4.7056877808870849,-1.9149543977154535,0.75406899455985943,-3.6818554101609557E-2,-2.5850660232121969,4.5336843580839883,-1.7972042588697059,0.73145288902455941,-3.520798766141392E-2,-2.5850660232121969,4.5336843580839883,-1.7972042588697059,0.73145288902455941,-3.520798766141392E-2,-2.4431521878915023,4.265702241285652,-1.6549860786709689,0.69175611552188332,-3.2918789704228679E-2,-2.5793352639653064,4.522206462744621,-1.7899647701584118,0.72986470243688395,-3.5103262199446428E-2,-2.5793352639653064,4.522206462744621,-1.7899647701584118,0.72986470243688395,-3.5103262199446428E-2,-2.6550575836634001,4.678728453595804,-1.8968719079422327,0.75047875742633097,-3.6567881419401149E-2,null,"Mars",-2.6106347596017372,4.5848842677261459,-1.8295331221753406,0.73845538863285154,{"$f":"IF($AS$113=\"Nord\",AW102,IF($AS$113=\"Nord-Est\",BB102,IF($AS$113=\"Est\",BG102,IF($AS$113=\"Sud-Est\",BL102,IF($AS$113=\"Sud\",BQ102,IF($AS$113=\"Sud-Ouest\",BV102,IF($AS$113=\"Ouest\",CA102,IF($AS$113=\"Nord-Ouest\",CF102,0))))))))","v":-3.5671790971071204E-2},-2.4368073610269754,4.2618956591124952,-1.6672630411516125,0.68980441183404018,-3.2969759823827938E-2,-2.609916336183475,4.5833582147825895,-1.8284253176922864,0.73826064760176635,-3.5657123653755951E-2,-2.4391678062982374,4.2452428631900867,-1.6214896906354348,0.69094509141230531,-3.2612823541582958E-2,null,"Mars",0.52699290381766062,0.52855731510742243,0.53057764925569884,0.53057764925569884,0.50968720198871886,0.53064787935103586,0.53064787935103586,0.52942344257917884,null,"Mars",0.53057764925569884,0.50968720198871886,0.53064787935103586,0.52699290381766062,null,"Mars",39463.955771362205,23419.953482818542,39359.105867226092,21268.654642895046,4]
[null,"Mars",-2.6877618979276567,4.807709441503607,-2.0832030104107195,0.7576840081352858,-3.8337295493618584E-2,-2.6170880459588015,4.59139314660362,-1.8228964293176584,0.74063936495933325,-3.5679344342335495E-2,-2.6253886871533596,4.6244176293998827,-1.8710147348130828,0.74219405337323208,-3.6123445493474071E-2,-2.6253886871533596,4.6244176293998827,-1.8710147348130828,0.74219405337323208,-3.6123445493474071E-2,-2.4711434750264254,4.2990236603461005,-1.6384902875270431,0.70002800788302022,-3.3004663333163653E-2,-2.6277383942391697,4.6268207036683178,-1.8687165549689855,0.74292086395150359,-3.612419083336299E-2,-2.6277383942391697,4.6268207036683178,-1.8687165549689855,0.74292086395150359,-3.612419083336299E-2,-2.6089426760263392,4.5741648203488756,-1.8104966991869871,0.7384423200352761,-3.5514917975863758E-2,null,"Avril",-2.6068460611940938,4.5839199184876618,-1.8399488325474656,0.73710128402328567,-3.5720549193998419E-2,-2.4683986141007055,4.2938361319984315,-1.6357306823142548,0.69925884797122106,-3.2960249665770158E-2,-2.616009515710076,4.6018245912627185,-1.850500859139371,0.73965306246824336,-3.5879694167715803E-2,-2.4312338177064112,4.2715500481499147,-1.7077012760085906,0.68777374620058018,-3.3256964817452883E-2,null,"Avril",0.49281345916285524,0.53269639012957692,0.52505621442260941,0.52505621442260941,0.53513619560998205,0.52545397866288601,0.52545397866288601,0.53332934328853687,null,"Avril",0.52505621442260941,0.53513619560998205,0.52545397866288601,0.49281345916285524,null,"Avril",37320.817181308601,22068.706041162426,39033.105658589033,25261.135023294813,5]
[null,"Avril",-2.8630986265732745,5.1124272900083438,-2.19885953129014,0.80717886792203819,-4.0666171686025099E-2,-2.518256470809956,4.3854122383948919,-1.6795063164380117,0.7137739388612605,-3.3736154630944759E-2,-2.6095523854865044,4.603551498490023,-1.8758368395944547,0.73742914689923911,-3.6032093417304401E-2,-2.6095523854865044,4.603551498490023,-1.8758368395944547,0.73742914689923911,-3.6032093417304401E-2,-2.4753395395997058,4.3057939937584546,-1.6400664593627328,0.70122639854683855,-3.305070753687489E-2,-2.595999269957888,4.5746362975935355,-1.8546547225537355,0.73375151479805711,-3.5752774076768135E-2,-2.595999269957888,4.5746362975935355,-1.8546547225537355,0.73375151479805711,-3.5752774076768135E-2,-2.5272343182899748,4.4051463142629697,-1.6948678122221192,0.71618541565749771,-3.393159114857297E-2,null,"Mai",-2.6157435479794149,4.6177390117054724,-1.8877717026711567,0.73904475920887625,-3.6176371651270745E-2,-2.4753395395999256,4.3057939937588579,-1.640066459362971,0.70122639854689017,-3.3050707536878221E-2,-2.6138294121518193,4.6130237949804718,-1.8833405607273042,0.7385390712959794,-3.6125081361122968E-2,-2.7347067502377911,4.8963680895266686,-2.1303443195444749,0.77070222730130067,-3.909036599814647E-2,null,"Mai",0.47938364051152488,0.53764410317094025,0.51199128063119526,0.51199128063119526,0.53673352275943509,0.51270211361033358,0.51270211361033358,0.53819885635006615,null,"Mai",0.51199128063119526,0.53673352275943509,0.51270211361033358,0.47938364051152488,null,"Mai",36928.582190951434,20180.487616410068,36791.694940421563,34479.131113182753,6]
[null,"Mai",-2.7851787909048791,4.9168524778968514,-2.0098447439345044,0.78724005743639125,-3.8532229836660048E-2,-2.4219965699064563,4.1866930885519666,-1.5444529408005481,0.68713977142669258,-3.1862645489848906E-2,-2.5460696506434717,4.482630036110085,-1.8097853654013436,0.71977647385314136,-3.4991672372910232E-2,-2.5460696506434717,4.482630036110085,-1.8097853654013436,0.71977647385314136,-3.4991672372910232E-2,-2.4753395395996893,4.3057939937583702,-1.6400664593626422,0.70122639854681024,-3.3050707536872614E-2,-2.519522321446833,4.4286179536326626,-1.7742886069415695,0.71250375885026096,-3.4493325539959818E-2,-2.519522321446833,4.4286179536326626,-1.7742886069415695,0.71250375885026096,-3.4493325539959818E-2,-2.4349585061486678,4.214065380567237,-1.5640443804905542,0.69070210328903714,-3.212601288432132E-2,null,"Juin",-2.5794875831237181,4.5462107779067589,-1.8444083072280859,0.72903841594940422,-3.5536732703976281E-2,-2.4753395395996867,4.3057939937584226,-1.6400664593627126,0.70122639854683244,-3.3050707536874724E-2,-2.5651886734848737,4.5143203272084307,-1.8189031666028763,0.72519169114032056,-3.5216212570733652E-2,-2.7959817147155395,4.9953046651426787,-2.1535832124765442,0.78810064924144163,-3.9760169266062795E-2,null,"Juin",0.49872880153017746,0.54063329158993523,0.51104541603285802,0.51104541603285802,0.53673352275943298,0.51366549132085471,0.51366549132085471,0.53894867959426362,null,"Juin",0.51104541603285802,0.53673352275943298,0.51366549132085471,0.49872880153017746,null,"Juin",38905.212670930981,21435.058612435303,36772.411697123214,41257.393119059278,7]
[null,"Juin",-2.7076361286553481,4.7499138123634843,-1.8850671300129234,0.76648280846366379,-3.6915690286559222E-2,-2.3838003273024775,4.1073627810783195,-1.4898570977162182,0.67644995500563043,-3.1105160005875654E-2,-2.5160661040851005,4.4258899878589109,-1.7794878201109905,0.7114493774167967,-3.4508607686302817E-2,-2.5160661040851005,4.4258899878589109,-1.7794878201109905,0.7114493774167967,-3.4508607686302817E-2,-2.4753395395994948,4.3057939937580549,-1.6400664593624801,0.7012263985467786,-3.3050707536870894E-2,-2.4904229063292358,4.3711057343423523,-1.7392392247766817,0.7044919680862235,-3.397868101442969E-2,-2.4904229063292358,4.3711057343423523,-1.7392392247766817,0.7044919680862235,-3.397868101442969E-2,-2.4058217830093365,4.1532354779727818,-1.5216844704704673,0.68254540646800166,-3.1541919118416972E-2,null,"Juillet",-2.610735773384631,4.6111067210253722,-1.8891958813307292,0.73757544860966473,-3.6148271717822367E-2,-2.4753395395997049,4.3057939937584377,-1.6400664593627055,0.70122639854682867,-3.305070753687428E-2,-2.60698025878933,4.6026867626294639,-1.8823979546378473,0.73656378118997456,-3.606317186325031E-2,-2.784535594255543,4.9915771242337099,-2.1829041270804006,0.78448647202257893,-3.9910019818280129E-2,null,"Juillet",0.4831514457595355,0.53748546895352467,0.50922050657893836,0.50922050657893836,0.53673352275943498,0.50994207664377456,0.50994207664377456,0.53716333622475654,null,"Juillet",0.50922050657893836,0.53673352275943498,0.50994207664377456,0.4831514457595355,null,"Juillet",43824.32686029574,22454.895308358984,42919.2427838449,43794.894702892692,8]
[null,"Juillet",-2.7488970345783859,4.8371297592031857,-1.9477572229327782,0.77760625115493442,-3.774729349207695E-2,-2.405892050382834,4.1526434459909929,-1.5200597016365038,0.68264886148919013,-3.1532103328520189E-2,-2.5370454811845522,4.4684143260570099,-1.8071766721007398,0.71719939601970262,-3.48994121588595E-2,-2.5370454811845522,4.4684143260570099,-1.8071766721007398,0.71719939601970262,-3.48994121588595E-2,-2.475339539599815,4.3057939937586189,-1.640066459362802,0.70122639854684721,-3.305070753687539E-2,-2.4951554372816194,4.3804348711730512,-1.7448844302497901,0.70579497732814611,-3.4061904949474198E-2,-2.4951554372816194,4.3804348711730512,-1.7448844302497901,0.70579497732814611,-3.4061904949474198E-2,-2.4325020899212535,4.2089851079805518,-1.5606143092097109,0.68996353775261521,-3.2075737037064955E-2,null,"Août",-2.6545516788768411,4.6914995184800556,-1.9277622212064764,0.74987289418859793,-3.6810671540085327E-2,-2.4753395395998039,4.3057939937585958,-1.6400664593627858,0.70122639854684432,-3.3050707536875279E-2,-2.6389104581280773,4.6573709583213621,-1.9015907210441343,0.74564015790926552,-3.6473902542220049E-2,-2.5296982891892328,4.5065505282884883,-1.9184369250907205,0.71392778443603255,-3.5752836371676366E-2,null,"Août",0.46232879140770994,0.53507157044555675,0.51532334274108926,0.51532334274108926,0.53673352275943609,0.51757059239031566,0.51757059239031566,0.53343879835735208,null,"Août",0.51532334274108926,0.53673352275943609,0.51757059239031566,0.46232879140770994,null,"Août",49705.966518947622,24057.176475353117,46873.599439899641,35315.130521351639,9]
[null,"Août",-2.8499096621715454,5.0671800994114591,-2.1390793006278299,0.80423085362867031,-4.0083585028130975E-2,-2.4684816149577236,4.2826845754329472,-1.6096988645651213,0.70005806579460639,-3.2770113328380424E-2,-2.5940274855903809,4.5762917729003156,-1.8649695151304984,0.73303804965321817,-3.5820084226358295E-2,-2.5940274855903809,4.5762917729003156,-1.8649695151304984,0.73303804965321817,-3.5820084226358295E-2,-2.4753395395996574,4.3057939937583916,-1.6400664593627097,0.70122639854683599,-3.3050707536874946E-2,-2.585920277595966,4.5586245307136988,-1.8514490752856165,0.73085339751940526,-3.5646327466261452E-2,-2.585920277595966,4.5586245307136988,-1.8514490752856165,0.73085339751940526,-3.5646327466261452E-2,-2.4794265425349273,4.3053666905193806,-1.6252512861496842,0.70308863797352561,-3.2984933105822734E-2,null,"Septembre",-2.6646478625727026,4.6991384791532784,-1.9116726804099906,0.75319692076973765,-3.676903389590358E-2,-2.3780000704597892,4.1656820175513953,-1.6421147407994996,0.67308587958051214,-3.2301406354391604E-2,-2.6566645462759131,4.6825433741912104,-1.9001904467297379,0.75102362054670369,-3.6612795670203091E-2,-2.3600059228118222,4.1184241065173008,-1.5938134636600572,0.66833576574523235,-3.1761939110331094E-2,null,"Septembre",0.50108654618621917,0.52650754665992561,0.52577174378788583,0.52577174378788583,0.49209360146294512,0.52625763960165628,0.52625763960165628,0.5272832369320859,null,"Septembre",0.52577174378788583,0.49209360146294512,0.52625763960165628,0.50108654618621917,null,"Septembre",51687.344528174704,24679.565081980247,51238.639597692614,23917.802199323531,10]
[null,"Septembre",-2.80721191891993,5.0325404003824792,-2.2013858051111539,0.79088399954091448,-4.0241524175115673E-2,-2.5751600571557103,4.5035709945609064,-1.7610402045703921,0.72929513327100703,-3.4848458727172293E-2,-2.6291352881234942,4.6384327489817752,-1.8906667783873243,0.74297169808424879,-3.6309384711243564E-2,-2.6291352881234942,4.6384327489817752,-1.8906667783873243,0.74297169808424879,-3.6309384711243564E-2,-2.4750241218370403,4.3052506370550416,-1.6398695335425102,0.70113698669806424,-3.3046597753416396E-2,-2.649043610525661,4.6747594280508551,-1.9077059641036918,0.7486048462120779,-3.6608190576928767E-2,-2.649043610525661,4.6747594280508551,-1.9077059641036918,0.7486048462120779,-3.6608190576928767E-2,-2.5580508380933962,4.4665823585046427,-1.7331540054471146,0.72472161783231337,-3.4488996028889551E-2,null,"Octobre",-2.5914429237598702,4.5438184418550236,-1.7991631984054011,0.73340879641253598,-3.5280150655970455E-2,-2.6124471911923721,4.668495175169836,-2.0144741458093471,0.73671740612962389,-3.7185210071107699E-2,-2.5679261906500992,4.4912482210110349,-1.7568847583553495,0.72717082551365109,-3.4754061432544447E-2,-2.4753395395998723,4.3057939937587797,-1.6400664593629413,0.70122639854688829,-3.3050707536878499E-2,null,"Octobre",0.53673352275943409,0.51828441771152478,0.53284031917568642,0.53284031917568642,0.46546991725101411,0.53733104626458605,0.53733104626458605,0.5177006216102964,null,"Octobre",0.53284031917568642,0.46546991725101411,0.53733104626458605,0.53673352275943409,null,"Octobre",49875.945365161242,39353.309369838134,55510.154584650416,24031.407884674976,11]
[null,"Octobre",-2.5447410181111794,4.5165004428807496,-1.8914601048337836,0.71850104252766211,-3.5648024793211497E-2,-2.6507217986758147,4.6636621652381836,-1.8767125415021571,0.7496249300824025,-3.6377080488164126E-2,-2.5974934960111944,4.5597892417199217,-1.81568232656466,0.73485430336005109,-3.5457232139194494E-2,-2.5974934960111944,4.5597892417199217,-1.81568232656466,0.73485430336005109,-3.5457232139194494E-2,-2.4511578591341219,4.2764317228060058,-1.653004434899517,0.69409263302819124,-3.2965714970717708E-2,-2.5874138304578338,4.5386562715105301,-1.8007750301108578,0.73211307384711433,-3.5256544472019924E-2,-2.5874138304578338,4.5386562715105301,-1.8007750301108578,0.73211307384711433,-3.5256544472019924E-2,-2.6437171871311866,4.6496055583106024,-1.8677914402590936,0.74770013685821091,-3.6249177222655804E-2,null,"Novembre",-2.5088594742382004,4.3702862297616436,-1.6761582765180807,0.71093174053771724,-3.3627597736994586E-2,-2.8780237518982972,5.1561666429809847,-2.2494358800470784,0.81076767621974777,-4.1188996547285528E-2,-2.4740894788231169,4.2951253874068707,-1.6195695019180965,0.70153833845380931,-3.2893418697484744E-2,-2.4753395395997169,4.3057939937584706,-1.6400664593627352,0.70122639854683733,-3.305070753687489E-2,null,"Novembre",0.53673352275943431,0.5111393065700689,0.53933808218919976,0.53933808218919976,0.50167645129516591,0.54379348629544055,0.54379348629544055,0.50812092008476006,null,"Novembre",0.53933808218919976,0.50167645129516591,0.54379348629544055,0.53673352275943431,null,"Novembre",44016.424742963769,52276.502121612524,49933.963921143819,21612.220657641774,12]
[null,"Novembre",-2.4145738709230771,4.2105129431331143,-1.6235314900160263,0.68382897799227582,-3.2436415641537431E-2,-2.7098330621304827,4.7999887771077541,-1.9925627705140441,0.76515873545034729,-3.7775834181175305E-2,-2.5482843771500781,4.4551436925173578,-1.7395039702158253,0.7215674576527642,-3.4452309084652133E-2,-2.5482843771500781,4.4551436925173578,-1.7395039702158253,0.7215674576527642,-3.4452309084652133E-2,-2.4715450651584319,4.3607074243638113,-1.7779209266922171,0.69860232547862589,-3.4145297085644621E-2,-2.5470061219838938,4.4514967341661844,-1.7353919044888999,0.72126798194625508,-3.4409779427626574E-2,-2.5470061219838938,4.4514967341661844,-1.7353919044888999,0.72126798194625508,-3.4409779427626574E-2,-2.7092295378680316,4.7978191319230561,-1.9896008564230032,0.76502656607634267,-3.7747338400436481E-2,null,"Décembre",-2.4563626943554611,4.260841956818826,-1.6000466097434682,0.69646037194161559,-3.2586982911157414E-2,-2.8098423329383246,4.9922076030408293,-2.1006096983100293,0.79282730524995237,-3.9443157005708884E-2,-2.4571259489952788,4.2622889280487817,-1.6008428108972854,0.69664472464435145,-3.2598275237854468E-2,-2.4753395395997497,4.3057939937585354,-1.6400664593627787,0.70122639854684832,-3.3050707536875723E-2,null,"Décembre",0.53673352275943409,0.51545919371943305,0.54260854694778526,0.54260854694778526,0.52392126820185603,0.54264921664048726,0.54264921664048726,0.5160993290816942,null,"Décembre",0.54260854694778526,0.52392126820185603,0.54264921664048726,0.53673352275943409,null,"Décembre",38989.043444412993,49920.554102555063,39617.945415695838,21374.124505108066,13]
[null,"Décembre",-2.4752134472717269,4.3055749394412786,-1.6399835522119903,0.70119067569914584,-3.3049029337138602E-2,-2.6699089958891391,4.7264618047838898,-1.9568148843274316,0.75392869441964028,-3.716591874618419E-2,-2.5164251624745173,4.3890530154258283,-1.6940585298123458,0.71278490419725937,-3.3827217287678346E-2,-2.5164251624745173,4.3890530154258283,-1.6940585298123458,0.71278490419725937,-3.3827217287678346E-2,-2.5071897535254548,4.4449481357423419,-1.852326654608907,0.70806902529034543,-3.5032490602929955E-2,-2.5279716246563408,4.4121030113337696,-1.7084477282490802,0.71602442344406747,-3.4038269543976152E-2,-2.5279716246563408,4.4121030113337696,-1.7084477282490802,0.71602442344406747,-3.4038269543976152E-2,-2.6757312026932243,4.7376778895876184,-1.9631603135202707,0.75554427469569185,-3.7263675771755378E-2]
[]
[null,null,null,null,"NON ISOLÉ",null,null,"ISOLÉ"]
[]
[null,null,null,null,null,null,null,null,null,null,null,"Conduc","e","R",null,null,"Conduc","e","R"]
[null,"LÉGER",null,null,"Non isolé LEGER",null,null,"Isolé LEGER",null,null,"Lame d'air 5 cm",null,5,0.11,null,"Polystyrène 9 cm",0.04,9,{"$f":"0.01*R132/Q132","v":2.25}]
[null,null,null,null,"Murs","Revêtement métallique léger (6mm) / Lame d'air (5cm) / Plâtre (13mm)",null,"Murs","Revêtement métallique léger (6mm) / Polystyrene (9cm) / Plâtre (13mm)",null,"Plâtre 13 mm",0.75,1.3,{"$f":"0.01*M133/L133","v":1.7333333333333336E-2},null,"Plâtre",0.75,1.3,{"$f":"0.01*R133/Q133","v":1.7333333333333336E-2}]
[]
[]
[null,null,null,null,"Toiture","Bitume (2cm) / Lame d'air (10cm) / Plâtre (13mm)",null,"Toiture","Bitume (1cm) / Laine de verre (10cm) / Lame d'air (20cm) / Plâtre (13mm)"]
[null,null,null,null,"Plancher bas","Béton coulé (10cm) / Chape béton (7cm) / Plancher bois (3cm)",null,"Plancher bas","Mousse isolante (10cm) / Béton coulé (10cm) / Chape béton (7cm) / Plancher bois (3cm)",null,null,"Conduc","e","R",null,null,"Conduc","e","R"]
[null,null,null,null,"Cloisons internes","Plâtre (25mm) / Lame d'air (10cm) / Plâtre (25mm)",null,"Cloisons internes","Plâtre (25mm) / Lame d'air (10cm) / Plâtre (25mm)",null,"Brique 20",0.72,20,{"$f":"0.01*M138/L138","v":0.27777777777777779},null,"Brique 10 cm",0.72,10,{"$f":"0.01*R138/Q138","v":0.1388888888888889}]
[]
[]
[null,null,null,null,"Planchers intermédiaires","Béton coulé (10cm)",null,"Planchers intermédiaires","Béton coulé (10cm)",null,"Plâtre 13 mm",0.75,1.3,{"$f":"0.01*M141/L141","v":1.7333333333333336E-2},null,"Polystyrène 9 cm",0.04,9,{"$f":"0.01*R141/Q141","v":2.25}]
[null,null,null,null,"Étanchéité ","1 vol/h",null,"Étanchéité ","0,7 vol/h",null,null,null,null,null,null,"Bloc béton 10",1,10,{"$f":"0.01*R142/Q142","v":0.1}]
[null,null,null,null,null,null,null,null,null,null,null,"Conduc","e","R",null,"Plâtre",0.75,1.3,{"$f":"0.01*R143/Q143","v":1.7333333333333336E-2}]
[]
[]
[null,"MOYEN",null,null,"Non isolé MOYEN",null,null,"Isolé MOYEN",null,null,"Brique 10 cm",0.72,10,{"$f":"0.01*M146/L146","v":0.1388888888888889}]
[null,null,null,null,"Murs","Brique (20cm) / Plâtre (13mm)",null,"Murs","Brique (10cm) / Polystyrene (8cm) / Bloc béton (10cm) / Plâtre (13mm)",null,"Lame d'air 5 cm",null,5,0.11]
[null,null,null,null,"Toiture","Bitume (2cm) / Béton coulé (10cm) / Lame d'air (10cm) / Plâtre (13mm)",null,"Toiture","Bitume (1cm) / Laine de verre (10cm) / Lame d'air (20cm) / Plâtre (13mm)",null,"Bloc béton 10",1,10,{"$f":"0.01*M148/L148","v":0.1}]
[]
[]
[null,null,null,null,"Plancher bas","Béton coulé (10cm) / Chape béton (7cm) / Plancher bois (3cm)",null,"Plancher bas","Mousse isolante (10cm) / Béton coulé (10cm) / Chape béton (7cm) / Plancher bois (3cm)",null,"Plâtre",0.75,1.3,{"$f":"0.01*M151/L151","v":1.7333333333333336E-2}]
[null,null,null,null,"Cloisons internes","Plâtre (25mm) / Lame d'air (10cm) / Plâtre (25mm)",null,"Cloisons internes","Plâtre (25mm) / Lame d'air (10cm) / Plâtre (25mm)"]
[null,null,null,null,"Planchers intermédiaires","Béton coulé (10cm)",null,"Planchers intermédiaires","Béton coulé (10cm)",null,null,null,null,{"$f":"SUM(N132:N133)","v":0.12733333333333333},{"$f":"SUM(S132:S133)","v":2.2673333333333332},null,{"$f":"SUM(N163:N167)","v":0.18733333333333332},{"$f":"SUM(S163:S168)","v":2.7173333333333334},null,{"$f":"1/(N153+0.16)","v":3.4802784222737819},{"$f":"1/(O153+0.16)","v":0.41197473221642406},{"$f":"1/(Q153+0.16)","v":2.8790786948176583},{"$f":"1/(R153+0.16)","v":0.34754402224281739}]
[]
[]
[null,null,null,null,"Étanchéité ","1 vol/h",null,"Étanchéité ","0,7 vol/h",null,null,null,null,{"$f":"SUM(N138:N141)","v":0.2951111111111111},{"$f":"SUM(S138:S143)","v":2.5062222222222221},null,{"$f":"SUM(N172:N177)","v":0.28733333333333333},null,null,{"$f":"1/(N156+0.16)","v":2.197265625},{"$f":"1/(O156+0.16)","v":0.37506251041840305},{"$f":"1/(Q156+0.16)","v":2.2354694485842024},0.34754402224281739]
[null,null,null,null,null,null,null,null,null,null,null,null,null,{"$f":"SUM(N146:N151)","v":0.36622222222222223},null,null,null,null,null,{"$f":"1/(N157+0.16)","v":1.9003378378378377},0.37506251041840305,2.2354694485842024,0.34754402224281739]
[null,"LOURD",null,null,"Non isolé LOURD",null,null,"Isolé LOURD"]
[]
[]
[null,null,null,null,"Murs","Brique (10cm) / Lame d'air (5cm)/ Bloc béton (10cm) / Plâtre (13mm)",null,"Murs","Brique (10cm) / Polystyrene (8cm) / Bloc béton (10cm) / Plâtre (13mm)",null,null,null,null,null,null,null,null,null,null,{"$f":"AVERAGE(T153,V153)","v":3.1796785585457199},{"$f":"AVERAGE(U153,W153)","v":0.37975937722962072}]
[null,null,null,null,"Toiture","Bitume (2cm) / Béton coulé (10cm) / Lame d'air (10cm) / Plâtre (13mm)",null,"Toiture","Bitume (1cm) / Laine de verre (10cm) / Lame d'air (20cm) / Plâtre (13mm)",null,null,"Conduc","e","R",null,null,"Conduc","e","R",{"$f":"AVERAGE(T156,V156)","v":2.2163675367921014},{"$f":"AVERAGE(U156,W156)","v":0.36130326633061022}]
[null,null,null,null,"Plancher bas","Béton coulé (10cm) / Chape béton (7cm) / Plancher bois (3cm)",null,"Plancher bas","Mousse isolante (10cm) / Béton coulé (10cm) / Chape béton (7cm) / Plancher bois (3cm)",null,"Bitume (2xm)",1,2,{"$f":"0.01*M163/L163","v":0.02},null,"Bitume (2xm)",1,2,{"$f":"0.01*R163/Q163","v":0.02},{"$f":"AVERAGE(T157,V157)","v":2.0679036432110198},{"$f":"AVERAGE(U157,W157)","v":0.36130326633061022}]
[]
[]
[null,null,null,null,"Cloisons internes","Plâtre (13mm) / Brique (11cm) / Plâtre (13mm)",null,"Cloisons internes","Plâtre (13mm) / Brique (11cm) / Plâtre (13mm)",null,"Lame d'air 10 cm",null,10,0.15,null,"Lame d'air 20 cm",null,20,0.18]
[null,null,null,null,"Planchers intermédiaires","Béton coulé (30cm)",null,"Planchers intermédiaires","Béton coulé (30cm)",null,"Plâtre 13 mm",0.75,1.3,{"$f":"0.01*M167/L167","v":1.7333333333333336E-2},null,"Plâtre 13 mm",0.75,1.3,{"$f":"0.01*R167/Q167","v":1.7333333333333336E-2}]
[null,null,null,null,"Étanchéité ","1 vol/h",null,"Étanchéité ","0,7 vol/h",null,null,null,null,null,null,"Laine de verre",0.04,10,{"$f":"0.01*R168/Q168","v":2.5}]
[]
[]
[null,null,null,null,null,null,null,null,null,null,null,"Conduc","e","R"]
[null,null,null,"U bat","Non isolé","Isolé",null,null,null,null,"Bitume (2xm)",1,2,{"$f":"0.01*M172/L172","v":0.02}]
[null,null,null,"Léger",3.1796785585457199,0.37975937722962072,{"$f":"E173-F173","v":2.7999191813160991},null,null,null,"Lame d'air 10 cm",null,10,0.15]
[]
[]
[null,null,null,"Moyen",2.2163675367921014,0.36130326633061022,{"$f":"E176-F176","v":1.8550642704614912},null,null,null,"Plâtre 13 mm",0.75,1.3,{"$f":"0.01*M176/L176","v":1.7333333333333336E-2}]
[null,null,null,"Lourd",2.0679036432110198,0.36130326633061022,{"$f":"E177-F177","v":1.7066003768804097},null,null,null,"Béton coulé 10",1,10,{"$f":"0.01*M177/L177","v":0.1}]
[]
[]
[]
[null,null,null,"U bat",{"$f":"Calculs!C48","v":0.57947100024973608}]
[]
[null,null,null,"U bat","Non isolé","Isolé"]
[]
[]
[null,null,null,"Léger",{"$f":"IF($E$181>E173,1,IF($E$181<F173,0,($E$181-F173)/G173))","v":7.132763843784988E-2},{"$f":"IF($E$181>E173,0,IF($E$181<F173,1,(E173-$E$181)/G173))","v":0.92867236156215016}]
[null,null,null,"Moyen",{"$f":"IF($E$181>E176,1,IF($E$181<F176,0,($E$181-F176)/G176))","v":0.11760656349919967},{"$f":"IF($E$181>E176,0,IF($E$181<F176,1,(E176-$E$181)/G176))","v":0.88239343650080027}]
[null,null,null,"Lourd",{"$f":"IF($E$181>E177,1,IF($E$181<F177,0,($E$181-F177)/G177))","v":0.1278376220201749},{"$f":"IF($E$181>E177,0,IF($E$181<F177,1,(E177-$E$181)/G177))","v":0.8721623779798251}]
[]
[null,null,null,{"$f":"Hypothèses!J19","v":"Moyen"},{"$f":"VLOOKUP($D$190,$D$186:$F$188,2,FALSE)","v":0.11760656349919967},{"$f":"VLOOKUP($D$190,$D$186:$F$188,3,FALSE)","v":0.88239343650080027}]
[]
[null,"APPORT CONDUCTIF"]
[]
[null,"CAYENNE",null,null,"TAMPON 1",null,null,null,null,null,"CAYENNE"]
[null,null,"Temp ext",null,null,"Temp ext","Temp int clim","Temp int vent",null,null,null,null,null,null,null,null,null,"TAMPON 1",null,"(modifier la formule si ajout de site, utiliser la même méthode que pour les autes tableaux tampon)"]
[null,"Janvier ",27.165927419354851,null,"Janvier ",{"$f":"VLOOKUP(E196,INDIRECT(VLOOKUP(Station,$J$5:$K$8,2,FALSE)&3),2,FALSE)","v":27.165927419354851},{"$f":"TempConsigne","v":26},{"$f":"F196+2","v":29.165927419354851},null,null,"vitesse moyenne annuelle de vent fichier météo (m/s)",null,null,null,null,4,null,"vitesse moyenne annuelle de vent fichier météo (m/s)",null,{"$f":"Hypothèses!J28","v":4}]
[null,"Février",27.101320684523813,null,"Février",27.101320684523813,26,29.101320684523813]
[null,"Mars",27.129519489247265,null,"Mars",27.129519489247265,26,29.129519489247265,null,null,"ST-DENIS REUNION",null,null,null,null,null,null,"K_vent utilisé :",null,{"$f":"Hypothèses!J29","v":0.9}]
[null,"Avril",27.363124999999989,null,"Avril",27.363124999999989,26,29.363124999999989]
[null,"Mai",27.863558467741907,null,"Mai",27.863558467741907,26,29.863558467741907,null,null,"vitesse moyenne annuelle de vent fichier météo (m/s)",null,null,null,null,4,null,"vitesse moyenne annuelle de vent calcul (m/s)",null,{"$f":"T196*T198","v":3.6}]
[null,"Juin",26.916753472222226,null,"Juin",26.916753472222226,26,28.916753472222226]
[null,"Juillet",27.352688172043017,null,"Juillet",27.352688172043017,26,29.352688172043017,null,null,null,null,null,null,null,null,null,"coeff échange convectif Mc Adams (W/m².K)",null,{"$f":"5.7+3.8*T200","v":19.38}]
[null,"Août",27.973555107526888,null,"Août",27.973555107526888,26,29.973555107526888]
[null,"Septembre",28.077100694444464,null,"Septembre",28.077100694444464,26,30.077100694444464]
[null,"Octobre",28.413222446236524,null,"Octobre",28.413222446236524,26,30.413222446236524]
[null,"Novembre",27.474965277777791,null,"Novembre",27.474965277777791,26,29.474965277777791]
[null,"Décembre",27.337768817204296,null,"Décembre",27.337768817204296,26,29.337768817204296]
[null,null,{"$f":"AVERAGE(C196:C207)","v":27.514125420693588}]
[]
[null,"ST-DENIS REUNION"]
[null,null,"Temp ext"]
[null,"Janvier ",28.1227822580645]
[null,"Février",28.086328125000001]
[null,"Mars",27.784055779569801]
[null,"Avril",26.928072916666601]
[null,"Mai",25.3713037634408]
[null,"Juin",23.055138888888798]
[null,"Juillet",22.847815860215]
[null,"Août",23.120278897849399]
[null,"Septembre",23.684149305555501]
[null,"Octobre",25.146975806451501]
[null,"Novembre",26.6522222222222]
[null,"Décembre",27.140288978494599]
[null,null,{"$f":"AVERAGE(C212:C223)","v":25.661617733534893}]
[null,"APPORT RENOUVELLEMENT D'AIR"]
[null,"Plusieurs plages horaires pour coller au mieux au fonctionnement de la ventilation (permanent ou calé sur l'occupation).\nOn utilise la plage 0-24h pour les renouvellement d'air par étanchéité. Et la plage correspondante pour le renouv air contrôlé (0-24 ; 8-18 ; ou 9-20)",null,null,null,null,null,null,null,null,null,null,"Si la climatisation est permanente, on choisit la bonne plage horaire pour Text et Hrext pour un calcul précis des apports par renouv. air contrôlé, avec des heures de fonctionnement précises. \n\nSi la climatisation est partielle, on calcule le sensible et le latent provenant du renouv. contrôlé avec les données de la plage horaire 0h-24h, fonctionement 24h, puis on applique le coeff d'intermittence latent.",null,null,null,null,null,null,null,null,null,null,null,null,null,null,null,null,"calcul HR int à partir ligne 247",null,null,null,null,null,"Le débit renseigné correspond au débit dans les conditions extérieures, qu'il faut ajuster au débit correspondant intérieur pour se rapprocher au mieux des simulations Design Builder"]
[null,null,"Permanent, Logement","Bureaux enseignement","Commerces",null,null,null,null,null,null,null,null,null,null,null,null,null,null,null,"RENOUV. CONTRÔLE",null,null,null,null,"RENOUV. PERMANENT ETANCHEITE",null,null,null,null,"INTERIEUR",null,null,null,null,null,null,null,"Ajustement du débit"]
[null,"CAYENNE","Temp ext moyenne \n0h-24h","Temp ext moyenne \n8h-18h","Temp ext moyenne \n9h-20h","Temp ext moyenne \nNUIT 22h-6h","HR ext moyenne \n0h-24h","HR ext moyenne \n8h-18h","HR ext moyenne \n9h-20h","HR ext moyenne \nNUIT 22h-6h",null,"Tampon1","Text pour renouv. contrôlé","HR ext pour renouv. Contrôlé","rho (kg/m^3) pour renouv. Contrôlé","Text pour renouv. permanent étanchéité","HR ext pour renouv. permanent étanchéité","rho (kg/m^3) pour renouv. permanent étanchéité",null,"Tampon1","Temp ext","HR EXT","pv sat ext","H spé. ext (kg eau/kgair)","rho (kg/m^3)","Temp ext","HR EXT","pv sat ext","H spé. ext (kg eau/kgair)","rho (kg/m^3)","Temp int","HR INT","pv sat int","H spé. int (kg eau/kgair)","rho (kg/m^3)",null,null,"rho/rho","RENOUV. CONTRÔLE","RENOUV. PERMANENT ETANCHEITE",null,"rho ext / rho int"]
[null,"Janvier ",27.165927419354851,28.710007331378286,29.137138263665587,25.608431217858801,87.272177419354833,81.315982404692079,79.804662379421217,93.071594495091162,null,"Janvier ",{"$f":"IF(ClimPlan=\"Permanent\",IF(VMCPlan=\"Permanent\",Données1!C229,IF(VMCPlan=\"Nuit\",Données1!F229,IF(OR(Secteur=\"Logement individuel\",Secteur=\"Logement collectif\"),Données1!C229,IF(OR(Secteur=\"Bureaux\",Secteur=\"Enseignement\"),Données1!D229,Données1!E229)))),Données1!C229)","v":27.165927419354851},{"$f":"IF(ClimPlan=\"Permanent\",IF(VMCPlan=\"Permanent\",Données1!G229,IF(VMCPlan=\"Nuit\",Données1!J229,IF(OR(Secteur=\"Logement individuel\",Secteur=\"Logement collectif\"),Données1!G229,IF(OR(Secteur=\"Bureaux\",Secteur=\"Enseignement\"),Données1!H229,Données1!I229)))),Données1!G229)","v":87.272177419354833},{"$f":"1.292*273.15/(M229+273)","v":1.1757157217479848},{"$f":"C229","v":27.165927419354851},{"$f":"G229","v":87.272177419354833},{"$f":"1.292*273.15/(P229+273)","v":1.1757157217479848},null,"Janvier ",{"$f":"VLOOKUP(T229,INDIRECT(VLOOKUP(Station,$J$5:$K$8,2,FALSE)&4),2,FALSE)","v":27.165927419354851},{"$f":"VLOOKUP(T229,INDIRECT(VLOOKUP(Station,$J$5:$K$8,2,FALSE)&4),3,FALSE)","v":87.272177419354833},{"$f":"EXP(23.3265-3802.7/(U229+273.18)-(472.68/(U229+273.18))^2)","v":3599.7964750388437},{"$f":"(0.622*W229*V229/100)/(101325-W229*V229/100)","v":1.990243289622232E-2},{"$f":"VLOOKUP(T229,INDIRECT(VLOOKUP(Station,$J$5:$K$8,2,FALSE)&4),4,FALSE)","v":1.1757157217479848},{"$f":"VLOOKUP(T229,INDIRECT(VLOOKUP(Station,$J$5:$K$8,2,FALSE)&4),5,FALSE)","v":27.165927419354851},{"$f":"VLOOKUP(T229,INDIRECT(VLOOKUP(Station,$J$5:$K$8,2,FALSE)&4),6,FALSE)","v":87.272177419354833},{"$f":"EXP(23.3265-3802.7/(Z229+273.18)-(472.68/(Z229+273.18))^2)","v":3599.7964750388437},{"$f":"(0.622*AB229*AA229/100)/(101325-AB229*AA229/100)","v":1.990243289622232E-2},{"$f":"VLOOKUP(T229,INDIRECT(VLOOKUP(Station,$J$5:$K$8,2,FALSE)&4),7,FALSE)","v":1.1757157217479848},{"$f":"G196","v":26},{"$f":"AU263","v":67.78814068113212},{"$f":"IF(AE229=\"X\",\"X\",EXP(23.3265-3802.7/(AE229+273.18)-(472.68/(AE229+273.18))^2))","v":3360.8502157434891},{"$f":"IF(AE229=\"X\",\"X\",(0.622*AG229*AF229/100)/(101325-AG229*AF229/100))","v":1.4307147980323025E-2},{"$f":"1.292*273.15/(AE229+273)","v":1.1803003344481604},null,null,"Janvier ",{"$f":"Y229/AI229","v":0.99611572362866518},{"$f":"AD229/AI229","v":0.99611572362866518}]
[null,"Février",27.101320684523813,28.567126623376616,29.02736607142856,25.600632440476186,85.294270833333329,78.998376623376629,77.141517857142858,91.402529761904759,null,"Février",{"$f":"IF(ClimPlan=\"Permanent\",IF(VMCPlan=\"Permanent\",Données1!C230,IF(VMCPlan=\"Nuit\",Données1!F230,IF(OR(Secteur=\"Logement individuel\",Secteur=\"Logement collectif\"),Données1!C230,IF(OR(Secteur=\"Bureaux\",Secteur=\"Enseignement\"),Données1!D230,Données1!E230)))),Données1!C230)","v":27.101320684523813},{"$f":"IF(ClimPlan=\"Permanent\",IF(VMCPlan=\"Permanent\",Données1!G230,IF(VMCPlan=\"Nuit\",Données1!J230,IF(OR(Secteur=\"Logement individuel\",Secteur=\"Logement collectif\"),Données1!G230,IF(OR(Secteur=\"Bureaux\",Secteur=\"Enseignement\"),Données1!H230,Données1!I230)))),Données1!G230)","v":85.294270833333329},{"$f":"1.292*273.15/(M230+273)","v":1.175968833442723},27.101320684523813,85.294270833333329,1.175968833442723,null,"Février",27.101320684523813,85.294270833333329,3586.1791348391507,1.9361459253862089E-2,1.175968833442723,27.101320684523813,85.294270833333329,3586.1791348391507,1.9361459253862089E-2,1.175968833442723,26,65.784532424689772,{"$f":"IF(AE230=\"X\",\"X\",EXP(23.3265-3802.7/(AE230+273.18)-(472.68/(AE230+273.18))^2))","v":3360.8502157434891},1.3874839837083191E-2,{"$f":"1.292*273.15/(AE230+273)","v":1.1803003344481604},null,null,"Février",0.99633017048371619,0.99633017048371619]
[null,"Mars",27.129519489247265,28.564406158357766,29.00677419354837,25.668548387096759,85.152553763440864,79.206744868035187,77.403225806451616,90.737903225806448,null,"Mars",{"$f":"IF(ClimPlan=\"Permanent\",IF(VMCPlan=\"Permanent\",Données1!C231,IF(VMCPlan=\"Nuit\",Données1!F231,IF(OR(Secteur=\"Logement individuel\",Secteur=\"Logement collectif\"),Données1!C231,IF(OR(Secteur=\"Bureaux\",Secteur=\"Enseignement\"),Données1!D231,Données1!E231)))),Données1!C231)","v":27.129519489247265},{"$f":"IF(ClimPlan=\"Permanent\",IF(VMCPlan=\"Permanent\",Données1!G231,IF(VMCPlan=\"Nuit\",Données1!J231,IF(OR(Secteur=\"Logement individuel\",Secteur=\"Logement collectif\"),Données1!G231,IF(OR(Secteur=\"Bureaux\",Secteur=\"Enseignement\"),Données1!H231,Données1!I231)))),Données1!G231)","v":85.152553763440864},1.1758583447591986,27.129519489247265,85.152553763440864,1.1758583447591986,null,"Mars",27.129519489247265,85.152553763440864,3592.1171500826008,1.9361290495177406E-2,1.1758583447591986,27.129519489247265,85.152553763440864,3592.1171500826008,1.9361290495177406E-2,1.1758583447591986,26,66.689682162347523,3360.8502157434891,1.4070066526488735E-2,1.1803003344481604,null,null,"Mars",0.99623655983200354,0.99623655983200354]
[null,"Avril",27.363124999999989,28.98181818181817,29.412999999999993,25.707708333333326,88.052604166666669,82.171212121212122,80.672499999999999,93.892708333333331,null,"Avril",{"$f":"IF(ClimPlan=\"Permanent\",IF(VMCPlan=\"Permanent\",Données1!C232,IF(VMCPlan=\"Nuit\",Données1!F232,IF(OR(Secteur=\"Logement individuel\",Secteur=\"Logement collectif\"),Données1!C232,IF(OR(Secteur=\"Bureaux\",Secteur=\"Enseignement\"),Données1!D232,Données1!E232)))),Données1!C232)","v":27.363124999999989},{"$f":"IF(ClimPlan=\"Permanent\",IF(VMCPlan=\"Permanent\",Données1!G232,IF(VMCPlan=\"Nuit\",Données1!J232,IF(OR(Secteur=\"Logement individuel\",Secteur=\"Logement collectif\"),Données1!G232,IF(OR(Secteur=\"Bureaux\",Secteur=\"Enseignement\"),Données1!H232,Données1!I232)))),Données1!G232)","v":88.052604166666669},1.1749438284076983,27.363124999999989,88.052604166666669,1.1749438284076983,null,"Avril",27.363124999999989,88.052604166666669,3641.6391082928753,2.0327260398727027E-2,1.1749438284076983,27.363124999999989,88.052604166666669,3641.6391082928753,2.0327260398727027E-2,1.1749438284076983,26,66.808002768237003,3360.8502157434891,1.4095595296557297E-2,1.1803003344481604,null,null,"Avril",0.99546174318169067,0.99546174318169067]
[null,"Mai",27.863558467741907,29.558980938416415,29.959193548387098,26.122849462365579,88.869455645161295,83.118035190615842,81.845161290322579,94.788306451612897,null,"Mai",{"$f":"IF(ClimPlan=\"Permanent\",IF(VMCPlan=\"Permanent\",Données1!C233,IF(VMCPlan=\"Nuit\",Données1!F233,IF(OR(Secteur=\"Logement individuel\",Secteur=\"Logement collectif\"),Données1!C233,IF(OR(Secteur=\"Bureaux\",Secteur=\"Enseignement\"),Données1!D233,Données1!E233)))),Données1!C233)","v":27.863558467741907},{"$f":"IF(ClimPlan=\"Permanent\",IF(VMCPlan=\"Permanent\",Données1!G233,IF(VMCPlan=\"Nuit\",Données1!J233,IF(OR(Secteur=\"Logement individuel\",Secteur=\"Logement collectif\"),Données1!G233,IF(OR(Secteur=\"Bureaux\",Secteur=\"Enseignement\"),Données1!H233,Données1!I233)))),Données1!G233)","v":88.869455645161295},1.172989516567984,27.863558467741907,88.869455645161295,1.172989516567984,null,"Mai",27.863558467741907,88.869455645161295,3749.7299044190704,2.1151903337392884E-2,1.172989516567984,27.863558467741907,88.869455645161295,3749.7299044190704,2.1151903337392884E-2,1.172989516567984,26,68.209873191186048,3360.8502157434891,1.4398217909307041E-2,1.1803003344481604,null,null,"Mai",0.9938059681364112,0.9938059681364112]
[null,"Juin",26.916753472222226,28.953371212121223,29.41479166666668,24.833749999999988,90.105729166666663,85.256439393939388,83.942916666666662,94.991319444444443,null,"Juin",{"$f":"IF(ClimPlan=\"Permanent\",IF(VMCPlan=\"Permanent\",Données1!C234,IF(VMCPlan=\"Nuit\",Données1!F234,IF(OR(Secteur=\"Logement individuel\",Secteur=\"Logement collectif\"),Données1!C234,IF(OR(Secteur=\"Bureaux\",Secteur=\"Enseignement\"),Données1!D234,Données1!E234)))),Données1!C234)","v":26.916753472222226},{"$f":"IF(ClimPlan=\"Permanent\",IF(VMCPlan=\"Permanent\",Données1!G234,IF(VMCPlan=\"Nuit\",Données1!J234,IF(OR(Secteur=\"Logement individuel\",Secteur=\"Logement collectif\"),Données1!G234,IF(OR(Secteur=\"Bureaux\",Secteur=\"Enseignement\"),Données1!H234,Données1!I234)))),Données1!G234)","v":90.105729166666663},1.1766925185547723,26.916753472222226,90.105729166666663,1.1766925185547723,null,"Juin",26.916753472222226,90.105729166666663,3547.5241268033851,2.0261569668432258E-2,1.1766925185547723,26.916753472222226,90.105729166666663,3547.5241268033851,2.0261569668432258E-2,1.1766925185547723,26,67.181138124594355,3360.8502157434891,1.4176116139295028E-2,1.1803003344481604,null,null,"Juin",0.99694330689563437,0.99694330689563437]
[null,"Juillet",27.352688172043017,29.53845307917889,30.158790322580636,25.110685483870959,85.273185483870961,77.371334310850443,75.429838709677426,92.941868279569889,null,"Juillet",{"$f":"IF(ClimPlan=\"Permanent\",IF(VMCPlan=\"Permanent\",Données1!C235,IF(VMCPlan=\"Nuit\",Données1!F235,IF(OR(Secteur=\"Logement individuel\",Secteur=\"Logement collectif\"),Données1!C235,IF(OR(Secteur=\"Bureaux\",Secteur=\"Enseignement\"),Données1!D235,Données1!E235)))),Données1!C235)","v":27.352688172043017},{"$f":"IF(ClimPlan=\"Permanent\",IF(VMCPlan=\"Permanent\",Données1!G235,IF(VMCPlan=\"Nuit\",Données1!J235,IF(OR(Secteur=\"Logement individuel\",Secteur=\"Logement collectif\"),Données1!G235,IF(OR(Secteur=\"Bureaux\",Secteur=\"Enseignement\"),Données1!H235,Données1!I235)))),Données1!G235)","v":85.273185483870961},1.1749846560316186,27.352688172043017,85.273185483870961,1.1749846560316186,null,"Juillet",27.352688172043017,85.273185483870961,3639.4139937386954,1.9652939783055001E-2,1.1749846560316186,27.352688172043017,85.273185483870961,3639.4139937386954,1.9652939783055001E-2,1.1749846560316186,26,64.060741701382298,3360.8502157434891,1.3503376288615058E-2,1.1803003344481604,null,null,"Juillet",0.99549633405888416,0.99549633405888416]
[null,"Août",27.973555107526888,30.331928152492647,30.958991935483876,25.572345430107511,83.793178763440864,75.797287390029325,73.918548387096777,91.699596774193552,null,"Août",{"$f":"IF(ClimPlan=\"Permanent\",IF(VMCPlan=\"Permanent\",Données1!C236,IF(VMCPlan=\"Nuit\",Données1!F236,IF(OR(Secteur=\"Logement individuel\",Secteur=\"Logement collectif\"),Données1!C236,IF(OR(Secteur=\"Bureaux\",Secteur=\"Enseignement\"),Données1!D236,Données1!E236)))),Données1!C236)","v":27.973555107526888},{"$f":"IF(ClimPlan=\"Permanent\",IF(VMCPlan=\"Permanent\",Données1!G236,IF(VMCPlan=\"Nuit\",Données1!J236,IF(OR(Secteur=\"Logement individuel\",Secteur=\"Logement collectif\"),Données1!G236,IF(OR(Secteur=\"Bureaux\",Secteur=\"Enseignement\"),Données1!H236,Données1!I236)))),Données1!G236)","v":83.793178763440864},1.1725608247339809,27.973555107526888,83.793178763440864,1.1725608247339809,null,"Août",27.973555107526888,83.793178763440864,3773.8593023782591,2.0037243685828685E-2,1.1725608247339809,27.973555107526888,83.793178763440864,3773.8593023782591,2.0037243685828685E-2,1.1725608247339809,26,62.604491864964444,3360.8502157434891,1.3189903751684579E-2,1.1803003344481604,null,null,"Août",0.99344276241538298,0.99344276241538298]
[null,"Septembre",28.077100694444464,30.577462121212115,31.164083333333327,25.53760416666665,84.775868055555549,76.503787878787875,74.517083333333332,92.821180555555557,null,"Septembre",{"$f":"IF(ClimPlan=\"Permanent\",IF(VMCPlan=\"Permanent\",Données1!C237,IF(VMCPlan=\"Nuit\",Données1!F237,IF(OR(Secteur=\"Logement individuel\",Secteur=\"Logement collectif\"),Données1!C237,IF(OR(Secteur=\"Bureaux\",Secteur=\"Enseignement\"),Données1!D237,Données1!E237)))),Données1!C237)","v":28.077100694444464},{"$f":"IF(ClimPlan=\"Permanent\",IF(VMCPlan=\"Permanent\",Données1!G237,IF(VMCPlan=\"Nuit\",Données1!J237,IF(OR(Secteur=\"Logement individuel\",Secteur=\"Logement collectif\"),Données1!G237,IF(OR(Secteur=\"Bureaux\",Secteur=\"Enseignement\"),Données1!H237,Données1!I237)))),Données1!G237)","v":84.775868055555549},1.1721575609237687,28.077100694444464,84.775868055555549,1.1721575609237687,null,"Septembre",28.077100694444464,84.775868055555549,3796.6968978126092,2.0406643815221909E-2,1.1721575609237687,28.077100694444464,84.775868055555549,3796.6968978126092,2.0406643815221909E-2,1.1721575609237687,26,62.563301599217134,3360.8502157434891,1.3181041626756894E-2,1.1803003344481604,null,null,"Septembre",0.99310110038374355,0.99310110038374355]
[null,"Octobre",28.413222446236524,30.967302052785939,31.542137096774194,25.815658602150528,83.136256720430111,74.640762463343108,72.658870967741933,91.506048387096769,null,"Octobre",{"$f":"IF(ClimPlan=\"Permanent\",IF(VMCPlan=\"Permanent\",Données1!C238,IF(VMCPlan=\"Nuit\",Données1!F238,IF(OR(Secteur=\"Logement individuel\",Secteur=\"Logement collectif\"),Données1!C238,IF(OR(Secteur=\"Bureaux\",Secteur=\"Enseignement\"),Données1!D238,Données1!E238)))),Données1!C238)","v":28.413222446236524},{"$f":"IF(ClimPlan=\"Permanent\",IF(VMCPlan=\"Permanent\",Données1!G238,IF(VMCPlan=\"Nuit\",Données1!J238,IF(OR(Secteur=\"Logement individuel\",Secteur=\"Logement collectif\"),Données1!G238,IF(OR(Secteur=\"Bureaux\",Secteur=\"Enseignement\"),Données1!H238,Données1!I238)))),Données1!G238)","v":83.136256720430111},1.1708504263211243,28.413222446236524,83.136256720430111,1.1708504263211243,null,"Octobre",28.413222446236524,83.136256720430111,3871.6612920987118,2.0407112123985334E-2,1.1708504263211243,28.413222446236524,83.136256720430111,3871.6612920987118,2.0407112123985334E-2,1.1708504263211243,26,61.915003192145903,3360.8502157434891,1.3041592174576804E-2,1.1803003344481604,null,null,"Octobre",0.99199364106640342,0.99199364106640342]
[null,"Novembre",27.474965277777791,29.768712121212108,30.311624999999978,25.16131944444443,85.977430555555557,78.75454545454545,76.961666666666673,93.100347222222226,null,"Novembre",{"$f":"IF(ClimPlan=\"Permanent\",IF(VMCPlan=\"Permanent\",Données1!C239,IF(VMCPlan=\"Nuit\",Données1!F239,IF(OR(Secteur=\"Logement individuel\",Secteur=\"Logement collectif\"),Données1!C239,IF(OR(Secteur=\"Bureaux\",Secteur=\"Enseignement\"),Données1!D239,Données1!E239)))),Données1!C239)","v":27.474965277777791},{"$f":"IF(ClimPlan=\"Permanent\",IF(VMCPlan=\"Permanent\",Données1!G239,IF(VMCPlan=\"Nuit\",Données1!J239,IF(OR(Secteur=\"Logement individuel\",Secteur=\"Logement collectif\"),Données1!G239,IF(OR(Secteur=\"Bureaux\",Secteur=\"Enseignement\"),Données1!H239,Données1!I239)))),Données1!G239)","v":85.977430555555557},1.1745065006455633,27.474965277777791,85.977430555555557,1.1745065006455633,null,"Novembre",27.474965277777791,85.977430555555557,3665.5577033167556,1.9967369946163691E-2,1.1745065006455633,27.474965277777791,85.977430555555557,3665.5577033167556,1.9967369946163691E-2,1.1745065006455633,26,63.48851513183601,3360.8502157434891,1.3380161824480477E-2,1.1803003344481604,null,null,"Novembre",0.99509122073975687,0.99509122073975687]
[null,"Décembre",27.337768817204296,29.276209677419367,29.768024193548385,25.356115591397845,86.609206989247312,79.524926686217015,77.801612903225802,93.794354838709666,null,"Décembre",{"$f":"IF(ClimPlan=\"Permanent\",IF(VMCPlan=\"Permanent\",Données1!C240,IF(VMCPlan=\"Nuit\",Données1!F240,IF(OR(Secteur=\"Logement individuel\",Secteur=\"Logement collectif\"),Données1!C240,IF(OR(Secteur=\"Bureaux\",Secteur=\"Enseignement\"),Données1!D240,Données1!E240)))),Données1!C240)","v":27.337768817204296},{"$f":"IF(ClimPlan=\"Permanent\",IF(VMCPlan=\"Permanent\",Données1!G240,IF(VMCPlan=\"Nuit\",Données1!J240,IF(OR(Secteur=\"Logement individuel\",Secteur=\"Logement collectif\"),Données1!G240,IF(OR(Secteur=\"Bureaux\",Secteur=\"Enseignement\"),Données1!H240,Données1!I240)))),Données1!G240)","v":86.609206989247312},1.1750430236924108,27.337768817204296,86.609206989247312,1.1750430236924108,null,"Décembre",27.337768817204296,86.609206989247312,3636.2352667643418,1.9952737050084917E-2,1.1750430236924108,27.337768817204296,86.609206989247312,3636.2352667643418,1.9952737050084917E-2,1.1750430236924108,26,65.635864423483554,3360.8502157434891,1.3842785924183639E-2,1.1803003344481604,null,null,"Décembre",0.99554578559175988,0.99554578559175988]
[]
[]
[null,"ST-DENIS REUNION",null,null,null,null,null,null,null,null,null,null,null,null,null,null,null,null,null,"Etanchéité à l'air ",null,null,null,"Tampon 1","Etanchéité à l'air "]
[null,null,"Temp ext moyenne \n0h-24h","Temp ext moyenne \n8h-18h","Temp ext moyenne \n9h-20h","Temp ext moyenne \nNUIT 22h-6h","HR ext moyenne \n0h-24h","HR ext moyenne \n8h-18h","HR ext moyenne \n9h-20h","HR ext moyenne \nNUIT 22h-6h",null,"Tampon1","Text pour renouv. Contrôlé","HR ext pour renouv. Contrôlé","rho (kg/m^3) pour renouv. Contrôlé","Text pour renouv. permanent étanchéité","HR ext pour renouv. permanent étanchéité","rho (kg/m^3) pour renouv. permanent étanchéité",null,"Secteur","Par opaque (m3/h/m²)","Par baies (m3/h/m²)",null,"Secteur","Par opaque (m^3/h/m²)","Par baies (m^3/h/m²)"]
[null,"Janvier ",28.122782258064525,29.775439882697945,30.11712218649517,26.366373743571756,77.400705645161295,68.877199413489734,67.2532154340836,86.054435483870975,null,"Janvier ",{"$f":"IF(VMCPlan=\"Permanent\",Données1!C245,IF(VMCPlan=\"Nuit\",Données1!F245,IF(OR(Secteur=\"Logement individuel\",Secteur=\"Logement collectif\"),Données1!C245,IF(OR(Secteur=\"Bureaux\",Secteur=\"Enseignement\"),Données1!D245,Données1!E245))))","v":30.11712218649517},{"$f":"IF(VMCPlan=\"Permanent\",Données1!G245,IF(VMCPlan=\"Nuit\",Données1!J245,IF(OR(Secteur=\"Logement individuel\",Secteur=\"Logement collectif\"),Données1!G245,IF(OR(Secteur=\"Bureaux\",Secteur=\"Enseignement\"),Données1!H245,Données1!I245))))","v":67.2532154340836},{"$f":"1.292*273.15/(M245+273)","v":1.1642687732528334},{"$f":"C245","v":28.122782258064525},{"$f":"G245","v":77.400705645161295},{"$f":"1.292*273.15/(P245+273)","v":1.1719797398044547},null,{"$f":"Z5","v":"Logement"},1,{"$f":"Hypothèses!$P$6","v":5.85},null,{"$f":"Interface!E9","v":"Santé"},{"$f":"VLOOKUP(X245,T245:V250,2,FALSE)","v":1.2},{"$f":"VLOOKUP(X245,T245:V251,3,FALSE)","v":5.85}]
[null,"Février",28.086328125000005,29.660551948051946,30.02999999999998,26.45598958333332,78.698846726190482,70.746347402597408,69.272767857142853,86.279761904761898,null,"Février",{"$f":"IF(VMCPlan=\"Permanent\",Données1!C246,IF(VMCPlan=\"Nuit\",Données1!F246,IF(OR(Secteur=\"Logement individuel\",Secteur=\"Logement collectif\"),Données1!C246,IF(OR(Secteur=\"Bureaux\",Secteur=\"Enseignement\"),Données1!D246,Données1!E246))))","v":30.02999999999998},{"$f":"IF(VMCPlan=\"Permanent\",Données1!G246,IF(VMCPlan=\"Nuit\",Données1!J246,IF(OR(Secteur=\"Logement individuel\",Secteur=\"Logement collectif\"),Données1!G246,IF(OR(Secteur=\"Bureaux\",Secteur=\"Enseignement\"),Données1!H246,Données1!I246))))","v":69.272767857142853},1.1646035046035046,28.086328125000005,78.698846726190482,1.1721216376636163,null,"Commerces",2.5,{"$f":"Hypothèses!$P$6","v":5.85}]
[null,"Mars",27.784055779569865,29.439956011730214,29.852096774193566,26.099563172042998,78.332493279569889,70.260630498533729,68.572580645161295,86.147177419354833,null,"Mars",{"$f":"IF(VMCPlan=\"Permanent\",Données1!C247,IF(VMCPlan=\"Nuit\",Données1!F247,IF(OR(Secteur=\"Logement individuel\",Secteur=\"Logement collectif\"),Données1!C247,IF(OR(Secteur=\"Bureaux\",Secteur=\"Enseignement\"),Données1!D247,Données1!E247))))","v":29.852096774193566},{"$f":"IF(VMCPlan=\"Permanent\",Données1!G247,IF(VMCPlan=\"Nuit\",Données1!J247,IF(OR(Secteur=\"Logement individuel\",Secteur=\"Logement collectif\"),Données1!G247,IF(OR(Secteur=\"Bureaux\",Secteur=\"Enseignement\"),Données1!H247,Données1!I247))))","v":68.572580645161295},1.1652876230971894,27.784055779569865,78.332493279569889,1.1732995589986674,null,"Bureaux",1.2,{"$f":"Hypothèses!$P$6","v":5.85}]
[null,"Avril",26.92807291666664,28.659090909090899,29.084541666666652,25.209722222222215,76.425694444444446,67.391287878787878,65.181250000000006,84.85486111111112,null,"Avril",{"$f":"IF(VMCPlan=\"Permanent\",Données1!C248,IF(VMCPlan=\"Nuit\",Données1!F248,IF(OR(Secteur=\"Logement individuel\",Secteur=\"Logement collectif\"),Données1!C248,IF(OR(Secteur=\"Bureaux\",Secteur=\"Enseignement\"),Données1!D248,Données1!E248))))","v":29.084541666666652},{"$f":"IF(VMCPlan=\"Permanent\",Données1!G248,IF(VMCPlan=\"Nuit\",Données1!J248,IF(OR(Secteur=\"Logement individuel\",Secteur=\"Logement collectif\"),Données1!G248,IF(OR(Secteur=\"Bureaux\",Secteur=\"Enseignement\"),Données1!H248,Données1!I248))))","v":65.181250000000006},1.1682484580406505,26.92807291666664,76.425694444444446,1.1766481095554333,null,"Enseignement",1.2,{"$f":"Hypothèses!$P$6","v":5.85}]
[null,"Mai",25.371303763440881,27.086693548387071,27.543346774193523,23.656384408602143,71.440524193548384,62.697580645161288,60.751612903225805,80.069556451612897,null,"Mai",{"$f":"IF(VMCPlan=\"Permanent\",Données1!C249,IF(VMCPlan=\"Nuit\",Données1!F249,IF(OR(Secteur=\"Logement individuel\",Secteur=\"Logement collectif\"),Données1!C249,IF(OR(Secteur=\"Bureaux\",Secteur=\"Enseignement\"),Données1!D249,Données1!E249))))","v":27.543346774193523},{"$f":"IF(VMCPlan=\"Permanent\",Données1!G249,IF(VMCPlan=\"Nuit\",Données1!J249,IF(OR(Secteur=\"Logement individuel\",Secteur=\"Logement collectif\"),Données1!G249,IF(OR(Secteur=\"Bureaux\",Secteur=\"Enseignement\"),Données1!H249,Données1!I249))))","v":60.751612903225805},1.1742392696024337,25.371303763440881,71.440524193548384,1.1827873376180944,null,"Santé",1.2,{"$f":"Hypothèses!$P$6","v":5.85}]
[null,"Juin",23.05513888888887,24.814848484848479,25.305791666666654,21.325624999999992,71.865104166666669,64.564772727272725,62.515833333333333,78.840972222222234,null,"Juin",{"$f":"IF(VMCPlan=\"Permanent\",Données1!C250,IF(VMCPlan=\"Nuit\",Données1!F250,IF(OR(Secteur=\"Logement individuel\",Secteur=\"Logement collectif\"),Données1!C250,IF(OR(Secteur=\"Bureaux\",Secteur=\"Enseignement\"),Données1!D250,Données1!E250))))","v":25.305791666666654},{"$f":"IF(VMCPlan=\"Permanent\",Données1!G250,IF(VMCPlan=\"Nuit\",Données1!J250,IF(OR(Secteur=\"Logement individuel\",Secteur=\"Logement collectif\"),Données1!G250,IF(OR(Secteur=\"Bureaux\",Secteur=\"Enseignement\"),Données1!H250,Données1!I250))))","v":62.515833333333333},1.1830470941521276,23.05513888888887,71.865104166666669,1.1920407844447145,null,"Hôtellerie",1.2,{"$f":"Hypothèses!$P$6","v":5.85}]
[null,"Juillet",22.847815860215047,24.569721407624627,25.095846774193546,21.144287634408599,70.68665994623656,61.661656891495603,59.221774193548384,78.925403225806463,null,"Juillet",{"$f":"IF(VMCPlan=\"Permanent\",Données1!C251,IF(VMCPlan=\"Nuit\",Données1!F251,IF(OR(Secteur=\"Logement individuel\",Secteur=\"Logement collectif\"),Données1!C251,IF(OR(Secteur=\"Bureaux\",Secteur=\"Enseignement\"),Données1!D251,Données1!E251))))","v":25.095846774193546},{"$f":"IF(VMCPlan=\"Permanent\",Données1!G251,IF(VMCPlan=\"Nuit\",Données1!J251,IF(OR(Secteur=\"Logement individuel\",Secteur=\"Logement collectif\"),Données1!G251,IF(OR(Secteur=\"Bureaux\",Secteur=\"Enseignement\"),Données1!H251,Données1!I251))))","v":59.221774193548384},1.1838802982965668,22.847815860215047,70.68665994623656,1.1928761379355461]
[null,"Août",23.120278897849438,24.893841642228711,25.37016129032256,21.363978494623652,69.512768817204304,60.674486803519059,58.753629032258061,78.004032258064512,null,"Août",{"$f":"IF(VMCPlan=\"Permanent\",Données1!C252,IF(VMCPlan=\"Nuit\",Données1!F252,IF(OR(Secteur=\"Logement individuel\",Secteur=\"Logement collectif\"),Données1!C252,IF(OR(Secteur=\"Bureaux\",Secteur=\"Enseignement\"),Données1!D252,Données1!E252))))","v":25.37016129032256},{"$f":"IF(VMCPlan=\"Permanent\",Données1!G252,IF(VMCPlan=\"Nuit\",Données1!J252,IF(OR(Secteur=\"Logement individuel\",Secteur=\"Logement collectif\"),Données1!G252,IF(OR(Secteur=\"Bureaux\",Secteur=\"Enseignement\"),Données1!H252,Données1!I252))))","v":58.753629032258061},1.1827918665653996,23.120278897849438,69.512768817204304,1.1917785614464478]
[null,"Septembre",23.684149305555547,25.587348484848487,25.985916666666668,21.768124999999991,71.944965277777783,63.029166666666669,61.042916666666663,80.492361111111109,null,"Septembre",{"$f":"IF(VMCPlan=\"Permanent\",Données1!C253,IF(VMCPlan=\"Nuit\",Données1!F253,IF(OR(Secteur=\"Logement individuel\",Secteur=\"Logement collectif\"),Données1!C253,IF(OR(Secteur=\"Bureaux\",Secteur=\"Enseignement\"),Données1!D253,Données1!E253))))","v":25.985916666666668},{"$f":"IF(VMCPlan=\"Permanent\",Données1!G253,IF(VMCPlan=\"Nuit\",Données1!J253,IF(OR(Secteur=\"Logement individuel\",Secteur=\"Logement collectif\"),Données1!G253,IF(OR(Secteur=\"Bureaux\",Secteur=\"Enseignement\"),Données1!H253,Données1!I253))))","v":61.042916666666663},1.1803559309231677,23.684149305555547,71.944965277777783,1.1895134971856469]
[null,"Octobre",25.146975806451586,27.025769794721402,27.355080645161287,23.173353494623647,71.485719086021504,62.39149560117302,60.74274193548387,80.802755376344095,null,"Octobre",{"$f":"IF(VMCPlan=\"Permanent\",Données1!C254,IF(VMCPlan=\"Nuit\",Données1!F254,IF(OR(Secteur=\"Logement individuel\",Secteur=\"Logement collectif\"),Données1!C254,IF(OR(Secteur=\"Bureaux\",Secteur=\"Enseignement\"),Données1!D254,Données1!E254))))","v":27.355080645161287},{"$f":"IF(VMCPlan=\"Permanent\",Données1!G254,IF(VMCPlan=\"Nuit\",Données1!J254,IF(OR(Secteur=\"Logement individuel\",Secteur=\"Logement collectif\"),Données1!G254,IF(OR(Secteur=\"Bureaux\",Secteur=\"Enseignement\"),Données1!H254,Données1!I254))))","v":60.74274193548387},1.1749752967119829,25.146975806451586,71.485719086021504,1.1836772754290785]
[null,"Novembre",26.652222222222246,28.533712121212126,28.86129166666667,24.658645833333324,74.883854166666666,66.581439393939391,65.293750000000003,83.501388888888897,null,"Novembre",{"$f":"IF(VMCPlan=\"Permanent\",Données1!C255,IF(VMCPlan=\"Nuit\",Données1!F255,IF(OR(Secteur=\"Logement individuel\",Secteur=\"Logement collectif\"),Données1!C255,IF(OR(Secteur=\"Bureaux\",Secteur=\"Enseignement\"),Données1!D255,Données1!E255))))","v":28.86129166666667},{"$f":"IF(VMCPlan=\"Permanent\",Données1!G255,IF(VMCPlan=\"Nuit\",Données1!J255,IF(OR(Secteur=\"Logement individuel\",Secteur=\"Logement collectif\"),Données1!G255,IF(OR(Secteur=\"Bureaux\",Secteur=\"Enseignement\"),Données1!H255,Données1!I255))))","v":65.293750000000003},1.1691124690134307,26.652222222222246,74.883854166666666,1.1777312959097026]
[null,"Décembre",27.140288978494599,28.875366568914973,29.242137096774222,25.276579301075266,75.771001344086017,68.489369501466271,66.751612903225805,83.405913978494624,null,"Décembre",{"$f":"IF(VMCPlan=\"Permanent\",Données1!C256,IF(VMCPlan=\"Nuit\",Données1!F256,IF(OR(Secteur=\"Logement individuel\",Secteur=\"Logement collectif\"),Données1!C256,IF(OR(Secteur=\"Bureaux\",Secteur=\"Enseignement\"),Données1!D256,Données1!E256))))","v":29.242137096774222},{"$f":"IF(VMCPlan=\"Permanent\",Données1!G256,IF(VMCPlan=\"Nuit\",Données1!J256,IF(OR(Secteur=\"Logement individuel\",Secteur=\"Logement collectif\"),Données1!G256,IF(OR(Secteur=\"Bureaux\",Secteur=\"Enseignement\"),Données1!H256,Données1!I256))))","v":66.751612903225805},1.1676393086348598,27.140288978494599,75.771001344086017,1.1758161531765778]
[]
[]
[null,"Calcul de HR int pour calculer l'énergie latente issue du renouv. air\nHR int varie en fonction (principalement) de la température de consigne, et du débit de renouvellement d'air\nSoit x le débit renouv. air, y l'HR int à une témpérature donnée, on a y=a*x^4+b*x^3+c*x^2+d*x+e\nIci on détermine ces coeffs empirique pour les températures [20;26]"]
[null,"CAYENNE"]
[null,null,26,null,null,null,null,25,null,null,null,null,24,null,null,null,null,23,null,null,null,null,22,null,null,null,null,21,null,null,null,null,20,null,null,null,null,null,"TAMPON 1",{"$f":"TempConsigne","v":26},null,null,null,null,null,"TAMPON 2","HR int",null,null,null,null,null,"Cayenne",20,21,22,23,24,25,26,null,"HR Final",20,21,22,23,24,25,26]
[null,null,"a","b","c","d","e","a","b","c","d","e","a","b","c","d","e","a","b","c","d","e","a","b","c","d","e","a","b","c","d","e","a","b","c","d","e",null,null,"a","b","c","d","e"]
[null,"Janvier",-5.5686262461460494,31.706355400679151,-68.798850814721376,74.367581313677661,39.554701828102523,-5.6035371232798319,31.855589544017803,-69.051159804858287,74.856481728301802,39.908878329402832,-5.7146629679369916,32.427600005438194,-70.075005020897848,75.692992467662194,40.584319564279795,-5.9117643563486633,33.465594240196815,-71.976225584371022,77.063188221907623,41.464810613268597,-6.0459150588364032,34.247374384726584,-73.560690699620366,78.223154190468563,42.667165037984503,-5.9667823053698248,34.041217526797816,-73.611300861269171,78.400280006990855,44.324047248260783,-5.6562059734649566,32.789598779345617,-72.124371533238332,77.720521110176662,46.3430476308463,null,"Janvier",{"$f":"IF($AN$261=$AG$261,AG263,IF($AN$261=$AB$261,AB263,IF($AN$261=$W$261,W263,IF($AN$261=$R$261,R263,IF($AN$261=$M$261,M263,IF($AN$261=$H$261,H263,IF($AN$261=$C$261,C263,IF($AN$261=#REF!,#REF!,IF($AN$261=#REF!,#REF!)))))))))","v":-5.5686262461460494},{"$f":"IF($AN$261=$AG$261,AH263,IF($AN$261=$AB$261,AC263,IF($AN$261=$W$261,X263,IF($AN$261=$R$261,S263,IF($AN$261=$M$261,N263,IF($AN$261=$H$261,I263,IF($AN$261=$C$261,D263,IF($AN$261=#REF!,#REF!,IF($AN$261=#REF!,#REF!)))))))))","v":31.706355400679151},{"$f":"IF($AN$261=$AG$261,AI263,IF($AN$261=$AB$261,AD263,IF($AN$261=$W$261,Y263,IF($AN$261=$R$261,T263,IF($AN$261=$M$261,O263,IF($AN$261=$H$261,J263,IF($AN$261=$C$261,E263,IF($AN$261=#REF!,#REF!,IF($AN$261=#REF!,#REF!)))))))))","v":-68.798850814721376},{"$f":"IF($AN$261=$AG$261,AJ263,IF($AN$261=$AB$261,AE263,IF($AN$261=$W$261,Z263,IF($AN$261=$R$261,U263,IF($AN$261=$M$261,P263,IF($AN$261=$H$261,K263,IF($AN$261=$C$261,F263,IF($AN$261=#REF!,#REF!,IF($AN$261=#REF!,#REF!)))))))))","v":74.367581313677661},{"$f":"IF($AN$261=$AG$261,AK263,IF($AN$261=$AB$261,AF263,IF($AN$261=$W$261,AA263,IF($AN$261=$R$261,V263,IF($AN$261=$M$261,Q263,IF($AN$261=$H$261,L263,IF($AN$261=$C$261,G263,IF($AN$261=#REF!,#REF!,IF($AN$261=#REF!,#REF!)))))))))","v":39.554701828102523},null,"Janvier ",{"$f":"MIN(AU279*$BL$292^4+AV279*$BL$292^3+AW279*$BL$292^2+AX279*$BL$292+AY279,AA229)","v":67.78814068113212},null,null,null,null,null,"Janvier ",{"$f":"MIN(AG263*$BL$292^4+AH263*$BL$292^3+AI263*$BL$292^2+AJ263*$BL$292+AK263,$Q229)","v":75.647552408611631},{"$f":"MIN(AB263*$BL$292^4+AC263*$BL$292^3+AD263*$BL$292^2+AE263*$BL$292+AF263,$Q229)","v":73.730876287192928},{"$f":"MIN(W263*$BL$292^4+X263*$BL$292^3+Y263*$BL$292^2+Z263*$BL$292+AA263,$Q229)","v":72.028479882658573},{"$f":"MIN(R263*$BL$292^4+S263*$BL$292^3+T263*$BL$292^2+U263*$BL$292+V263,$Q229)","v":70.556696705477435},{"$f":"MIN(M263*$BL$292^4+N263*$BL$292^3+O263*$BL$292^2+P263*$BL$292+Q263,$Q229)","v":69.340844740463368},{"$f":"MIN(H263*$BL$292^4+I263*$BL$292^3+J263*$BL$292^2+K263*$BL$292+L263,$Q229)","v":68.410153451405336},{"$f":"MIN(C263*$BL$292^4+D263*$BL$292^3+E263*$BL$292^2+F263*$BL$292+G263,$Q229)","v":67.78814068113212},null,"Janvier ",{"$f":"IF(Station=Données1!$J$5,BB263,BB279)","v":75.647552408611631},{"$f":"IF(Station=Données1!$J$5,BC263,BC279)","v":73.730876287192928},{"$f":"IF(Station=Données1!$J$5,BD263,BD279)","v":72.028479882658573},{"$f":"IF(Station=Données1!$J$5,BE263,BE279)","v":70.556696705477435},{"$f":"IF(Station=Données1!$J$5,BF263,BF279)","v":69.340844740463368},{"$f":"IF(Station=Données1!$J$5,BG263,BG279)","v":68.410153451405336},{"$f":"IF(Station=Données1!$J$5,BH263,BH279)","v":67.78814068113212}]
[null,"Février",-5.2788427379436476,29.842241121698599,-64.607424731439295,70.556444049996145,38.740418888150636,-5.3625225851331795,30.161754862067614,-64.949428634650658,70.827047395351542,39.426342030694279,-5.7159522398804583,31.893877266423768,-67.857037114516601,72.821506744146305,40.030900305317132,-6.2947566553582632,34.837435687788165,-73.071140886554417,76.521637875445961,40.476910974409108,-6.7961211790570077,37.474059739046965,-77.941463964621406,80.084500411649174,41.167416914349161,-6.9221814452930781,38.299855841668396,-79.801285800904296,81.580798488779763,42.569587451709296,-6.3780476513909212,35.824428797764604,-76.024722884885264,79.156730249105763,45.102266687686168,null,"Février",{"$f":"IF($AN$261=$AG$261,AG264,IF($AN$261=$AB$261,AB264,IF($AN$261=$W$261,W264,IF($AN$261=$R$261,R264,IF($AN$261=$M$261,M264,IF($AN$261=$H$261,H264,IF($AN$261=$C$261,C264,IF($AN$261=#REF!,#REF!,IF($AN$261=#REF!,#REF!)))))))))","v":-5.2788427379436476},{"$f":"IF($AN$261=$AG$261,AH264,IF($AN$261=$AB$261,AC264,IF($AN$261=$W$261,X264,IF($AN$261=$R$261,S264,IF($AN$261=$M$261,N264,IF($AN$261=$H$261,I264,IF($AN$261=$C$261,D264,IF($AN$261=#REF!,#REF!,IF($AN$261=#REF!,#REF!)))))))))","v":29.842241121698599},{"$f":"IF($AN$261=$AG$261,AI264,IF($AN$261=$AB$261,AD264,IF($AN$261=$W$261,Y264,IF($AN$261=$R$261,T264,IF($AN$261=$M$261,O264,IF($AN$261=$H$261,J264,IF($AN$261=$C$261,E264,IF($AN$261=#REF!,#REF!,IF($AN$261=#REF!,#REF!)))))))))","v":-64.607424731439295},{"$f":"IF($AN$261=$AG$261,AJ264,IF($AN$261=$AB$261,AE264,IF($AN$261=$W$261,Z264,IF($AN$261=$R$261,U264,IF($AN$261=$M$261,P264,IF($AN$261=$H$261,K264,IF($AN$261=$C$261,F264,IF($AN$261=#REF!,#REF!,IF($AN$261=#REF!,#REF!)))))))))","v":70.556444049996145},{"$f":"IF($AN$261=$AG$261,AK264,IF($AN$261=$AB$261,AF264,IF($AN$261=$W$261,AA264,IF($AN$261=$R$261,V264,IF($AN$261=$M$261,Q264,IF($AN$261=$H$261,L264,IF($AN$261=$C$261,G264,IF($AN$261=#REF!,#REF!,IF($AN$261=#REF!,#REF!)))))))))","v":38.740418888150636},null,"Février",65.784532424689772,null,null,null,null,null,"Février",74.357119624034851,72.389740859192983,70.600104098912936,69.019833134487953,67.669684379424581,66.584915195492798,65.784532424689772,null,"Février",{"$f":"IF(Station=Données1!$J$5,BB264,BB280)","v":74.357119624034851},{"$f":"IF(Station=Données1!$J$5,BC264,BC280)","v":72.389740859192983},{"$f":"IF(Station=Données1!$J$5,BD264,BD280)","v":70.600104098912936},{"$f":"IF(Station=Données1!$J$5,BE264,BE280)","v":69.019833134487953},{"$f":"IF(Station=Données1!$J$5,BF264,BF280)","v":67.669684379424581},{"$f":"IF(Station=Données1!$J$5,BG264,BG280)","v":66.584915195492798},{"$f":"IF(Station=Données1!$J$5,BH264,BH280)","v":65.784532424689772}]
[null,"Mars",-4.992694827794522,28.622578377822471,-62.853222165280719,69.190668359884143,40.098195532481441,-4.7616157655663107,27.502286588704074,-61.087898739767468,68.546920635427909,40.635756842512933,-4.6257347298253206,26.820622482882843,-59.924244324736613,67.950159918705523,41.587149430226589,-4.6626948216829245,27.034726375959469,-60.36563546076831,68.365497321923002,42.645518101570346,-4.9771906244834785,28.691350512618456,-63.449789047939035,70.661323468001498,43.537930175391594,-5.2989026439280664,30.47007495731857,-66.962872933989729,73.403131983874587,44.528807858058585,-5.3416416778513689,30.903765580019879,-68.256484158679029,74.636134483210924,46.101366018416655,null,"Mars",{"$f":"IF($AN$261=$AG$261,AG265,IF($AN$261=$AB$261,AB265,IF($AN$261=$W$261,W265,IF($AN$261=$R$261,R265,IF($AN$261=$M$261,M265,IF($AN$261=$H$261,H265,IF($AN$261=$C$261,C265,IF($AN$261=#REF!,#REF!,IF($AN$261=#REF!,#REF!)))))))))","v":-4.992694827794522},{"$f":"IF($AN$261=$AG$261,AH265,IF($AN$261=$AB$261,AC265,IF($AN$261=$W$261,X265,IF($AN$261=$R$261,S265,IF($AN$261=$M$261,N265,IF($AN$261=$H$261,I265,IF($AN$261=$C$261,D265,IF($AN$261=#REF!,#REF!,IF($AN$261=#REF!,#REF!)))))))))","v":28.622578377822471},{"$f":"IF($AN$261=$AG$261,AI265,IF($AN$261=$AB$261,AD265,IF($AN$261=$W$261,Y265,IF($AN$261=$R$261,T265,IF($AN$261=$M$261,O265,IF($AN$261=$H$261,J265,IF($AN$261=$C$261,E265,IF($AN$261=#REF!,#REF!,IF($AN$261=#REF!,#REF!)))))))))","v":-62.853222165280719},{"$f":"IF($AN$261=$AG$261,AJ265,IF($AN$261=$AB$261,AE265,IF($AN$261=$W$261,Z265,IF($AN$261=$R$261,U265,IF($AN$261=$M$261,P265,IF($AN$261=$H$261,K265,IF($AN$261=$C$261,F265,IF($AN$261=#REF!,#REF!,IF($AN$261=#REF!,#REF!)))))))))","v":69.190668359884143},{"$f":"IF($AN$261=$AG$261,AK265,IF($AN$261=$AB$261,AF265,IF($AN$261=$W$261,AA265,IF($AN$261=$R$261,V265,IF($AN$261=$M$261,Q265,IF($AN$261=$H$261,L265,IF($AN$261=$C$261,G265,IF($AN$261=#REF!,#REF!,IF($AN$261=#REF!,#REF!)))))))))","v":40.098195532481441},null,"Mars",66.689682162347523,null,null,null,null,null,"Mars",74.570900262893389,72.630819451290336,70.909605151363465,69.429247971548335,68.230614853146449,67.323343062477136,66.689682162347523,null,"Mars",{"$f":"IF(Station=Données1!$J$5,BB265,BB281)","v":74.570900262893389},{"$f":"IF(Station=Données1!$J$5,BC265,BC281)","v":72.630819451290336},{"$f":"IF(Station=Données1!$J$5,BD265,BD281)","v":70.909605151363465},{"$f":"IF(Station=Données1!$J$5,BE265,BE281)","v":69.429247971548335},{"$f":"IF(Station=Données1!$J$5,BF265,BF281)","v":68.230614853146449},{"$f":"IF(Station=Données1!$J$5,BG265,BG281)","v":67.323343062477136},{"$f":"IF(Station=Données1!$J$5,BH265,BH281)","v":66.689682162347523}]
[null,"Avril",-5.5632361423629995,31.651677838477926,-68.741129283499887,75.007625489620622,38.102122896388607,-5.733596071266164,32.510869366877088,-70.254377328139498,76.241960164466832,38.554346661081588,-5.9726973630295213,33.755714945562808,-72.499198353838551,77.873409278234021,39.240117322345682,-6.3113908688754554,35.542840765021488,-75.784281265678374,80.207589145792639,40.04414553435835,-6.4829322825119426,36.593899655820664,-78.026100644368171,81.957168862384947,41.181823955213218,-6.5495943221832347,37.232120672021097,-79.828518690315164,83.609119716782729,42.507754425514676,-5.93652616818735,34.61957140135565,-76.331043829193405,81.839834536124542,44.749940970020745,null,"Avril",{"$f":"IF($AN$261=$AG$261,AG266,IF($AN$261=$AB$261,AB266,IF($AN$261=$W$261,W266,IF($AN$261=$R$261,R266,IF($AN$261=$M$261,M266,IF($AN$261=$H$261,H266,IF($AN$261=$C$261,C266,IF($AN$261=#REF!,#REF!,IF($AN$261=#REF!,#REF!)))))))))","v":-5.5632361423629995},{"$f":"IF($AN$261=$AG$261,AH266,IF($AN$261=$AB$261,AC266,IF($AN$261=$W$261,X266,IF($AN$261=$R$261,S266,IF($AN$261=$M$261,N266,IF($AN$261=$H$261,I266,IF($AN$261=$C$261,D266,IF($AN$261=#REF!,#REF!,IF($AN$261=#REF!,#REF!)))))))))","v":31.651677838477926},{"$f":"IF($AN$261=$AG$261,AI266,IF($AN$261=$AB$261,AD266,IF($AN$261=$W$261,Y266,IF($AN$261=$R$261,T266,IF($AN$261=$M$261,O266,IF($AN$261=$H$261,J266,IF($AN$261=$C$261,E266,IF($AN$261=#REF!,#REF!,IF($AN$261=#REF!,#REF!)))))))))","v":-68.741129283499887},{"$f":"IF($AN$261=$AG$261,AJ266,IF($AN$261=$AB$261,AE266,IF($AN$261=$W$261,Z266,IF($AN$261=$R$261,U266,IF($AN$261=$M$261,P266,IF($AN$261=$H$261,K266,IF($AN$261=$C$261,F266,IF($AN$261=#REF!,#REF!,IF($AN$261=#REF!,#REF!)))))))))","v":75.007625489620622},{"$f":"IF($AN$261=$AG$261,AK266,IF($AN$261=$AB$261,AF266,IF($AN$261=$W$261,AA266,IF($AN$261=$R$261,V266,IF($AN$261=$M$261,Q266,IF($AN$261=$H$261,L266,IF($AN$261=$C$261,G266,IF($AN$261=#REF!,#REF!,IF($AN$261=#REF!,#REF!)))))))))","v":38.102122896388607},null,"Avril",66.808002768237003,null,null,null,null,null,"Avril",75.447801310113192,73.476663756713805,71.675453255417409,70.0941314160346,68.73658269375639,67.639525889325952,66.808002768237003,null,"Avril",{"$f":"IF(Station=Données1!$J$5,BB266,BB282)","v":75.447801310113192},{"$f":"IF(Station=Données1!$J$5,BC266,BC282)","v":73.476663756713805},{"$f":"IF(Station=Données1!$J$5,BD266,BD282)","v":71.675453255417409},{"$f":"IF(Station=Données1!$J$5,BE266,BE282)","v":70.0941314160346},{"$f":"IF(Station=Données1!$J$5,BF266,BF282)","v":68.73658269375639},{"$f":"IF(Station=Données1!$J$5,BG266,BG282)","v":67.639525889325952},{"$f":"IF(Station=Données1!$J$5,BH266,BH282)","v":66.808002768237003}]
[null,"Mai",-5.4995587726859352,31.44635030992897,-68.72217716404333,75.561135559121183,39.154810496277712,-5.5196789955256031,31.536318230466915,-68.830948833063928,75.733845719433091,39.781887999433998,-5.8043008257337103,32.981537504227326,-71.346314035377233,77.464599134558739,40.398057598042136,-6.2151634637079356,35.102560867731079,-75.130831605456933,80.046530616124485,41.107233296868785,-6.8212031476355328,38.266943994352864,-80.89524190169287,84.077027058710044,41.721523625114173,-7.2225319188680341,40.479363337376711,-85.171185954415364,87.133781721063357,42.788066270760126,-7.260170141791324,40.969486122493599,-86.67659701035177,88.382674201962629,44.472684773241696,null,"Mai",{"$f":"IF($AN$261=$AG$261,AG267,IF($AN$261=$AB$261,AB267,IF($AN$261=$W$261,W267,IF($AN$261=$R$261,R267,IF($AN$261=$M$261,M267,IF($AN$261=$H$261,H267,IF($AN$261=$C$261,C267,IF($AN$261=#REF!,#REF!,IF($AN$261=#REF!,#REF!)))))))))","v":-5.4995587726859352},{"$f":"IF($AN$261=$AG$261,AH267,IF($AN$261=$AB$261,AC267,IF($AN$261=$W$261,X267,IF($AN$261=$R$261,S267,IF($AN$261=$M$261,N267,IF($AN$261=$H$261,I267,IF($AN$261=$C$261,D267,IF($AN$261=#REF!,#REF!,IF($AN$261=#REF!,#REF!)))))))))","v":31.44635030992897},{"$f":"IF($AN$261=$AG$261,AI267,IF($AN$261=$AB$261,AD267,IF($AN$261=$W$261,Y267,IF($AN$261=$R$261,T267,IF($AN$261=$M$261,O267,IF($AN$261=$H$261,J267,IF($AN$261=$C$261,E267,IF($AN$261=#REF!,#REF!,IF($AN$261=#REF!,#REF!)))))))))","v":-68.72217716404333},{"$f":"IF($AN$261=$AG$261,AJ267,IF($AN$261=$AB$261,AE267,IF($AN$261=$W$261,Z267,IF($AN$261=$R$261,U267,IF($AN$261=$M$261,P267,IF($AN$261=$H$261,K267,IF($AN$261=$C$261,F267,IF($AN$261=#REF!,#REF!,IF($AN$261=#REF!,#REF!)))))))))","v":75.561135559121183},{"$f":"IF($AN$261=$AG$261,AK267,IF($AN$261=$AB$261,AF267,IF($AN$261=$W$261,AA267,IF($AN$261=$R$261,V267,IF($AN$261=$M$261,Q267,IF($AN$261=$H$261,L267,IF($AN$261=$C$261,G267,IF($AN$261=#REF!,#REF!,IF($AN$261=#REF!,#REF!)))))))))","v":39.154810496277712},null,"Mai",68.209873191186048,null,null,null,null,null,"Mai",76.532177394374088,74.556152307056564,72.787726897781411,71.241770618254805,69.954428119369027,68.933214023983084,68.209873191186048,null,"Mai",{"$f":"IF(Station=Données1!$J$5,BB267,BB283)","v":76.532177394374088},{"$f":"IF(Station=Données1!$J$5,BC267,BC283)","v":74.556152307056564},{"$f":"IF(Station=Données1!$J$5,BD267,BD283)","v":72.787726897781411},{"$f":"IF(Station=Données1!$J$5,BE267,BE283)","v":71.241770618254805},{"$f":"IF(Station=Données1!$J$5,BF267,BF283)","v":69.954428119369027},{"$f":"IF(Station=Données1!$J$5,BG267,BG283)","v":68.933214023983084},{"$f":"IF(Station=Données1!$J$5,BH267,BH283)","v":68.209873191186048}]
[null,"Juin",-6.3668006828163097,35.66348361921797,-75.647848421286014,79.851443524687014,37.286765913477886,-6.6498924967489259,37.094183943175395,-78.15900115261536,81.773978781875613,37.563551369051055,-6.9885910954582178,38.888823732263951,-81.441521274344467,84.146154376002244,38.074743553564431,-7.1998839978666398,40.126653452076219,-83.931668059500026,85.998901803617173,38.976269125854564,-7.1422257083261877,40.132694552836512,-84.543166785984639,86.697093976896042,40.350965628379853,-6.8366098505047361,39.069482922472936,-83.717004864451596,86.747100474902894,41.990809220391284,-5.9952823906647872,35.50943087813161,-78.993829511964336,84.456820775915759,44.269067283269976,null,"Juin",{"$f":"IF($AN$261=$AG$261,AG268,IF($AN$261=$AB$261,AB268,IF($AN$261=$W$261,W268,IF($AN$261=$R$261,R268,IF($AN$261=$M$261,M268,IF($AN$261=$H$261,H268,IF($AN$261=$C$261,C268,IF($AN$261=#REF!,#REF!,IF($AN$261=#REF!,#REF!)))))))))","v":-6.3668006828163097},{"$f":"IF($AN$261=$AG$261,AH268,IF($AN$261=$AB$261,AC268,IF($AN$261=$W$261,X268,IF($AN$261=$R$261,S268,IF($AN$261=$M$261,N268,IF($AN$261=$H$261,I268,IF($AN$261=$C$261,D268,IF($AN$261=#REF!,#REF!,IF($AN$261=#REF!,#REF!)))))))))","v":35.66348361921797},{"$f":"IF($AN$261=$AG$261,AI268,IF($AN$261=$AB$261,AD268,IF($AN$261=$W$261,Y268,IF($AN$261=$R$261,T268,IF($AN$261=$M$261,O268,IF($AN$261=$H$261,J268,IF($AN$261=$C$261,E268,IF($AN$261=#REF!,#REF!,IF($AN$261=#REF!,#REF!)))))))))","v":-75.647848421286014},{"$f":"IF($AN$261=$AG$261,AJ268,IF($AN$261=$AB$261,AE268,IF($AN$261=$W$261,Z268,IF($AN$261=$R$261,U268,IF($AN$261=$M$261,P268,IF($AN$261=$H$261,K268,IF($AN$261=$C$261,F268,IF($AN$261=#REF!,#REF!,IF($AN$261=#REF!,#REF!)))))))))","v":79.851443524687014},{"$f":"IF($AN$261=$AG$261,AK268,IF($AN$261=$AB$261,AF268,IF($AN$261=$W$261,AA268,IF($AN$261=$R$261,V268,IF($AN$261=$M$261,Q268,IF($AN$261=$H$261,L268,IF($AN$261=$C$261,G268,IF($AN$261=#REF!,#REF!,IF($AN$261=#REF!,#REF!)))))))))","v":37.286765913477886},null,"Juin",67.181138124594355,null,null,null,null,null,"Juin",75.787195664452469,73.811899813287752,72.022438116656588,70.444381661145798,69.094659040255181,67.99840428341534,67.181138124594355,null,"Juin",{"$f":"IF(Station=Données1!$J$5,BB268,BB284)","v":75.787195664452469},{"$f":"IF(Station=Données1!$J$5,BC268,BC284)","v":73.811899813287752},{"$f":"IF(Station=Données1!$J$5,BD268,BD284)","v":72.022438116656588},{"$f":"IF(Station=Données1!$J$5,BE268,BE284)","v":70.444381661145798},{"$f":"IF(Station=Données1!$J$5,BF268,BF284)","v":69.094659040255181},{"$f":"IF(Station=Données1!$J$5,BG268,BG284)","v":67.99840428341534},{"$f":"IF(Station=Données1!$J$5,BH268,BH284)","v":67.181138124594355}]
[null,"Juillet",-4.9440772014631102,28.483619777165838,-63.005826704263391,70.560092051925437,36.600174946208469,-4.9705021637523128,28.624523374928195,-63.326340185396568,71.052705258901014,37.379935727681186,-5.1128328378643051,29.372029479059876,-64.73988899962059,72.222159326313374,38.271790663388629,-5.2446294408001988,30.159721969696516,-66.433678153685193,73.69302579220502,39.299125095046179,-4.9038205184712638,28.657815006313911,-64.320713212425687,72.602022273483328,41.110789635165318,-4.1205243099698574,25.032894501819452,-58.739375538635443,69.262135640380848,43.594082732843439,-2.9188292385893391,19.41977016628222,-49.965733464493042,63.920774973094765,46.669724832363144,null,"Juillet",{"$f":"IF($AN$261=$AG$261,AG269,IF($AN$261=$AB$261,AB269,IF($AN$261=$W$261,W269,IF($AN$261=$R$261,R269,IF($AN$261=$M$261,M269,IF($AN$261=$H$261,H269,IF($AN$261=$C$261,C269,IF($AN$261=#REF!,#REF!,IF($AN$261=#REF!,#REF!)))))))))","v":-4.9440772014631102},{"$f":"IF($AN$261=$AG$261,AH269,IF($AN$261=$AB$261,AC269,IF($AN$261=$W$261,X269,IF($AN$261=$R$261,S269,IF($AN$261=$M$261,N269,IF($AN$261=$H$261,I269,IF($AN$261=$C$261,D269,IF($AN$261=#REF!,#REF!,IF($AN$261=#REF!,#REF!)))))))))","v":28.483619777165838},{"$f":"IF($AN$261=$AG$261,AI269,IF($AN$261=$AB$261,AD269,IF($AN$261=$W$261,Y269,IF($AN$261=$R$261,T269,IF($AN$261=$M$261,O269,IF($AN$261=$H$261,J269,IF($AN$261=$C$261,E269,IF($AN$261=#REF!,#REF!,IF($AN$261=#REF!,#REF!)))))))))","v":-63.005826704263391},{"$f":"IF($AN$261=$AG$261,AJ269,IF($AN$261=$AB$261,AE269,IF($AN$261=$W$261,Z269,IF($AN$261=$R$261,U269,IF($AN$261=$M$261,P269,IF($AN$261=$H$261,K269,IF($AN$261=$C$261,F269,IF($AN$261=#REF!,#REF!,IF($AN$261=#REF!,#REF!)))))))))","v":70.560092051925437},{"$f":"IF($AN$261=$AG$261,AK269,IF($AN$261=$AB$261,AF269,IF($AN$261=$W$261,AA269,IF($AN$261=$R$261,V269,IF($AN$261=$M$261,Q269,IF($AN$261=$H$261,L269,IF($AN$261=$C$261,G269,IF($AN$261=#REF!,#REF!,IF($AN$261=#REF!,#REF!)))))))))","v":36.600174946208469},null,"Juillet",64.060741701382298,null,null,null,null,null,"Juillet",73.272231863456796,71.265901363120662,69.43622421979174,67.783591805190355,66.316648341832519,65.074731039524892,64.060741701382298,null,"Juillet",{"$f":"IF(Station=Données1!$J$5,BB269,BB285)","v":73.272231863456796},{"$f":"IF(Station=Données1!$J$5,BC269,BC285)","v":71.265901363120662},{"$f":"IF(Station=Données1!$J$5,BD269,BD285)","v":69.43622421979174},{"$f":"IF(Station=Données1!$J$5,BE269,BE285)","v":67.783591805190355},{"$f":"IF(Station=Données1!$J$5,BF269,BF285)","v":66.316648341832519},{"$f":"IF(Station=Données1!$J$5,BG269,BG285)","v":65.074731039524892},{"$f":"IF(Station=Données1!$J$5,BH269,BH285)","v":64.060741701382298}]
[null,"Août",-4.6305337835099962,27.416222943375097,-62.225480481235749,71.125909580846269,34.645650465531361,-4.4635368669851223,26.758546478623941,-61.506931162421381,71.095229012229353,35.716769653470294,-4.0788039817788242,25.098038632641831,-59.249246233170041,70.114227008177878,37.180390604863497,-3.3369429025914727,21.743148680604563,-54.276754148862636,67.422988869238608,39.169395097733947,-2.2916673208611447,16.950554238989625,-47.018748640477853,63.323479074526638,41.607227034373764,-0.93975096165587846,10.659128574748662,-37.26423422174858,57.56708826994916,44.587884355494701,0.86053408175278023,2.2069945717430994,-23.981078935906417,49.567480989397581,48.192065020263641,null,"Août",{"$f":"IF($AN$261=$AG$261,AG270,IF($AN$261=$AB$261,AB270,IF($AN$261=$W$261,W270,IF($AN$261=$R$261,R270,IF($AN$261=$M$261,M270,IF($AN$261=$H$261,H270,IF($AN$261=$C$261,C270,IF($AN$261=#REF!,#REF!,IF($AN$261=#REF!,#REF!)))))))))","v":-4.6305337835099962},{"$f":"IF($AN$261=$AG$261,AH270,IF($AN$261=$AB$261,AC270,IF($AN$261=$W$261,X270,IF($AN$261=$R$261,S270,IF($AN$261=$M$261,N270,IF($AN$261=$H$261,I270,IF($AN$261=$C$261,D270,IF($AN$261=#REF!,#REF!,IF($AN$261=#REF!,#REF!)))))))))","v":27.416222943375097},{"$f":"IF($AN$261=$AG$261,AI270,IF($AN$261=$AB$261,AD270,IF($AN$261=$W$261,Y270,IF($AN$261=$R$261,T270,IF($AN$261=$M$261,O270,IF($AN$261=$H$261,J270,IF($AN$261=$C$261,E270,IF($AN$261=#REF!,#REF!,IF($AN$261=#REF!,#REF!)))))))))","v":-62.225480481235749},{"$f":"IF($AN$261=$AG$261,AJ270,IF($AN$261=$AB$261,AE270,IF($AN$261=$W$261,Z270,IF($AN$261=$R$261,U270,IF($AN$261=$M$261,P270,IF($AN$261=$H$261,K270,IF($AN$261=$C$261,F270,IF($AN$261=#REF!,#REF!,IF($AN$261=#REF!,#REF!)))))))))","v":71.125909580846269},{"$f":"IF($AN$261=$AG$261,AK270,IF($AN$261=$AB$261,AF270,IF($AN$261=$W$261,AA270,IF($AN$261=$R$261,V270,IF($AN$261=$M$261,Q270,IF($AN$261=$H$261,L270,IF($AN$261=$C$261,G270,IF($AN$261=#REF!,#REF!,IF($AN$261=#REF!,#REF!)))))))))","v":34.645650465531361},null,"Août",62.604491864964444,null,null,null,null,null,"Août",72.523610295231336,70.463423462893559,68.555052784399095,66.813778961123134,65.237206067998855,63.825649450420158,62.604491864964444,null,"Août",{"$f":"IF(Station=Données1!$J$5,BB270,BB286)","v":72.523610295231336},{"$f":"IF(Station=Données1!$J$5,BC270,BC286)","v":70.463423462893559},{"$f":"IF(Station=Données1!$J$5,BD270,BD286)","v":68.555052784399095},{"$f":"IF(Station=Données1!$J$5,BE270,BE286)","v":66.813778961123134},{"$f":"IF(Station=Données1!$J$5,BF270,BF286)","v":65.237206067998855},{"$f":"IF(Station=Données1!$J$5,BG270,BG286)","v":63.825649450420158},{"$f":"IF(Station=Données1!$J$5,BH270,BH286)","v":62.604491864964444}]
[null,"Septembre",-4.9808414230562574,29.032409636986685,-64.771523250515386,72.991979156533461,34.071471285514349,-4.8993498741148365,28.816387140924817,-64.830854562135016,73.447153501587891,35.113809615264159,-4.6665679234184179,27.899124556257977,-63.813041531614857,73.233169061499964,36.486107900554771,-4.1094918884053273,25.43983735676337,-60.314025606948746,71.438095479531398,38.36259194786583,-3.1382464271979078,20.996943489057458,-53.584572149903707,67.56050912374964,40.850437238582487,-1.6517844936444004,14.093525345691518,-42.876381772000556,61.183378553090478,43.996595404480878,0.18287638657991334,5.5502544774680107,-29.592380583308302,53.272238224730295,47.588933007585851,null,"Septembre",{"$f":"IF($AN$261=$AG$261,AG271,IF($AN$261=$AB$261,AB271,IF($AN$261=$W$261,W271,IF($AN$261=$R$261,R271,IF($AN$261=$M$261,M271,IF($AN$261=$H$261,H271,IF($AN$261=$C$261,C271,IF($AN$261=#REF!,#REF!,IF($AN$261=#REF!,#REF!)))))))))","v":-4.9808414230562574},{"$f":"IF($AN$261=$AG$261,AH271,IF($AN$261=$AB$261,AC271,IF($AN$261=$W$261,X271,IF($AN$261=$R$261,S271,IF($AN$261=$M$261,N271,IF($AN$261=$H$261,I271,IF($AN$261=$C$261,D271,IF($AN$261=#REF!,#REF!,IF($AN$261=#REF!,#REF!)))))))))","v":29.032409636986685},{"$f":"IF($AN$261=$AG$261,AI271,IF($AN$261=$AB$261,AD271,IF($AN$261=$W$261,Y271,IF($AN$261=$R$261,T271,IF($AN$261=$M$261,O271,IF($AN$261=$H$261,J271,IF($AN$261=$C$261,E271,IF($AN$261=#REF!,#REF!,IF($AN$261=#REF!,#REF!)))))))))","v":-64.771523250515386},{"$f":"IF($AN$261=$AG$261,AJ271,IF($AN$261=$AB$261,AE271,IF($AN$261=$W$261,Z271,IF($AN$261=$R$261,U271,IF($AN$261=$M$261,P271,IF($AN$261=$H$261,K271,IF($AN$261=$C$261,F271,IF($AN$261=#REF!,#REF!,IF($AN$261=#REF!,#REF!)))))))))","v":72.991979156533461},{"$f":"IF($AN$261=$AG$261,AK271,IF($AN$261=$AB$261,AF271,IF($AN$261=$W$261,AA271,IF($AN$261=$R$261,V271,IF($AN$261=$M$261,Q271,IF($AN$261=$H$261,L271,IF($AN$261=$C$261,G271,IF($AN$261=#REF!,#REF!,IF($AN$261=#REF!,#REF!)))))))))","v":34.071471285514349},null,"Septembre",62.563301599217134,null,null,null,null,null,"Septembre",72.744568724993314,70.656869589718781,68.727810757317542,66.940215662410907,65.31026050115625,63.844033235218355,62.563301599217134,null,"Septembre",{"$f":"IF(Station=Données1!$J$5,BB271,BB287)","v":72.744568724993314},{"$f":"IF(Station=Données1!$J$5,BC271,BC287)","v":70.656869589718781},{"$f":"IF(Station=Données1!$J$5,BD271,BD287)","v":68.727810757317542},{"$f":"IF(Station=Données1!$J$5,BE271,BE287)","v":66.940215662410907},{"$f":"IF(Station=Données1!$J$5,BF271,BF287)","v":65.31026050115625},{"$f":"IF(Station=Données1!$J$5,BG271,BG287)","v":63.844033235218355},{"$f":"IF(Station=Données1!$J$5,BH271,BH287)","v":62.563301599217134}]
[null,"Octobre",-4.9928199440197121,29.208618301764698,-65.296934084958892,73.382483065770543,33.351942712860804,-4.912943665776293,29.002244879475651,-65.391913361671271,73.892564868526392,34.434941545587442,-4.4225793405628506,26.820749895608923,-62.235741826743997,72.250081568184797,36.167571691626705,-3.5353911065322676,22.746369202053632,-56.016860972437598,68.655198207018003,38.469157476530611,-2.2318696534799458,16.710326635451651,-46.697416359097524,63.185794294693679,41.276773027729568,-0.53699610976752721,8.8198832704742269,-34.428690192762787,55.921347282512151,44.581606791220359,1.5117807877931291,-0.72807045369930468,-19.581896208378556,47.158044803471135,48.304574586088059,null,"Octobre",{"$f":"IF($AN$261=$AG$261,AG272,IF($AN$261=$AB$261,AB272,IF($AN$261=$W$261,W272,IF($AN$261=$R$261,R272,IF($AN$261=$M$261,M272,IF($AN$261=$H$261,H272,IF($AN$261=$C$261,C272,IF($AN$261=#REF!,#REF!,IF($AN$261=#REF!,#REF!)))))))))","v":-4.9928199440197121},{"$f":"IF($AN$261=$AG$261,AH272,IF($AN$261=$AB$261,AC272,IF($AN$261=$W$261,X272,IF($AN$261=$R$261,S272,IF($AN$261=$M$261,N272,IF($AN$261=$H$261,I272,IF($AN$261=$C$261,D272,IF($AN$261=#REF!,#REF!,IF($AN$261=#REF!,#REF!)))))))))","v":29.208618301764698},{"$f":"IF($AN$261=$AG$261,AI272,IF($AN$261=$AB$261,AD272,IF($AN$261=$W$261,Y272,IF($AN$261=$R$261,T272,IF($AN$261=$M$261,O272,IF($AN$261=$H$261,J272,IF($AN$261=$C$261,E272,IF($AN$261=#REF!,#REF!,IF($AN$261=#REF!,#REF!)))))))))","v":-65.296934084958892},{"$f":"IF($AN$261=$AG$261,AJ272,IF($AN$261=$AB$261,AE272,IF($AN$261=$W$261,Z272,IF($AN$261=$R$261,U272,IF($AN$261=$M$261,P272,IF($AN$261=$H$261,K272,IF($AN$261=$C$261,F272,IF($AN$261=#REF!,#REF!,IF($AN$261=#REF!,#REF!)))))))))","v":73.382483065770543},{"$f":"IF($AN$261=$AG$261,AK272,IF($AN$261=$AB$261,AF272,IF($AN$261=$W$261,AA272,IF($AN$261=$R$261,V272,IF($AN$261=$M$261,Q272,IF($AN$261=$H$261,L272,IF($AN$261=$C$261,G272,IF($AN$261=#REF!,#REF!,IF($AN$261=#REF!,#REF!)))))))))","v":33.351942712860804},null,"Octobre",61.915003192145903,null,null,null,null,null,"Octobre",72.261703248466347,70.164078012603341,68.218490554943486,66.419770246921473,64.76461683447026,63.260632356747223,61.915003192145903,null,"Octobre",{"$f":"IF(Station=Données1!$J$5,BB272,BB288)","v":72.261703248466347},{"$f":"IF(Station=Données1!$J$5,BC272,BC288)","v":70.164078012603341},{"$f":"IF(Station=Données1!$J$5,BD272,BD288)","v":68.218490554943486},{"$f":"IF(Station=Données1!$J$5,BE272,BE288)","v":66.419770246921473},{"$f":"IF(Station=Données1!$J$5,BF272,BF288)","v":64.76461683447026},{"$f":"IF(Station=Données1!$J$5,BG272,BG288)","v":63.260632356747223},{"$f":"IF(Station=Données1!$J$5,BH272,BH288)","v":61.915003192145903}]
[null,"Novembre",-5.3583272071510395,30.855961401379687,-67.76249542133796,74.675995847811677,34.755871515131886,-5.4887979918635628,31.615960245012555,-69.336203258147535,76.086915432653313,35.466942189152689,-5.3824354984447078,31.279937979898772,-69.193198726586303,76.363292059172736,36.653321050727861,-4.9219881180624538,29.266924041820072,-66.365629948157718,74.92680867390014,38.396661705511619,-4.0905017733321873,25.5181976417622,-60.819563481383689,71.844673778182866,40.638358800312119,-2.7524815049841811,19.369746084652128,-51.435230314541826,66.379502963264486,43.525845433271527,-0.88219500954085384,10.710888257975657,-38.071315695802561,58.498097955378476,47.039736149169904,null,"Novembre",{"$f":"IF($AN$261=$AG$261,AG273,IF($AN$261=$AB$261,AB273,IF($AN$261=$W$261,W273,IF($AN$261=$R$261,R273,IF($AN$261=$M$261,M273,IF($AN$261=$H$261,H273,IF($AN$261=$C$261,C273,IF($AN$261=#REF!,#REF!,IF($AN$261=#REF!,#REF!)))))))))","v":-5.3583272071510395},{"$f":"IF($AN$261=$AG$261,AH273,IF($AN$261=$AB$261,AC273,IF($AN$261=$W$261,X273,IF($AN$261=$R$261,S273,IF($AN$261=$M$261,N273,IF($AN$261=$H$261,I273,IF($AN$261=$C$261,D273,IF($AN$261=#REF!,#REF!,IF($AN$261=#REF!,#REF!)))))))))","v":30.855961401379687},{"$f":"IF($AN$261=$AG$261,AI273,IF($AN$261=$AB$261,AD273,IF($AN$261=$W$261,Y273,IF($AN$261=$R$261,T273,IF($AN$261=$M$261,O273,IF($AN$261=$H$261,J273,IF($AN$261=$C$261,E273,IF($AN$261=#REF!,#REF!,IF($AN$261=#REF!,#REF!)))))))))","v":-67.76249542133796},{"$f":"IF($AN$261=$AG$261,AJ273,IF($AN$261=$AB$261,AE273,IF($AN$261=$W$261,Z273,IF($AN$261=$R$261,U273,IF($AN$261=$M$261,P273,IF($AN$261=$H$261,K273,IF($AN$261=$C$261,F273,IF($AN$261=#REF!,#REF!,IF($AN$261=#REF!,#REF!)))))))))","v":74.675995847811677},{"$f":"IF($AN$261=$AG$261,AK273,IF($AN$261=$AB$261,AF273,IF($AN$261=$W$261,AA273,IF($AN$261=$R$261,V273,IF($AN$261=$M$261,Q273,IF($AN$261=$H$261,L273,IF($AN$261=$C$261,G273,IF($AN$261=#REF!,#REF!,IF($AN$261=#REF!,#REF!)))))))))","v":34.755871515131886},null,"Novembre",63.48851513183601,null,null,null,null,null,"Novembre",73.20193261942147,71.163394263388312,69.280827796298254,67.558623540765652,66.011160797458842,64.648374883044355,63.48851513183601,null,"Novembre",{"$f":"IF(Station=Données1!$J$5,BB273,BB289)","v":73.20193261942147},{"$f":"IF(Station=Données1!$J$5,BC273,BC289)","v":71.163394263388312},{"$f":"IF(Station=Données1!$J$5,BD273,BD289)","v":69.280827796298254},{"$f":"IF(Station=Données1!$J$5,BE273,BE289)","v":67.558623540765652},{"$f":"IF(Station=Données1!$J$5,BF273,BF289)","v":66.011160797458842},{"$f":"IF(Station=Données1!$J$5,BG273,BG289)","v":64.648374883044355},{"$f":"IF(Station=Données1!$J$5,BH273,BH289)","v":63.48851513183601}]
[null,"Décembre",-4.9738171162147191,28.765467011345404,-63.850779277008769,71.591959235540259,37.772961320846818,-5.157586204363847,29.660524406743718,-65.372740561713414,72.795753434620963,38.313034688565025,-5.5365383864897133,31.5766599424094,-68.750380397415,75.219509132392048,38.87796934573251,-5.9624002352823382,33.772292103809015,-72.723248390626935,78.070860683653919,39.596789568005477,-6.0931885724816652,34.540991301815801,-74.329590599470023,79.301401422539115,40.913766994922987,-5.8006939725293174,33.273237391219475,-72.59027260696881,78.324598183488035,42.917982354654313,-5.085716609446675,30.004526564055816,-67.652644318173202,75.348233126619519,45.51700965504579,null,"Décembre",{"$f":"IF($AN$261=$AG$261,AG274,IF($AN$261=$AB$261,AB274,IF($AN$261=$W$261,W274,IF($AN$261=$R$261,R274,IF($AN$261=$M$261,M274,IF($AN$261=$H$261,H274,IF($AN$261=$C$261,C274,IF($AN$261=#REF!,#REF!,IF($AN$261=#REF!,#REF!)))))))))","v":-4.9738171162147191},{"$f":"IF($AN$261=$AG$261,AH274,IF($AN$261=$AB$261,AC274,IF($AN$261=$W$261,X274,IF($AN$261=$R$261,S274,IF($AN$261=$M$261,N274,IF($AN$261=$H$261,I274,IF($AN$261=$C$261,D274,IF($AN$261=#REF!,#REF!,IF($AN$261=#REF!,#REF!)))))))))","v":28.765467011345404},{"$f":"IF($AN$261=$AG$261,AI274,IF($AN$261=$AB$261,AD274,IF($AN$261=$W$261,Y274,IF($AN$261=$R$261,T274,IF($AN$261=$M$261,O274,IF($AN$261=$H$261,J274,IF($AN$261=$C$261,E274,IF($AN$261=#REF!,#REF!,IF($AN$261=#REF!,#REF!)))))))))","v":-63.850779277008769},{"$f":"IF($AN$261=$AG$261,AJ274,IF($AN$261=$AB$261,AE274,IF($AN$261=$W$261,Z274,IF($AN$261=$R$261,U274,IF($AN$261=$M$261,P274,IF($AN$261=$H$261,K274,IF($AN$261=$C$261,F274,IF($AN$261=#REF!,#REF!,IF($AN$261=#REF!,#REF!)))))))))","v":71.591959235540259},{"$f":"IF($AN$261=$AG$261,AK274,IF($AN$261=$AB$261,AF274,IF($AN$261=$W$261,AA274,IF($AN$261=$R$261,V274,IF($AN$261=$M$261,Q274,IF($AN$261=$H$261,L274,IF($AN$261=$C$261,G274,IF($AN$261=#REF!,#REF!,IF($AN$261=#REF!,#REF!)))))))))","v":37.772961320846818},null,"Décembre",65.635864423483554,null,null,null,null,null,"Décembre",74.545987949142173,72.558056900660645,70.750066653550931,69.128142856200768,67.710905765215102,66.53850706470979,65.635864423483554,null,"Décembre",{"$f":"IF(Station=Données1!$J$5,BB274,BB290)","v":74.545987949142173},{"$f":"IF(Station=Données1!$J$5,BC274,BC290)","v":72.558056900660645},{"$f":"IF(Station=Données1!$J$5,BD274,BD290)","v":70.750066653550931},{"$f":"IF(Station=Données1!$J$5,BE274,BE290)","v":69.128142856200768},{"$f":"IF(Station=Données1!$J$5,BF274,BF290)","v":67.710905765215102},{"$f":"IF(Station=Données1!$J$5,BG274,BG290)","v":66.53850706470979},{"$f":"IF(Station=Données1!$J$5,BH274,BH290)","v":65.635864423483554}]
[null,null,null,null,null,null,null,null,null,null,null,null,null,null,null,null,null,null,null,null,null,null,null,null,null,null,null,null,null,null,null,null,null,null,null,null,null,null,null,null,null,null,null,null,null,"le \"minimum\" c'est un garde fou, pour pas que l'HR int dépasse l'HR ext"]
[null,"ST-DENIS REUNION"]
[null,null,26,null,null,null,null,25,null,null,null,null,24,null,null,null,null,23,null,null,null,null,22,null,null,null,null,21,null,null,null,null,20,null,null,null,null,null,"TAMPON 1",{"$f":"TempConsigne","v":26},null,null,null,null,null,"TAMPON 1",{"$f":"Hypothèses!B21","v":26},null,null,null,null,null,"Saint-Denis",20,21,22,23,24,25,26]
[null,null,"a","b","c","d","e","a","b","c","d","e","a","b","c","d","e","a","b","c","d","e","a","b","c","d","e","a","b","c","d","e","a","b","c","d","e",null,null,"a","b","c","d","e",null,null,"a","b","c","d","e"]
[null,"Janvier",-3.7179027572562893,21.375128194504764,-48.054525085669873,57.105809051221563,34.831651159307953,-3.4949910312284924,20.271457772741652,-46.162724824251754,55.91753785168418,36.426471748359781,-3.0970441368511952,18.355714860449144,-43.002155731636748,53.935326937990645,38.348133398487541,-2.5449183042924188,15.729351033361045,-38.746181036293997,51.288487239588079,40.558908944965921,-1.7668755884500422,12.042222740158946,-32.806074761901982,47.587628745427914,43.142897992033582,-0.70275663483004458,6.9513601849381264,-24.493021979712907,42.268357348197803,46.259287223116594,0.54300662104869435,0.9623754720089297,-14.655287233485288,35.901628469635682,49.78684515090724,null,"Janvier",{"$f":"IF($AN$261=$AG$261,AG279,IF($AN$261=$AB$261,AB279,IF($AN$261=$W$261,W279,IF($AN$261=$R$261,R279,IF($AN$261=$M$261,M279,IF($AN$261=$H$261,H279,IF($AN$261=$C$261,C279,IF($AN$261=#REF!,#REF!,IF($AN$261=#REF!,#REF!)))))))))","v":-3.7179027572562893},{"$f":"IF($AN$261=$AG$261,AH279,IF($AN$261=$AB$261,AC279,IF($AN$261=$W$261,X279,IF($AN$261=$R$261,S279,IF($AN$261=$M$261,N279,IF($AN$261=$H$261,I279,IF($AN$261=$C$261,D279,IF($AN$261=#REF!,#REF!,IF($AN$261=#REF!,#REF!)))))))))","v":21.375128194504764},{"$f":"IF($AN$261=$AG$261,AI279,IF($AN$261=$AB$261,AD279,IF($AN$261=$W$261,Y279,IF($AN$261=$R$261,T279,IF($AN$261=$M$261,O279,IF($AN$261=$H$261,J279,IF($AN$261=$C$261,E279,IF($AN$261=#REF!,#REF!,IF($AN$261=#REF!,#REF!)))))))))","v":-48.054525085669873},{"$f":"IF($AN$261=$AG$261,AJ279,IF($AN$261=$AB$261,AE279,IF($AN$261=$W$261,Z279,IF($AN$261=$R$261,U279,IF($AN$261=$M$261,P279,IF($AN$261=$H$261,K279,IF($AN$261=$C$261,F279,IF($AN$261=#REF!,#REF!,IF($AN$261=#REF!,#REF!)))))))))","v":57.105809051221563},{"$f":"IF($AN$261=$AG$261,AK279,IF($AN$261=$AB$261,AF279,IF($AN$261=$W$261,AA279,IF($AN$261=$R$261,V279,IF($AN$261=$M$261,Q279,IF($AN$261=$H$261,L279,IF($AN$261=$C$261,G279,IF($AN$261=#REF!,#REF!,IF($AN$261=#REF!,#REF!)))))))))","v":34.831651159307953},null,"Janvier",{"$f":"IF(Station=Données1!$J$5,AN263,AN279)","v":-5.5686262461460494},{"$f":"IF(Station=Données1!$J$5,AO263,AO279)","v":31.706355400679151},{"$f":"IF(Station=Données1!$J$5,AP263,AP279)","v":-68.798850814721376},{"$f":"IF(Station=Données1!$J$5,AQ263,AQ279)","v":74.367581313677661},{"$f":"IF(Station=Données1!$J$5,AR263,AR279)","v":39.554701828102523},null,"Janvier ",{"$f":"MIN(AG279*$BL$292^4+AH279*$BL$292^3+AI279*$BL$292^2+AJ279*$BL$292+AK279,$Q245)","v":68.560942805460655},{"$f":"MIN(AB279*$BL$292^4+AC279*$BL$292^3+AD279*$BL$292^2+AE279*$BL$292+AF279,$Q245)","v":66.41779369178073},{"$f":"MIN(W279*$BL$292^4+X279*$BL$292^3+Y279*$BL$292^2+Z279*$BL$292+AA279,$Q245)","v":64.435654215314941},{"$f":"MIN(R279*$BL$292^4+S279*$BL$292^3+T279*$BL$292^2+U279*$BL$292+V279,$Q245)","v":62.603774694847473},{"$f":"MIN(M279*$BL$292^4+N279*$BL$292^3+O279*$BL$292^2+P279*$BL$292+Q279,$Q245)","v":60.924112132090251},{"$f":"MIN(H279*$BL$292^4+I279*$BL$292^3+J279*$BL$292^2+K279*$BL$292+L279,$Q245)","v":59.399122821084788},{"$f":"MIN(C279*$BL$292^4+D279*$BL$292^3+E279*$BL$292^2+F279*$BL$292+G279,$Q245)","v":58.031033542387163}]
[null,"Février",-4.2525338876784353,24.45063565380676,-54.44719354919846,62.570247417061914,35.191630323187091,-4.1249345201706129,23.844103605241987,-53.468979752757491,62.089801703147621,36.486143326454027,-3.798221704389646,22.293226159291681,-50.958697199702868,60.573936766382367,38.209877114339619,-3.3017489357422005,19.946420932850302,-47.194500227687662,58.266916242294094,40.273264091433347,-2.6469930499552019,16.848522120727718,-42.232216253295753,55.201312738984726,42.663692784854405,-1.7218623082950482,12.473644216360485,-35.239980120176178,50.881909768246565,45.465845735201398,-0.42703837188481447,6.3008247567143068,-25.259094542831996,44.594584156184816,48.858993588915233,null,"Février",{"$f":"IF($AN$261=$AG$261,AG280,IF($AN$261=$AB$261,AB280,IF($AN$261=$W$261,W280,IF($AN$261=$R$261,R280,IF($AN$261=$M$261,M280,IF($AN$261=$H$261,H280,IF($AN$261=$C$261,C280,IF($AN$261=#REF!,#REF!,IF($AN$261=#REF!,#REF!)))))))))","v":-4.2525338876784353},{"$f":"IF($AN$261=$AG$261,AH280,IF($AN$261=$AB$261,AC280,IF($AN$261=$W$261,X280,IF($AN$261=$R$261,S280,IF($AN$261=$M$261,N280,IF($AN$261=$H$261,I280,IF($AN$261=$C$261,D280,IF($AN$261=#REF!,#REF!,IF($AN$261=#REF!,#REF!)))))))))","v":24.45063565380676},{"$f":"IF($AN$261=$AG$261,AI280,IF($AN$261=$AB$261,AD280,IF($AN$261=$W$261,Y280,IF($AN$261=$R$261,T280,IF($AN$261=$M$261,O280,IF($AN$261=$H$261,J280,IF($AN$261=$C$261,E280,IF($AN$261=#REF!,#REF!,IF($AN$261=#REF!,#REF!)))))))))","v":-54.44719354919846},{"$f":"IF($AN$261=$AG$261,AJ280,IF($AN$261=$AB$261,AE280,IF($AN$261=$W$261,Z280,IF($AN$261=$R$261,U280,IF($AN$261=$M$261,P280,IF($AN$261=$H$261,K280,IF($AN$261=$C$261,F280,IF($AN$261=#REF!,#REF!,IF($AN$261=#REF!,#REF!)))))))))","v":62.570247417061914},{"$f":"IF($AN$261=$AG$261,AK280,IF($AN$261=$AB$261,AF280,IF($AN$261=$W$261,AA280,IF($AN$261=$R$261,V280,IF($AN$261=$M$261,Q280,IF($AN$261=$H$261,L280,IF($AN$261=$C$261,G280,IF($AN$261=#REF!,#REF!,IF($AN$261=#REF!,#REF!)))))))))","v":35.191630323187091},null,"Février",{"$f":"IF(Station=Données1!$J$5,AN264,AN280)","v":-5.2788427379436476},{"$f":"IF(Station=Données1!$J$5,AO264,AO280)","v":29.842241121698599},{"$f":"IF(Station=Données1!$J$5,AP264,AP280)","v":-64.607424731439295},{"$f":"IF(Station=Données1!$J$5,AQ264,AQ280)","v":70.556444049996145},{"$f":"IF(Station=Données1!$J$5,AR264,AR280)","v":38.740418888150636},null,"Février",{"$f":"MIN(AG280*$BL$292^4+AH280*$BL$292^3+AI280*$BL$292^2+AJ280*$BL$292+AK280,AA246)","v":70.127158125333764},{"$f":"MIN(AB280*$BL$292^4+AC280*$BL$292^3+AD280*$BL$292^2+AE280*$BL$292+AF280,V246)","v":5.85},{"$f":"MIN(W280*$BL$292^4+X280*$BL$292^3+Y280*$BL$292^2+Z280*$BL$292+AA280,Q246)","v":66.109408875252939},{"$f":"MIN(R280*$BL$292^4+S280*$BL$292^3+T280*$BL$292^2+U280*$BL$292+V280,L246)","v":64.333852989168719},{"$f":"MIN(M280*$BL$292^4+N280*$BL$292^3+O280*$BL$292^2+P280*$BL$292+Q280,G246)","v":62.722474919449766},{"$f":"MIN(H280*$BL$292^4+I280*$BL$292^3+J280*$BL$292^2+K280*$BL$292+L280,B246)","v":61.279720010890024},{"$f":"MIN(C280*$BL$292^4+D280*$BL$292^3+E280*$BL$292^2+F280*$BL$292+G280,$AA246)","v":60.015942420251477}]
[null,"Mars",-4.1327085934868126,23.699963374236166,-52.672345577277454,60.688395342445794,34.941498806699755,-3.9406647779543271,22.811534014745398,-51.299160244666254,60.009659321297747,36.307962831535043,-3.5501651416147983,20.998899502804058,-48.473426756472875,58.408390074013425,38.047306213086756,-3.0180327381878311,18.520454521828004,-44.597643888528225,56.141153975761334,40.101235297460661,-2.2254056548810452,14.781169186139731,-38.636311626123216,52.491619078591725,42.626597697517177,-1.0662528507467166,9.2622411900642465,-29.722306445773263,46.905817801524172,45.724888287398834,0.35931339347217983,2.4147188498496193,-18.545431806883151,39.804259718940202,49.309564765697232,null,"Mars",{"$f":"IF($AN$261=$AG$261,AG281,IF($AN$261=$AB$261,AB281,IF($AN$261=$W$261,W281,IF($AN$261=$R$261,R281,IF($AN$261=$M$261,M281,IF($AN$261=$H$261,H281,IF($AN$261=$C$261,C281,IF($AN$261=#REF!,#REF!,IF($AN$261=#REF!,#REF!)))))))))","v":-4.1327085934868126},{"$f":"IF($AN$261=$AG$261,AH281,IF($AN$261=$AB$261,AC281,IF($AN$261=$W$261,X281,IF($AN$261=$R$261,S281,IF($AN$261=$M$261,N281,IF($AN$261=$H$261,I281,IF($AN$261=$C$261,D281,IF($AN$261=#REF!,#REF!,IF($AN$261=#REF!,#REF!)))))))))","v":23.699963374236166},{"$f":"IF($AN$261=$AG$261,AI281,IF($AN$261=$AB$261,AD281,IF($AN$261=$W$261,Y281,IF($AN$261=$R$261,T281,IF($AN$261=$M$261,O281,IF($AN$261=$H$261,J281,IF($AN$261=$C$261,E281,IF($AN$261=#REF!,#REF!,IF($AN$261=#REF!,#REF!)))))))))","v":-52.672345577277454},{"$f":"IF($AN$261=$AG$261,AJ281,IF($AN$261=$AB$261,AE281,IF($AN$261=$W$261,Z281,IF($AN$261=$R$261,U281,IF($AN$261=$M$261,P281,IF($AN$261=$H$261,K281,IF($AN$261=$C$261,F281,IF($AN$261=#REF!,#REF!,IF($AN$261=#REF!,#REF!)))))))))","v":60.688395342445794},{"$f":"IF($AN$261=$AG$261,AK281,IF($AN$261=$AB$261,AF281,IF($AN$261=$W$261,AA281,IF($AN$261=$R$261,V281,IF($AN$261=$M$261,Q281,IF($AN$261=$H$261,L281,IF($AN$261=$C$261,G281,IF($AN$261=#REF!,#REF!,IF($AN$261=#REF!,#REF!)))))))))","v":34.941498806699755},null,"Mars",{"$f":"IF(Station=Données1!$J$5,AN265,AN281)","v":-4.992694827794522},{"$f":"IF(Station=Données1!$J$5,AO265,AO281)","v":28.622578377822471},{"$f":"IF(Station=Données1!$J$5,AP265,AP281)","v":-62.853222165280719},{"$f":"IF(Station=Données1!$J$5,AQ265,AQ281)","v":69.190668359884143},{"$f":"IF(Station=Données1!$J$5,AR265,AR281)","v":40.098195532481441},null,"Mars",69.369908711978496,5.85,65.326995881698252,63.521312093454725,61.872403237953463,60.392501455548484,59.082659256068226]
[null,"Avril",-3.4186924010026747,19.856136215512105,-45.121971827944201,53.672690733791221,36.61919430614099,-3.2579637274777529,19.051194681629951,-43.741744107941066,52.971118751443804,37.830431350875337,-3.1246426208415858,18.396441524711552,-42.640119429395888,52.39272293285093,39.255583659566675,-2.8789952404719465,17.18573619023276,-40.586253903238678,51.110967772692341,41.05795271718214,-2.3101936687789419,14.367859059061397,-35.752383842707559,47.852279288088468,43.522747076257133,-1.4828000766661604,10.283240494585181,-28.783955135420527,43.146355675206991,46.488444232584428,-0.46617274041171508,5.2683904926822676,-20.250732298156937,37.388955326911315,49.864137585882247,null,"Avril",{"$f":"IF($AN$261=$AG$261,AG282,IF($AN$261=$AB$261,AB282,IF($AN$261=$W$261,W282,IF($AN$261=$R$261,R282,IF($AN$261=$M$261,M282,IF($AN$261=$H$261,H282,IF($AN$261=$C$261,C282,IF($AN$261=#REF!,#REF!,IF($AN$261=#REF!,#REF!)))))))))","v":-3.4186924010026747},{"$f":"IF($AN$261=$AG$261,AH282,IF($AN$261=$AB$261,AC282,IF($AN$261=$W$261,X282,IF($AN$261=$R$261,S282,IF($AN$261=$M$261,N282,IF($AN$261=$H$261,I282,IF($AN$261=$C$261,D282,IF($AN$261=#REF!,#REF!,IF($AN$261=#REF!,#REF!)))))))))","v":19.856136215512105},{"$f":"IF($AN$261=$AG$261,AI282,IF($AN$261=$AB$261,AD282,IF($AN$261=$W$261,Y282,IF($AN$261=$R$261,T282,IF($AN$261=$M$261,O282,IF($AN$261=$H$261,J282,IF($AN$261=$C$261,E282,IF($AN$261=#REF!,#REF!,IF($AN$261=#REF!,#REF!)))))))))","v":-45.121971827944201},{"$f":"IF($AN$261=$AG$261,AJ282,IF($AN$261=$AB$261,AE282,IF($AN$261=$W$261,Z282,IF($AN$261=$R$261,U282,IF($AN$261=$M$261,P282,IF($AN$261=$H$261,K282,IF($AN$261=$C$261,F282,IF($AN$261=#REF!,#REF!,IF($AN$261=#REF!,#REF!)))))))))","v":53.672690733791221},{"$f":"IF($AN$261=$AG$261,AK282,IF($AN$261=$AB$261,AF282,IF($AN$261=$W$261,AA282,IF($AN$261=$R$261,V282,IF($AN$261=$M$261,Q282,IF($AN$261=$H$261,L282,IF($AN$261=$C$261,G282,IF($AN$261=#REF!,#REF!,IF($AN$261=#REF!,#REF!)))))))))","v":36.61919430614099},null,"Avril",{"$f":"IF(Station=Données1!$J$5,AN266,AN282)","v":-5.5632361423629995},{"$f":"IF(Station=Données1!$J$5,AO266,AO282)","v":31.651677838477926},{"$f":"IF(Station=Données1!$J$5,AP266,AP282)","v":-68.741129283499887},{"$f":"IF(Station=Données1!$J$5,AQ266,AQ282)","v":75.007625489620622},{"$f":"IF(Station=Données1!$J$5,AR266,AR282)","v":38.102122896388607},null,"Avril",68.143058414009559,5.85,64.199541662403846,62.473863407656239,60.915352723874634,59.543931134587133,58.37929047383065]
[null,"Mai",-3.1517435506674651,18.139557488681646,-40.223501192584074,45.721331139914341,36.871648381685134,-2.8210499593488483,16.511243602755101,-37.56072786803081,44.389585562087746,38.149508952569519,-2.3851060433260702,14.365158514160324,-33.937996374698407,42.205390136286347,39.893556835051612,-1.725123773688483,11.112804657715438,-28.408844528707519,38.642517817638392,42.174960049199946,-0.81633529967250029,6.6329868949269413,-20.790116320892174,33.643205411557531,44.961860066691358,0.25811425597214105,1.2983266565082952,-11.624319812966307,27.484568643632159,48.222209803052266,1.3699886431996355,-4.2790142142783782,-1.9037076851291794,20.783635547692821,51.847033695464418,null,"Mai",{"$f":"IF($AN$261=$AG$261,AG283,IF($AN$261=$AB$261,AB283,IF($AN$261=$W$261,W283,IF($AN$261=$R$261,R283,IF($AN$261=$M$261,M283,IF($AN$261=$H$261,H283,IF($AN$261=$C$261,C283,IF($AN$261=#REF!,#REF!,IF($AN$261=#REF!,#REF!)))))))))","v":-3.1517435506674651},{"$f":"IF($AN$261=$AG$261,AH283,IF($AN$261=$AB$261,AC283,IF($AN$261=$W$261,X283,IF($AN$261=$R$261,S283,IF($AN$261=$M$261,N283,IF($AN$261=$H$261,I283,IF($AN$261=$C$261,D283,IF($AN$261=#REF!,#REF!,IF($AN$261=#REF!,#REF!)))))))))","v":18.139557488681646},{"$f":"IF($AN$261=$AG$261,AI283,IF($AN$261=$AB$261,AD283,IF($AN$261=$W$261,Y283,IF($AN$261=$R$261,T283,IF($AN$261=$M$261,O283,IF($AN$261=$H$261,J283,IF($AN$261=$C$261,E283,IF($AN$261=#REF!,#REF!,IF($AN$261=#REF!,#REF!)))))))))","v":-40.223501192584074},{"$f":"IF($AN$261=$AG$261,AJ283,IF($AN$261=$AB$261,AE283,IF($AN$261=$W$261,Z283,IF($AN$261=$R$261,U283,IF($AN$261=$M$261,P283,IF($AN$261=$H$261,K283,IF($AN$261=$C$261,F283,IF($AN$261=#REF!,#REF!,IF($AN$261=#REF!,#REF!)))))))))","v":45.721331139914341},{"$f":"IF($AN$261=$AG$261,AK283,IF($AN$261=$AB$261,AF283,IF($AN$261=$W$261,AA283,IF($AN$261=$R$261,V283,IF($AN$261=$M$261,Q283,IF($AN$261=$H$261,L283,IF($AN$261=$C$261,G283,IF($AN$261=#REF!,#REF!,IF($AN$261=#REF!,#REF!)))))))))","v":36.871648381685134},null,"Mai",{"$f":"IF(Station=Données1!$J$5,AN267,AN283)","v":-5.4995587726859352},{"$f":"IF(Station=Données1!$J$5,AO267,AO283)","v":31.44635030992897},{"$f":"IF(Station=Données1!$J$5,AP267,AP283)","v":-68.72217716404333},{"$f":"IF(Station=Données1!$J$5,AQ267,AQ283)","v":75.561135559121183},{"$f":"IF(Station=Données1!$J$5,AR267,AR283)","v":39.154810496277712},null,"Mai",64.608830573732789,5.85,60.676533261252729,58.967083762975889,57.420881239338648,56.054950934773728,54.873996079568677]
[null,"Juin",-2.8972803214113427,16.23457696583375,-34.650169328355041,37.931374448639865,38.685040499110279,-2.7261521350835385,15.523149733512689,-33.919800074576855,38.178514869133643,39.552957721235316,-2.2725893336803549,13.378037364421346,-30.61543895346971,36.567572128366301,40.9997726893343,-1.6009600895873493,10.096508164003437,-25.185412174922185,33.305563340038169,43.047651568045943,-0.74649654841951152,5.8620952277505882,-17.97169570608969,28.639795935771613,45.657185785429064,0.19479878480941293,1.13897936251474,-9.7498505969424993,23.056613301747362,48.767057956688802,1.2360066581527716,-4.1557901596895341,-0.36322516702785296,16.476870967282959,52.365374534225374,null,"Juin",{"$f":"IF($AN$261=$AG$261,AG284,IF($AN$261=$AB$261,AB284,IF($AN$261=$W$261,W284,IF($AN$261=$R$261,R284,IF($AN$261=$M$261,M284,IF($AN$261=$H$261,H284,IF($AN$261=$C$261,C284,IF($AN$261=#REF!,#REF!,IF($AN$261=#REF!,#REF!)))))))))","v":-2.8972803214113427},{"$f":"IF($AN$261=$AG$261,AH284,IF($AN$261=$AB$261,AC284,IF($AN$261=$W$261,X284,IF($AN$261=$R$261,S284,IF($AN$261=$M$261,N284,IF($AN$261=$H$261,I284,IF($AN$261=$C$261,D284,IF($AN$261=#REF!,#REF!,IF($AN$261=#REF!,#REF!)))))))))","v":16.23457696583375},{"$f":"IF($AN$261=$AG$261,AI284,IF($AN$261=$AB$261,AD284,IF($AN$261=$W$261,Y284,IF($AN$261=$R$261,T284,IF($AN$261=$M$261,O284,IF($AN$261=$H$261,J284,IF($AN$261=$C$261,E284,IF($AN$261=#REF!,#REF!,IF($AN$261=#REF!,#REF!)))))))))","v":-34.650169328355041},{"$f":"IF($AN$261=$AG$261,AJ284,IF($AN$261=$AB$261,AE284,IF($AN$261=$W$261,Z284,IF($AN$261=$R$261,U284,IF($AN$261=$M$261,P284,IF($AN$261=$H$261,K284,IF($AN$261=$C$261,F284,IF($AN$261=#REF!,#REF!,IF($AN$261=#REF!,#REF!)))))))))","v":37.931374448639865},{"$f":"IF($AN$261=$AG$261,AK284,IF($AN$261=$AB$261,AF284,IF($AN$261=$W$261,AA284,IF($AN$261=$R$261,V284,IF($AN$261=$M$261,Q284,IF($AN$261=$H$261,L284,IF($AN$261=$C$261,G284,IF($AN$261=#REF!,#REF!,IF($AN$261=#REF!,#REF!)))))))))","v":38.685040499110279},null,"Juin",{"$f":"IF(Station=Données1!$J$5,AN268,AN284)","v":-6.3668006828163097},{"$f":"IF(Station=Données1!$J$5,AO268,AO284)","v":35.66348361921797},{"$f":"IF(Station=Données1!$J$5,AP268,AP284)","v":-75.647848421286014},{"$f":"IF(Station=Données1!$J$5,AQ268,AQ284)","v":79.851443524687014},{"$f":"IF(Station=Données1!$J$5,AR268,AR284)","v":37.286765913477886},null,"Juin",62.832778582091777,5.85,58.959469860728895,57.320143359100619,55.849859498810901,54.528223081309456,53.322843705237986]
[null,"Juillet",-2.8234486705663273,15.778991035187662,-33.426559785528717,36.092604110481204,38.813825923612214,-2.5795011526788945,14.726388201219388,-32.188214595769772,36.062902487552151,39.75241636041887,-2.1100928636943372,12.48201719782662,-28.69992335680023,34.34148496970662,41.232102996657481,-1.3641999232213979,8.8057407499503952,-22.570345967902401,30.642877293933925,43.34038936561727,-0.47383808721690746,4.3506335109481125,-14.875916423406455,25.560068820011939,46.05788074895748,0.46678850628262469,-0.43515230644641906,-6.406401404721537,19.705546159207788,49.246087834747634,1.2592039723635631,-4.6119419739113425,1.3366969445276051,14.002913071993444,52.723289830480525,null,"Juillet",{"$f":"IF($AN$261=$AG$261,AG285,IF($AN$261=$AB$261,AB285,IF($AN$261=$W$261,W285,IF($AN$261=$R$261,R285,IF($AN$261=$M$261,M285,IF($AN$261=$H$261,H285,IF($AN$261=$C$261,C285,IF($AN$261=#REF!,#REF!,IF($AN$261=#REF!,#REF!)))))))))","v":-2.8234486705663273},{"$f":"IF($AN$261=$AG$261,AH285,IF($AN$261=$AB$261,AC285,IF($AN$261=$W$261,X285,IF($AN$261=$R$261,S285,IF($AN$261=$M$261,N285,IF($AN$261=$H$261,I285,IF($AN$261=$C$261,D285,IF($AN$261=#REF!,#REF!,IF($AN$261=#REF!,#REF!)))))))))","v":15.778991035187662},{"$f":"IF($AN$261=$AG$261,AI285,IF($AN$261=$AB$261,AD285,IF($AN$261=$W$261,Y285,IF($AN$261=$R$261,T285,IF($AN$261=$M$261,O285,IF($AN$261=$H$261,J285,IF($AN$261=$C$261,E285,IF($AN$261=#REF!,#REF!,IF($AN$261=#REF!,#REF!)))))))))","v":-33.426559785528717},{"$f":"IF($AN$261=$AG$261,AJ285,IF($AN$261=$AB$261,AE285,IF($AN$261=$W$261,Z285,IF($AN$261=$R$261,U285,IF($AN$261=$M$261,P285,IF($AN$261=$H$261,K285,IF($AN$261=$C$261,F285,IF($AN$261=#REF!,#REF!,IF($AN$261=#REF!,#REF!)))))))))","v":36.092604110481204},{"$f":"IF($AN$261=$AG$261,AK285,IF($AN$261=$AB$261,AF285,IF($AN$261=$W$261,AA285,IF($AN$261=$R$261,V285,IF($AN$261=$M$261,Q285,IF($AN$261=$H$261,L285,IF($AN$261=$C$261,G285,IF($AN$261=#REF!,#REF!,IF($AN$261=#REF!,#REF!)))))))))","v":38.813825923612214},null,"Juillet",{"$f":"IF(Station=Données1!$J$5,AN269,AN285)","v":-4.9440772014631102},{"$f":"IF(Station=Données1!$J$5,AO269,AO285)","v":28.483619777165838},{"$f":"IF(Station=Données1!$J$5,AP269,AP285)","v":-63.005826704263391},{"$f":"IF(Station=Données1!$J$5,AQ269,AQ285)","v":70.560092051925437},{"$f":"IF(Station=Données1!$J$5,AR269,AR285)","v":36.600174946208469},null,"Juillet",62.125960019277251,60.086521521349269,58.256172385479204,56.632697407272744,55.181023525200914,53.843474005662458,52.611153946530834]
[null,"Août",-2.3875098887928523,13.603603405598475,-29.668196653802816,33.546784092696001,38.263035873113679,-2.0648498412896008,12.116746211578354,-27.56567854912884,32.805042680636916,39.469242488449481,-1.5754694080555058,9.717741738244742,-23.672049483253051,30.665647845210067,41.155333410967259,-0.97192804327597915,6.641353448310265,-18.301804037249191,27.192962152332999,43.395292833568796,-0.28610178054108337,3.1085286724249666,-11.960435148656758,22.789645650651511,46.130849674035154,0.45626677206313027,-0.74811717492146323,-4.9215587488818953,17.705953119030173,49.294519427822038,1.2012782921551228,-4.7046707002096584,2.5001504747784917,12.131103522009967,52.838822216399407,null,"Août",{"$f":"IF($AN$261=$AG$261,AG286,IF($AN$261=$AB$261,AB286,IF($AN$261=$W$261,W286,IF($AN$261=$R$261,R286,IF($AN$261=$M$261,M286,IF($AN$261=$H$261,H286,IF($AN$261=$C$261,C286,IF($AN$261=#REF!,#REF!,IF($AN$261=#REF!,#REF!)))))))))","v":-2.3875098887928523},{"$f":"IF($AN$261=$AG$261,AH286,IF($AN$261=$AB$261,AC286,IF($AN$261=$W$261,X286,IF($AN$261=$R$261,S286,IF($AN$261=$M$261,N286,IF($AN$261=$H$261,I286,IF($AN$261=$C$261,D286,IF($AN$261=#REF!,#REF!,IF($AN$261=#REF!,#REF!)))))))))","v":13.603603405598475},{"$f":"IF($AN$261=$AG$261,AI286,IF($AN$261=$AB$261,AD286,IF($AN$261=$W$261,Y286,IF($AN$261=$R$261,T286,IF($AN$261=$M$261,O286,IF($AN$261=$H$261,J286,IF($AN$261=$C$261,E286,IF($AN$261=#REF!,#REF!,IF($AN$261=#REF!,#REF!)))))))))","v":-29.668196653802816},{"$f":"IF($AN$261=$AG$261,AJ286,IF($AN$261=$AB$261,AE286,IF($AN$261=$W$261,Z286,IF($AN$261=$R$261,U286,IF($AN$261=$M$261,P286,IF($AN$261=$H$261,K286,IF($AN$261=$C$261,F286,IF($AN$261=#REF!,#REF!,IF($AN$261=#REF!,#REF!)))))))))","v":33.546784092696001},{"$f":"IF($AN$261=$AG$261,AK286,IF($AN$261=$AB$261,AF286,IF($AN$261=$W$261,AA286,IF($AN$261=$R$261,V286,IF($AN$261=$M$261,Q286,IF($AN$261=$H$261,L286,IF($AN$261=$C$261,G286,IF($AN$261=#REF!,#REF!,IF($AN$261=#REF!,#REF!)))))))))","v":38.263035873113679},null,"Août",{"$f":"IF(Station=Données1!$J$5,AN270,AN286)","v":-4.6305337835099962},{"$f":"IF(Station=Données1!$J$5,AO270,AO286)","v":27.416222943375097},{"$f":"IF(Station=Données1!$J$5,AP270,AP286)","v":-62.225480481235749},{"$f":"IF(Station=Données1!$J$5,AQ270,AQ286)","v":71.125909580846269},{"$f":"IF(Station=Données1!$J$5,AR270,AR286)","v":34.645650465531361},null,"Août",61.446319815739585,59.344984375675864,57.432438212388291,55.71395666014385,54.176078884101216,52.775335790790599,51.481037736921138]
[null,"Septembre",-2.6122775078466987,15.063981710605868,-33.447695712624544,38.603991271807317,37.22746113670533,-2.2252464239142857,13.218744914131117,-30.607880462095661,37.277433515252319,38.569151039494663,-1.7010084271272399,10.60023250455599,-26.18804622364544,34.615206583074794,40.427936446839553,-1.0225801730922153,7.1876110814949605,-20.266658538374511,30.716537043824275,42.812101547133686,-0.14954095876878057,2.8065517519547885,-12.633591328290558,25.532030926183186,45.71925619781809,0.82283494672673496,-2.0953976005569692,-4.0299460380014365,19.578241698700477,49.023361591690843,1.792619366703047,-7.0577716368782806,4.847796068964203,13.256402525064649,52.658508424062283,null,"Septembre",{"$f":"IF($AN$261=$AG$261,AG287,IF($AN$261=$AB$261,AB287,IF($AN$261=$W$261,W287,IF($AN$261=$R$261,R287,IF($AN$261=$M$261,M287,IF($AN$261=$H$261,H287,IF($AN$261=$C$261,C287,IF($AN$261=#REF!,#REF!,IF($AN$261=#REF!,#REF!)))))))))","v":-2.6122775078466987},{"$f":"IF($AN$261=$AG$261,AH287,IF($AN$261=$AB$261,AC287,IF($AN$261=$W$261,X287,IF($AN$261=$R$261,S287,IF($AN$261=$M$261,N287,IF($AN$261=$H$261,I287,IF($AN$261=$C$261,D287,IF($AN$261=#REF!,#REF!,IF($AN$261=#REF!,#REF!)))))))))","v":15.063981710605868},{"$f":"IF($AN$261=$AG$261,AI287,IF($AN$261=$AB$261,AD287,IF($AN$261=$W$261,Y287,IF($AN$261=$R$261,T287,IF($AN$261=$M$261,O287,IF($AN$261=$H$261,J287,IF($AN$261=$C$261,E287,IF($AN$261=#REF!,#REF!,IF($AN$261=#REF!,#REF!)))))))))","v":-33.447695712624544},{"$f":"IF($AN$261=$AG$261,AJ287,IF($AN$261=$AB$261,AE287,IF($AN$261=$W$261,Z287,IF($AN$261=$R$261,U287,IF($AN$261=$M$261,P287,IF($AN$261=$H$261,K287,IF($AN$261=$C$261,F287,IF($AN$261=#REF!,#REF!,IF($AN$261=#REF!,#REF!)))))))))","v":38.603991271807317},{"$f":"IF($AN$261=$AG$261,AK287,IF($AN$261=$AB$261,AF287,IF($AN$261=$W$261,AA287,IF($AN$261=$R$261,V287,IF($AN$261=$M$261,Q287,IF($AN$261=$H$261,L287,IF($AN$261=$C$261,G287,IF($AN$261=#REF!,#REF!,IF($AN$261=#REF!,#REF!)))))))))","v":37.22746113670533},null,"Septembre",{"$f":"IF(Station=Données1!$J$5,AN271,AN287)","v":-4.9808414230562574},{"$f":"IF(Station=Données1!$J$5,AO271,AO287)","v":29.032409636986685},{"$f":"IF(Station=Données1!$J$5,AP271,AP287)","v":-64.771523250515386},{"$f":"IF(Station=Données1!$J$5,AQ271,AQ287)","v":72.991979156533461},{"$f":"IF(Station=Données1!$J$5,AR271,AR287)","v":34.071471285514349},null,"Septembre",62.575595049241826,60.481334950408097,58.571891237524191,56.8409032698126,55.285232783899559,53.888067153668928,52.613588421918941]
[null,"Octobre",-2.3384208504754938,13.948820305267397,-32.703824713263018,40.51324985629374,36.456213205776599,-1.9055403732152156,11.764785799155083,-28.959073721555953,38.258342011128946,38.113560414620579,-1.4208557067009857,9.3114497019037348,-24.662604498335742,35.455263143538481,40.134865877862111,-0.77065046640671253,6.0327464528156307,-18.909140549483006,31.553866614141246,42.624045725048411,1.1709304838499171E-2,2.0541640497443581,-11.841422785156476,26.612371458422864,45.570663101344913,0.85858696873932716,-2.3005190655055467,-3.9948315070500784,20.990964324362711,48.888434951461669,1.6807970432791108,-6.5874907373533116,3.8710811915341004,15.193290072780776,52.485289587734641,null,"Octobre",{"$f":"IF($AN$261=$AG$261,AG288,IF($AN$261=$AB$261,AB288,IF($AN$261=$W$261,W288,IF($AN$261=$R$261,R288,IF($AN$261=$M$261,M288,IF($AN$261=$H$261,H288,IF($AN$261=$C$261,C288,IF($AN$261=#REF!,#REF!,IF($AN$261=#REF!,#REF!)))))))))","v":-2.3384208504754938},{"$f":"IF($AN$261=$AG$261,AH288,IF($AN$261=$AB$261,AC288,IF($AN$261=$W$261,X288,IF($AN$261=$R$261,S288,IF($AN$261=$M$261,N288,IF($AN$261=$H$261,I288,IF($AN$261=$C$261,D288,IF($AN$261=#REF!,#REF!,IF($AN$261=#REF!,#REF!)))))))))","v":13.948820305267397},{"$f":"IF($AN$261=$AG$261,AI288,IF($AN$261=$AB$261,AD288,IF($AN$261=$W$261,Y288,IF($AN$261=$R$261,T288,IF($AN$261=$M$261,O288,IF($AN$261=$H$261,J288,IF($AN$261=$C$261,E288,IF($AN$261=#REF!,#REF!,IF($AN$261=#REF!,#REF!)))))))))","v":-32.703824713263018},{"$f":"IF($AN$261=$AG$261,AJ288,IF($AN$261=$AB$261,AE288,IF($AN$261=$W$261,Z288,IF($AN$261=$R$261,U288,IF($AN$261=$M$261,P288,IF($AN$261=$H$261,K288,IF($AN$261=$C$261,F288,IF($AN$261=#REF!,#REF!,IF($AN$261=#REF!,#REF!)))))))))","v":40.51324985629374},{"$f":"IF($AN$261=$AG$261,AK288,IF($AN$261=$AB$261,AF288,IF($AN$261=$W$261,AA288,IF($AN$261=$R$261,V288,IF($AN$261=$M$261,Q288,IF($AN$261=$H$261,L288,IF($AN$261=$C$261,G288,IF($AN$261=#REF!,#REF!,IF($AN$261=#REF!,#REF!)))))))))","v":36.456213205776599},null,"Octobre",{"$f":"IF(Station=Données1!$J$5,AN272,AN288)","v":-4.9928199440197121},{"$f":"IF(Station=Données1!$J$5,AO272,AO288)","v":29.208618301764698},{"$f":"IF(Station=Données1!$J$5,AP272,AP288)","v":-65.296934084958892},{"$f":"IF(Station=Données1!$J$5,AQ272,AQ288)","v":73.382483065770543},{"$f":"IF(Station=Données1!$J$5,AR272,AR288)","v":33.351942712860804},null,"Octobre",63.437181230395822,61.316016107148471,59.375601819100631,57.597486262691419,55.983494419976438,54.538272885761927,53.26164766362254]
[null,"Novembre",-2.7127892949466013,16.252576209436924,-38.466215938438083,48.418077409408774,35.366548621867338,-2.1879863847359973,13.686309146393745,-34.15560572219281,45.750989635744141,37.202449008040674,-1.3893585755419093,9.8218561958756769,-27.761559764716775,41.767421442837545,39.469271451403912,-0.42319377707324118,5.1341617429492352,-19.989732746464508,36.869196803244215,42.093546688882228,0.65390145745397654,-0.13637999875199452,-11.159062730195922,31.189421232610027,45.070900348987863,1.7970786706666286,-5.825995959142138,-1.4185789421864892,24.710694715990154,48.442738135197153,3.0287036216213585,-12.035964821092168,9.3763446217620352,17.377294595619702,52.203918171912235,null,"Novembre",{"$f":"IF($AN$261=$AG$261,AG289,IF($AN$261=$AB$261,AB289,IF($AN$261=$W$261,W289,IF($AN$261=$R$261,R289,IF($AN$261=$M$261,M289,IF($AN$261=$H$261,H289,IF($AN$261=$C$261,C289,IF($AN$261=#REF!,#REF!,IF($AN$261=#REF!,#REF!)))))))))","v":-2.7127892949466013},{"$f":"IF($AN$261=$AG$261,AH289,IF($AN$261=$AB$261,AC289,IF($AN$261=$W$261,X289,IF($AN$261=$R$261,S289,IF($AN$261=$M$261,N289,IF($AN$261=$H$261,I289,IF($AN$261=$C$261,D289,IF($AN$261=#REF!,#REF!,IF($AN$261=#REF!,#REF!)))))))))","v":16.252576209436924},{"$f":"IF($AN$261=$AG$261,AI289,IF($AN$261=$AB$261,AD289,IF($AN$261=$W$261,Y289,IF($AN$261=$R$261,T289,IF($AN$261=$M$261,O289,IF($AN$261=$H$261,J289,IF($AN$261=$C$261,E289,IF($AN$261=#REF!,#REF!,IF($AN$261=#REF!,#REF!)))))))))","v":-38.466215938438083},{"$f":"IF($AN$261=$AG$261,AJ289,IF($AN$261=$AB$261,AE289,IF($AN$261=$W$261,Z289,IF($AN$261=$R$261,U289,IF($AN$261=$M$261,P289,IF($AN$261=$H$261,K289,IF($AN$261=$C$261,F289,IF($AN$261=#REF!,#REF!,IF($AN$261=#REF!,#REF!)))))))))","v":48.418077409408774},{"$f":"IF($AN$261=$AG$261,AK289,IF($AN$261=$AB$261,AF289,IF($AN$261=$W$261,AA289,IF($AN$261=$R$261,V289,IF($AN$261=$M$261,Q289,IF($AN$261=$H$261,L289,IF($AN$261=$C$261,G289,IF($AN$261=#REF!,#REF!,IF($AN$261=#REF!,#REF!)))))))))","v":35.366548621867338},null,"Novembre",{"$f":"IF(Station=Données1!$J$5,AN273,AN289)","v":-5.3583272071510395},{"$f":"IF(Station=Données1!$J$5,AO273,AO289)","v":30.855961401379687},{"$f":"IF(Station=Données1!$J$5,AP273,AP289)","v":-67.76249542133796},{"$f":"IF(Station=Données1!$J$5,AQ273,AQ289)","v":74.675995847811677},{"$f":"IF(Station=Données1!$J$5,AR273,AR289)","v":34.755871515131886},null,"Novembre",65.914472509546883,63.823731963941299,61.883125615788323,60.094704640168537,58.457816829608063,56.971860573234963,55.63812926065772]
[null,"Décembre",-2.9911684252334978,17.425834505985577,-40.42551168926849,50.427373263959183,35.834972955490585,-2.7823562850181953,16.323934703707334,-38.422524811270016,49.19843069439132,37.333199224290539,-2.4195563985409136,14.493280511593548,-35.235397928732077,47.166360826847459,39.195139991012425,-1.9216066016423878,11.995976866773129,-30.902402885890787,44.308796065603609,41.431268617165877,-1.2240287749654697,8.5163678573375794,-24.891920173377759,40.278069723584387,44.111809086908757,-0.29910538779894297,3.9096623649423936,-16.939528315089273,34.883114526372353,47.281532308570377,0.81611573564582351,-1.6558732959882159,-7.3148652360236728,28.318588793203439,50.881184965362834,null,"Décembre",{"$f":"IF($AN$261=$AG$261,AG290,IF($AN$261=$AB$261,AB290,IF($AN$261=$W$261,W290,IF($AN$261=$R$261,R290,IF($AN$261=$M$261,M290,IF($AN$261=$H$261,H290,IF($AN$261=$C$261,C290,IF($AN$261=#REF!,#REF!,IF($AN$261=#REF!,#REF!)))))))))","v":-2.9911684252334978},{"$f":"IF($AN$261=$AG$261,AH290,IF($AN$261=$AB$261,AC290,IF($AN$261=$W$261,X290,IF($AN$261=$R$261,S290,IF($AN$261=$M$261,N290,IF($AN$261=$H$261,I290,IF($AN$261=$C$261,D290,IF($AN$261=#REF!,#REF!,IF($AN$261=#REF!,#REF!)))))))))","v":17.425834505985577},{"$f":"IF($AN$261=$AG$261,AI290,IF($AN$261=$AB$261,AD290,IF($AN$261=$W$261,Y290,IF($AN$261=$R$261,T290,IF($AN$261=$M$261,O290,IF($AN$261=$H$261,J290,IF($AN$261=$C$261,E290,IF($AN$261=#REF!,#REF!,IF($AN$261=#REF!,#REF!)))))))))","v":-40.42551168926849},{"$f":"IF($AN$261=$AG$261,AJ290,IF($AN$261=$AB$261,AE290,IF($AN$261=$W$261,Z290,IF($AN$261=$R$261,U290,IF($AN$261=$M$261,P290,IF($AN$261=$H$261,K290,IF($AN$261=$C$261,F290,IF($AN$261=#REF!,#REF!,IF($AN$261=#REF!,#REF!)))))))))","v":50.427373263959183},{"$f":"IF($AN$261=$AG$261,AK290,IF($AN$261=$AB$261,AF290,IF($AN$261=$W$261,AA290,IF($AN$261=$R$261,V290,IF($AN$261=$M$261,Q290,IF($AN$261=$H$261,L290,IF($AN$261=$C$261,G290,IF($AN$261=#REF!,#REF!,IF($AN$261=#REF!,#REF!)))))))))","v":35.834972955490585},null,"Décembre",{"$f":"IF(Station=Données1!$J$5,AN274,AN290)","v":-4.9738171162147191},{"$f":"IF(Station=Données1!$J$5,AO274,AO290)","v":28.765467011345404},{"$f":"IF(Station=Données1!$J$5,AP274,AP290)","v":-63.850779277008769},{"$f":"IF(Station=Données1!$J$5,AQ274,AQ290)","v":71.591959235540259},{"$f":"IF(Station=Données1!$J$5,AR274,AR290)","v":37.772961320846818},null,"Décembre",67.096233200282413,65.010930312965272,63.073662005645332,61.290446285163689,59.663592873233306,58.19807315472034,56.901249451294248]
[]
[null,"Vent Saint Denis",4.2017137096774198,4.0802083333333332,3.5970766129032259,3.2981597222222221,3.6925067204301079,4.0933680555555556,4.6047043010752686,4.7963037634408607,4.2023958333333331,4.1023521505376346,3.5977430555555547,3.4997983870967744,null,null,null,null,null,null,null,null,null,null,null,null,null,null,null,null,null,null,null,null,null,null,null,null,null,null,null,null,null,null,null,null,null,null,null,null,null,null,null,null,null,null,null,null,null,null,null,null,"Renouvellement air étanchéité + contrôlé, supposés permanents pour estimer HR. Int (vol/h) :",{"$f":"Calculs!D62+Calculs!C65","v":0.72099999999999997}]
[null,"Vent Cayenne",4.0988575268817211,4.5934523809523808,4.5959677419354836,4.1025347222222228,3.5929435483870971,3.5950000000000006,3.5929771505376351,4.0977486559139775,4.1033680555555563,4.0887432795698926,4.0995833333333325,4.0975134408602161]
[]
[null,"Saint-Denis",1,2,3,4,5,6,7,8,9,10,11,12,null,"HR",1,2,3,4,5,6,7,8,9,10,11,12]
[null,0,27.051881935483873,27.154761428571426,26.783064516129024,25.998333333333338,24.418816451612901,22.263611000000001,22.072849354838709,22.281720000000004,22.601388333333336,23.870430322580646,25.378333666666663,26.027957419354841,null,0,82.181558387096757,82.541111428571426,82.266160967741925,80.091563000000008,76.317872258064526,74.467450333333318,73.463016129032269,73.558444838709676,74.662518333333324,76.801170967741939,80.087163000000004,79.235623870967757,null,null,null,null,null,null,null,null,null,null,null,null,null,null,null,null,null,null,null,null,null,null,"Heure de dépassement de la température moyenne en surchauffe"]
[null,1,26.612902903225798,26.800595357142857,26.475805806451618,25.602777666666665,24.044355483870966,21.830555333333326,21.640591935483872,21.831183225806452,22.205833333333327,23.375537419354838,24.828332666666672,25.454839032258064,null,1,83.60518193548387,84.032252857142836,83.604653225806473,81.898987333333338,77.908948064516125,76.038893666666652,75.537049677419347,74.67668193548387,77.194805333333321,78.836082903225787,81.648556999999997,81.394591290322609,null,null,null,null,null,null,null,null,null,null,null,null,null,null,null,null,null,null,null,null,"NI","Léger",10.359583497024492,10.733007680574419,10.806093481615878,10.781378439529496,10.900980134286312,10.869278759483526,11.020306589140908,11.047932721990694,10.860611688351513,10.462083720675899,10.446453469409656,10.682575126153548]
[null,2,26.193010967741937,26.440178928571431,26.077150322580653,25.193332999999999,23.628225806451606,21.352499666666667,21.193547741935486,21.400270000000003,21.802222333333329,22.977687419354844,24.400554666666672,25.033602258064516,null,2,85.230322580645151,85.322301428571436,85.160018709677402,83.992198666666667,79.727639032258068,77.843502333333333,78.197053225806457,76.3455035483871,79.366076666666658,80.184584193548389,83.620919666666666,82.890878709677423,null,null,null,null,null,null,null,null,null,null,null,null,null,null,null,null,null,null,null,null,"NI","Moyen",11.857803180174477,12.059283945637631,12.302114821019622,11.933599833268694,11.938915147642712,11.862939319744331,11.914715701750808,12.031006171816147,12.216185956629966,11.809741517048646,12.058006198077388,12.237566457751074]
[null,3,25.870698709677416,25.988393928571423,25.655107419354845,24.749444333333333,23.20456967741935,20.838611333333333,20.666935483870969,20.891397741935485,21.320833000000004,22.67795677419355,24.103333000000006,24.741129032258069,null,3,86.558852580645166,86.648062142857128,86.906038709677404,85.951234666666679,81.137963548387106,79.790694666666667,80.408315806451625,78.432648709677423,81.634029666666663,80.729696451612895,84.621377666666675,84.124367741935501,null,null,null,null,null,null,null,null,null,null,null,null,null,null,null,null,null,null,null,null,"NI","Lourd",10.771398291060663,10.944621651149552,11.185129337639328,10.884331678005429,10.865061746133289,10.747145139906383,10.866477992829457,10.933573658314184,10.988465058394025,10.735762237765595,11.030424779020183,11.28612023644359]
[null,4,25.639515806451612,25.706844999999994,25.387365161290312,24.417500333333336,22.880913225806449,20.442500333333339,20.246506129032262,20.503495161290321,20.934721666666668,22.44086032258064,23.883889,24.486558709677421,null,4,87.60421387096774,87.63105892857142,87.817555483870976,87.374050333333315,81.849592258064504,81.456612333333354,82.161060967741946,80.293062580645156,83.441973000000004,82.027943548387114,84.889093666666653,85.132882903225791,null,null,null,null,null,null,null,null,null,null,null,null,null,null,null,null,null,null,null,null,"ISO","Léger",10.554868672852189,11.027409561292723,11.212433459579884,11.008902785261503,11.112803078522765,11.071850515005021,11.199557671071339,11.228401200334988,11.172615399337966,10.711739931758826,10.710490091709485,10.94811348046621]
[null,5,25.431451290322578,25.505356428571424,25.191934838709674,24.186943999999993,22.673924516129027,20.148055666666664,19.958065161290321,20.206989354838715,20.665000333333335,22.23521516129032,23.701111333333337,24.254301290322573,null,5,88.398110000000017,88.705884999999995,88.328031612903217,88.665039999999991,82.622997096774185,81.98917366666663,83.092929032258056,81.538981612903228,84.573224999999994,83.879630967741932,84.97824300000002,86.24686225806451,null,null,null,null,null,null,null,null,null,null,null,null,null,null,null,null,null,null,null,null,"ISO","Moyen",10.317112377316075,10.807301831489351,10.955868567162614,10.794045509251237,10.877526383463998,10.834275319253852,10.956602739201433,10.971276313885069,10.902007851289781,10.499351429411236,10.500895000924139,10.764985549462262]
[null,6,25.336022258064514,25.367560357142853,24.990322258064516,24.03249966666667,22.505913225806452,19.878332666666665,19.717202903225804,19.960213870967745,20.439999666666665,22.13871000000001,23.632222333333331,24.212365806451619,null,6,90.031792903225821,90.45625678571426,90.163661935483873,90.139786666666694,83.704718064516115,83.457730999999995,84.180048387096789,82.882341290322572,86.286420333333325,85.182979032258089,85.79261133333334,87.603179354838744,null,null,null,null,null,null,null,null,null,null,null,null,null,null,null,null,null,null,null,null,"ISO","Lourd",9.2756358484811745,9.8482660688338406,9.9267203853147201,9.8546435138787292,9.9227354169282123,9.8708518040295754,9.9998617109499577,9.9756951101511344,9.8333698872662616,9.4872487130553456,9.4861813383763405,9.7185535179313938]
[null,7,25.565323225806441,25.408036071428576,24.973654193548388,24.000277333333333,22.431182903225803,19.777778333333334,19.603226451612905,19.866666129032264,20.457777666666665,22.436828387096774,24.040833333333339,24.605106451612901,null,7,90.354836451612897,90.983675714285695,91.14283225806453,90.912942666666666,84.99214225806449,84.703227333333331,85.577966451612909,84.12428870967743,86.636723666666654,84.365789354838697,85.12991000000001,86.568778387096771]
[null,8,26.24677387096774,25.971726071428577,25.47473096774193,24.430001000000004,22.852956129032258,20.255833666666664,19.986021935483873,20.425807096774189,21.274722333333322,23.272850322580645,24.863611333333331,25.357526451612905,null,8,87.356111612903234,88.789544642857123,88.708630645161321,89.450779000000026,83.66507193548388,83.294502666666631,84.900114516129037,81.731808709677409,83.150678333333332,80.857858387096755,82.149973666666654,84.006119677419335,null,null,null,null,null,null,null,null,null,null,null,null,null,null,null,null,null,null,null,null,"NI","Léger",11.473553796755063,11.536966159961533,11.443508958450021,11.465971932827456,11.175316290019651,11.181461503091121,11.458480404215026,11.325898175596629,11.216012508973025,11.267887338120538,11.35043760344317,11.417204529264707]
[null,9,27.223117741935489,26.953868928571431,26.452957741935478,25.455277666666674,23.811020645161296,21.332222000000002,20.999192903225804,21.51397903225806,22.469723000000002,24.31371,25.858333333333338,26.232796129032256,null,9,82.731200322580662,84.63597285714286,84.685064838709692,85.402212333333352,78.909708064516124,79.890783666666678,80.412514838709683,76.29317419354841,78.784412000000003,76.730317096774186,78.739906000000005,80.904267096774205,null,null,null,null,null,null,null,null,null,null,null,null,null,null,null,null,null,null,null,null,"NI","Moyen",12.375092964591706,12.453972745062664,12.430009719984522,12.485343511690688,12.149046460880442,12.003176512301062,12.392216268732342,12.263554863844151,12.202509739194214,12.214668236867599,12.299511082087321,12.322982173025494]
[null,10,28.201344516129033,28.009523928571429,27.5403229032258,26.657777666666664,24.926613225806452,22.589165999999995,22.204300322580647,22.684409354838706,23.627777999999992,25.352957096774194,26.875555333333331,27.137097096774195,null,10,76.032128387096776,78.002267500000002,78.30632645161289,78.16076266666667,71.941498387096786,73.769317333333348,73.499750000000006,69.564114838709699,72.284447000000014,70.096224516129027,73.12686566666666,76.238579032258073,null,null,null,null,null,null,null,null,null,null,null,null,null,null,null,null,null,null,null,null,"NI","Lourd",11.891431310981941,12.020364147736068,11.952498324629193,12.06393629911012,11.726923073394769,11.645307197204216,11.959769577741982,11.882796068206732,11.807640328966739,11.757637942742415,11.836669989076896,11.856237011595189]
[null,11,29.123387741935485,28.970833571428578,28.525807419354837,27.755278000000008,26.06021451612903,23.7575,23.369085483870965,23.795698387096774,24.713611333333336,26.289516129032258,27.803888999999995,27.994087096774191,null,11,69.846206774193547,72.056573571428572,72.924915161290315,70.791296333333335,66.051632903225823,67.708581000000009,66.180455161290325,64.143571290322569,66.305844666666687,64.557044516129025,68.415436333333318,72.010712580645162,null,null,null,null,null,null,null,null,null,null,null,null,null,null,null,null,null,null,null,null,"ISO","Léger",12.226365804997391,12.361295055915422,12.295846791591361,12.387153121265051,11.979677837154695,11.979827117653462,12.281928655947828,12.107979235167234,12.009567433510719,12.100656785865558,12.247286467875279,12.310888201269478]
[null,12,29.837634838709686,29.680357499999996,29.349461935483863,28.716944333333331,27.046773225806451,24.762500666666661,24.440591935483873,24.797042903225801,25.606666000000008,27.069892903225803,28.564166666666672,28.773924838709679,null,12,67.365084516129031,69.183710357142857,69.810353548387098,65.589787666666666,62.136345483870954,64.192347666666649,61.103608064516138,59.6370206451613,63.038042333333337,61.043760645161278,66.144206666666676,68.97166741935483,null,null,null,null,null,null,null,null,null,null,null,null,null,null,null,null,null,null,null,null,"ISO","Moyen",12.25457554919439,12.455311192801197,12.367768563972371,12.497822491315942,12.030939117054372,11.941338187992272,12.317887768490914,12.156009086908291,12.045750517040533,12.114110853504085,12.2639874818843,12.346566274854219]
[null,13,30.309409354838706,30.156845714285712,29.97553806451613,29.437499666666657,27.827419677419353,25.579722333333329,25.3166664516129,25.596236774193553,26.293887666666663,27.656988709677417,29.162223000000001,29.390054193548391,null,13,65.691823548387106,67.596763571428582,67.277034193548374,62.561554333333319,59.202109354838726,61.284708333333342,57.390443870967765,56.826883548387109,60.160498000000004,58.872856129032257,64.23120066666668,66.537006774193557,null,null,null,null,null,null,null,null,null,null,null,null,null,null,null,null,null,null,null,null,"ISO","Lourd",11.836329887156731,12.123860856220219,12.005830932098201,12.254795734639671,11.735275279018087,11.752866272963169,11.926162936869286,11.926082991080692,11.827451944316085,11.818354316152979,11.927480364651299,11.982181997169301]
[null,14,30.575268387096777,30.506248928571431,30.435215161290326,29.864166666666666,28.368548709677412,26.162778666666661,25.912904193548385,26.139786129032256,26.760554999999997,28.043815483870972,29.535833333333326,29.794623548387097,null,14,65.184659032258054,66.228886071428576,65.862640967741925,61.068675999999982,57.202415483870958,58.991563666666664,54.989345483870963,55.461543225806459,57.878291666666669,58.060927741935501,62.491423666666655,64.683390645161282]
[null,15,30.739247419354836,30.669048214285713,30.650269677419363,30.057501000000002,28.628495483870971,26.433890666666667,26.206184838709675,26.426077419354844,27.006667666666669,28.24569806451613,29.696387666666674,30.009946774193548,null,15,64.850567419354817,66.133550714285732,65.408605161290325,61.499414666666667,56.357240967741944,58.513193000000015,54.09313580645162,55.087085483870958,56.466582000000002,57.359560967741949,61.838047333333321,63.862521935483883,null,null,null,null,null,null,null,null,null,null,null,null,null,null,null,null,null,null,null,null,null,null,{"$f":"VLOOKUP(Hypothèses!$J$19,Données1!$AX$297:$BJ$299,2,FALSE)","v":11.857803180174477}]
[null,16,30.80080612903226,30.72410714285714,30.708333870967738,30.03138933333334,28.581180967741929,26.350553999999999,26.19086161290322,26.434140322580646,26.979999666666664,28.198925483870969,29.699723666666667,30.009409354838709,null,16,63.974902903225804,66.408943928571432,65.352639677419347,62.004747333333334,56.382771612903227,59.115587000000012,54.081179677419357,55.083748709677415,56.791372666666661,57.732705806451612,62.050738333333328,63.860180967741933]
[null,17,30.623654516129037,30.579761785714286,30.558334193548387,29.703889333333333,28.205914193548388,25.961666999999998,25.837365161290322,26.099192903225809,26.637222000000001,27.920160967741932,29.445834333333334,29.843548064516121,null,17,65.348138709677428,67.559825714285708,66.223289354838741,62.358926666666669,57.558680645161296,59.781570999999985,55.311795483870981,56.271803548387126,58.049842333333331,58.785265806451591,63.152637333333338,64.345872258064531]
[null,18,30.221504193548391,30.225298214285722,30.109408387096778,29.075000666666668,27.498656774193552,25.249723000000003,25.130375806451621,25.449462580645157,26.002500000000005,27.392742258064512,28.904166999999998,29.465052903225807,null,18,67.918732258064523,69.637676071428572,67.583715806451622,64.530408666666659,60.658945483870951,62.236244333333346,58.885050967741925,58.170793225806456,60.445409333333338,60.524210967741936,64.933785333333333,65.238865806451599]
[null,19,29.751612903225812,29.663394642857149,29.398118709677423,28.356389333333336,26.853493548387096,24.623610333333335,24.491933870967745,24.7446235483871,25.233055333333329,26.687902580645169,28.213333666666674,28.859139354838714,null,19,69.329480645161311,72.038658214285718,70.463784838709685,68.990697666666676,64.917391935483877,65.85287133333334,63.644204193548383,61.716097096774185,63.364468999999985,62.62834161290322,67.207067333333327,67.042823225806458]
[null,20,29.187364838709673,29.105059285714297,28.785215161290324,27.826110666666668,26.332794838709674,24.141665666666665,24.015591290322583,24.18548387096774,24.613054999999999,26.04435451612903,27.584722000000006,28.259946774193544,null,20,72.464729032258077,75.82299285714285,74.700750645161293,72.998859666666675,67.859580322580641,68.084283333333318,67.20246806451614,65.17671193548388,67.07112566666666,66.608413225806459,71.15245566666664,70.266380967741924]
[null,21,28.657258709677414,28.652976071428565,28.279838709677428,27.374721999999998,25.846235806451617,23.663054666666664,23.535215161290324,23.69784903225807,24.099999,25.50725806451613,27.038888666666669,27.698656129032262,null,21,75.911783548387078,78.511801785714283,77.552879032258076,75.436523000000008,69.622219999999999,69.285740999999987,69.198005483870972,67.724547741935496,70.303763666666654,70.153193870967741,73.951072333333343,73.085328709677398]
[null,22,28.138441612903229,28.17976214285714,27.760752258064517,26.901110666666661,25.385214516129036,23.191943999999999,23.055644516129036,23.205644516129034,23.593610999999999,24.962365483870965,26.499722333333334,27.138171612903225,null,22,78.330636774193536,79.929141071428575,78.88809451612903,77.099859666666646,71.564781935483879,70.775707999999995,70.962662258064498,70.593556451612898,72.066933000000006,72.426302258064524,75.499659333333341,75.098977741935471]
[null,23,27.609678064516128,27.650595000000003,27.283064193548388,26.450000333333332,24.900536451612901,22.736666,22.556988387096769,22.747849354838714,23.079443666666673,24.413440000000005,25.934999333333334,26.584139032258069,null,23,80.18929096774194,81.190071428571429,80.606630967741935,78.384254333333317,74.203062258064492,72.431922666666665,72.322394516129023,72.287932580645148,73.34675533333332,74.447339032258085,77.854966666666684,77.309483225806446]
[]
[]
[null,"Guyane",1,2,3,4,5,6,7,8,9,10,11,12,null,"HR",1,2,3,4,5,6,7,8,9,10,11,12]
[null,0,26.241935483870964,26.235714285714288,26.429032258064517,26.392499999999998,26.75403225806452,25.568333333333328,26.062096774193556,26.58790322580645,26.403333333333343,26.821774193548389,26.043333333333337,26.033870967741933,null,0,90.014343548387117,85.892205357142871,85.547677419354841,90.949682666666689,90.671754516129027,91.797611333333336,89.441330645161287,87.828810645161298,87.074098000000021,86.298089999999974,88.887983333333324,90.381216129032254]
[null,1,25.915322580645157,25.80892857142857,25.968548387096774,25.960000000000004,26.295161290322579,25.150833333333328,25.472580645161294,25.899193548387093,25.915833333333332,26.131451612903223,25.592500000000008,25.712096774193547,null,1,90.756781290322564,87.324977142857136,86.377027096774199,91.779441333333352,91.607216451612871,92.944685333333339,91.187182258064553,88.906390645161267,88.889043666666666,87.861131290322575,89.72537100000001,91.662175483870996]
[null,2,25.504838709677426,25.43035714285714,25.438709677419347,25.577500000000004,25.887903225806454,24.736666666666672,24.941935483870971,25.332258064516132,25.370833333333334,25.575000000000003,25.045833333333338,25.220967741935489,null,2,91.475824516129052,88.14581892857143,87.601520645161287,92.346261333333331,92.163918387096743,93.604663000000016,93.332121612903236,90.296497096774175,90.361366333333351,89.22655032258065,90.655542333333329,92.79713838709678]
[null,3,25.098387096774193,25.13214285714286,25.044354838709676,25.27833333333334,25.595967741935489,24.331666666666663,24.441935483870967,24.758870967741931,24.850833333333334,25.020161290322573,24.510833333333334,24.779838709677421,null,3,92.439806451612895,88.972110714285719,88.447843870967731,92.749560333333349,92.589921935483872,94.10796866666665,94.029775483870964,91.578981935483881,91.812014333333309,90.172680967741954,91.673949666666644,93.55857129032259]
[null,4,24.837903225806453,24.883928571428562,24.869354838709672,24.94916666666667,25.411290322580641,23.934999999999999,24.10483870967742,24.390322580645162,24.548333333333332,24.694354838709682,24.125,24.498387096774184,null,4,92.932317741935492,89.932150357142845,89.302086129032233,93.372040333333317,92.849063225806432,94.749083333333346,94.567514193548433,91.997493548387084,92.744950333333335,91.066902258064516,92.703344333333334,93.918210322580649]
[null,5,24.682258064516127,24.699107142857144,24.683870967741932,24.680833333333329,25.25725806451613,23.651666666666664,23.751612903225805,24.132258064516126,24.215,24.421774193548387,23.805,24.245161290322574,null,5,93.365614193548424,90.886203571428581,89.949843548387108,94.097502999999989,93.246524193548368,94.94561733333336,95.314155483870948,92.343976451612889,93.235860333333306,92.35361870967742,93.670856333333347,94.014568064516126]
[null,6,24.590322580645161,24.528571428571432,24.537903225806449,24.54000000000001,25.064516129032263,23.46,23.437903225806448,23.99596774193548,23.943333333333332,24.184677419354831,23.561666666666667,24.05725806451613,null,6,94.427360645161272,91.945659285714285,90.620002903225767,94.800763666666697,93.876239354838731,95.731665333333339,96.171008709677409,93.145468387096827,94.026157666666677,92.958448709677398,94.472138999999984,94.53143290322582]
[null,7,24.53709677419355,24.474999999999998,24.579032258064519,24.53083333333333,25.068548387096779,23.47666666666667,23.410483870967738,23.992741935483878,23.915833333333332,24.24274193548387,23.616666666666674,24.059677419354834,null,7,95.034165161290304,92.251980714285736,91.595628387096781,95.041798999999983,94.296844516129028,96.168347000000011,96.717433548387078,93.506879677419349,94.385331000000008,93.044199032258049,94.550829999999991,95.149386774193559]
[null,8,24.995161290322589,24.902678571428577,24.980645161290326,25.151666666666664,25.788709677419355,24.47166666666666,24.316129032258072,24.781451612903233,24.929166666666664,25.371774193548386,24.580833333333334,24.763709677419349,null,8,94.567337096774168,91.416706785714254,91.163080000000008,94.493130666666673,93.40896870967741,95.261957333333328,95.876041612903251,91.671658709677445,92.803975333333312,91.082792580645176,93.127563999999992,94.319413548387089]
[null,9,25.862903225806452,25.667857142857148,25.810483870967751,26.14416666666666,26.789516129032261,25.691666666666666,25.602419354838709,26.159677419354836,26.448333333333334,26.901612903225804,25.982500000000002,25.937096774193545,null,9,92.470214516129033,89.550378571428567,89.485353870967728,92.783539333333337,91.090047419354846,93.505664999999993,92.65866419354839,88.353798387096788,89.438965333333314,86.957219032258052,90.696608000000012,91.875309677419352]
[null,10,26.86451612903226,26.681250000000002,26.800000000000008,27.151666666666667,27.816935483870978,26.972500000000004,26.91935483870968,27.705645161290331,28.035833333333333,28.408064516129034,27.391666666666666,27.226612903225806,null,10,88.638481935483881,85.584353214285699,85.730183225806471,89.095347000000004,86.487971612903209,90.417649999999995,87.015686129032261,82.267527096774216,83.558722000000003,80.300341935483885,86.051139333333325,87.506591290322561]
[null,11,27.883870967741938,27.69464285714286,27.736290322580647,28.175000000000008,28.845967741935482,28.147499999999994,28.305645161290325,29.151612903225807,29.50333333333333,29.859677419354835,28.714999999999996,28.352419354838702,null,11,84.412182580645123,81.090311428571411,81.16847483870967,85.454679666666664,82.909022258064525,87.264079333333342,81.32980354838709,76.518105483870954,77.703840999999997,73.917723548387087,81.040592333333365,83.146798064516119]
[null,12,28.712096774193551,28.521428571428576,28.549999999999994,28.920833333333331,29.676612903225813,29.154999999999994,29.478225806451615,30.354838709677423,30.69,31.06370967741935,29.837499999999999,29.304032258064513,null,12,80.945118709677416,77.629492499999998,77.670336451612883,82.380554000000004,80.339475806451603,84.619508666666647,77.590440967741927,73.298976451612901,73.400023666666655,69.306229032258059,77.354093666666671,80.374554193548391]
[null,13,29.377419354838711,29.191071428571426,29.139516129032256,29.585833333333323,30.291129032258063,29.799166666666668,30.346774193548388,31.333064516129031,31.609166666666656,32.010483870967747,30.760833333333323,29.96290322580645,null,13,78.701660645161283,75.598543928571416,75.409221290322577,80.135946000000018,78.544300322580654,82.216116999999983,75.499066774193551,71.669864516129039,70.245650666666663,66.238465161290307,74.475147333333325,77.944977419354842]
[null,14,29.874193548387098,29.644642857142856,29.495967741935484,30.068333333333335,30.69596774193548,30.185833333333324,30.944354838709678,31.980645161290326,32.238333333333337,32.665322580645167,31.382499999999997,30.539516129032265,null,14,77.739004516129043,73.766959285714293,74.028734516129049,79.064051333333325,77.26047838709674,80.599201000000008,73.569009354838698,70.557645161290296,68.682877999999988,64.74248387096776,72.551443999999989,77.055585483870971]
[null,15,30.076612903225804,29.836607142857137,29.6991935483871,30.273333333333333,30.839516129032251,30.422499999999999,31.3991935483871,32.281451612903226,32.546666666666667,32.991129032258065,31.639166666666664,30.920967741935478,null,15,76.952559032258065,72.969732500000006,73.212327419354835,78.644351999999998,77.256351935483877,79.750558666666663,72.166862580645144,70.286439677419352,67.369278666666659,64.195029032258063,71.645022666666677,77.041292903225795]
[null,16,30.067741935483877,29.902678571428563,29.821774193548389,30.331666666666663,30.79032258064516,30.415833333333339,31.436290322580643,32.291935483870972,32.523333333333333,32.954838709677418,31.55,30.951612903225808,null,16,76.699641290322575,73.160741428571441,73.496097096774193,78.345398666666654,77.255024838709673,79.832039666666645,71.757070322580645,69.823145806451635,67.78729433333335,64.717976451612898,71.824666666666658,76.935348064516148]
[null,17,29.754838709677415,29.691964285714288,29.688709677419347,30.097500000000004,30.537903225806453,30.074166666666663,31.103225806451615,31.837096774193551,32.046666666666667,32.431451612903224,31.109166666666667,30.543548387096774,null,17,77.527092903225807,73.567379285714281,74.481389677419372,78.845481999999976,76.831206129032253,80.433411000000007,72.103351290322578,70.559041612903215,69.369085333333331,65.970039354838704,72.699439333333331,77.706101290322579]
[null,18,29.212096774193544,29.213392857142857,29.255645161290325,29.564166666666672,29.967741935483872,29.47166666666666,30.460483870967742,31.056451612903224,31.176666666666666,31.493548387096777,30.291666666666661,29.771774193548392,null,18,79.019130322580637,75.161308571428577,75.386692258064528,80.93845433333334,78.885095161290323,81.831192999999999,74.198349032258065,72.852907096774189,71.889350333333326,68.763657419354828,75.076510666666678,79.09928032258064]
[null,19,28.522580645161291,28.620535714285715,28.630645161290325,28.910833333333333,29.283064516129031,28.596666666666668,29.506451612903227,30.100000000000009,30.104166666666664,30.410483870967742,29.318333333333339,29.006451612903231,null,19,80.832451290322595,77.331706071428584,76.956790645161291,83.124825333333334,81.6920529032258,83.298211666666646,77.299627096774202,75.99456806451613,75.510125333333306,72.622427096774203,78.461659666666677,81.52180870967743]
[null,20,27.995967741935491,28.082142857142859,28.179032258064517,28.295833333333341,28.72983870967742,27.942499999999999,28.779032258064518,29.336290322580645,29.286666666666676,29.625,28.6,28.418548387096774,null,20,83.633292258064515,80.345937857142857,80.127071935483869,85.733007999999998,84.195763548387106,85.208551999999983,81.334150322580669,79.931762258064524,79.644091666666654,77.638573548387086,82.09801233333333,84.717664838709695]
[null,21,27.544354838709666,27.648214285714278,27.735483870967741,27.894166666666671,28.250000000000007,27.363333333333333,28.102419354838709,28.656451612903226,28.571666666666662,28.91532258064516,27.948333333333331,27.848387096774193,null,21,86.049259999999975,82.625056071428574,82.406964838709683,87.980391666666677,86.395190000000014,87.165720666666644,84.12249387096773,82.525297419354843,82.678192333333328,81.108673548387074,84.27585133333335,86.617304193548406]
[null,22,27.139516129032259,27.206250000000001,27.22983870967742,27.3825,27.798387096774189,26.791666666666668,27.411290322580648,27.96935483870968,27.843333333333323,28.215322580645168,27.31583333333333,27.277419354838713,null,22,87.750470322580611,83.661406785714277,83.568447741935472,88.979033333333319,87.99399451612905,88.7646716666667,86.158411612903237,84.585663548387089,84.368793999999994,82.831410967741917,85.860338666666649,87.446478064516114]
[null,23,26.688709677419357,26.723214285714285,26.814516129032263,26.85,27.290322580645157,26.180000000000007,26.742741935483874,27.28387096774193,27.122500000000002,27.51693548387097,26.667500000000004,26.661290322580644,null,23,89.020975806451602,84.769120714285705,84.788703548387105,89.838303333333357,89.372828387096789,90.348432333333349,87.961428709677435,86.518240645161271,85.746822666666674,84.462776774193543,87.683555666666678,88.942060645161291]
[]
[null,"Moyenne",{"$f":"AVERAGE(C296:C319)","v":28.122804663978489},{"$f":"AVERAGE(D296:D319)","v":28.086297276785718},27.784240577956989,26.928090333333341,25.371415416666668,23.055185124999998,22.847827043010756,23.120217446236556,23.684178041666666,25.146908494623659,26.65208336111111,27.14016580645162,null,"Moyenne",{"$f":"AVERAGE(Q296:Q319)","v":76.937097715053753},{"$f":"AVERAGE(R296:R319)","v":78.335291026785711},77.906012862903239,76.056440138888902,71.103972056451596,71.456508805555544,70.283107002688169,69.067597768817208,71.387676624999997,70.953841666666662,74.321138236111111,75.277472607526889]
[null,"Moyenne",{"$f":"AVERAGE(C323:C346)","v":27.165860215053758},{"$f":"AVERAGE(D323:D346)","v":27.100930059523808},27.129939516129031,27.362777777777783,27.863608870967738,26.916354166666661,27.353225806451615,27.973723118279569,28.076631944444443,28.413608870967739,27.474652777777781,27.337231182795694,null,"Moyenne",{"$f":"AVERAGE(Q323:Q346)","v":86.475211948924724},{"$f":"AVERAGE(R323:R346)","v":83.065843377976194},82.855062473118295,87.540564513888896,86.30080227150539,88.523608763888888,85.058374139784931,82.375797513440858,82.196913013888874,79.909893360215051,84.219235902777783,86.594302836021498]

{"sheet":"Données2","index":4,"n_rows":444,"n_cols":57,"rows_kept":444,"cut":false,"hidden":true,"merged":[[236,53,236,57],[342,12,342,20],[342,23,342,31],[229,0,229,20],[15,53,15,57],[18,53,18,57],[124,23,124,31],[124,46,124,50],[233,23,233,31],[233,46,233,50],[233,53,233,57],[233,12,233,20],[122,0,122,9],[123,1,123,8],[124,1,124,9],[124,12,124,20],[2,1,2,2],[20,46,20,47],[2,4,2,5],[25,46,25,47],[15,46,15,50],[18,46,18,50],[15,12,15,20],[15,23,15,31],[13,0,13,9],[14,1,14,8],[15,1,15,9],[15,34,15,42],[11,0,11,20],[340,0,340,9],[341,1,341,8],[342,1,342,9],[231,0,231,9],[232,1,232,8],[233,1,233,9],[345,46,345,50],[347,46,347,47],[352,46,352,47],[238,46,238,47],[243,46,243,47],[342,46,342,50],[124,34,124,42],[233,34,233,42],[342,34,342,42],[127,46,127,50],[129,46,129,47],[134,46,134,47],[236,46,236,50]]}
[]
[]
[null,"Inertie",null,null,"Planning clim ",null,null,null,null,"Classe","Numéro"]
[null,"Classe","Numéro",null,"Nom","Numéro",null,null,null,"Léger",1]
[null,"Non isolé LEGER",1,null,"Permanent","p",null,null,null,"Moyen",2]
[null,"Non isolé MOYEN",2,null,"7-18h, L-D","a","De 7h à 18h 7/7 JOUR",null,null,"Lourd",3]
[null,"Non isolé LOURD",3,null,"7-18h, L-V","b","De 7h à 18h 5/7 JOUR SEMAINE"]
[null,"Isolé LEGER",4,null,"18-7h, L-D","c","De 18h à 7h 7/7 NUIT"]
[null,"Isolé MOYEN",5,null,"22-6h, L-D","d","De 22h à 6h 7/7 NUIT"]
[null,"Isolé LOURD",6]
[]
["COEFFICIENTS D'INTERMITTENCE SENSIBLE / INERTIE"]
[]
["CAYENNE"]
[null,"COEFF INTERMITTENCE _ SENSIBLE"]
[null,"Planning : Climatisation de 7h à 18h 7/7 JOUR",null,null,null,null,null,null,null,null,null,null,"Planning : Climatisation de 7h à 18h 5/7 JOUR SEMAINE",null,null,null,null,null,null,null,null,null,null,"Planning : Climatisation de 18h à 7h 7/7 NUIT",null,null,null,null,null,null,null,null,null,null,"Planning : Climatisation de 22h à 6h 7/7 NUIT",null,null,null,null,null,null,null,null,null,null,null,"Bonne classe d'inertie et bon planning ",null,null,null,null,null,null,"Bonne classe d'inertie et bon planning \nET BONNE LOCALISATION "]
[]
[null,"Non isolé ","Léger",null,null,null,null,null,null,null,null,null,"Non isolé ","Léger",null,null,null,null,null,null,null,null,null,"Non isolé ","Léger",null,null,null,null,null,null,null,null,null,"Non isolé ","Léger"]
[null,null,null,null,null,null,null,null,null,null,null,"TAMPON température",null,null,null,null,null,null,null,null,null,null,"TAMPON température",null,null,null,null,null,null,null,null,null,null,"TAMPON température",null,null,null,null,null,null,null,null,null,null,"TAMPON température",null,"TAMPON final pour la Guyane",null,null,null,null,null,null,"TAMPON FINAL"]
[null,null,28,27,26,25,24,23,22,21,20,{"$f":"TempConsigne","v":26},null,28,27,26,25,24,23,22,21,20,{"$f":"TempConsigne","v":26},null,28,27,26,25,24,23,22,21,20,{"$f":"TempConsigne","v":26},null,28,27,26,25,24,23,22,21,20,{"$f":"TempConsigne","v":26},null,null,null,null,"Non isolé"]
[null,"janvier",{"$f":"C$20*((D21-F21)/(D$20-F$20))+D21-D$20*((D21-F21)/(D$20-F$20))","v":0.65917755461767569},{"$f":"D$20*((E21-G21)/(E$20-G$20))+E21-E$20*((E21-G21)/(E$20-G$20))","v":0.66773685692387941},{"$f":"E$20*((F21-H21)/(F$20-H$20))+F21-F$20*((F21-H21)/(F$20-H$20))","v":0.67667670533340452},0.68485546153628696,0.69455640215245473,0.70121297394205184,0.70562946303017937,0.70852775958352843,0.710460235376977,{"$f":"HLOOKUP(L20,C20:K32,2,FALSE)","v":0.67667670533340452},"janvier",{"$f":"N$20*((O21-Q21)/(O$20-Q$20))+O21-O$20*((O21-Q21)/(O$20-Q$20))","v":0.51100091536448922},{"$f":"O$20*((P21-R21)/(P$20-R$20))+P21-P$20*((P21-R21)/(P$20-R$20))","v":0.51735756928686705},{"$f":"P$20*((Q21-S21)/(Q$20-S$20))+Q21-Q$20*((Q21-S21)/(Q$20-S$20))","v":0.52398375691623267},0.53007087713162271,0.5372361321749638,0.54224511756240279,0.54572005446388716,0.54824083678007063,0.55012256343174981,{"$f":"HLOOKUP(W20,N20:V32,2,FALSE)","v":0.52398375691623267},"janvier",{"$f":"Y$20*((Z21-AB21)/(Z$20-AB$20))+Z21-Z$20*((Z21-AB21)/(Z$20-AB$20))","v":0.5170087319318345},{"$f":"Z$20*((AA21-AC21)/(AA$20-AC$20))+AA21-AA$20*((AA21-AC21)/(AA$20-AC$20))","v":0.54447791167787274},{"$f":"AA$20*((AB21-AD21)/(AB$20-AD$20))+AB21-AB$20*((AB21-AD21)/(AB$20-AD$20))","v":0.57295729283484709},0.59941627116994933,0.62991605514879578,0.65233422784015371,0.66927353814144674,0.68270221763999706,0.69384666529572581,{"$f":"HLOOKUP(AH20,Y20:AG32,2,FALSE)","v":0.57295729283484709},"janvier",{"$f":"AJ$20*((AK21-AM21)/(AK$20-AM$20))+AK21-AK$20*((AK21-AM21)/(AK$20-AM$20))","v":0.25982945341348807},{"$f":"AK$20*((AL21-AN21)/(AL$20-AN$20))+AL21-AL$20*((AL21-AN21)/(AL$20-AN$20))","v":0.29363940669753008},{"$f":"AL$20*((AM21-AO21)/(AM$20-AO$20))+AM21-AM$20*((AM21-AO21)/(AM$20-AO$20))","v":0.3286784232280478},0.36125931326561406,0.39875645628908296,0.42642109334074663,0.44759626682018538,0.46415313874904035,0.47766428460207783,{"$f":"HLOOKUP(AS20,AJ20:AR32,2,FALSE)","v":0.3286784232280478},null,"Classe séléctionnée",null,null,"janvier",{"$f":"IF($AV$28=$F$5,1,INDEX(INDIRECT(\"classe\"&$AV$23&$AV$28&\"GS\"),AZ21,1))","v":0.45853641745623674},1,null,null,"janvier",{"$f":"IF(Station=\"Saint-Denis\",AV140,AV31)","v":0.556473886663858},1]
[null,"fevrier",0.69971159497472379,0.70489382191438588,{"$f":"E$20*((F22-H22)/(F$20-H$20))+F22-F$20*((F22-H22)/(F$20-H$20))","v":0.71044473805630193},0.71525827579371004,0.72154657034013403,0.72488535126852627,0.72647890086656064,0.7269979961321853,0.72704621933567104,{"$f":"HLOOKUP(L21,C21:K33,2,FALSE)","v":0.71044473805630193},"fevrier",{"$f":"N$20*((O22-Q22)/(O$20-Q$20))+O22-O$20*((O22-Q22)/(O$20-Q$20))","v":0.49797440096692452},0.50425742087963266,{"$f":"P$20*((Q22-S22)/(Q$20-S$20))+Q22-Q$20*((Q22-S22)/(Q$20-S$20))","v":0.5108877870953783},0.51682346070504892,0.52414851952686969,0.52869480792439016,0.53159706865057399,0.53351148267895299,0.53484199335924376,{"$f":"HLOOKUP(W21,N21:V33,2,FALSE)","v":0.5108877870953783},"fevrier",{"$f":"Y$20*((Z22-AB22)/(Z$20-AB$20))+Z22-Z$20*((Z22-AB22)/(Z$20-AB$20))","v":0.48084385063740898},0.51176242993030907,{"$f":"AA$20*((AB22-AD22)/(AB$20-AD$20))+AB22-AB$20*((AB22-AD22)/(AB$20-AD$20))","v":0.54379667351141403},0.57359958851610915,0.60786516067362395,0.63320541852549939,0.65215169007137874,0.66718095942459166,0.67953657742545159,{"$f":"HLOOKUP(AH21,Y21:AG33,2,FALSE)","v":0.54379667351141403},"fevrier",{"$f":"AJ$20*((AK22-AM22)/(AK$20-AM$20))+AK22-AK$20*((AK22-AM22)/(AK$20-AM$20))","v":0.24234348843510201},0.27807620389224008,{"$f":"AL$20*((AM22-AO22)/(AM$20-AO$20))+AM22-AM$20*((AM22-AO22)/(AM$20-AO$20))","v":0.31513466870671636},0.34954163480651607,0.38925159833566897,0.41835556700611554,0.44035023609037732,0.45757730215761422,0.47156893639877911,{"$f":"HLOOKUP(AS21,AJ21:AR33,2,FALSE)","v":0.31513466870671636},null,"Classe","Numéro",null,"fevrier",{"$f":"IF($AV$28=$F$5,1,INDEX(INDIRECT(\"classe\"&$AV$23&$AV$28&\"GS\"),AZ22,1))","v":0.45891874629960938},2,null,null,"fevrier",{"$f":"IF(Station=\"Saint-Denis\",AV141,AV32)","v":0.5531793408190756},2]
[null,"mars",0.72416754394203398,0.72674943139067283,0.72962849925532769,0.73191320628795054,0.73538663498463741,0.73648262035319634,0.73634108321022007,0.73556017930946249,0.73459214593526667,0.72962849925532769,"mars",0.50592796153342601,0.50847835588921864,0.51125728149004279,0.51357914460080389,0.5168151326916911,0.5182228708223261,0.51884564500946662,0.51891602789342417,0.51875866764761813,0.51125728149004279,"mars",0.46088937792889184,0.49331247075380324,0.52690389905177226,0.55815865640362616,0.5940867556477103,0.62066817110733385,0.64092132263231361,0.65691110948770837,0.67009875619045167,0.52690389905177226,"mars",0.2247994366542817,0.26170657823714749,0.29990086724382359,0.33552086140287923,0.37628944525717589,0.40676084972099064,0.43004419209516842,0.44834898045469324,0.46318453688280764,0.29990086724382359,null,{"$f":"Hypothèses!$J$19","v":"Moyen"},{"$f":"VLOOKUP(AU23,$J$4:$K$6,2,FALSE)","v":2},null,"mars",{"$f":"IF($AV$28=$F$5,1,INDEX(INDIRECT(\"classe\"&$AV$23&$AV$28&\"GS\"),AZ23,1))","v":0.45514195969222598},3,null,null,"mars",0.53676721694198704,3]
[null,"avril",0.72686384744832089,0.72951562029077988,0.73246641005251367,0.73481916597569785,0.73836798957598127,0.73952467782206621,0.73959060197620108,0.73904138276055198,0.73823594459962461,0.73246641005251367,"avril",0.56204673855442699,0.56410403654111596,0.56634221392034445,0.56821863251449378,0.57081856867880154,0.57197146970279256,0.57248511620429332,0.57249595647451657,0.57224356485286565,0.56634221392034445,"avril",0.47291456665219078,0.50303551881344921,0.53418259400056134,0.56327742313596596,0.59647674437478559,0.62146708140677509,0.64063198368400975,0.65614359942327682,0.66876632509881051,0.53418259400056134,"avril",0.2471122536081457,0.28095341726031597,0.31597676248107864,0.3486357445646564,0.38602345292260398,0.41395370873181203,0.43559375676010093,0.45272652616232911,0.46676920526323035,0.31597676248107864,null,null,null,null,"avril",0.50218488072238388,4,null,null,"avril",0.60521866993099016,4]
[null,"mai",0.73419108543912248,0.73540349028013441,0.73676946180563718,0.73782829996215826,0.73950140485664273,0.73994597627520042,0.73979770781838783,0.73927042142102217,0.73854960200408681,0.73676946180563718,"mai",0.48418098183754399,0.49241948472890767,0.50099293029730463,0.50889649051163499,0.51813982143409854,0.52470361094029572,0.52970031445104337,0.53361407125951388,0.53679736957496205,0.50099293029730463,"mai",0.47844905676866378,0.50650261481546999,0.53548814311388859,0.56260973090908251,0.5934591997107258,0.61685290649947033,0.63543537443987574,0.65063767276883777,0.66348581395263617,0.53548814311388859,"mai",0.25564011946621434,0.28672145632246926,0.318784689473393,0.34888413003497909,0.3829111557752406,0.40908301115815116,0.42981331144622181,0.44660062671189726,0.46054728865665845,0.318784689473393,null,null,null,null,"mai",0.46217142718805215,5,null,null,"mai",0.56686302866420257,5]
[null,"juin",0.73493172123525907,0.73921570905935285,0.74390759681071938,0.74778368470754053,0.75329137231345245,0.75553586050118293,0.75610098815880422,0.75549340701220946,0.7541348323156104,0.74390759681071938,"juin",0.54263411396687466,0.54275704950423853,0.54304516529387015,0.54300292057896615,0.54362139687313327,0.54291843114915828,0.54168597158821907,0.54017643507611157,0.53838454268796676,0.54304516529387015,"juin",0.42746073256942207,0.46175452213427859,0.49703620932666936,0.53034210126399151,0.56759958371145081,0.59695388513863579,0.61940821870640572,0.63715726750101287,0.65180377167409664,0.49703620932666936,"juin",0.19096082052421914,0.23049025322178462,0.27129379943550547,0.3095491186169157,0.35290089186294721,0.3860597569797361,0.41142340777648656,0.43137855220708732,0.44764969818459605,0.27129379943550547,null,"Planning séléctionné",null,null,"juin",0.46891293978615073,6,null,null,"juin",0.53720625332971239,6]
[null,"juillet",0.72262003324788504,0.72766447595241301,0.73304901159507185,0.73775336136146896,0.74381808288038964,0.74716206089426307,0.74874686343122354,0.74920382564826327,0.74881528927771701,0.73304901159507185,"juillet",0.59079774390545281,0.59237465679876655,0.59413899618399402,0.59552848258539415,0.59766767495444906,0.59830745538819441,0.59821094440725364,0.59764438693321364,0.59678235837665861,0.59413899618399402,"juillet",0.4611059358800963,0.49031832368769035,0.52034584479545543,0.54874309930287846,0.58040088701098569,0.60553760831772463,0.6253121659358567,0.6413035230234535,0.65480532959360749,0.52034584479545543,"juillet",0.21897448069654968,0.2535583817710626,0.28913993278828676,0.32272618392008851,0.3603030348227349,0.38989868618369206,0.41315450480605082,0.43180746202648645,0.44732079168831412,0.28913993278828676,null,"Nom","Numéro",null,"juillet",0.50891984489395048,7,null,null,"juillet",0.59865349064048023,7]
[null,"aout",0.73551024561536416,0.73837142967638358,0.74142789612042437,0.74409379779842233,0.74754082900850605,0.74942560115441836,0.75038831988526256,0.75051588224523835,0.75002072691402477,0.74142789612042437,"aout",0.52915642918848449,0.53253284513502086,0.53607329158107686,0.53928567702809371,0.54315418447318875,0.54571044792212731,0.54745405850731887,0.54863705642786809,0.549359101258448,0.53607329158107686,"aout",0.4767520715588498,0.50318193800919842,0.53041208651551586,0.55604167090989565,0.58487238352815063,0.60730083969865523,0.62522512289383514,0.64008584429016091,0.65276356033675176,0.53041208651551586,"aout",0.24870992987328222,0.27889361579714689,0.30995027184394941,0.33926098764487622,0.37206358393755462,0.39788241924672979,0.41882403737724305,0.43593565204051843,0.45032336805866929,0.30995027184394941,null,{"$f":"ClimPlan","v":"7-18h, L-V"},{"$f":"VLOOKUP(AU28,$E$5:$F$9,2,FALSE)","v":"b"},null,"aout",0.47624129055340653,8,null,null,"aout",0.57017452175867478,8]
[null,"septembre",0.74038844454210262,0.74297149811576146,0.74573833476428097,0.74813760526307915,0.75127200806131988,0.75293614626067562,0.75378020548836,0.75394969959190505,0.75354792496754253,0.74573833476428097,"septembre",0.5433697291052908,0.54552401488590463,0.54780630674834563,0.54983258644713229,0.55237089047322763,0.5538851458447055,0.55482620193349808,0.55537873915629354,0.55555861666798678,0.54780630674834563,"septembre",0.47693340392207129,0.50291906952315057,0.52966569892600135,0.55489040072530915,0.58315895773170301,0.60533980432392476,0.62331295790523256,0.63838613161779889,0.6513350850549221,0.52966569892600135,"septembre",0.25019123783901065,0.27990835318727869,0.31046544158998635,0.33934258388381489,0.37157961839540149,0.39709686847147196,0.41790228464906576,0.43495661260692897,0.44936795681076469,0.31046544158998635,null,null,null,null,"septembre",0.47633653459164227,9,null,null,"septembre",0.5754531836411263,9]
[null,"octobre",0.71363200962194862,0.71800416873040385,0.72257963600141906,0.7267484869473142,0.73173057054344948,0.73508618883910448,0.73722134856414734,0.73853003267474815,0.73915857968160514,0.72257963600141906,"octobre",0.54709396276648958,0.55095989447668148,0.55497422116364259,0.55869175789706527,0.56300287453756481,0.56612683136391062,0.56831993682741733,0.56990070513575231,0.57094234706698743,0.55497422116364259,"octobre",0.51091646273675495,0.53345886244432605,0.55663361515242427,0.57854366185946826,0.60298312056862069,0.62236375527355636,0.63810750171215269,0.65148849039865997,0.6628577120582001,0.55663361515242427,"octobre",0.27727644907009275,0.30399322805293905,0.33144066371680814,0.35742678601863165,0.38633553504454615,0.40939903062227878,0.42835382414934781,0.44398751994814939,0.45726816530590603,0.33144066371680814,null,"Non isolé",null,null,"octobre",0.48816120702391513,10,null,null,"octobre",0.59166813806202567,10]
[null,"novembre",0.66612475662121995,0.67516081416804186,0.68455736778277232,0.69323292926168567,0.70335047501223313,0.71058405221951237,0.71575454608160249,0.7193821404728048,0.72179602538509668,0.68455736778277232,"novembre",0.45042562619188214,0.45995060117044789,0.46981882423823995,0.47900055112757939,0.48955527037382407,0.49736400490625832,0.50325676965914823,0.50771915130754575,0.51116914459374907,0.46981882423823995,"novembre",0.52274627572421561,0.54670520987007554,0.571361894981258,0.59462307816179549,0.62067526520362293,0.64114544452287048,0.65701688466802444,0.67017052495991536,0.68122277507970086,0.571361894981258,"novembre",0.26824011994099883,0.29812496333721605,0.32889066350265062,0.35789465012965049,0.39042206383351957,0.41590262338365031,0.43601651074396364,0.45222691564317091,0.46574591067544618,0.32889066350265062,null,"janvier",{"$f":"AY21*Données1!$E$190+Données1!$F$190*Données2!AY34","v":0.556473886663858},null,"novembre",0.41953703925891161,11,null,null,"novembre",0.52035510985066613,11]
[null,"decembre",0.66258589992671546,0.67126347542293718,0.68032634200723763,0.68861862641538063,0.69845207517583863,0.70520319523166652,0.70977236041538594,0.71296821827642953,0.71524532564933296,0.68032634200723763,"decembre",0.47441613599467247,0.48271198265929127,0.4913347078556809,0.49930367598852882,0.50858015824846015,0.51524161225422471,0.52016056055731585,0.52387342448286855,0.52684423476014874,0.4913347078556809,"decembre",0.52219923880337782,0.5479012118380322,0.57446259502095165,0.59930515790734096,0.62758536138679055,0.64899028368011957,0.66524350925611853,0.67840927692055863,0.68940233754858493,0.57446259502095165,"decembre",0.26879584484648533,0.30041660802129477,0.33310101680095933,0.3636581343709136,0.39846983436028843,0.42477236951082203,0.44515036344924269,0.46121389125808759,0.47445094731184401,0.33310101680095933,null,"fevrier",{"$f":"AY22*Données1!$E$190+Données1!$F$190*Données2!AY35","v":0.5531793408190756},null,"decembre",0.43616103319698596,12,null,null,"decembre",0.5402977697942255,12]
[null,null,null,null,null,null,null,null,null,null,null,null,null,null,null,null,null,null,null,null,null,null,null,null,null,null,null,null,null,null,null,null,null,null,null,null,null,null,null,null,null,null,null,null,null,null,"mars",{"$f":"AY23*Données1!$E$190+Données1!$F$190*Données2!AY36","v":0.53676721694198704},null,"Isolé"]
[null,null,null,null,null,null,null,null,null,null,null,null,null,null,null,null,null,null,null,null,null,null,null,null,null,null,null,null,null,null,null,null,null,null,null,null,null,null,null,null,null,null,null,null,null,null,"avril",{"$f":"AY24*Données1!$E$190+Données1!$F$190*Données2!AY37","v":0.60521866993099016},null,"janvier",{"$f":"IF($AV$28=$F$5,1,INDEX(INDIRECT(\"classe\"&$AV$23+3&$AV$28&\"GS\"),AZ34,1))","v":0.56952712200635203},1]
[null,"Non isolé ","Moyen",null,null,null,null,null,null,null,null,null,"Non isolé ",null,null,null,"Moyen",null,null,null,null,null,null,"Non isolé ",null,null,null,"Moyen",null,null,null,null,null,null,"Non isolé ",null,null,null,"Moyen",null,null,null,null,null,null,null,"mai",{"$f":"AY25*Données1!$E$190+Données1!$F$190*Données2!AY38","v":0.56686302866420257},null,"fevrier",{"$f":"IF($AV$28=$F$5,1,INDEX(INDIRECT(\"classe\"&$AV$23+3&$AV$28&\"GS\"),AZ35,1))","v":0.56574251744331139},2]
[null,null,null,null,null,null,null,null,null,null,null,null,null,null,null,null,null,null,null,null,null,null,null,null,null,null,null,null,null,null,null,null,null,null,null,null,null,null,null,null,null,null,null,null,null,null,"juin",{"$f":"AY26*Données1!$E$190+Données1!$F$190*Données2!AY39","v":0.53720625332971239},null,"mars",0.54764633911446237,3]
[null,null,28,27,26,25,24,23,22,21,20,{"$f":"TempConsigne","v":26},null,28,27,26,25,24,23,22,21,20,{"$f":"TempConsigne","v":26},null,28,27,26,25,24,23,22,21,20,{"$f":"TempConsigne","v":26},null,28,27,26,25,24,23,22,21,20,{"$f":"TempConsigne","v":26},null,"juillet",{"$f":"AY27*Données1!$E$190+Données1!$F$190*Données2!AY40","v":0.59865349064048023},null,"avril",0.61895114953915431,4]
[null,"janvier",{"$f":"C$20*((D38-F38)/(D$20-F$20))+D38-D$20*((D38-F38)/(D$20-F$20))","v":0.54340898267367277},{"$f":"D$20*((E38-G38)/(E$20-G$20))+E38-E$20*((E38-G38)/(E$20-G$20))","v":0.56715467892619453},{"$f":"E$20*((F38-H38)/(F$20-H$20))+F38-F$20*((F38-H38)/(F$20-H$20))","v":0.59175506391294241},0.61464607143123806,0.64095583388643818,0.66042808646782925,0.67505127290222233,0.68637686166545564,0.69505668858248182,{"$f":"HLOOKUP(L37,C37:K49,2,FALSE)","v":0.59175506391294241},"janvier",{"$f":"N$20*((O38-Q38)/(O$20-Q$20))+O38-O$20*((O38-Q38)/(O$20-Q$20))","v":0.42010222499869754},{"$f":"O$20*((P38-R38)/(P$20-R$20))+P38-P$20*((P38-R38)/(P$20-R$20))","v":0.43899624021777506},{"$f":"P$20*((Q38-S38)/(Q$20-S$20))+Q38-Q$20*((Q38-S38)/(Q$20-S$20))","v":0.45853641745623674},0.47678427065593015,0.49761677193316012,0.51327997705531703,0.52528224542933422,0.53478698038753947,0.54233124508220698,{"$f":"HLOOKUP(W37,N37:V49,2,FALSE)","v":0.45853641745623674},"janvier",{"$f":"Y$20*((Z38-AB38)/(Z$20-AB$20))+Z38-Z$20*((Z38-AB38)/(Z$20-AB$20))","v":0.6421357030058813},{"$f":"Z$20*((AA38-AC38)/(AA$20-AC$20))+AA38-AA$20*((AA38-AC38)/(AA$20-AC$20))","v":0.66110665112612776},{"$f":"AA$20*((AB38-AD38)/(AB$20-AD$20))+AB38-AB$20*((AB38-AD38)/(AB$20-AD$20))","v":0.68077820563298297},0.69904854736662059,0.72012131464669349,0.73558923083389582,0.74706324375044275,0.75608251208058785,0.76370890435586425,{"$f":"HLOOKUP(AH37,Y37:AG49,2,FALSE)","v":0.68077820563298297},"janvier",{"$f":"AJ$20*((AK38-AM38)/(AK$20-AM$20))+AK38-AK$20*((AK38-AM38)/(AK$20-AM$20))","v":0.39637962883603539},{"$f":"AK$20*((AL38-AN38)/(AL$20-AN$20))+AL38-AL$20*((AL38-AN38)/(AL$20-AN$20))","v":0.42125410610422243},{"$f":"AL$20*((AM38-AO38)/(AM$20-AO$20))+AM38-AM$20*((AM38-AO38)/(AM$20-AO$20))","v":0.44699701155078064},0.47100306064059638,0.49848282244389691,0.51901515882022786,0.53480494566745607,0.54703101833274714,0.55701916988003208,{"$f":"HLOOKUP(AS37,AJ37:AR49,2,FALSE)","v":0.44699701155078064},null,"aout",{"$f":"AY28*Données1!$E$190+Données1!$F$190*Données2!AY41","v":0.57017452175867478},null,"mai",0.58081646368255868,5]
[null,"fevrier",{"$f":"C$20*((D39-F39)/(D$20-F$20))+D39-D$20*((D39-F39)/(D$20-F$20))","v":0.5768631555560737},0.59817053385760799,{"$f":"E$20*((F39-H39)/(F$20-H$20))+F39-F$20*((F39-H39)/(F$20-H$20))","v":0.62031074125315777},0.64078529046067645,0.66459115604425745,0.6817343888757138,0.69428054296849462,0.70366078306889479,0.71078002584637379,{"$f":"HLOOKUP(L38,C38:K50,2,FALSE)","v":0.62031074125315777},"fevrier",{"$f":"N$20*((O39-Q39)/(O$20-Q$20))+O39-O$20*((O39-Q39)/(O$20-Q$20))","v":0.4236551135120426},0.44097300205355044,{"$f":"P$20*((Q39-S39)/(Q$20-S$20))+Q39-Q$20*((Q39-S39)/(Q$20-S$20))","v":0.45891874629960938},0.47560877913656613,0.49481023479172725,0.50898884481047957,0.51956234013001601,0.5277516367647207,0.5341191116060342,{"$f":"HLOOKUP(W38,N38:V50,2,FALSE)","v":0.45891874629960938},"fevrier",{"$f":"Y$20*((Z39-AB39)/(Z$20-AB$20))+Z39-Z$20*((Z39-AB39)/(Z$20-AB$20))","v":0.61720602023510307},0.63842636477094961,{"$f":"AA$20*((AB39-AD39)/(AB$20-AD$20))+AB39-AB$20*((AB39-AD39)/(AB$20-AD$20))","v":0.66048971411854107},0.68086705384264279,0.704616412813724,0.72162173329084611,0.73428048352806685,0.74412971104684744,0.75243357687556256,{"$f":"HLOOKUP(AH38,Y38:AG50,2,FALSE)","v":0.66048971411854107},"fevrier",{"$f":"AJ$20*((AK39-AM39)/(AK$20-AM$20))+AK39-AK$20*((AK39-AM39)/(AK$20-AM$20))","v":0.38032085452349418},0.40696277899868583,{"$f":"AL$20*((AM39-AO39)/(AM$20-AO$20))+AM39-AM$20*((AM39-AO39)/(AM$20-AO$20))","v":0.43459959766864775},0.46024662794906901,0.48987323500857161,0.51154068850991152,0.52790827153179964,0.54057825827379558,0.55073576749019693,{"$f":"HLOOKUP(AS38,AJ38:AR50,2,FALSE)","v":0.43459959766864775},null,"septembre",{"$f":"AY29*Données1!$E$190+Données1!$F$190*Données2!AY42","v":0.5754531836411263},null,"juin",0.54630847642384839,6]
[null,"mars",0.58967192314397188,0.60971786660478855,0.6306171185241316,0.64980975352642201,0.67241562236281771,0.68819502353100281,0.69974451113820202,0.70813279356677594,0.71457698779661927,0.6306171185241316,"mars",0.42621027259854788,0.44038848136496422,0.45514195969222598,0.46874489889779691,0.48464891634674945,0.49595077730893883,0.50444643624039298,0.51076205380743978,0.51568578588894098,0.45514195969222598,"mars",0.60979435157777873,0.63104201550294348,0.65309557585936628,0.67353734335327298,0.69720269657221179,0.71442087834108647,0.72738326338239168,0.73791345412334552,0.74686300605145195,0.65309557585936628,"mars",0.36467516662730648,0.3925853870833973,0.42151693792545253,0.44840582799557893,0.47938003960956282,0.50218360813583174,0.51949219537147562,0.53297205188355135,0.54389578864932886,0.42151693792545253,null,"octobre",{"$f":"AY30*Données1!$E$190+Données1!$F$190*Données2!AY43","v":0.59166813806202567},null,"juillet",0.61061330954887305,7]
[null,"avril",0.60152241347452706,0.61992134623913087,0.63902671528467248,0.65671921176833847,0.67723745337575569,0.69210420473567047,0.70304303368800147,0.71125466665609816,0.71778253852594942,0.63902671528467248,"avril",0.4729121827343869,0.48729530295006207,0.50218488072238388,0.51606154338141241,0.53196403626702748,0.54381486869946938,0.55287242160772454,0.5598754765735845,0.56544781343651263,0.50218488072238388,"avril",0.61850936112250909,0.63816891920686936,0.65854237921918124,0.67748803537558988,0.69928929924380512,0.71537934768840716,0.72795346345632261,0.73819246835392871,0.74689572126169046,0.65854237921918124,"avril",0.38923476704535404,0.41399571581712974,0.43964674925495434,0.46351761336068104,0.49094881613060337,0.51125934157213437,0.52713802566154933,0.53951300322603657,0.54973531845091039,0.43964674925495434,null,"novembre",{"$f":"AY31*Données1!$E$190+Données1!$F$190*Données2!AY44","v":0.52035510985066613},null,"aout",0.58269406696770965,8]
[null,"mai",0.61548666360201332,0.63127385772316513,0.64761828815231937,0.66284824596546865,0.68030714901062772,0.69330816159176722,0.70322172290398366,0.71083675903908139,0.71695457048673727,0.64761828815231937,"mai",0.42814602548023867,0.44488315411171092,0.46217142718805215,0.47835741137465543,0.49674797334073467,0.51072937974786203,0.52170473968235676,0.53055954831737151,0.53790099257979396,0.46217142718805215,"mai",0.62084347799486639,0.63901254365018967,0.65777486574527055,0.67535067496083612,0.69529950993543221,0.71050229339196724,0.72285437191526958,0.73307214798761211,0.74194034603268233,0.65777486574527055,"mai",0.38828267712557457,0.41162443269519305,0.43570717802737474,0.45830794383443002,0.48387266869173828,0.50350947544854063,0.51895848937028277,0.53149791725239826,0.54205087917566031,0.43570717802737474,null,"decembre",{"$f":"AY32*Données1!$E$190+Données1!$F$190*Données2!AY45","v":0.5402977697942255},null,"septembre",0.58866358163149657,9]
[null,"juin",0.59273432546841553,0.61314182522252725,0.6342773518153233,0.65395682473075056,0.6765484050009154,0.69331577056160498,0.70612993969032745,0.71573868211276681,0.72306184870363133,0.6342773518153233,"juin",0.44454100911663857,0.45653070346712438,0.46891293978615073,0.48051009216809604,0.49367741242420343,0.50370439693198665,0.51155781022168245,0.51756712892566936,0.52226304371021093,0.46891293978615073,"juin",0.58433685210235109,0.60799145249593578,0.63250962520237763,0.65530065328310527,0.68154597061526134,0.70088270944456066,0.71551026816942453,0.727261016927787,0.7369882988939076,0.63250962520237763,"juin",0.34274560398748194,0.37256509069690519,0.40342416444222978,0.43220406411575168,0.46514231193287908,0.48976386346279538,0.50868699218188351,0.52367455726659495,0.53578546786641534,0.40342416444222978,null,null,null,null,"octobre",0.60546367863859007,10]
[null,"juillet",0.58723114625249073,0.60723433780523772,0.62789488989674447,0.6472407209107317,0.66921599407975785,0.68593238293870606,0.69887861696746667,0.70890040213064898,0.71658293719244492,0.62789488989674447,"juillet",0.47930345406077768,0.49388766576023913,0.50891984489395048,0.52305608915916202,0.53898420316137319,0.55132857768958521,0.56098896118343833,0.56872601588016547,0.5748502917000915,0.50891984489395048,"juillet",0.61041259961247907,0.6302778770217532,0.65079676737539038,0.67000843184030145,0.69183454808266476,0.7084317607701236,0.72115520071449568,0.73167625618982091,0.74068802317524673,0.65079676737539038,"juillet",0.36596511457656744,0.39215882589368234,0.41920222340313518,0.44454624852791225,0.47328901842204085,0.49523429877746628,0.51265690906072936,0.52657689732198099,0.53813225130738551,0.41920222340313518,null,null,null,null,"novembre",0.53379227555300335,11]
[null,"aout",0.605261808114537,0.62242696789897767,0.64010861107799721,0.656757287467859,0.67547189743603631,0.69005464024758267,0.70139613637446252,0.71027783220499707,0.71731922891557587,0.64010861107799721,"aout",0.44950090509100582,0.46268307754854732,0.47624129055340653,0.48904742246363031,0.50335771656312489,0.51465968628407788,0.52362800587208724,0.53082877837578546,0.53675942884545769,0.47624129055340653,"aout",0.62799159809844829,0.6446937283318126,0.66191715386030081,0.67809798879854122,0.69636400491727712,0.71045965867502214,0.72188817628964352,0.731805453891335,0.74044234456354407,0.66191715386030081,"aout",0.39622776320413727,0.41809565686140043,0.44057576218288658,0.46183144417592686,0.48553597282585875,0.50434280816200738,0.5196970418711,0.53223573109444144,0.54273027370396021,0.44057576218288658,null,null,null,null,"decembre",0.55417725168814103,12]
[null,"septembre",0.6080350062054769,0.62480707547732717,0.64207428371372921,0.65835121402102781,0.67660870018653319,0.69090507463562501,0.70224828037033082,0.71119247399961394,0.71829830746128376,0.64207428371372921,"septembre",0.44991160555755494,0.46294685172174255,0.47633653459164227,0.48901734405011771,0.50311590033144171,0.51437896296706864,0.52346041271112054,0.53081469101140488,0.53685607527564794,0.47633653459164227,"septembre",0.62853860512530568,0.64515026756113225,0.66220608849112805,0.67837359243278539,0.69631773035111966,0.71070860031610006,0.72270902727536479,0.73262337867076555,0.74126705435196905,0.66220608849112805,"septembre",0.39903535943643498,0.42055265005380316,0.44267488268520128,0.4635872312885394,0.48691934794799752,0.50541192849521566,0.52054925320513989,0.5329776879980388,0.54344652131784432,0.44267488268520128]
[null,"octobre",0.59814134522350226,0.61498710748745378,0.63231387577307907,0.64867863201535692,0.66696741234432977,0.68140814449991249,0.69286862562105189,0.70201219512195123,0.70937361623381012,0.63231387577307907,"octobre",0.45983819590359026,0.47381172788547976,0.48816120702391513,0.50175879184925876,0.51686016530078582,0.528953961499946,0.53873751827416372,0.54673410938654843,0.55332176128239552,0.48816120702391513,"octobre",0.6470400731496031,0.66171223538557999,0.67680403173933501,0.69105655985753367,0.70698762444684515,0.71956161609393099,0.72986166930102336,0.73878295146587825,0.74653327172401363,0.67680403173933501,"octobre",0.41631555850522184,0.4358681067228285,0.45592145917469462,0.47497320315804181,0.49602816407842687,0.51307669112473619,0.52704980822242953,0.53862928061098791,0.54836789602945679,0.45592145917469462]
[null,"novembre",0.55461640245076527,0.57614221266726839,0.59829164501413634,0.61919383310027465,0.64259050970787213,0.66099820927255126,0.67565224603505536,0.68726220334652854,0.69644924606204284,0.59829164501413634,"novembre",0.38295768762259946,0.4009955727992191,0.41953703925891161,0.43707134315245838,0.4566199721782967,0.47213995093955191,0.48463805263718007,0.4946994525011057,0.50287969390420317,0.41953703925891161,"novembre",0.64930393368920103,0.66610136125763963,0.68338907337317378,0.69969621639451696,0.71796449760424219,0.73231050243720319,0.74310014228619103,0.75165101272186341,0.7586403374387205,0.68338907337317378,"novembre",0.40879671422848096,0.43071315134699129,0.45324179137163689,0.47454602558401182,0.49829907142092811,0.51715449400876168,0.53230903939589158,0.54436066524000126,0.5542850397814032,0.45324179137163689]
[null,"decembre",0.552827665591341,0.57511130928921927,0.59814516976862164,0.61967859668497582,0.64421289072742627,0.66274545051768408,0.67701820314816485,0.68815529272983533,0.69701933933776217,0.59814516976862164,"decembre",0.39807683766026103,0.41682216681782713,0.43616103319698596,0.4543128251329594,0.47483876595530361,0.49061640900490622,0.50301183462465671,0.51293895001185075,0.52101856471391428,0.43616103319698596,"decembre",0.64623441392706249,0.66392228516731011,0.68219212701395993,0.69929802764780535,0.71873181070725944,0.73350982891549632,0.74463824143665636,0.75351856576040654,0.76090873880734189,0.68219212701395993,"decembre",0.40760104367347622,0.43042222358027732,0.45397311936651558,0.47606458339387953,0.50107491093899192,0.52024751144860737,0.53540597725895644,0.54737141109910969,0.55702544442402124,0.45397311936651558]
[]
[]
[null,"Non isolé ",null,null,null,"Lourd",null,null,null,null,null,null,"Non isolé ",null,null,null,"Lourd",null,null,null,null,null,null,"Non isolé ",null,null,null,"Lourd",null,null,null,null,null,null,"Non isolé ",null,null,null,"Lourd"]
[]
[null,null,28,27,26,25,24,23,22,21,20,{"$f":"TempConsigne","v":26},null,28,27,26,25,24,23,22,21,20,{"$f":"TempConsigne","v":26},null,28,27,26,25,24,23,22,21,20,{"$f":"TempConsigne","v":26},null,28,27,26,25,24,23,22,21,20,{"$f":"TempConsigne","v":26}]
[null,"janvier",{"$f":"C$20*((D55-F55)/(D$20-F$20))+D55-D$20*((D55-F55)/(D$20-F$20))","v":0.57485701307828996},{"$f":"D$20*((E55-G55)/(E$20-G$20))+E55-E$20*((E55-G55)/(E$20-G$20))","v":0.5989487826557901},{"$f":"E$20*((F55-H55)/(F$20-H$20))+F55-F$20*((F55-H55)/(F$20-H$20))","v":0.62394938292705859},0.64713232181079039,0.67395058346959569,0.69349819957825387,0.70817454610821495,0.71953781175094622,0.72852611751420882,{"$f":"HLOOKUP(L54,C54:K66,2,FALSE)","v":0.62394938292705859},"janvier",{"$f":"N$20*((O55-Q55)/(O$20-Q$20))+O55-O$20*((O55-Q55)/(O$20-Q$20))","v":0.45558749409343458},{"$f":"O$20*((P55-R55)/(P$20-R$20))+P55-P$20*((P55-R55)/(P$20-R$20))","v":0.47753186533372971},{"$f":"P$20*((Q55-S55)/(Q$20-S$20))+Q55-Q$20*((Q55-S55)/(Q$20-S$20))","v":0.50025152214242097},0.52142060781431998,0.54569083575980348,0.56375877915811812,0.57773368685960813,0.58890203581962941,0.59785962405352078,{"$f":"HLOOKUP(W54,N54:V66,2,FALSE)","v":0.50025152214242097},"janvier",{"$f":"Y$20*((Z55-AB55)/(Z$20-AB$20))+Z55-Z$20*((Z55-AB55)/(Z$20-AB$20))","v":0.62380770297981636},{"$f":"Z$20*((AA55-AC55)/(AA$20-AC$20))+AA55-AA$20*((AA55-AC55)/(AA$20-AC$20))","v":0.64826468312583174},{"$f":"AA$20*((AB55-AD55)/(AB$20-AD$20))+AB55-AB$20*((AB55-AD55)/(AB$20-AD$20))","v":0.67362033156281487},0.69717864341786251,0.72433162843678101,0.7442952671279579,0.75997797950745993,0.77208483545719186,0.78178369016546856,{"$f":"HLOOKUP(AH54,Y54:AG66,2,FALSE)","v":0.67362033156281487},"janvier",{"$f":"AJ$20*((AK55-AM55)/(AK$20-AM$20))+AK55-AK$20*((AK55-AM55)/(AK$20-AM$20))","v":0.40152158797927878},{"$f":"AK$20*((AL55-AN55)/(AL$20-AN$20))+AL55-AL$20*((AL55-AN55)/(AL$20-AN$20))","v":0.42900645483482497},{"$f":"AL$20*((AM55-AO55)/(AM$20-AO$20))+AM55-AM$20*((AM55-AO55)/(AM$20-AO$20))","v":0.4574405267304133},0.48397618854591734,0.51430867052159013,0.53704751217692548,0.55511819162322484,0.56970416996009332,0.58164152095653243,{"$f":"HLOOKUP(AS54,AJ54:AR66,2,FALSE)","v":0.4574405267304133}]
[null,"fevrier",{"$f":"C$20*((D56-F56)/(D$20-F$20))+D56-D$20*((D56-F56)/(D$20-F$20))","v":0.59795015225960801},0.62077577870448597,{"$f":"E$20*((F56-H56)/(F$20-H$20))+F56-F$20*((F56-H56)/(F$20-H$20))","v":0.64449117824809332},0.66642703159424188,0.69192197733530814,0.710298738286539,0.72385509643521584,0.73389428458363959,0.74149779462543719,{"$f":"HLOOKUP(L55,C55:K67,2,FALSE)","v":0.64449117824809332},"fevrier",{"$f":"N$20*((O56-Q56)/(O$20-Q$20))+O56-O$20*((O56-Q56)/(O$20-Q$20))","v":0.45704387577661898},0.47820542335822702,{"$f":"P$20*((Q56-S56)/(Q$20-S$20))+Q56-Q$20*((Q56-S56)/(Q$20-S$20))","v":0.5001085681356392},0.52052851852144311,0.54391485769046355,0.56136841929305081,0.57468766368532254,0.58495652665498332,0.59295308077344944,{"$f":"HLOOKUP(W55,N55:V67,2,FALSE)","v":0.5001085681356392},"fevrier",{"$f":"Y$20*((Z56-AB56)/(Z$20-AB$20))+Z56-Z$20*((Z56-AB56)/(Z$20-AB$20))","v":0.61348208657176151},0.63870849223733017,{"$f":"AA$20*((AB56-AD56)/(AB$20-AD$20))+AB56-AB$20*((AB56-AD56)/(AB$20-AD$20))","v":0.66490706752582374},0.68916130356846739,0.71730421810281075,0.73766977565375469,0.75308051657249719,0.76526428854090112,0.77518762918053397,{"$f":"HLOOKUP(AH55,Y55:AG67,2,FALSE)","v":0.66490706752582374},"fevrier",{"$f":"AJ$20*((AK56-AM56)/(AK$20-AM$20))+AK56-AK$20*((AK56-AM56)/(AK$20-AM$20))","v":0.40158419618219493},0.42937049915335229,{"$f":"AL$20*((AM56-AO56)/(AM$20-AO$20))+AM56-AM$20*((AM56-AO56)/(AM$20-AO$20))","v":0.45820293890836145},0.48494310509566713,0.51586781841837992,0.53842343747027854,0.55605675624558548,0.57015817739838315,0.58142957547406471,{"$f":"HLOOKUP(AS55,AJ55:AR67,2,FALSE)","v":0.45820293890836145}]
[null,"mars",0.60838556180837777,0.6301873481027529,0.65290008009569123,0.67379092069150304,0.69832554408156788,0.71557260188312666,0.72801469145411402,0.73703113463163983,0.74403051612486104,0.65290008009569123,"mars",0.4498689903299839,0.46808724036686011,0.48699080368755743,0.50452374044061254,0.52479793032895206,0.53958961394672278,0.55061594634915301,0.55893997253710992,0.56552862690970107,0.48699080368755743,"mars",0.60435715117588074,0.63016433078556866,0.65692312280617571,0.6817786900049444,0.7104407068473898,0.73148982440248178,0.74747748821951554,0.76008476076882714,0.77057913879454087,0.65692312280617571,"mars",0.38637645585224856,0.41559603028072034,0.44590110511020276,0.47403517913766402,0.50651125476916758,0.53030332719258655,0.54833918406472948,0.5624776571682486,0.57405114488092612,0.44590110511020276]
[null,"avril",0.62149007837858572,0.64148173194391778,0.6622424713174031,0.68146503907458189,0.70376395006437364,0.71991017458893936,0.73186341020115009,0.7408226364151167,0.74781230048790226,0.6622424713174031,"avril",0.50720728360260481,0.52566055585855975,0.54473351449740792,0.56256710037046964,0.58287943177510426,0.59823427211659308,0.61003605187197285,0.61928787812409236,0.62652621014992649,0.54473351449740792,"avril",0.62430968612587323,0.64718981721270008,0.67089065174810414,0.69295007938635378,0.71829232081891237,0.73706893466285306,0.75158513283435779,0.76336932235814114,0.77323229985607578,0.67089065174810414,"avril",0.42016738291564221,0.44525202112286305,0.47121450510304924,0.49542129753730474,0.52313947306342179,0.54383488240581579,0.5598168713347339,0.57288223735556931,0.58360461468497205,0.47121450510304924]
[null,"mai",0.6280931064479307,0.64626027452983947,0.66509379671358326,0.68259461069365712,0.70276084108107073,0.71759623865380473,0.72871572514346983,0.73738995331499246,0.74420096378824807,0.66509379671358326,"mai",0.47336537838973081,0.492793981970988,0.51285830060061532,0.53165118913350229,0.55298693785986996,0.56923696619927633,0.58195660398922466,0.59209002612783668,0.60050963585259809,0.51285830060061532,"mai",0.62282894250853171,0.64437487432275586,0.66663056207099369,0.68746673795120428,0.71114193756746935,0.72913908971162544,0.74344828667492679,0.75526740312507668,0.7654352271235616,0.66663056207099369,"mai",0.41063049575852295,0.43513978190769254,0.46039313825670414,0.48415835420603182,0.51089985095472734,0.53168878610468706,0.54806143882915181,0.56144504117755989,0.57255747612519781,0.46039313825670414]
[null,"juin",0.60571508011189457,0.62843296928057213,0.651901909532007,0.67386874761792726,0.69883979003487662,0.71780242378976766,0.73229954549138965,0.74324251917748507,0.75137683881777495,0.651901909532007,"juin",0.45618561543605768,0.47340003838235467,0.49114315964259098,0.50782888427494866,0.52662940216306353,0.54120033353966401,0.55269777600065939,0.56185748626178478,0.56885811520672613,0.49114315964259098,"juin",0.59016392107202553,0.61646867547212847,0.64370240064179529,0.66907818427233445,0.69816985098112894,0.71982975153341278,0.73665580018104271,0.75020803177182993,0.76157731948909746,0.64370240064179529,"juin",0.37523988793911045,0.40496333061913525,0.43571364143510383,0.46441021597918497,0.49721426306704081,0.52180336506734737,0.54107309677632631,0.55642186976115116,0.56914741493962939,0.43571364143510383]
[null,"juillet",0.6035761519199041,0.62558529935025209,0.64827822730877394,0.66960359421094806,0.69366408322581763,0.71225432801529631,0.72674337257337107,0.73760698526972934,0.74595177260457657,0.64827822730877394,"juillet",0.50211514055036333,0.52167934572608476,0.54179286564003171,0.56080775607752775,0.58201990546792559,0.59883753695251996,0.61227039134528349,0.62287022680403359,0.63141677737931934,0.54179286564003171,"juillet",0.60630046510939373,0.63015623831265932,0.65473844042350904,0.67786778471919051,0.70390284464520847,0.72412647331055346,0.73990407393444058,0.75263904895826717,0.76331900633496863,0.65473844042350904,"juillet",0.38758790895448358,0.41495708535703324,0.44316142041051376,0.46969543816213244,0.4995700905174747,0.52276347366536979,0.54109881513768965,0.55579708718684417,0.56808803209797187,0.44316142041051376]
[null,"aout",0.6246942350936856,0.64350632321937262,0.66289831637686469,0.68113049947074678,0.70168230269184895,0.71759486565851105,0.72993598875936183,0.73944606450280392,0.74697486564394866,0.66289831637686469,"aout",0.48327745559686081,0.49963007800235143,0.51643471029851451,0.53233532281333273,0.55004397489084067,0.56413654784296918,0.57536835351305016,0.58445015323931881,0.59178675481881304,0.51643471029851451,"aout",0.62956428363798322,0.64978456961858411,0.6705450634489607,0.69022514157978576,0.71206605110971388,0.729585297841436,0.74370953612062862,0.75543435298898254,0.76538879407838945,0.6705450634489607,"aout",0.42225251504939509,0.44487961889167937,0.46812295903867951,0.49013382657624793,0.51460963933267978,0.53415556165138467,0.5499207566018629,0.56295830094244459,0.57376102442281396,0.46812295903867951]
[null,"septembre",0.6302013079475498,0.64827393154377677,0.66687695913064071,0.6844191787362307,0.70408301430436859,0.71950361794741069,0.73164561051325117,0.74106086857551889,0.74860417241827049,0.66687695913064071,"septembre",0.48493325494605038,0.50127636525793107,0.51804833345661694,0.53396258588169243,0.55159226985398868,0.56579109073184342,0.57721232355955177,0.58646262640529367,0.59415895479018788,0.51804833345661694,"septembre",0.63219811068204557,0.65179807325111949,0.67190119131389925,0.69099799838926734,0.71210742743945876,0.72919161254000342,0.74309639651281256,0.75479858457610305,0.76476602160459983,0.67190119131389925,"septembre",0.42518758212641988,0.44721412336798133,0.4698378314143617,0.49126720585110423,0.51508524750712259,0.53412595472458924,0.54970496843079564,0.56255832178610532,0.57357892839268987,0.4698378314143617]
[null,"octobre",0.62218336085820836,0.64015199985804294,0.65865968372343597,0.676089277857712,0.69567505145422204,0.71094846612626417,0.72308519898537249,0.73259284245746159,0.74040713184620044,0.65865968372343597,"octobre",0.49917119039550389,0.51621642943022694,0.5337173594662501,0.55030690749967304,0.56871921953829629,0.58348600356651892,0.59547671244359579,0.60523657766411865,0.6133008422377999,0.5337173594662501,"octobre",0.64631987518965062,0.66445162565310734,0.68305161242153645,0.70071512658002066,0.72025158595839467,0.73604215489698899,0.74904562602118274,0.75984638881387656,0.76911673760679444,0.68305161242153645,"octobre",0.43783486386593845,0.45833056705577152,0.47932985156870017,0.49932197343543766,0.52132842059455764,0.53930621716891258,0.55405094128067101,0.56643775824389231,0.57688562547066191,0.47932985156870017]
[null,"novembre",0.59237654521801852,0.61391152549410977,0.63608671865972388,0.65698148604629225,0.68043710499095222,0.69877102081942888,0.71320772040586933,0.72450630539068794,0.73372242816716993,0.63608671865972388,"novembre",0.43452108193198374,0.4543034801113856,0.47462641010503021,0.49386827647018927,0.51527227009231924,0.5323520092005074,0.54611744631053027,0.55730764276483136,0.56647069185499355,0.47462641010503021,"novembre",0.63852489354375008,0.65934226584529754,0.68077382850710666,0.70097701044839256,0.7236369538307249,0.74138337433096446,0.75558000500314537,0.76707848580030835,0.77664451285125669,0.68077382850710666,"novembre",0.42260324449854519,0.44617772760945479,0.47042385295675088,0.49332669383127398,0.51891610365134322,0.53913237558032012,0.55561914313936867,0.56944033553256457,0.58057400084800215,0.47042385295675088]
[null,"decembre",0.58699626739447275,0.60953424902837483,0.63284279368146767,0.65461021229617899,0.67945988298765336,0.69814504952560175,0.712465443090746,0.7234347506730614,0.73225739762286446,0.63284279368146767,"decembre",0.44568152372315495,0.46710922701089308,0.48919317396551332,0.50996463358636923,0.53336106787475368,0.55150755282808106,0.56581771635796307,0.57722586998854264,0.58651736420604561,0.48919317396551332,"decembre",0.63386109361979537,0.65617923841483827,0.67922368135231315,0.70081552800492397,0.72531256722726289,0.74399922131014562,0.75869805307891669,0.77028123309897245,0.77974859435845478,0.67922368135231315,"decembre",0.42041822193361783,0.44517528807643386,0.47072050856921294,0.49468942036206603,0.52181094955477092,0.54262724394777218,0.5592548474703164,0.57297332934040734,0.58415988558298115,0.47072050856921294]
[]
[]
[null,"Ref typique",null,null,null,"Léger",null,null,null,null,null,null,"Ref typique",null,null,null,"Léger",null,null,null,null,null,null,"Ref typique",null,null,null,"Léger",null,null,null,null,null,null,"Ref typique",null,null,null,"Léger"]
[]
[null,null,28,27,26,25,24,23,22,21,20,{"$f":"TempConsigne","v":26},null,28,27,26,25,24,23,22,21,20,{"$f":"TempConsigne","v":26},null,28,27,26,25,24,23,22,21,20,{"$f":"TempConsigne","v":26},null,28,27,26,25,24,23,22,21,20,{"$f":"TempConsigne","v":26}]
[null,"janvier",{"$f":"C$20*((D72-F72)/(D$20-F$20))+D72-D$20*((D72-F72)/(D$20-F$20))","v":0.66928369554175038},{"$f":"D$20*((E72-G72)/(E$20-G$20))+E72-E$20*((E72-G72)/(E$20-G$20))","v":0.68985743562299173},{"$f":"E$20*((F72-H72)/(F$20-H$20))+F72-F$20*((F72-H72)/(F$20-H$20))","v":0.71135868217332754},0.73100491578547433,0.75436117527399926,0.77029738300976791,0.78095286478591508,0.78714660998996189,0.79125234419870971,{"$f":"HLOOKUP(L71,C71:K83,2,FALSE)","v":0.71135868217332754},"janvier",{"$f":"N$20*((O72-Q72)/(O$20-Q$20))+O72-O$20*((O72-Q72)/(O$20-Q$20))","v":0.52595802551607496},{"$f":"O$20*((P72-R72)/(P$20-R$20))+P72-P$20*((P72-R72)/(P$20-R$20))","v":0.5452120668394117},{"$f":"P$20*((Q72-S72)/(Q$20-S$20))+Q72-Q$20*((Q72-S72)/(Q$20-S$20))","v":0.56519773561662134},0.58372014948608519,0.60516907317104074,0.62076497722501289,0.63204959596119958,0.64023472652662572,0.6464033407409836,{"$f":"HLOOKUP(W71,N71:V83,2,FALSE)","v":0.56519773561662134},"janvier",{"$f":"Y$20*((Z72-AB72)/(Z$20-AB$20))+Z72-Z$20*((Z72-AB72)/(Z$20-AB$20))","v":0.68470232522040275},{"$f":"Z$20*((AA72-AC72)/(AA$20-AC$20))+AA72-AA$20*((AA72-AC72)/(AA$20-AC$20))","v":0.70503711587439533},{"$f":"AA$20*((AB72-AD72)/(AB$20-AD$20))+AB72-AB$20*((AB72-AD72)/(AB$20-AD$20))","v":0.72629430303536779},0.74570669718238047,0.76880867735731273,0.78453148547640583,0.79452285319658988,0.80179277406648231,0.80787090168486142,{"$f":"HLOOKUP(AH71,Y71:AG83,2,FALSE)","v":0.72629430303536779},"janvier",{"$f":"AJ$20*((AK72-AM72)/(AK$20-AM$20))+AK72-AK$20*((AK72-AM72)/(AK$20-AM$20))","v":0.4409357370931688},{"$f":"AK$20*((AL72-AN72)/(AL$20-AN$20))+AL72-AL$20*((AL72-AN72)/(AL$20-AN$20))","v":0.47198127161281622},{"$f":"AL$20*((AM72-AO72)/(AM$20-AO$20))+AM72-AM$20*((AM72-AO72)/(AM$20-AO$20))","v":0.50411961180094322},0.53407234065211096,0.56839629217719723,0.59397779835444631,0.61251894775278215,0.62585813083475572,0.63573293957493981,{"$f":"HLOOKUP(AS71,AJ71:AR83,2,FALSE)","v":0.50411961180094322}]
[null,"fevrier",{"$f":"C$20*((D73-F73)/(D$20-F$20))+D73-D$20*((D73-F73)/(D$20-F$20))","v":0.70149561208537026},0.72005419920646274,{"$f":"E$20*((F73-H73)/(F$20-H$20))+F73-F$20*((F73-H73)/(F$20-H$20))","v":0.73952317402928758},0.7571713734486476,0.77846112367493714,0.79246777228736753,0.80106410495911706,0.80521688472651387,0.80718210545823565,{"$f":"HLOOKUP(L72,C72:K84,2,FALSE)","v":0.73952317402928758},"fevrier",{"$f":"N$20*((O73-Q73)/(O$20-Q$20))+O73-O$20*((O73-Q73)/(O$20-Q$20))","v":0.52332979776507615},0.54189311526236139,{"$f":"P$20*((Q73-S73)/(Q$20-S$20))+Q73-Q$20*((Q73-S73)/(Q$20-S$20))","v":0.56115053531422177},0.57901975025693198,0.59966537541794251,0.6147581801423524,0.62507450890226912,0.63213716461813352,0.6369665755540499,{"$f":"HLOOKUP(W72,N72:V84,2,FALSE)","v":0.56115053531422177},"fevrier",{"$f":"Y$20*((Z73-AB73)/(Z$20-AB$20))+Z73-Z$20*((Z73-AB73)/(Z$20-AB$20))","v":0.67280362942877703},0.69348774470814079,{"$f":"AA$20*((AB73-AD73)/(AB$20-AD$20))+AB73-AB$20*((AB73-AD73)/(AB$20-AD$20))","v":0.71505731439039411},0.7348559752668683,0.75819645375490075,0.77445329701981669,0.78475692997456503,0.79201665065808935,0.79814771446771815,{"$f":"HLOOKUP(AH72,Y72:AG84,2,FALSE)","v":0.71505731439039411},"fevrier",{"$f":"AJ$20*((AK73-AM73)/(AK$20-AM$20))+AK73-AK$20*((AK73-AM73)/(AK$20-AM$20))","v":0.43726190553588606},0.46885694996839544,{"$f":"AL$20*((AM73-AO73)/(AM$20-AO$20))+AM73-AM$20*((AM73-AO73)/(AM$20-AO$20))","v":0.50165661136343986},0.5320470388334142,0.56725593415352871,0.59282789377336276,0.61106970929313542,0.62372190950831297,0.63291686107798917,{"$f":"HLOOKUP(AS72,AJ72:AR84,2,FALSE)","v":0.50165661136343986}]
[null,"mars",0.70977743344900546,0.72764362107110103,0.74647905167729889,0.76337599631529229,0.7841499128896946,0.7971698855912791,0.80374587315931667,0.8068593579854465,0.80830654484058884,0.74647905167729889,"mars",0.51256779056824286,0.52890724096281305,0.54598512298289803,0.56158614175195354,0.58014088702306799,0.59278817929006467,0.60102472448034183,0.60628443859367087,0.60969576499247113,0.54598512298289803,"mars",0.6661420197661051,0.68638089653923073,0.70765907131207473,0.72685865008548201,0.75021542085776283,0.76525780763229656,0.77511678598527922,0.78299932358855984,0.78980685169311204,0.70765907131207473,"mars",0.42049940553015486,0.45338392572397612,0.48761856215681776,0.51915296611161854,0.55608783502250103,0.58222177402122022,0.60066358189309033,0.61372478244120832,0.62350219168515442,0.48761856215681776]
[null,"avril",0.72392566545198456,0.7402838645885732,0.75748851778550819,0.77300026286175061,0.79189782417937804,0.80402375301423545,0.81096978767728634,0.81444166373855942,0.81584534853997526,0.75748851778550819,"avril",0.58287040459336525,0.59924082602918871,0.6162418556367395,0.63198166890083562,0.65024391485184108,0.66346129542902776,0.67267528723538561,0.67866891832134602,0.68244549162224311,0.6162418556367395,"avril",0.68423452013314545,0.70182347771764464,0.72024464934621069,0.7370013928866429,0.75708699260334267,0.77051487996750734,0.77983946908800128,0.78694255412217728,0.79319357542006474,0.72024464934621069,"avril",0.4555943250273955,0.48428560707953161,0.51408686246149782,0.54166817118380395,0.57368937322543023,0.5968307886284161,0.61363743371491097,0.62553990711326879,0.63443575283222431,0.51408686246149782]
[null,"mai",0.73843882329034438,0.75158113780072056,0.76540821806729631,0.7778657668214729,0.79306237860044781,0.8027808643298262,0.80860707767399209,0.81176322899325926,0.813188871779573,0.76540821806729631,"mai",0.53502589560747593,0.55164407253006598,0.56890989330602326,0.58488042637524607,0.60344153485793772,0.61682149251369167,0.62657458381998443,0.63392298665502278,0.63968132476327366,0.56890989330602326,"mai",0.69023439608381021,0.70562052198788938,0.72163374222905308,0.73639277379604762,0.75366018271138047,0.76591083693003659,0.77497752194783898,0.78212264279671428,0.78852082096590959,0.72163374222905308,"mai",0.45768253848221441,0.48405229070967781,0.51136075654456403,0.53679179516460462,0.56597768821433658,0.58765387240468592,0.60357796822305398,0.6157863712032311,0.62542049240677855,0.51136075654456403]
[null,"juin",0.69455013780502417,0.71673741247371237,0.73981408941743687,0.76111196181108887,0.78596744330488588,0.80370770659839297,0.81566216892189514,0.82221406923508944,0.82469488252384848,0.73981408941743687,"juin",0.51647101617898017,0.53340767107299714,0.55087892914141712,0.56728098086103107,0.58582144527825708,0.60008508430025898,0.61068106860263138,0.61777076852722856,0.6215595585373529,0.55087892914141712,"juin",0.64163935026685892,0.66429014723364321,0.68793071890289148,0.7095917411672118,0.73521186224138801,0.75291378569585243,0.76513166216129469,0.77404150720525067,0.78115504594531704,0.68793071890289148,"juin",0.3964921455033803,0.43113290349669497,0.4669760271340222,0.50041441948332432,0.53866227440867653,0.56729120418192847,0.58878197325760329,0.60440991596434102,0.61622842162036107,0.4669760271340222]
[null,"juillet",0.6948854241965059,0.71580967543695517,0.73752674405212726,0.75765817791785361,0.78096088128247154,0.79792104564930633,0.80931547180248531,0.81584792039320797,0.81884276742970041,0.73752674405212726,"juillet",0.57684330591898658,0.59509244956657137,0.61391164091628192,0.63159073686174083,0.65155002361570291,0.66694892875265877,0.67822214450376184,0.68627024134874137,0.69158168815944854,0.61391164091628192,"juillet",0.67025951848465326,0.68916331367174199,0.70888631398673829,0.72697090404591935,0.748332314616731,0.76314008416428158,0.77330096588045305,0.78065643080829006,0.78699054692349779,0.70888631398673829,"juillet",0.42387702468275845,0.45472280373124641,0.48656957139256241,0.51641436182822231,0.55026310671519452,0.57610394269954202,0.59583257614980456,0.61041455750982232,0.62142093206840021,0.48656957139256241]
[null,"aout",0.72478912150031949,0.74112217082545806,0.75810244421197981,0.7737882694757352,0.79206299098502342,0.80515992000324599,0.81417381284701784,0.81912795004026362,0.82179199604834141,0.75810244421197981,"aout",0.54808019743307834,0.5629785325920641,0.57836330137517178,0.5927752029100356,0.60913283894138714,0.62159900597976325,0.63095004021325685,0.63762747884853355,0.64254907779274806,0.57836330137517178,"aout",0.69546212626794701,0.71005374583981262,0.72526474990119183,0.73923698498354373,0.75568675802395036,0.76718145514824754,0.77491942534636471,0.78153842485348834,0.78760849090510321,0.72526474990119183,"aout",0.46416309241598463,0.48957358223071301,0.51573935518169545,0.54039456186016976,0.56807090108366021,0.58970497521711851,0.606571594949883,0.61901826197067922,0.62847405894680197,0.51573935518169545]
[null,"septembre",0.72865359028515631,0.74445647586644925,0.76082342427725425,0.77606224702903503,0.79355732109886423,0.80653989253259672,0.81556864676992147,0.82090760753702097,0.82376081862751394,0.76082342427725425,"septembre",0.55523394015599925,0.57016571854560594,0.58554181156267093,0.60002927532481931,0.61629399759680081,0.62900420284911607,0.63869340621561776,0.64571614818216116,0.6506551692815894,0.58554181156267093,"septembre",0.6972411883969496,0.71113870639773968,0.72559691276525617,0.73893374239931986,0.75451332550028904,0.76560740166744712,0.77437519751139805,0.78109164630446548,0.78748907971935656,0.72559691276525617,"septembre",0.46860811614668307,0.49321782567072137,0.51859395729919633,0.54243724471879795,0.56934622055614614,0.59012381955800108,0.60649398038021052,0.61872119910133005,0.62810838625240695,0.51859395729919633]
[null,"octobre",0.72003956056497254,0.73550581782602653,0.75154939159347878,0.76643833234813452,0.78363653912838316,0.7962162138574459,0.8048368495826852,0.81009746908476743,0.813239019124118,0.75154939159347878,"octobre",0.56989577565949479,0.58505118920219656,0.60066573238472576,0.61536201628760012,0.63189481874978404,0.64475458409334885,0.65448237585375846,0.66166660297356672,0.66668432633503827,0.60066573238472576,"octobre",0.71847668139015275,0.73065759743365799,0.74335358288775244,0.75501942952066847,0.76874555379594123,0.77835112278650043,0.78498310330161791,0.79063907170879888,0.79608120378721725,0.74335358288775244,"octobre",0.48831935608547039,0.51091528019036891,0.53417176555300738,0.55610712840016607,0.58068473627828432,0.59997785409448345,0.61503228018456157,0.62629083387938511,0.63490517409465608,0.53417176555300738]
[null,"novembre",0.6743064913653638,0.6947993374044803,0.71595625012574371,0.7357850294827134,0.75827007556827053,0.77544258819665279,0.78787847243528497,0.79586933767855883,0.8011390778870926,0.71595625012574371,"novembre",0.48314737609698288,0.50216481608182328,0.52173278633998732,0.54019969605150409,0.56086872685631539,0.57713351547453762,0.58966914890819355,0.59896070730990436,0.60606975853897405,0.52173278633998732,"novembre",0.70021223690763801,0.718123850823981,0.73672286041195723,0.75394707865666688,0.77392087958790967,0.78839551514608619,0.79710086169867722,0.80275495528218588,0.80762360169382041,0.73672286041195723,"novembre",0.46229555068835637,0.48960636539384461,0.51765549902259722,0.54422799480482109,0.57375376628010233,0.59737298636926894,0.61548833244212242,0.62844881620090554,0.63790146623984512,0.51765549902259722]
[null,"decembre",0.67910894777093522,0.69885767413609179,0.71941354178848371,0.73835512686640503,0.76052527709326767,0.77623829702224767,0.78712859187877526,0.79430608320935292,0.79883040820680618,0.71941354178848371,"decembre",0.50371734853999262,0.52351701438285358,0.54395338772857416,0.56311634606857552,0.58482613442001541,0.60144226274857826,0.61400498120410141,0.62370979873313348,0.63119514466029636,0.54395338772857416,"decembre",0.7000174538355719,0.71807066790971119,0.73690010523457117,0.75417709605798977,0.77455897988429112,0.78873107770482698,0.79757224491696055,0.80403599850103979,0.8090923570479801,0.73690010523457117,"decembre",0.46369344179655225,0.49159384214485136,0.52042276074977634,0.54739464284144956,0.57808059795962641,0.60133840702479602,0.61904204927667794,0.63131334399805539,0.6406189319314487,0.52042276074977634]
[]
[]
[null,"Ref typique",null,null,null,"Moyen",null,null,null,null,null,null,"Ref typique",null,null,null,"Moyen",null,null,null,null,null,null,"Ref typique",null,null,null,"Moyen",null,null,null,null,null,null,"Ref typique",null,null,null,"Moyen"]
[]
[null,null,28,27,26,25,24,23,22,21,20,{"$f":"TempConsigne","v":26},null,28,27,26,25,24,23,22,21,20,{"$f":"TempConsigne","v":26},null,28,27,26,25,24,23,22,21,20,{"$f":"TempConsigne","v":26},null,28,27,26,25,24,23,22,21,20,{"$f":"TempConsigne","v":26}]
[null,"janvier",{"$f":"C$20*((D89-F89)/(D$20-F$20))+D89-D$20*((D89-F89)/(D$20-F$20))","v":0.66348500932434229},{"$f":"D$20*((E89-G89)/(E$20-G$20))+E89-E$20*((E89-G89)/(E$20-G$20))","v":0.68475535738087157},{"$f":"E$20*((F89-H89)/(F$20-H$20))+F89-F$20*((F89-H89)/(F$20-H$20))","v":0.70642432971532487},0.72729605349393012,0.74976227438423149,0.76903950105114061,0.7812580579065993,0.78890734219130065,0.79393728907689576,{"$f":"HLOOKUP(L88,C88:K100,2,FALSE)","v":0.70642432971532487},"janvier",{"$f":"N$20*((O89-Q89)/(O$20-Q$20))+O89-O$20*((O89-Q89)/(O$20-Q$20))","v":0.52756300253029098},{"$f":"O$20*((P89-R89)/(P$20-R$20))+P89-P$20*((P89-R89)/(P$20-R$20))","v":0.54839366789565436},{"$f":"P$20*((Q89-S89)/(Q$20-S$20))+Q89-Q$20*((Q89-S89)/(Q$20-S$20))","v":0.56952712200635203},0.59005499862638111,0.61179403022774748,0.63111075186643939,0.64453102589562938,0.65444869501009839,0.66192930900500779,{"$f":"HLOOKUP(W88,N88:V100,2,FALSE)","v":0.56952712200635203},"janvier",{"$f":"Y$20*((Z89-AB89)/(Z$20-AB$20))+Z89-Z$20*((Z89-AB89)/(Z$20-AB$20))","v":0.71232516504679577},{"$f":"Z$20*((AA89-AC89)/(AA$20-AC$20))+AA89-AA$20*((AA89-AC89)/(AA$20-AC$20))","v":0.72957574373639522},{"$f":"AA$20*((AB89-AD89)/(AB$20-AD$20))+AB89-AB$20*((AB89-AD89)/(AB$20-AD$20))","v":0.74696431214994563},0.76407690111559412,0.78174144897704645,0.79830207904689121,0.808393777483569,0.81546003280318147,0.82090129416085511,{"$f":"HLOOKUP(AH88,Y88:AG100,2,FALSE)","v":0.74696431214994563},"janvier",{"$f":"AJ$20*((AK89-AM89)/(AK$20-AM$20))+AK89-AK$20*((AK89-AM89)/(AK$20-AM$20))","v":0.48205223881585346},{"$f":"AK$20*((AL89-AN89)/(AL$20-AN$20))+AL89-AL$20*((AL89-AN89)/(AL$20-AN$20))","v":0.50936338775502965},{"$f":"AL$20*((AM89-AO89)/(AM$20-AO$20))+AM89-AM$20*((AM89-AO89)/(AM$20-AO$20))","v":0.53725766575898526},0.56398568563338203,0.59304622176689636,0.61744172538217568,0.63449808501584004,0.64640956509126934,0.6556011561331434,{"$f":"HLOOKUP(AS88,AJ88:AR100,2,FALSE)","v":0.53725766575898526}]
[null,"fevrier",{"$f":"C$20*((D90-F90)/(D$20-F$20))+D90-D$20*((D90-F90)/(D$20-F$20))","v":0.6868588309073197},0.70723605460255989,{"$f":"E$20*((F90-H90)/(F$20-H$20))+F90-F$20*((F90-H90)/(F$20-H$20))","v":0.72797308070993472},0.74799050199304029,0.76944713292468436,0.78802534455925133,0.79876031088945132,0.80491298140350243,0.80821230930964616,{"$f":"HLOOKUP(L89,C89:K101,2,FALSE)","v":0.72797308070993472},"fevrier",{"$f":"N$20*((O90-Q90)/(O$20-Q$20))+O90-O$20*((O90-Q90)/(O$20-Q$20))","v":0.52393001712874609},0.54468655088098794,{"$f":"P$20*((Q90-S90)/(Q$20-S$20))+Q90-Q$20*((Q90-S90)/(Q$20-S$20))","v":0.56574251744331139},0.58619961838547163,0.60785445056795817,0.62711382026979223,0.64004291122127732,0.64906952967875031,0.6555407249038796,{"$f":"HLOOKUP(W89,N89:V101,2,FALSE)","v":0.56574251744331139},"fevrier",{"$f":"Y$20*((Z90-AB90)/(Z$20-AB$20))+Z90-Z$20*((Z90-AB90)/(Z$20-AB$20))","v":0.70825589593958616},0.72529687148906685,{"$f":"AA$20*((AB90-AD90)/(AB$20-AD$20))+AB90-AB$20*((AB90-AD90)/(AB$20-AD$20))","v":0.74250207668595847},0.75937882258802836,0.77691248707974159,0.79313231439216814,0.80249033004091297,0.80881145583493197,0.8140710729451508,{"$f":"HLOOKUP(AH89,Y89:AG101,2,FALSE)","v":0.74250207668595847},"fevrier",{"$f":"AJ$20*((AK90-AM90)/(AK$20-AM$20))+AK90-AK$20*((AK90-AM90)/(AK$20-AM$20))","v":0.48535457374688951},0.51279020258115215,{"$f":"AL$20*((AM90-AO90)/(AM$20-AO$20))+AM90-AM$20*((AM90-AO90)/(AM$20-AO$20))","v":0.54087409234000139},0.56766146024967745,0.59704187185769997,0.62123619606902969,0.63733788284255199,0.64805876627483994,0.65598072277771535,{"$f":"HLOOKUP(AS89,AJ89:AR101,2,FALSE)","v":0.54087409234000139}]
[null,"mars",0.69265454786914094,0.71250051367073464,0.73273023260430747,0.75219244527392204,0.77318967047145315,0.79111687061315106,0.80030508546928736,0.80519185139111193,0.80803368442376156,0.73273023260430747,"mars",0.51066579129240108,0.52901719186202845,0.54764633911446237,0.56571999300128306,0.58490463361933021,0.60186730077492456,0.61242699692913538,0.61943013793174184,0.62432278300541777,0.54764633911446237,"mars",0.70120914660531697,0.71800265799712659,0.73506804133637227,0.75158968078074573,0.76919880801486362,0.78463295966949265,0.79357906476029383,0.80012415847641027,0.80611199002986866,0.73506804133637227,"mars",0.46970823504336734,0.49829804417176315,0.52763825114709662,0.55547766242855479,0.58631866509776354,0.61115648499147113,0.62695177328427776,0.63767081594079011,0.6455979381556799,0.52763825114709662]
[null,"avril",0.70851963899514203,0.72658129188369158,0.74489823024116886,0.76270459766079068,0.78153210695612341,0.79831733250003434,0.80762065285881779,0.81309043511379053,0.81598395424792314,0.74489823024116886,"avril",0.58149354690965183,0.60014187481021453,0.61895114953915431,0.63743853061133982,0.65656969899703377,0.67441329275571082,0.68632240033137804,0.69454508035299256,0.70016506525362865,0.61895114953915431,"avril",0.72127953779691123,0.7353828948702088,0.74955413229399204,0.76358960901680395,0.7778966071415585,0.79166056246242766,0.79982325641280749,0.80598540197786528,0.81116534984889344,0.74955413229399204,"avril",0.50774486379521089,0.53190780892262435,0.55657213895768909,0.58023369917745138,0.60590079902781846,0.62755681961697596,0.64160737823192682,0.65160025879494765,0.65869330116955105,0.55657213895768909]
[null,"mai",0.72366809817696032,0.7383727075451646,0.7533015980017983,0.76778192628157305,0.78315937891506571,0.79674258284112254,0.80478974704218809,0.80955166705667225,0.81228879965654466,0.7533015980017983,"mai",0.54503167363914318,0.56278339550012024,0.58081646368255868,0.59828683922207448,0.61688260004743556,0.63322759030110609,0.64463528418936633,0.65322556182453217,0.65993784096841634,0.58081646368255868,"mai",0.72641206128697866,0.73834848970429601,0.75031903642957909,0.76222134653893059,0.77426012988014536,0.78602596675763348,0.79393574478071538,0.80043041435913442,0.80607888004044881,0.75031903642957909,"mai",0.50554226195805074,0.52795586673966166,0.55084483349408608,0.5727830763028835,0.59662276700293482,0.61665956192047833,0.63053308174251932,0.64066088591906956,0.64860650780029527,0.55084483349408608]
[null,"juin",0.67518407018220106,0.69879398331792886,0.72273128203734338,0.74601380958938446,0.77060587947617243,0.79257886469346661,0.80728240445328792,0.81666764277946402,0.82161216525366709,0.72273128203734338,"juin",0.5083405481544937,0.52723019819823524,0.54630847642384839,0.56500949828571834,0.58446503287507467,0.60241154200945835,0.615909894671132,0.62546494549271303,0.63163535902855283,0.54630847642384839,"juin",0.68637427211327928,0.70423102427519302,0.7223430692105306,0.73994452859902049,0.75856715908120564,0.77514744737600016,0.78601903697522779,0.79411886297787893,0.80050028893269054,0.7223430692105306,"juin",0.45260333225166083,0.48239468525284768,0.51290302434622248,0.54197739125522137,0.57391970253297209,0.60012612507321927,0.61888185773491966,0.63264683894483353,0.64279264659705893,0.51290302434622248]
[null,"juillet",0.67950023817169136,0.70156537188692913,0.72393765216808648,0.74569563931740457,0.76868221273040127,0.78921161361604075,0.80330056633250146,0.81215296020974548,0.81705570440984221,0.72393765216808648,"juillet",0.56925692668009686,0.5898314856166893,0.61061330954887305,0.63098060348987406,0.65217695741324055,0.67171519137187596,0.68612728943227408,0.6968938735804987,0.70456897989914236,0.61061330954887305,"juillet",0.70584208223912503,0.72148375759667882,0.73743440227426027,0.75276710831178639,0.76933569162942317,0.78343252038683875,0.79289212493075212,0.79986682827610245,0.80544731367559297,0.73743440227426027,"juillet",0.47509756988621976,0.50174980138010594,0.52896937007238498,0.55505426436787819,0.58340850745694317,0.60722405295886461,0.62485711404932842,0.63744206249707391,0.64676885768531234,0.52896937007238498]
[null,"aout",0.7107940206862049,0.72831972532399258,0.74611762355325095,0.76337113459956796,0.78171342001176758,0.79787815669220197,0.8091489244972172,0.81602215050190563,0.82032834538124033,0.74611762355325095,"aout",0.54991055189508975,0.56620781455440183,0.58269406696770965,0.59880233987302589,0.61566657179432527,0.63101888568365827,0.6424780853957146,0.6508685902697835,0.6571756895955535,0.58269406696770965,"aout",0.73060904179953368,0.74213894804675351,0.75381971366009737,0.76519876054119329,0.77718124488678497,0.78795685430338513,0.7950826701381325,0.80090747063328305,0.80632339483650706,0.75381971366009737,"aout",0.51523731007742424,0.53659617963397055,0.55832592955437876,0.57931391874706317,0.60178542939519519,0.6212898971324321,0.63562659229434737,0.64614740327342191,0.65364936165709131,0.55832592955437876]
[null,"septembre",0.71556941579087496,0.73242165555748373,0.74951113054071938,0.76612613509070115,0.78369008050719069,0.79935614419066459,0.81035254275628932,0.81747709940498248,0.8218913505511084,0.74951113054071938,"septembre",0.55523814695598372,0.57185289200551681,0.58866358163149657,0.60508238210458309,0.62228496088345608,0.63791998305075615,0.64982422002612406,0.65885071433025422,0.66552059330949864,0.58866358163149657,"septembre",0.732239910909256,0.74296120385453546,0.75380725792880687,0.76440378974509438,0.77549936607734971,0.78559685337766949,0.79344109819794639,0.80010666412511333,0.80581917805639824,0.75380725792880687,"septembre",0.51966613385435767,0.53999722037081332,0.56073054830313773,0.58065939340372463,0.60219720416778666,0.62051708360489832,0.63449625022854417,0.64450327419321307,0.65242720731704451,0.56073054830313773]
[null,"octobre",0.71152001450922575,0.7275998918616815,0.74397712702007424,0.75975964656659312,0.7767315973368597,0.79132468565963088,0.80174214589850346,0.80851180611705065,0.81305492010526514,0.74397712702007424,"octobre",0.5722921451626648,0.58876051424730891,0.60546367863859007,0.62169725241659701,0.63887000742115241,0.654164399972611,0.66605256968509008,0.67494883700764419,0.6817407420148266,0.60546367863859007,"octobre",0.74929233146399898,0.75888493890125475,0.76865896519598975,0.77807015377576627,0.78820701778545976,0.79689253093531931,0.80298475995272189,0.80822445390395437,0.81286399834878487,0.76865896519598975,"octobre",0.53567228459952865,0.55441870055555242,0.57349484991161237,0.59191153246759998,0.61164714862373226,0.62874489757957519,0.64181985527201013,0.65130754481748987,0.65844011764908239,0.57349484991161237]
[null,"novembre",0.6725879815865814,0.69314479675630625,0.71403358674276374,0.73425842709575584,0.75581116671567872,0.77470810780174004,0.78844174448648685,0.797627346113014,0.80389842635659636,0.71403358674276374,"novembre",0.49419952230409236,0.51385653718705993,0.53379227555300335,0.55317056695299494,0.57366375228489008,0.591927149752978,0.60601788541475277,0.61674278388718629,0.62499825543582932,0.53379227555300335,"novembre",0.73009825128239858,0.74494898196130022,0.76000722287060762,0.77465044331910338,0.79012370468922255,0.80393688421609477,0.812620496735172,0.81810087534803588,0.82243453697406033,0.76000722287060762,"novembre",0.50583408185885126,0.52964282394101303,0.55387252117879626,0.57726030810533657,0.60233191565436273,0.6240358819584173,0.64048679461475466,0.65233759990385187,0.66101071208922491,0.55387252117879626]
[null,"decembre",0.67474432121568406,0.69507072339133169,0.71574659867444645,0.73572352774262695,0.75709834924067598,0.77567738587898805,0.78804812337153696,0.79615856409120056,0.80157807462626973,0.71574659867444645,"decembre",0.51112862273716242,0.5324996169463081,0.55417725168814103,0.57524160536459945,0.597532521171807,0.61737031271751641,0.63199422602421595,0.64312105456147439,0.65182407978103452,0.55417725168814103,"decembre",0.72907774262156777,0.74408619972667089,0.75920635598574138,0.77410311393687714,0.78944666850388234,0.80389662983914856,0.81279529609755907,0.81883838903441786,0.82348095590018011,0.75920635598574138,"decembre",0.50708929171542705,0.53142072536036244,0.5562833992769306,0.58008359265023324,0.6060087471100668,0.62768397939683862,0.64339310864018617,0.65465327624730607,0.66310195314363718,0.5562833992769306]
[]
[]
[null,"Ref typique",null,null,null,"Lourd",null,null,null,null,null,null,"Ref typique",null,null,null,"Lourd",null,null,null,null,null,null,"Ref typique",null,null,null,"Lourd",null,null,null,null,null,null,"Ref typique",null,null,null,"Lourd"]
[]
[null,null,28,27,26,25,24,23,22,21,20,{"$f":"TempConsigne","v":26},null,28,27,26,25,24,23,22,21,20,{"$f":"TempConsigne","v":26},null,28,27,26,25,24,23,22,21,20,{"$f":"TempConsigne","v":26},null,28,27,26,25,24,23,22,21,20,{"$f":"TempConsigne","v":26}]
[null,"janvier",{"$f":"C$20*((D106-F106)/(D$20-F$20))+D106-D$20*((D106-F106)/(D$20-F$20))","v":0.66921924694757562},{"$f":"D$20*((E106-G106)/(E$20-G$20))+E106-E$20*((E106-G106)/(E$20-G$20))","v":0.69086901216747787},{"$f":"E$20*((F106-H106)/(F$20-H$20))+F106-F$20*((F106-H106)/(F$20-H$20))","v":0.71287576234791861},0.73416854260728237,0.75688926270879997,0.7767541031260099,0.78873897493388445,0.79660611303344864,0.80164098501353398,{"$f":"HLOOKUP(L105,C105:K117,2,FALSE)","v":0.71287576234791861},"janvier",{"$f":"N$20*((O106-Q106)/(O$20-Q$20))+O106-O$20*((O106-Q106)/(O$20-Q$20))","v":0.54527443724059022},{"$f":"O$20*((P106-R106)/(P$20-R$20))+P106-P$20*((P106-R106)/(P$20-R$20))","v":0.56871308537365572},{"$f":"P$20*((Q106-S106)/(Q$20-S$20))+Q106-Q$20*((Q106-S106)/(Q$20-S$20))","v":0.59253134191134083},0.61559038163978674,0.64016785498671103,0.66170846109667869,0.67633059391572514,0.68701384083044981,0.69492731233907701,{"$f":"HLOOKUP(W105,N105:V117,2,FALSE)","v":0.59253134191134083},"janvier",{"$f":"Y$20*((Z106-AB106)/(Z$20-AB$20))+Z106-Z$20*((Z106-AB106)/(Z$20-AB$20))","v":0.69454801311123504},{"$f":"Z$20*((AA106-AC106)/(AA$20-AC$20))+AA106-AA$20*((AA106-AC106)/(AA$20-AC$20))","v":0.7148819794453124},{"$f":"AA$20*((AB106-AD106)/(AB$20-AD$20))+AB106-AB$20*((AB106-AD106)/(AB$20-AD$20))","v":0.73539114189255539},0.75554991211346711,0.77640946678704148,0.79586745255529046,0.80841237778316655,0.81765743944636682,0.82444101142140358,{"$f":"HLOOKUP(AH105,Y105:AG117,2,FALSE)","v":0.73539114189255539},"janvier",{"$f":"AJ$20*((AK106-AM106)/(AK$20-AM$20))+AK106-AK$20*((AK106-AM106)/(AK$20-AM$20))","v":0.48595938041119546},{"$f":"AK$20*((AL106-AN106)/(AL$20-AN$20))+AL106-AL$20*((AL106-AN106)/(AL$20-AN$20))","v":0.51321971424475743},{"$f":"AL$20*((AM106-AO106)/(AM$20-AO$20))+AM106-AM$20*((AM106-AO106)/(AM$20-AO$20))","v":0.54095369876475241},0.56774038191188136,0.59642166780474248,0.62131374820613916,0.63837846622238414,0.65174163783160333,0.6626283752558263,{"$f":"HLOOKUP(AS105,AJ105:AR117,2,FALSE)","v":0.54095369876475241}]
[null,"fevrier",{"$f":"C$20*((D107-F107)/(D$20-F$20))+D107-D$20*((D107-F107)/(D$20-F$20))","v":0.68565252850733094},0.70711695501221605,{"$f":"E$20*((F107-H107)/(F$20-H$20))+F107-F$20*((F107-H107)/(F$20-H$20))","v":0.72900595396094725},0.75004580802198617,0.77278395185840965,0.7921255161440639,0.80337817386083399,0.81007803319789384,0.81395525526268364,{"$f":"HLOOKUP(L106,C106:K118,2,FALSE)","v":0.72900595396094725},"fevrier",{"$f":"N$20*((O107-Q107)/(O$20-Q$20))+O107-O$20*((O107-Q107)/(O$20-Q$20))","v":0.54194731965634346},0.56603753173439053,{"$f":"P$20*((Q107-S107)/(Q$20-S$20))+Q107-Q$20*((Q107-S107)/(Q$20-S$20))","v":0.59058406484347814},0.61421795589048456,0.63967713106165347,0.66148573798449739,0.67651319944736776,0.68663293765452504,0.69372424020759782,{"$f":"HLOOKUP(W106,N106:V118,2,FALSE)","v":0.59058406484347814},"fevrier",{"$f":"Y$20*((Z107-AB107)/(Z$20-AB$20))+Z107-Z$20*((Z107-AB107)/(Z$20-AB$20))","v":0.7070988777257734},0.72545633766233064,{"$f":"AA$20*((AB107-AD107)/(AB$20-AD$20))+AB107-AB$20*((AB107-AD107)/(AB$20-AD$20))","v":0.74408366295441453},0.76217125753544501,0.7813383135385823,0.79834644669750587,0.80885771136801998,0.81642506792350356,0.82231382568328604,{"$f":"HLOOKUP(AH106,Y106:AG118,2,FALSE)","v":0.74408366295441453},"fevrier",{"$f":"AJ$20*((AK107-AM107)/(AK$20-AM$20))+AK107-AK$20*((AK107-AM107)/(AK$20-AM$20))","v":0.5060654158194432},0.53213028318783306,{"$f":"AL$20*((AM107-AO107)/(AM$20-AO$20))+AM107-AM$20*((AM107-AO107)/(AM$20-AO$20))","v":0.55886292956996164},0.5842600179246128,0.61232822233421869,0.63505419463391521,0.65048376589544366,0.66149770199117863,0.66959145955764121,{"$f":"HLOOKUP(AS106,AJ106:AR118,2,FALSE)","v":0.55886292956996164}]
[null,"mars",0.6883463065638783,0.70982228715074891,0.73171121919881055,0.75277424832449014,0.77548908329493393,0.79490030657584931,0.80473892499553801,0.81015374351820957,0.81309198948287098,0.73171121919881055,"mars",0.51719480327961975,0.53943679926141141,0.56206704113067973,0.58392079122499485,0.60732752486921637,0.62762829141362519,0.64004454023181312,0.64826333505170264,0.65354422160745707,0.56206704113067973,"mars",0.69971893047774936,0.71789531671623497,0.73613726487612019,0.75424808919320618,0.77262116119589075,0.79046973782737817,0.80097333624989764,0.80876732267944329,0.81526665036961488,0.73613726487612019,"mars",0.49083731208914594,0.51823042250378359,0.54625981965742532,0.57301664333305891,0.60231861396470876,0.62653029068432597,0.64115126904098263,0.65122600600418468,0.65862193310318362,0.54625981965742532]
[null,"avril",0.70871133476587533,0.72756881709041732,0.74686814254380096,0.76528378173950118,0.78546679345056836,0.80211506013090161,0.81199095797292176,0.81799994473783688,0.82121946012158797,0.74686814254380096,"avril",0.60191592682222517,0.6233802475892134,0.64524335166852775,0.66630888912318986,0.68896955982715657,0.70843996403251408,0.7215907145436703,0.7308321129605645,0.73680981330480888,0.64524335166852775,"avril",0.73015444882465563,0.74466370509239921,0.75931605126548485,0.77368221762788625,0.78862074361165613,0.80241455035268916,0.81138173880067166,0.81792234255133633,0.82335285757725407,0.75931605126548485,"avril",0.53914770676568424,0.56099426583169953,0.58339896887425868,0.60468738396373023,0.62820837495937698,0.64726421414267343,0.66018297248564661,0.66928887590293373,0.67608427486052314,0.58339896887425868]
[null,"mai",0.71331665869699512,0.73021275644811279,0.74737657458896944,0.76400495195034812,0.78170421087068276,0.79726170667310547,0.80625365196607279,0.81168217548516874,0.81476091403360329,0.74737657458896944,"mai",0.57046121937913208,0.59147291309566552,0.61285021896396552,0.63349630052873251,0.65560483070056552,0.6747884636582665,0.68767762003860156,0.69726956451845912,0.70406455388561229,0.61285021896396552,"mai",0.72491699262224507,0.73834892749179093,0.75185551133466844,0.76521279723088265,0.77886867902042334,0.79192736902331107,0.80087237036152004,0.80812982874223782,0.81424315556792748,0.75185551133466844,"mai",0.52141775097768539,0.54332961145927006,0.56561607476574605,0.5871533324224395,0.61018900137869803,0.63022784773582641,0.64363230861320098,0.65315551143257167,0.66056984416769571,0.56561607476574605]
[null,"juin",0.66888752072367941,0.69400048529093072,0.71949134710943263,0.74422641442543336,0.77047307074643645,0.79369654905743481,0.80950072984961874,0.81949629094082355,0.82536162398510193,0.71949134710943263,"juin",0.50959350001738102,0.53260488391207939,0.5559395009186473,0.57862765170147612,0.60260873493178313,0.62400395326713376,0.63990298963821801,0.6516863310793658,0.65942052364538761,0.5559395009186473,"juin",0.69401323008901072,0.71200457172373965,0.73017469866985429,0.74798725499319763,0.76651495256208357,0.78361236763988429,0.79509937377451212,0.80360665495071759,0.81075068744125878,0.73017469866985429,"juin",0.48371803659763746,0.51138102218414994,0.53976384842832359,0.56670699335717478,0.5965295009166709,0.62059328321487728,0.63792706300056867,0.65044988208259913,0.66022286901143323,0.53976384842832359]
[null,"juillet",0.67198165340380789,0.69589618721036961,0.72013863989503868,0.74372525482349305,0.76862354526437682,0.7908984846804018,0.80608867697801356,0.81598538110022334,0.82146671336143051,0.72013863989503868,"juillet",0.57399144377602906,0.59906235030085908,0.62446225613421691,0.64920416335051923,0.67526206780093256,0.69868797778312375,0.7164110788297855,0.72937778438165546,0.73863392766390179,0.62446225613421691,"juillet",0.70422508253115856,0.72101682403272704,0.73799931967033117,0.754600307035864,0.77196431094553941,0.78780228176692968,0.7987135046237509,0.8072823392325077,0.81392441710627672,0.73799931967033117,"juillet",0.49474449637236806,0.52028107103098431,0.54627526619010913,0.57135422034821681,0.59826365650835878,0.62151212866443228,0.63833033866618805,0.65099097267298034,0.65999210941989783,0.54627526619010913]
[null,"aout",0.70636130642258044,0.72521621611673937,0.74445484406600126,0.76292603550505722,0.78293209996452495,0.79986841838316902,0.81169079306465042,0.81945848533052368,0.82419153923063049,0.74445484406600126,"aout",0.56527437661523294,0.58463108462070956,0.60430664495763253,0.62334450063166291,0.64365776563147847,0.66142021197972367,0.67499172224587289,0.6849024054183841,0.69202092883068445,0.60430664495763253,"aout",0.73363059955866783,0.74600657079313959,0.75839320632963947,0.77075851326208311,0.78316647740263934,0.7954891271269704,0.80501278467900639,0.81229849182489344,0.818116132063617,0.75839320632963947,"aout",0.53890125214423268,0.5588583806101024,0.57922105761901488,0.59877263754184196,0.61994641163683983,0.63787579738749622,0.65126340052796916,0.66112683199840683,0.66822012059756075,0.57922105761901488]
[null,"septembre",0.71361092126532366,0.73157053423094798,0.74982208091244873,0.76748976016219672,0.78632517427545023,0.80282511866169259,0.8143029740951373,0.82167747747382169,0.82636904742282413,0.74982208091244873,"septembre",0.57294649258042651,0.59230033862971865,0.61192530745007367,0.63100803072830303,0.65117524509078373,0.66917347728476173,0.68263645119480809,0.69275885576550456,0.69998337594522819,0.61192530745007367,"septembre",0.73394671079444906,0.74602719225912528,0.75814682547540846,0.77018815518847761,0.78238609190797492,0.79427081461461602,0.80323589638494497,0.81041743174177416,0.81646713876470545,0.75814682547540846,"septembre",0.54349952930057432,0.56239266646684327,0.58161264870934459,0.60017894079938117,0.62005261319434724,0.63731152497945431,0.64998024815351818,0.65949305193448182,0.66700511295644915,0.58161264870934459]
[null,"octobre",0.71055308299751152,0.72765963447133308,0.74508971031217941,0.76187273741897632,0.77994986199387195,0.79543879163257014,0.80618760290701441,0.81362125571412491,0.81804336521948195,0.74508971031217941,"octobre",0.59351826561324361,0.61292759724944756,0.63265629591907846,0.65174626052185547,0.67211369325834025,0.6899261897274096,0.7035830294830151,0.71369258423316762,0.72129375671761764,0.63265629591907846,"octobre",0.74654313368029057,0.75765706616322115,0.76887789116257321,0.77988493112908241,0.79131954116127723,0.80189901106210082,0.81022031427988728,0.81671523403689883,0.82201662506886974,0.76887789116257321,"octobre",0.55449062811036631,0.57201280924422226,0.589777550156805,0.60705717151193417,0.62530703198197057,0.64161641422219251,0.65409513955559095,0.66341059205439057,0.67010373571585558,0.589777550156805]
[null,"novembre",0.68525207846377678,0.70565761907677294,0.72640881342340113,0.74646870030276524,0.76791120211665753,0.78658847406149357,0.79983640707824355,0.80870065295509441,0.81445425928918636,0.72640881342340113,"novembre",0.52708395372754901,0.54867829277672453,0.570595284104774,0.59186697087507545,0.61442926676087295,0.63441034441567845,0.64969783616608534,0.66126907836714599,0.66992750096521014,0.570595284104774,"novembre",0.7231906263271497,0.73934457783713126,0.75574410621489796,0.77165248085709426,0.78854316297043137,0.80346923014148697,0.81424278839630093,0.82193072749616314,0.82740181287173398,0.75574410621489796,"novembre",0.52070792479023487,0.54372129877527164,0.5672105157945786,0.5897480467453452,0.61418894983319261,0.63482310864687841,0.65106183421643127,0.66314626785749209,0.67201347242293574,0.5672105157945786]
[null,"decembre",0.68469525322655489,0.70502910632464566,0.72581099255698411,0.74569681252082731,0.76737476502166102,0.78546845244851371,0.79755286839209638,0.80539074285642154,0.81033946234601617,0.72581099255698411,"decembre",0.5411658811766179,0.56480296865030055,0.58888614910439252,0.61207714359766596,0.63705251001257646,0.65845913258421296,0.67444590161677287,0.6862648252529524,0.6947431276169671,0.58888614910439252,"decembre",0.72216121219169416,0.73864839539069416,0.75529807770883162,0.77162276178869416,0.78859744234510654,0.80427212994841912,0.81519383260417344,0.82321523626777093,0.82891874506948227,0.75529807770883162,"decembre",0.52185186805002703,0.54531524424644662,0.56932190684270145,0.59224199663928578,0.61733523203521123,0.63808217623245433,0.65346950436635376,0.66501766301203269,0.67386613265368045,0.56932190684270145]
[]
[]
[]
[]
[]
["La Réunion"]
[null,"COEFF INTERMITTENCE _ SENSIBLE"]
[null,"Planning : Climatisation de 7h à 18h 7/7 JOUR",null,null,null,null,null,null,null,null,null,null,"Planning : Climatisation de 7h à 18h 5/7 JOUR SEMAINE",null,null,null,null,null,null,null,null,null,null,"Planning : Climatisation de 18h à 7h 7/7 NUIT",null,null,null,null,null,null,null,null,null,null,"Planning : Climatisation de 22h à 6h 7/7 NUIT",null,null,null,null,null,null,null,null,null,null,null,"Bonne classe d'inertie et bon planning "]
[]
[null,"Non isolé ","Léger",null,null,null,null,null,null,null,null,null,"Non isolé ","Léger",null,null,null,null,null,null,null,null,null,"Non isolé ","Léger",null,null,null,null,null,null,null,null,null,"Non isolé ","Léger"]
[null,null,null,null,null,null,null,null,null,null,null,"TAMPON température",null,null,null,null,null,null,null,null,null,null,"TAMPON température",null,null,null,null,null,null,null,null,null,null,"TAMPON température",null,null,null,null,null,null,null,null,null,null,"TAMPON température",null,"TAMPON final pour La Réunion "]
[null,null,28,27,26,25,24,23,22,21,20,{"$f":"TempConsigne","v":26},null,28,27,26,25,24,23,22,21,20,{"$f":"TempConsigne","v":26},null,28,27,26,25,24,23,22,21,20,{"$f":"TempConsigne","v":26},null,28,27,26,25,24,23,22,21,20,{"$f":"TempConsigne","v":26}]
[null,"janvier",{"$f":"C$20*((D130-F130)/(D$20-F$20))+D130-D$20*((D130-F130)/(D$20-F$20))","v":0.71933106931715252},{"$f":"D$20*((E130-G130)/(E$20-G$20))+E130-E$20*((E130-G130)/(E$20-G$20))","v":0.7243974384242291},{"$f":"E$20*((F130-H130)/(F$20-H$20))+F130-F$20*((F130-H130)/(F$20-H$20))","v":0.72969927920042321},0.73453017663838227,0.74030296075281143,0.74419197151430039,0.74692591800000974,0.74897774161861641,0.75058609743888016,{"$f":"HLOOKUP(L129,C129:K141,2,FALSE)","v":0.72969927920042321},"janvier",{"$f":"N$20*((O130-Q130)/(O$20-Q$20))+O130-O$20*((O130-Q130)/(O$20-Q$20))","v":0.55865638028105491},{"$f":"O$20*((P130-R130)/(P$20-R$20))+P130-P$20*((P130-R130)/(P$20-R$20))","v":0.56254814012777654},{"$f":"P$20*((Q130-S130)/(Q$20-S$20))+Q130-Q$20*((Q130-S130)/(Q$20-S$20))","v":0.5666015024398896},0.57033165982121981,0.57470822706411562,0.5777919745838801,0.5800788405508035,0.58190728013206505,0.58346716204993765,{"$f":"HLOOKUP(W129,N129:V141,2,FALSE)","v":0.5666015024398896},"janvier",{"$f":"Y$20*((Z130-AB130)/(Z$20-AB$20))+Z130-Z$20*((Z130-AB130)/(Z$20-AB$20))","v":0.46644550231208082},{"$f":"Z$20*((AA130-AC130)/(AA$20-AC$20))+AA130-AA$20*((AA130-AC130)/(AA$20-AC$20))","v":0.49472671411393354},{"$f":"AA$20*((AB130-AD130)/(AB$20-AD$20))+AB130-AB$20*((AB130-AD130)/(AB$20-AD$20))","v":0.52374383772425104},0.55128913771763899,0.58177808494488614,0.60637973770441478,0.6267564080455591,0.64371169585940813,0.65824659785700446,{"$f":"HLOOKUP(AH129,Y129:AG141,2,FALSE)","v":0.52374383772425104},"janvier",{"$f":"AJ$20*((AK130-AM130)/(AK$20-AM$20))+AK130-AK$20*((AK130-AM130)/(AK$20-AM$20))","v":0.25685275676916963},{"$f":"AK$20*((AL130-AN130)/(AL$20-AN$20))+AL130-AL$20*((AL130-AN130)/(AL$20-AN$20))","v":0.28692437570097007},{"$f":"AL$20*((AM130-AO130)/(AM$20-AO$20))+AM130-AM$20*((AM130-AO130)/(AM$20-AO$20))","v":0.31777759887361179},0.34706761356457105,0.37948404521889523,0.40564764294648953,0.42730241902810878,0.44549779024427927,0.46103775850644257,{"$f":"HLOOKUP(AS129,AJ129:AR141,2,FALSE)","v":0.31777759887361179},null,"Classe séléctionnée",null,null,"janvier",{"$f":"IF($AV$28=$F$5,1,INDEX(INDIRECT(\"classe\"&$AV$23&$AV$28&\"RS\"),AZ130,1))","v":0.49494321535759567},1]
[null,"fevrier",{"$f":"C$20*((D131-F131)/(D$20-F$20))+D131-D$20*((D131-F131)/(D$20-F$20))","v":0.7112900496221144},0.71680325532444455,{"$f":"E$20*((F131-H131)/(F$20-H$20))+F131-F$20*((F131-H131)/(F$20-H$20))","v":0.72255275121704732},0.72782966672910487,0.73405174300225284,0.73838349775321999,0.74135450876564057,0.74344747529039379,0.74503986807273714,{"$f":"HLOOKUP(L130,C130:K142,2,FALSE)","v":0.72255275121704732},"fevrier",{"$f":"N$20*((O131-Q131)/(O$20-Q$20))+O131-O$20*((O131-Q131)/(O$20-Q$20))","v":0.52265047034184686},0.52788482423548699,{"$f":"P$20*((Q131-S131)/(Q$20-S$20))+Q131-Q$20*((Q131-S131)/(Q$20-S$20))","v":0.53330750332912558},0.53835353202276737,0.54415286151640263,0.54844558941005095,0.55172402412969612,0.55428200304577613,0.55641774286787815,{"$f":"HLOOKUP(W130,N130:V142,2,FALSE)","v":0.53330750332912558},"fevrier",{"$f":"Y$20*((Z131-AB131)/(Z$20-AB$20))+Z131-Z$20*((Z131-AB131)/(Z$20-AB$20))","v":0.46684341712918065},0.49627766557560016,{"$f":"AA$20*((AB131-AD131)/(AB$20-AD$20))+AB131-AB$20*((AB131-AD131)/(AB$20-AD$20))","v":0.52648755032985362},0.55514616246843917,0.58690731983836053,0.61246338674561041,0.63319990742830135,0.65035272776135444,0.6650751458752121,{"$f":"HLOOKUP(AH130,Y130:AG142,2,FALSE)","v":0.52648755032985362},"fevrier",{"$f":"AJ$20*((AK131-AM131)/(AK$20-AM$20))+AK131-AK$20*((AK131-AM131)/(AK$20-AM$20))","v":0.25959878366094935},0.29075871480764082,{"$f":"AL$20*((AM131-AO131)/(AM$20-AO$20))+AM131-AM$20*((AM131-AO131)/(AM$20-AO$20))","v":0.32272605108068114},0.35307857710102369,0.38666072362676179,0.4137836291417088,0.43575198210280497,0.45390911941234435,0.46922372823964925,{"$f":"HLOOKUP(AS130,AJ130:AR142,2,FALSE)","v":0.32272605108068114},null,"Classe","Numéro",null,"fevrier",{"$f":"IF($AV$28=$F$5,1,INDEX(INDIRECT(\"classe\"&$AV$23&$AV$28&\"RS\"),AZ131,1))","v":0.47380470224907312},2]
[null,"mars",0.72140892773135357,0.72664829371230744,0.73213034511406327,0.73712702567421517,0.74309444791757495,0.74712038679451886,0.74981131658276634,0.75152446149716412,0.75270750083884941,0.73213034511406327,"mars",0.51107361490240666,0.51524523352827933,0.51958453569463425,0.52358847078002468,0.52826314002734398,0.53159634095080543,0.53399728767587717,0.53570031076845404,0.53694933349601937,0.51958453569463425,"mars",0.44957347454452656,0.48070705265828906,0.51270295471543881,0.54297420888581405,0.57669475882973842,0.60351671722656464,0.62528505199849638,0.64332442116537503,0.65863099777323619,0.51270295471543881,"mars",0.24053456193170886,0.27351805412721608,0.30740742199494919,0.33948503851823042,0.37518615773041541,0.40364027156479287,0.42675177074964804,0.44596642044688151,0.46215874081078612,0.30740742199494919,null,{"$f":"Hypothèses!$J$19","v":"Moyen"},{"$f":"VLOOKUP(AU132,$J$4:$K$6,2,FALSE)","v":2},null,"mars",0.45675492631889025,3]
[null,"avril",0.72803389021656395,0.73440819711270067,0.74114826212172624,0.7471568109049741,0.75462839213977728,0.75917390847146993,0.76165150430844375,0.76284016905237051,0.76320222674440674,0.74114826212172624,"avril",0.5641198936270132,0.56914204379408484,0.57443909991920361,0.57918634412822811,0.58503321216944126,0.58868083254627712,0.59098616252469138,0.592500945141052,0.59348505908694971,0.57443909991920361,"avril",0.39509213175853519,0.4338128931297438,0.47365964296605201,0.51125441587216114,0.55335314263866842,0.58644396168437929,0.61247904127902686,0.63337449776762111,0.65064150898711626,0.47365964296605201,"avril",0.18709551350858833,0.22788896554932636,0.26990767296801255,0.30947586963080226,0.35394508780538497,0.38861226295638146,0.41596942987130447,0.43807893495006617,0.45638090647471485,0.26990767296801255,null,null,null,null,"avril",0.48617802417376194,4]
[null,"mai",0.72396190645996894,0.73458433680075186,0.74571910479149228,0.7558291974823178,0.76798864077297324,0.77604938286396885,0.77915342032729729,0.77908091487452691,0.77761868701672165,0.74571910479149228,"mai",0.5483524046748075,0.55762309063589388,0.56727036983873669,0.57616446255806664,0.58656492824442241,0.59395264799672665,0.59783830054944909,0.59935070039603122,0.59964778750970671,0.56727036983873669,"mai",0.27278804136069601,0.32879905654935793,0.38628999516974671,0.44082108692668215,0.50127187241052407,0.54988327044055307,0.58625474741067896,0.61454544961693491,0.63705731523499709,0.38628999516974671,"mai",4.5269901598198992E-2,0.10612687809914068,0.16872790159632234,0.22784083110102413,0.2939299485906855,0.34606669011042734,0.384712525429104,0.41457025239195433,0.43837887495974776,0.16872790159632234,null,null,null,null,"mai",0.44018602117394995,5]
[null,"juin",0.76961457840345893,0.77983956449143488,0.79043886894901239,0.80028953666738689,0.8116374778641674,0.8199908721041359,0.82145265919294952,0.81745155415065363,0.81102907453555073,0.79043886894901239,"juin",0.60982725775111812,0.60821801161940747,0.60640758853986387,0.60499951935598628,0.60278674238077667,0.60218338098823121,0.59949387955664935,0.59403076214677419,0.58780762774472972,0.60640758853986387,"juin",6.9116153037418471E-2,0.1489224918866705,0.22999601416782167,0.30853516958517546,0.39214305873012428,0.46561348041988315,0.52488597231633716,0.57166426402863846,0.60758809455493523,0.22999601416782167,"juin",-0.13996764811508555,-6.4303346334487532E-2,1.0588654884793547E-2,8.7025257226708688E-2,0.16037265732335529,0.23989846191053879,0.30770577489290712,0.35989495432782476,0.39882523648900525,1.0588654884793547E-2,null,"Planning séléctionné",null,null,"juin",0.40770534873044184,6]
[null,"juillet",0.78769794712955843,0.79448720788399874,0.80140835369318453,0.80806572939287935,0.815250645311556,0.821380480792269,0.82209243650814723,0.81740805438332853,0.81056748299566161,0.80140835369318453,"juillet",0.51530430697801677,0.5323489530932215,0.54963964775543284,0.56643824532363096,0.58422103707985562,0.60003544046002721,0.60956854432096297,0.61298814166504922,0.61292148569461924,0.54963964775543284,"juillet",4.2834154897643639E-2,0.1262425414578483,0.21119911682385961,0.29305931457825762,0.38111226755588218,0.45677971008705376,0.51928380176104028,0.56870377373717962,0.60577955041525899,0.21119911682385961,"juillet",-0.16829298380584135,-9.0558203103276336E-2,-1.3860550199962907E-2,6.4911358301853544E-2,0.13953475560666462,0.22245517530548681,0.29510792629094268,0.35087711926300769,0.39203105612563732,-1.3860550199962907E-2,null,"Nom","Numéro",null,"juillet",0.37149072764712088,7]
[null,"aout",0.75753604906278516,0.7686794052462177,0.78018236056414936,0.79096611761308266,0.80318827120001268,0.81253363171094939,0.81525955320421128,0.81187166278119327,0.80597845246881994,0.78018236056414936,"aout",0.46600682353126432,0.48491311493138778,0.50437330763401289,0.52272569773163458,0.54329369303926311,0.55943047792687806,0.5691186502986364,0.57274210650653512,0.57326888735346304,0.50437330763401289,"aout",9.9521814744787163E-2,0.17488582548703335,0.25150371642241365,0.32561384697152596,0.40473949829317396,0.47383410806975029,0.53079758184802206,0.57579597265945237,0.60985788812821873,0.25150371642241365,"aout",-0.13510331336012094,-6.0444464102275886E-2,1.3359613706497742E-2,8.8873234413414826E-2,0.16096776932404525,0.23990047582724933,0.30672060841761584,0.35750750998227881,0.39539452558396093,1.3359613706497742E-2,null,{"$f":"ClimPlan","v":"7-18h, L-V"},{"$f":"VLOOKUP(AU137,$E$5:$F$9,2,FALSE)","v":"b"},null,"aout",0.33584336714783847,8]
[null,"septembre",0.7337893744101498,0.74776025618574848,0.76219528700848538,0.77570201973694575,0.79106534865395917,0.8027154851938666,0.80659982307231304,0.80502459227162571,0.80128366034446741,0.76219528700848538,"septembre",0.54424195235439288,0.55370899547131258,0.56336531659405287,0.57264308170515199,0.58267795883953344,0.59119861192735013,0.59468809330165029,0.59481620080861808,0.59340125525993315,0.56336531659405287,"septembre",0.17763155511927442,0.24249509740799668,0.30857666976257137,0.37222218198544138,0.44073981447172073,0.49951320643118141,0.54705002697223737,0.58461437457941468,0.61409434960906406,0.30857666976257137,"septembre",-7.6271622772999148E-2,-6.1472525261159205E-3,6.442473121591541E-2,0.13410148796765053,0.20556869869997804,0.27345500147112106,0.32807704825005268,0.37003578052423397,0.40274140469199665,6.442473121591541E-2,null,null,null,null,"septembre",0.3843297338785896,9]
[null,"octobre",0.71687275424039898,0.73011033010077786,0.74415651444719655,0.75658548182153551,0.77224888314003404,0.78144341657021343,0.78498131446509545,0.78493365892723999,0.7834326439183541,0.74415651444719655,"octobre",0.52681631148682828,0.53950979085800577,0.55287058373203823,0.56489674960036074,0.57959216948010306,0.58894908133700585,0.59413274203996214,0.59643353757429041,0.59749675634879085,0.55287058373203823,"octobre",0.26689979267318731,0.32129128559106301,0.37697974603413953,0.43007427142681481,0.48835666692029261,0.53626332221216555,0.57362449549055761,0.60287663443146799,0.62622908318388915,0.37697974603413953,"octobre",2.1643449357047206E-2,8.1815967372050658E-2,0.14339195485647527,0.20216100340205764,0.26654392982532416,0.31969910049322214,0.36072295580248143,0.39279071479077793,0.4184257349315173,0.14339195485647527,null,"Non isolé",null,null,"octobre",0.4251364702814428,10]
[null,"novembre",0.72354722431401797,0.73134666791736092,0.73952784416319806,0.7469455551240467,0.75589019665487234,0.76178097704574399,0.76566979938899005,0.76779695007033733,0.76880815113581102,0.73952784416319806,"novembre",0.54687263677647713,0.55115137755793553,0.55565053356677452,0.55970885912085233,0.5646488455844525,0.56782551022900785,0.56994637765050349,0.57117136548078817,0.57174886462534724,0.55565053356677452,"novembre",0.38521840735773383,0.42371162890718006,0.46324273470320865,0.50069807200607275,0.54230494629526582,0.57560874661180095,0.60212388973922337,0.62378673316420885,0.64180763123474316,0.46324273470320865,"novembre",0.15973464933499382,0.20164542039791455,0.24471775546030394,0.28546696252375581,0.33086242558508239,0.36696537665065959,0.395873159000871,0.4194438094168822,0.43918852471946651,0.24471775546030394,null,"janvier",{"$f":"AY130*Données1!$E$190+Données1!$F$190*Données2!AY143","v":0.61232890445059451},null,"novembre",0.46197124796789801,11]
[null,"decembre",0.72051881793762551,0.72705373073560597,0.73390658828243915,0.7401235563315669,0.74761230337610551,0.75255749242982239,0.75580490180276871,0.75795409362009769,0.75940751609693402,0.73390658828243915,"decembre",0.53537070179864399,0.54106480090067754,0.54699110182977173,0.55245299910474477,0.55884370368795999,0.56337679365469084,0.56667630673398706,0.56908695016050881,0.57091484306921048,0.54699110182977173,"decembre",0.41898461452699776,0.45352719823207199,0.48903668756363894,0.52261236564222047,0.56005566622677272,0.58976372179938341,0.61375412798732543,0.63341337257838248,0.6500108102612443,0.48903668756363894,"decembre",0.19527257846493185,0.23289469424496612,0.27157034549615977,0.30813892580503455,0.34892164799854702,0.38127608642278421,0.40743458757086681,0.42901448452144281,0.44722160596236898,0.27157034549615977,null,"fevrier",{"$f":"AY131*Données1!$E$190+Données1!$F$190*Données2!AY144","v":0.59695044985186141},null,"decembre",0.46217251681098209,12]
[null,null,null,null,null,null,null,null,null,null,null,null,null,null,null,null,null,null,null,null,null,null,null,null,null,null,null,null,null,null,null,null,null,null,null,null,null,null,null,null,null,null,null,null,null,null,"mars",{"$f":"AY132*Données1!$E$190+Données1!$F$190*Données2!AY145","v":0.56423154342199344},null,"Isolé"]
[null,null,null,null,null,null,null,null,null,null,null,null,null,null,null,null,null,null,null,null,null,null,null,null,null,null,null,null,null,null,null,null,null,null,null,null,null,null,null,null,null,null,null,null,null,null,"avril",{"$f":"AY133*Données1!$E$190+Données1!$F$190*Données2!AY146","v":0.60023679204633296},null,"janvier",{"$f":"IF($AV$28=$F$5,1,INDEX(INDIRECT(\"classe\"&$AV$23+3&$AV$28&\"RS\"),AZ130,1))","v":0.62797422424463012},1]
[null,"Non isolé ","Moyen",null,null,"Moyen",null,null,null,null,null,null,"Non isolé ","Moyen",null,null,"Moyen",null,null,null,null,null,null,"Non isolé ","Moyen",null,null,"Moyen",null,null,null,null,null,null,"Non isolé ","Moyen",null,null,"Moyen",null,null,null,null,null,null,null,"mai",{"$f":"AY134*Données1!$E$190+Données1!$F$190*Données2!AY147","v":0.52060015462775022},null,"fevrier",{"$f":"IF($AV$28=$F$5,1,INDEX(INDIRECT(\"classe\"&$AV$23+3&$AV$28&\"RS\"),AZ131,1))","v":0.61336347785730116},2]
[null,null,null,null,null,null,null,null,null,null,null,null,null,null,null,null,null,null,null,null,null,null,null,null,null,null,null,null,null,null,null,null,null,null,null,null,null,null,null,null,null,null,null,null,null,null,"juin",{"$f":"AY135*Données1!$E$190+Données1!$F$190*Données2!AY148","v":0.4114560502339123},null,"mars",0.57855616900413742,3]
[null,null,28,27,26,25,24,23,22,21,20,{"$f":"TempConsigne","v":26},null,28,27,26,25,24,23,22,21,20,{"$f":"TempConsigne","v":26},null,28,27,26,25,24,23,22,21,20,{"$f":"TempConsigne","v":26},null,28,27,26,25,24,23,22,21,20,{"$f":"TempConsigne","v":26},null,"juillet",{"$f":"AY136*Données1!$E$190+Données1!$F$190*Données2!AY149","v":0.40214530701848072},null,"avril",0.61543869538283158,4]
[null,"janvier",{"$f":"C$20*((D147-F147)/(D$20-F$20))+D147-D$20*((D147-F147)/(D$20-F$20))","v":0.60374191105632269},{"$f":"D$20*((E147-G147)/(E$20-G$20))+E147-E$20*((E147-G147)/(E$20-G$20))","v":0.62192868788291},{"$f":"E$20*((F147-H147)/(F$20-H$20))+F147-F$20*((F147-H147)/(F$20-H$20))","v":0.64063547437613477},0.65830224153608452,0.67804904736258431,0.69363577585598402,0.70605324995915075,0.71624330552825888,0.7246586326993647,{"$f":"HLOOKUP(L146,C146:K158,2,FALSE)","v":0.64063547437613477},"janvier",{"$f":"N$20*((O147-Q147)/(O$20-Q$20))+O147-O$20*((O147-Q147)/(O$20-Q$20))","v":0.46418823265752368},{"$f":"O$20*((P147-R147)/(P$20-R$20))+P147-P$20*((P147-R147)/(P$20-R$20))","v":0.47936048187349739},{"$f":"P$20*((Q147-S147)/(Q$20-S$20))+Q147-Q$20*((Q147-S147)/(Q$20-S$20))","v":0.49494321535759567},0.50970498030544475,0.52610868232579222,0.53922851020114293,0.54983913052079803,0.55868639895377858,0.56615091624227132,{"$f":"HLOOKUP(W146,N146:V158,2,FALSE)","v":0.49494321535759567},"janvier",{"$f":"Y$20*((Z147-AB147)/(Z$20-AB$20))+Z147-Z$20*((Z147-AB147)/(Z$20-AB$20))","v":0.61071551867119833},{"$f":"Z$20*((AA147-AC147)/(AA$20-AC$20))+AA147-AA$20*((AA147-AC147)/(AA$20-AC$20))","v":0.63070000883889965},{"$f":"AA$20*((AB147-AD147)/(AB$20-AD$20))+AB147-AB$20*((AB147-AD147)/(AB$20-AD$20))","v":0.65123974379006644},0.67066898917430218,0.69231921369240002,0.70952747994277365,0.72366646125980105,0.73577507581448365,0.74644340099528472,{"$f":"HLOOKUP(AH146,Y146:AG158,2,FALSE)","v":0.65123974379006644},"janvier",{"$f":"AJ$20*((AK147-AM147)/(AK$20-AM$20))+AK147-AK$20*((AK147-AM147)/(AK$20-AM$20))","v":0.39450977127311632},{"$f":"AK$20*((AL147-AN147)/(AL$20-AN$20))+AL147-AL$20*((AL147-AN147)/(AL$20-AN$20))","v":0.41834300025897392},{"$f":"AL$20*((AM147-AO147)/(AM$20-AO$20))+AM147-AM$20*((AM147-AO147)/(AM$20-AO$20))","v":0.44278849126721104},0.46600945823068923,0.49167947328368544,0.51245139215764568,0.52936536605774887,0.54354161920747646,0.55561213472662463,{"$f":"HLOOKUP(AS146,AJ146:AR158,2,FALSE)","v":0.44278849126721104},null,"aout",{"$f":"AY137*Données1!$E$190+Données1!$F$190*Données2!AY150","v":0.37529665900915055},null,"mai",0.53131785661992603,5]
[null,"fevrier",{"$f":"C$20*((D148-F148)/(D$20-F$20))+D148-D$20*((D148-F148)/(D$20-F$20))","v":0.59421772008518858},0.6136828859939274,{"$f":"E$20*((F148-H148)/(F$20-H$20))+F148-F$20*((F148-H148)/(F$20-H$20))","v":0.63373939172247196},0.65261321781140513,0.67385240317956108,0.69036086998927149,0.70332897039484821,0.71374407469293921,0.72234279439100646,{"$f":"HLOOKUP(L147,C147:K159,2,FALSE)","v":0.63373939172247196},"fevrier",{"$f":"N$20*((O148-Q148)/(O$20-Q$20))+O148-O$20*((O148-Q148)/(O$20-Q$20))","v":0.44126137758434814},0.45730530522831714,{"$f":"P$20*((Q148-S148)/(Q$20-S$20))+Q148-Q$20*((Q148-S148)/(Q$20-S$20))","v":0.47380470224907312},0.4893931605162552,0.50680349629058508,0.52057007705061931,0.53162427410677293,0.54069293671026708,0.54828539780449137,{"$f":"HLOOKUP(W147,N147:V159,2,FALSE)","v":0.47380470224907312},"fevrier",{"$f":"Y$20*((Z148-AB148)/(Z$20-AB$20))+Z148-Z$20*((Z148-AB148)/(Z$20-AB$20))","v":0.60509316218903431},0.62645495089043068,{"$f":"AA$20*((AB148-AD148)/(AB$20-AD$20))+AB148-AB$20*((AB148-AD148)/(AB$20-AD$20))","v":0.64838936661324775},0.66917852829322344,0.69225819805888189,0.7107568516531747,0.72574955327112745,0.73886365988847369,0.75011661280919806,{"$f":"HLOOKUP(AH147,Y147:AG159,2,FALSE)","v":0.64838936661324775},"fevrier",{"$f":"AJ$20*((AK148-AM148)/(AK$20-AM$20))+AK148-AK$20*((AK148-AM148)/(AK$20-AM$20))","v":0.39089838535299953},0.4158539111081358,{"$f":"AL$20*((AM148-AO148)/(AM$20-AO$20))+AM148-AM$20*((AM148-AO148)/(AM$20-AO$20))","v":0.4415002674914475},0.46576496261840833,0.49279298025807106,0.51429435287233005,0.53164009140641721,0.54599069375599218,0.55804936175327036,{"$f":"HLOOKUP(AS147,AJ147:AR159,2,FALSE)","v":0.4415002674914475},null,"septembre",{"$f":"AY138*Données1!$E$190+Données1!$F$190*Données2!AY151","v":0.42228869494828936},null,"juin",0.4119559486876947,6]
[null,"mars",0.58878451886635563,0.60907214337695548,0.62996473472758885,0.64964739239815528,0.6717499174288557,0.68901270773928813,0.70259955545010677,0.71347702043319439,0.7224723637575432,0.62996473472758885,"mars",0.42657763927591152,0.44145913100304912,0.45675492631889025,0.47122211445732426,0.48734651695057252,0.50015649073419222,0.51043123524931011,0.51875392176904001,0.52572816753981388,0.45675492631889025,"mars",0.60345661712563159,0.62517786859264368,0.64751178462694459,0.66862037152666787,0.69217961669554628,0.71083754532611454,0.72581901449782094,0.73837618764053925,0.74924057247469744,0.64751178462694459,"mars",0.38338139982919062,0.40920828957291633,0.43575108366694681,0.46086206906036775,0.48883667185500795,0.51108403984720974,0.52916305053633206,0.54406157510687658,0.55656058235778139,0.43575108366694681,null,"octobre",{"$f":"AY139*Données1!$E$190+Données1!$F$190*Données2!AY152","v":0.49454488467434915},null,"juillet",0.40623098987405104,7]
[null,"avril",0.56918075475806074,0.59358423271713368,0.61876148545373577,0.64239118863527944,0.66911599092693996,0.68965059499836689,0.70543939754487728,0.71759849369708184,0.72721558282303422,0.61876148545373577,"avril",0.44667081566268546,0.46613433365816709,0.48617802417376194,0.5050613696491304,0.52626540520495146,0.54282806059986732,0.55586737112931706,0.56626424275321929,0.5747470647141153,0.48617802417376194,"avril",0.56815441280608181,0.59530815617711952,0.62339070791035178,0.64961564291919494,0.67955581137681631,0.70206551293688135,0.71951448615437463,0.73363486855390725,0.74573245885373785,0.62339070791035178,"avril",0.34438557034095219,0.37610755352159225,0.40880005657018187,0.43955151988287261,0.47418506266736127,0.50105444650825415,0.5222932728349492,0.53931872264737102,0.55329849105530438,0.40880005657018187,null,"novembre",{"$f":"AY140*Données1!$E$190+Données1!$F$190*Données2!AY153","v":0.54923901937472663},null,"aout",0.38055504589486899,8]
[null,"mai",0.50837718596217552,0.54344704642662323,0.57949891062577064,0.61358676735551854,0.65160263902406546,0.68176248081501445,0.70407394835929049,0.72011957433548723,0.73175782326560279,0.57949891062577064,"mai",0.38131827761125475,0.41036151897168832,0.44018602117394995,0.46844800169255546,0.49983502557847304,0.52497196272976654,0.54412088967475236,0.55844875681723227,0.56919341233850296,0.44018602117394995,"mai",0.46959273352864483,0.51250841471955055,0.55701001007540618,0.59833977710136221,0.6460132007871171,0.68099931115327428,0.70592844606879646,0.72484022675899606,0.73980699688489138,0.55701001007540618,"mai",0.22492760572040327,0.27438823446705607,0.32555885164254961,0.37330949196036151,0.42790008599353702,0.4688107725959853,0.49909027520135563,0.52226205652765856,0.54060540007850411,0.32555885164254961,null,"decembre",{"$f":"AY141*Données1!$E$190+Données1!$F$190*Données2!AY154","v":0.57115719873209825},null,"septembre",0.42734791545100581,9]
[null,"juin",0.41804900842444814,0.47299569363712191,0.52944434472337154,0.58288906406246987,0.64234164689587048,0.68977850274066654,0.71964554996491337,0.73807126197053041,0.74975872598148663,0.52944434472337154,"juin",0.34172680817871459,0.37442908192073709,0.40770534873044184,0.4398336294047821,0.47425788234985145,0.50409019075346273,0.52338563984651454,0.53555217678572853,0.54359254148079206,0.40770534873044184,"juin",0.25932388662116757,0.33400170711663368,0.41085441512192111,0.48335734810756614,0.56455983113249597,0.62836321407885598,0.67413629030547018,0.70622613522685962,0.72891861099521804,0.41085441512192111,"juin",-3.8270624242489948E-2,4.8459049538385646E-2,0.13684413036595511,0.221918397100137,0.31361429202109309,0.39206693056850128,0.4482076722331233,0.48718333983436951,0.5159078092548357,0.13684413036595511,null,null,null,null,"octobre",0.50379572988354371,10]
[null,"juillet",0.4231627355694898,0.4767378460420274,0.53133086589568868,0.58388806698710261,0.640516905603011,0.68900246916993046,0.71937573667857091,0.7374278543028786,0.7490178433750746,0.53133086589568868,"juillet",0.27179271270327443,0.32117455926878091,0.37149072764712088,0.41993825239979404,0.47212306440380103,0.51683330190514076,0.54623288685177296,0.56525321179845966,0.57816344190949198,0.37149072764712088,"juillet",0.23137850988633568,0.31032985888635878,0.39150334455123215,0.46823255688640536,0.55385031588097955,0.62169098155675184,0.67096248130546843,0.7043946059742735,0.72812443182210485,0.39150334455123215,"juillet",-9.2827144317929378E-2,1.8938051680699175E-3,9.8426108093770281E-2,0.19133570414006831,0.29149071394517084,0.37715489623266474,0.4380786702696734,0.47976878535256418,0.50983002418855561,9.8426108093770281E-2,null,null,null,null,"novembre",0.56087018329191374,11]
[null,"aout",0.40925979234386101,0.46380437062441371,0.51955076329686767,0.57289352718551911,0.63104354864177581,0.67957905496282189,0.71014907211989076,0.72934820537923839,0.74212884005845814,0.51955076329686767,"aout",0.23956332663017665,0.28717932209718544,0.33584336714783847,0.38241131303120324,0.43317145724914452,0.4755472047979325,0.50374825666279699,0.52279357638096835,0.53598913462860864,0.33584336714783847,"aout",0.28731956763626454,0.35823391036581764,0.43122297011954891,0.50006259582492374,0.57720108962701144,0.63774184723567351,0.68110066379310963,0.7112435527683485,0.73243541327636652,0.43122297011954891,"aout",-3.0425297707205701E-2,5.5431304537215009E-2,0.14297019261291677,0.22714450902605685,0.31804796876432012,0.39549314185233758,0.4493093807332289,0.48680060714642415,0.51474033399886232,0.14297019261291677,null,null,null,null,"decembre",0.58568282118643555,12]
[null,"septembre",0.41865517074470737,0.46944139785272376,0.52165033879212885,0.57101385206875632,0.6260682206709387,0.66974087862201137,0.69949366304991289,0.71940774426327048,0.73344513277828194,0.52165033879212885,"septembre",0.30836950482180669,0.3458574842288995,0.3843297338785896,0.42083344304308523,0.46127423317796973,0.49384086137207656,0.51700987782654284,0.53364244995285803,0.54604229964881823,0.3843297338785896,"septembre",0.38393757617280566,0.44031476665901947,0.4983929280033621,0.55306914763144732,0.61454925069204769,0.66242158688761787,0.69636549118940183,0.72079628053465639,0.73868129266464111,0.4983929280033621,"septembre",8.5761760904027096E-2,0.15493590480375374,0.226019687803094,0.29328419260320687,0.36818725380177469,0.42781320220343222,0.47063671291107639,0.50204259669144746,0.52595835141853764,0.226019687803094]
[null,"octobre",0.49463130403624012,0.53186897107327169,0.570283366378176,0.60634430514733495,0.64711215698798463,0.67846618268565284,0.70161270828736733,0.71839285722431057,0.73078783683316906,0.570283366378176,"octobre",0.36142711844466574,0.39278030933461255,0.4251364702814428,0.45548669111450618,0.48984879217510346,0.51618713278063288,0.53616880334957007,0.55131726172312068,0.56290795291862339,0.4251364702814428,"octobre",0.46506481575611014,0.50754783058448227,0.55150974985174495,0.59251386024122632,0.63943358838626996,0.67452208102018885,0.69993350027695367,0.71941369685806722,0.73455508426845484,0.55150974985174495,"octobre",0.19758005926258426,0.24904347705180796,0.30221357906333557,0.35197031263025574,0.40855378308639057,0.45148377976409609,0.48352349785457394,0.50819705032994833,0.52802537986855391,0.30221357906333557]
[null,"novembre",0.55722634585694231,0.58240109668594897,0.60827466558173715,0.6327505983439623,0.6600218033733134,0.68170246386841249,0.69894660700886235,0.71282652703323812,0.72378790533933379,0.60827466558173715,"novembre",0.42581144716773089,0.44365678831285427,0.46197124796789801,0.47934747060310101,0.49860016727798551,0.51409991587350701,0.52661412215034087,0.53682797977669128,0.54504990774150275,0.46197124796789801,"novembre",0.56584275745990031,0.59289908792298285,0.62083000086823992,0.64701174884914792,0.67669182675875417,0.69937524481096403,0.71692932489406225,0.73128717891686623,0.74343038100217862,0.62083000086823992,"novembre",0.32841168627777106,0.36108215084266371,0.39470432920813975,0.42642307997244894,0.46194868593909205,0.4898605815010672,0.51208293630346702,0.53004565876238396,0.54517573901882166,0.39470432920813975]
[null,"decembre",0.56931046068359237,0.59240384994919781,0.61619267205365247,0.63859062848040871,0.66377031626256178,0.68338654133392118,0.69888984509812679,0.71120510785230273,0.7212955565939303,0.61619267205365247,"decembre",0.42404257210255475,0.44284810141785352,0.46217251681098209,0.48045916004845102,0.50082134759723906,0.51703244652338887,0.53013286212200394,0.54077700749849278,0.54962174691460375,0.46217251681098209,"decembre",0.58699139905276831,0.61093893926335141,0.63562571652648447,0.6588340196845176,0.6849992710527506,0.70525062600058397,0.72149688454155658,0.7349502739039363,0.74649925387757565,0.63562571652648447,"decembre",0.35264276789917776,0.38202981773097516,0.41228162249780026,0.44080391739456998,0.47278523203145029,0.49784850718810952,0.51809025837363698,0.53466713807222666,0.54861552839033512,0.41228162249780026]
[]
[]
[null,"Non isolé ",null,null,null,"Lourd",null,null,null,null,null,null,"Non isolé ",null,null,null,"Lourd",null,null,null,null,null,null,"Non isolé ",null,null,null,"Lourd",null,null,null,null,null,null,"Non isolé ",null,null,null,"Lourd"]
[]
[null,null,28,27,26,25,24,23,22,21,20,{"$f":"TempConsigne","v":26},null,28,27,26,25,24,23,22,21,20,{"$f":"TempConsigne","v":26},null,28,27,26,25,24,23,22,21,20,{"$f":"TempConsigne","v":26},null,28,27,26,25,24,23,22,21,20,{"$f":"TempConsigne","v":26}]
[null,"janvier",{"$f":"C$20*((D164-F164)/(D$20-F$20))+D164-D$20*((D164-F164)/(D$20-F$20))","v":0.62262278852199004},{"$f":"D$20*((E164-G164)/(E$20-G$20))+E164-E$20*((E164-G164)/(E$20-G$20))","v":0.64235718316730617},{"$f":"E$20*((F164-H164)/(F$20-H$20))+F164-F$20*((F164-H164)/(F$20-H$20))","v":0.66266522291690677},0.68182597245793852,0.70328130241610798,0.72014747154000214,0.73365870120421428,0.74469382063919842,0.7540089595012508,{"$f":"HLOOKUP(L163,C163:K175,2,FALSE)","v":0.66266522291690677},"janvier",{"$f":"N$20*((O164-Q164)/(O$20-Q$20))+O164-O$20*((O164-Q164)/(O$20-Q$20))","v":0.4945223483742438},{"$f":"O$20*((P164-R164)/(P$20-R$20))+P164-P$20*((P164-R164)/(P$20-R$20))","v":0.5133610861269774},{"$f":"P$20*((Q164-S164)/(Q$20-S$20))+Q164-Q$20*((Q164-S164)/(Q$20-S$20))","v":0.53271062882739573},0.55103856163244458,0.57140971422823228,0.58769442724254239,0.60095911744058972,0.61218939659131466,0.62159457889096992,{"$f":"HLOOKUP(W163,N163:V175,2,FALSE)","v":0.53271062882739573},"janvier",{"$f":"Y$20*((Z164-AB164)/(Z$20-AB$20))+Z164-Z$20*((Z164-AB164)/(Z$20-AB$20))","v":0.62402555005325411},{"$f":"Z$20*((AA164-AC164)/(AA$20-AC$20))+AA164-AA$20*((AA164-AC164)/(AA$20-AC$20))","v":0.64593989586348954},{"$f":"AA$20*((AB164-AD164)/(AB$20-AD$20))+AB164-AB$20*((AB164-AD164)/(AB$20-AD$20))","v":0.66845460496632225},0.68976858748396042,0.71348402317198778,0.73239655251923674,0.74826605756959441,0.76170372753463123,0.77328029731550718,{"$f":"HLOOKUP(AH163,Y163:AG175,2,FALSE)","v":0.66845460496632225},"janvier",{"$f":"AJ$20*((AK164-AM164)/(AK$20-AM$20))+AK164-AK$20*((AK164-AM164)/(AK$20-AM$20))","v":0.42899388829912544},{"$f":"AK$20*((AL164-AN164)/(AL$20-AN$20))+AL164-AL$20*((AL164-AN164)/(AL$20-AN$20))","v":0.45302136695725714},{"$f":"AL$20*((AM164-AO164)/(AM$20-AO$20))+AM164-AM$20*((AM164-AO164)/(AM$20-AO$20))","v":0.47765489038413989},0.50107632427352056,0.52692193723790526,0.54791919205228201,0.56480262218394073,0.57918795179973481,0.59146394694522186,{"$f":"HLOOKUP(AS163,AJ163:AR175,2,FALSE)","v":0.47765489038413989}]
[null,"fevrier",{"$f":"C$20*((D165-F165)/(D$20-F$20))+D165-D$20*((D165-F165)/(D$20-F$20))","v":0.61146034156850448},0.63269178865056375,{"$f":"E$20*((F165-H165)/(F$20-H$20))+F165-F$20*((F165-H165)/(F$20-H$20))","v":0.65457209015602325},0.67515468281468227,0.69833269316694235,0.71631986813200033,0.73030151658892484,0.74160371133046921,0.75094049316020561,{"$f":"HLOOKUP(L164,C164:K176,2,FALSE)","v":0.65457209015602325},"fevrier",{"$f":"N$20*((O165-Q165)/(O$20-Q$20))+O165-O$20*((O165-Q165)/(O$20-Q$20))","v":0.475248549639542},0.4952163777617411,{"$f":"P$20*((Q165-S165)/(Q$20-S$20))+Q165-Q$20*((Q165-S165)/(Q$20-S$20))","v":0.51574545393553139},0.5351520340061392,0.55680360628311187,0.57396519414735481,0.58777654824596626,0.59888658428931407,0.60817033547590116,{"$f":"HLOOKUP(W164,N164:V176,2,FALSE)","v":0.51574545393553139},"fevrier",{"$f":"Y$20*((Z165-AB165)/(Z$20-AB$20))+Z165-Z$20*((Z165-AB165)/(Z$20-AB$20))","v":0.60859527714850048},0.63316525093518561,{"$f":"AA$20*((AB165-AD165)/(AB$20-AD$20))+AB165-AB$20*((AB165-AD165)/(AB$20-AD$20))","v":0.65845530618756687},0.68230519850855598,0.70903541669232939,0.73000498315053419,0.74721914839269343,0.76151495455906815,0.77375695439108283,{"$f":"HLOOKUP(AH164,Y164:AG176,2,FALSE)","v":0.65845530618756687},"fevrier",{"$f":"AJ$20*((AK165-AM165)/(AK$20-AM$20))+AK165-AK$20*((AK165-AM165)/(AK$20-AM$20))","v":0.41344673778246799},0.43960805939030245,{"$f":"AL$20*((AM165-AO165)/(AM$20-AO$20))+AM165-AM$20*((AM165-AO165)/(AM$20-AO$20))","v":0.46649908731411338},0.49193070260597138,0.52028114316173524,0.54279393318968749,0.56112655965656588,0.57636267907422201,0.58944811064993008,{"$f":"HLOOKUP(AS164,AJ164:AR176,2,FALSE)","v":0.46649908731411338}]
[null,"mars",0.61183145718867249,0.63345175876248883,0.65572661575125324,0.67669236191012139,0.70027632972878195,0.71862385422785768,0.73302282306744959,0.74450859314291729,0.75378830738459934,0.65572661575125324,"mars",0.45671476165097086,0.47522805881467134,0.49424988479274445,0.5122546531420723,0.53229353674889057,0.548264189840728,0.56112427018092237,0.57155423850297316,0.58018270600837574,0.49424988479274445,"mars",0.61004097114124367,0.63437482485004093,0.65937133084883348,0.68304253226763545,0.70936434284641847,0.73038493510523927,0.74748471003651262,0.76182212214387823,0.77388861072020698,0.65937133084883348,"mars",0.4143607329788605,0.44071185103908322,0.46778746859106052,0.49341408715952878,0.52193870369501494,0.54466732429646536,0.56313626090582203,0.57839006503008417,0.59120225106594315,0.46778746859106052]
[null,"avril",0.5835524818971356,0.61024609976649258,0.63777253253662636,0.66363333550520653,0.69282539807689403,0.715354941442367,0.73261881725956413,0.74586937116149077,0.75627413957359579,0.63777253253662636,"avril",0.47344322060296284,0.49823168849756594,0.52373471576034125,0.54780862428677224,0.57474077028589188,0.59595644133963421,0.61281814548785041,0.62633188123313721,0.63735352889182373,0.52373471576034125,"avril",0.57388618808976422,0.6037812932616865,0.63462271667807268,0.66357150360553108,0.69630556351084516,0.72146907746044786,0.74148681232014757,0.75769248128596123,0.77104745352457349,0.63462271667807268,"avril",0.37336565614439055,0.40582896160187731,0.4392456456049455,0.47075557251685085,0.50607901361108176,0.53377542634066166,0.55566961221708178,0.5734356768648009,0.58798584384898722,0.4392456456049455]
[null,"mai",0.50426426637712252,0.54476837962227076,0.5865315885026422,0.62577660611256714,0.67005800626338508,0.70426664133241701,0.72933050377799702,0.74727855687517919,0.76061251257375928,0.5865315885026422,"mai",0.38495942651560555,0.42217472043022686,0.46049179551875336,0.49660530825946964,0.53712594569580618,0.56883233374090214,0.59319068409456477,0.61176338740305647,0.62583567054780664,0.46049179551875336,"mai",0.47311312526439464,0.51898600834847108,0.56653251841228303,0.61073177451662397,0.66162553853990658,0.69913028672530564,0.72659628823616873,0.74800340925925568,0.76515920122041792,0.56653251841228303,"mai",0.26119108741320485,0.31060465522862701,0.36171695551537275,0.40943179085947118,0.46394155608886406,0.50486146154766764,0.53611500250064203,0.55991503787317631,0.57870989225213942,0.36171695551537275]
[null,"juin",0.34368760784841346,0.41739734094108183,0.49384427217373017,0.56481680712641891,0.64673813463902707,0.70676187703179671,0.74245278895432798,0.76422190068193152,0.77752198446452747,0.49384427217373017,"juin",0.26503528970590473,0.3182149281199802,0.37287620398134358,0.42457420494813131,0.4821987557040705,0.52797020688170682,0.55833976376795125,0.57792898739837151,0.59159051210108937,0.37287620398134358,"juin",0.1731601719177327,0.2682461088743926,0.36674599002081409,0.45841798278771234,0.56374575231365665,0.64176196832150889,0.69291820407696181,0.72818864358476387,0.75282972578473084,0.36674599002081409,"juin",-6.1766544845875959E-2,3.7827836400608827E-2,0.14031415844205508,0.23701659889357837,0.34528680252494709,0.43042147979662571,0.48825213237450327,0.52812735701321989,0.55706241546416679,0.14031415844205508]
[null,"juillet",0.32917559950406794,0.40545539868817704,0.48431260957785405,0.55801499705639501,0.64202703135720851,0.70541977201347694,0.7419995826963498,0.76342936627849212,0.77619083714507031,0.48431260957785405,"juillet",0.19781451195957467,0.27059279100884437,0.34536364826724553,0.4161493491073836,0.49490536278404773,0.55772075078765937,0.5974404834876843,0.62318906122057427,0.64085858238918325,0.34536364826724553,"juillet",0.11251719941856342,0.2176815898700335,0.32658488458981516,0.42801037077297382,0.54439147402937915,0.63086134313929088,0.68587792488047183,0.72322777589343523,0.74932549430193707,0.32658488458981516,"juillet",-0.13479480343692707,-2.4104102389485682E-2,8.9633999799386022E-2,0.19727729970539704,0.31711020417712948,0.41256389951741895,0.47531202378468429,0.51790509080817737,0.54890107091844109,8.9633999799386022E-2]
[null,"aout",0.33975475680142897,0.41214972882496292,0.48682302921278575,0.5569396728720305,0.63616962998843141,0.69717296019052,0.73425424185730148,0.75683245009704492,0.77084610836745493,0.48682302921278575,"aout",0.19022186633609817,0.25590404248604814,0.32342078615219316,0.38726839478594799,0.45845427348448314,0.51496361205345764,0.55185948303661081,0.5767091030990209,0.5940473286167357,0.32342078615219316,"aout",0.20190187387569525,0.29203245296972424,0.38535498152237913,0.47229361115778284,0.57200003862768978,0.64617087042859067,0.69454565354241637,0.72817119144445297,0.752526984168848,0.38535498152237913,"aout",-5.0873782640428189E-2,4.6242057982420981E-2,0.14625423339366561,0.2404737392281199,0.34627858421615532,0.42891275089702874,0.48451034360164341,0.52343894851904349,0.55222433948952609,0.14625423339366561]
[null,"septembre",0.38716693266640734,0.44878375456974062,0.51236252546143213,0.57201739837640697,0.63952006724481547,0.69132714420635666,0.7256505484775444,0.74878425095595913,0.76466008623683612,0.51236252546143213,"septembre",0.28184120378837774,0.33270778153711555,0.38498428274852492,0.4344409370345913,0.48953728517134326,0.53335424560672395,0.56484423341298784,0.5874014892359799,0.60429264232621327,0.38498428274852492,"septembre",0.34527457870380918,0.41152442140787282,0.48009302046886249,0.54402410681600011,0.61723021859084148,0.67188627951027535,0.71019492506168269,0.73781364400966265,0.7591666218511216,0.48009302046886249,"septembre",9.8004764466293581E-2,0.17145788793786454,0.24728353812807735,0.31836413488100607,0.39893483850850281,0.4605253283868635,0.50556115065074259,0.5380728113687252,0.56302380786042883,0.24728353812807735]
[null,"octobre",0.48388029617593442,0.52698852485412562,0.57142671960432223,0.61320498221050801,0.66030310910471512,0.69676150742287957,0.7234703382720894,0.74296363381395414,0.75745710017805923,0.57142671960432223,"octobre",0.36404190682110948,0.40368619958539653,0.44454263882358591,0.48297478511397052,0.52625551729996434,0.55983907769473962,0.58582247934353771,0.60584999434848863,0.62137573022661186,0.44454263882358591,"octobre",0.45980412726400144,0.5062598077059044,0.55436285347476955,0.59917116858971031,0.65056894501249951,0.68878779881959207,0.71733533345150302,0.73947986396976229,0.75729676654873612,0.55436285347476955,"octobre",0.22438231552155741,0.27670426513434498,0.33077363857287356,0.38134816435992003,0.43891238544993089,0.48249721593401301,0.51592608118677419,0.54157800516187005,0.56203621170976992,0.33077363857287356]
[null,"novembre",0.56588090262445423,0.59385943739523006,0.62258961245041244,0.64981650693678172,0.68004996256077732,0.70427029590952028,0.7235313071974222,0.73876189978135576,0.75091804041466159,0.62258961245041244,"novembre",0.43911667669108734,0.46251739912529211,0.48651497766636242,0.50931884399370175,0.53451013474850317,0.55492657664838041,0.57153560351157928,0.58504428972172662,0.59589112112124953,0.48651497766636242,"novembre",0.57093378808043682,0.60038646404076346,0.63068833726135842,0.65929181596141684,0.69129208370254835,0.71649877336153367,0.73651801273550266,0.75298914204208167,0.76681828423623033,0.63068833726135842,"novembre",0.35577532796616729,0.38904786629610288,0.42326478718820182,0.45559294295597408,0.49169862897239952,0.52024925449151849,0.543284269133394,0.5619495222123263,0.57758013962494348,0.42326478718820182]
[null,"decembre",0.58498806531142167,0.61020026449728881,0.63615165967943865,0.66062466286902299,0.68805445004373833,0.70957066924819168,0.72652533730829905,0.74001718066041122,0.7506901264010043,0.63615165967943865,"decembre",0.45167645502264675,0.47519938295807518,0.49934241439156779,0.52224523882893203,0.5476284772585529,0.56805088770366041,0.58459998190944562,0.59811653523599662,0.60922192558869126,0.49934241439156779,"decembre",0.59149600062439456,0.6182272623274534,0.64569497669343767,0.67168978573357108,0.70063040542540622,0.72367940381383788,0.7423099655412112,0.75760832240538289,0.77042713495562576,0.64569497669343767,"decembre",0.38078952158674267,0.41096045197604075,0.44198579908008134,0.47130231275463691,0.50403649328816236,0.5299353401037481,0.5507433854861713,0.56775109376878774,0.58214644300275076,0.44198579908008134]
[]
[]
[null,"Ref typique",null,null,null,"Léger",null,null,null,null,null,null,"Ref typique",null,null,null,"Léger",null,null,null,null,null,null,"Ref typique",null,null,null,"Léger",null,null,null,null,null,null,"Ref typique",null,null,null,"Léger"]
[]
[null,null,28,27,26,25,24,23,22,21,20,{"$f":"TempConsigne","v":26},null,28,27,26,25,24,23,22,21,20,{"$f":"TempConsigne","v":26},null,28,27,26,25,24,23,22,21,20,{"$f":"TempConsigne","v":26},null,28,27,26,25,24,23,22,21,20,{"$f":"TempConsigne","v":26}]
[null,"janvier",{"$f":"C$20*((D181-F181)/(D$20-F$20))+D181-D$20*((D181-F181)/(D$20-F$20))","v":0.75313324608901144},{"$f":"D$20*((E181-G181)/(E$20-G$20))+E181-E$20*((E181-G181)/(E$20-G$20))","v":0.76978679085304635},{"$f":"E$20*((F181-H181)/(F$20-H$20))+F181-F$20*((F181-H181)/(F$20-H$20))","v":0.78721427035222757},0.80309388038111629,0.82206922935059001,0.83485310043889371,0.84356363400992673,0.84868456477616006,0.85246478601076459,{"$f":"HLOOKUP(L180,C180:K192,2,FALSE)","v":0.78721427035222757},"janvier",{"$f":"N$20*((O181-Q181)/(O$20-Q$20))+O181-O$20*((O181-Q181)/(O$20-Q$20))","v":0.59374312417310759},{"$f":"O$20*((P181-R181)/(P$20-R$20))+P181-P$20*((P181-R181)/(P$20-R$20))","v":0.61118602608484085},{"$f":"P$20*((Q181-S181)/(Q$20-S$20))+Q181-Q$20*((Q181-S181)/(Q$20-S$20))","v":0.62927766576026156},0.64607182990830736,0.66546094511110299,0.67966015820439896,0.69060546237153886,0.69859110354581244,0.70519443378069557,{"$f":"HLOOKUP(W180,N180:V192,2,FALSE)","v":0.62927766576026156},"janvier",{"$f":"Y$20*((Z181-AB181)/(Z$20-AB$20))+Z181-Z$20*((Z181-AB181)/(Z$20-AB$20))","v":0.7119758937071079},{"$f":"Z$20*((AA181-AC181)/(AA$20-AC$20))+AA181-AA$20*((AA181-AC181)/(AA$20-AC$20))","v":0.72986409706197619},{"$f":"AA$20*((AB181-AD181)/(AB$20-AD$20))+AB181-AB$20*((AB181-AD181)/(AB$20-AD$20))","v":0.74839932320476743},0.76564050377171267,0.78546977549035002,0.80012286490560303,0.81073232731862466,0.81888576191507056,0.82570344242992633,{"$f":"HLOOKUP(AH180,Y180:AG192,2,FALSE)","v":0.74839932320476743},"janvier",{"$f":"AJ$20*((AK181-AM181)/(AK$20-AM$20))+AK181-AK$20*((AK181-AM181)/(AK$20-AM$20))","v":0.49649442074235073},{"$f":"AK$20*((AL181-AN181)/(AL$20-AN$20))+AL181-AL$20*((AL181-AN181)/(AL$20-AN$20))","v":0.52488106991258632},{"$f":"AL$20*((AM181-AO181)/(AM$20-AO$20))+AM181-AM$20*((AM181-AO181)/(AM$20-AO$20))","v":0.55409361594000839},0.58165436825305739,0.61251870799485253,0.63677587287915538,0.65540573540185176,0.66987691249369496,0.68121207749009993,{"$f":"HLOOKUP(AS180,AJ180:AR192,2,FALSE)","v":0.55409361594000839}]
[null,"fevrier",{"$f":"C$20*((D182-F182)/(D$20-F$20))+D182-D$20*((D182-F182)/(D$20-F$20))","v":0.74906323851560652},0.76554849376283751,{"$f":"E$20*((F182-H182)/(F$20-H$20))+F182-F$20*((F182-H182)/(F$20-H$20))","v":0.78283470425150381},0.79851900425729949,0.81740712522883641,0.82988760426889097,0.83818047870145806,0.84331308798414539,0.8463498452809779,{"$f":"HLOOKUP(L181,C181:K193,2,FALSE)","v":0.78283470425150381},"fevrier",{"$f":"N$20*((O182-Q182)/(O$20-Q$20))+O182-O$20*((O182-Q182)/(O$20-Q$20))","v":0.57349011225179147},0.59152504667479266,{"$f":"P$20*((Q182-S182)/(Q$20-S$20))+Q182-Q$20*((Q182-S182)/(Q$20-S$20))","v":0.61022801177481356},0.62759491552079494,0.64763394197485546,0.66232872301275758,0.67337121407810585,0.68194562996811081,0.68847205307175208,{"$f":"HLOOKUP(W181,N181:V193,2,FALSE)","v":0.61022801177481356},"fevrier",{"$f":"Y$20*((Z182-AB182)/(Z$20-AB$20))+Z182-Z$20*((Z182-AB182)/(Z$20-AB$20))","v":0.70927259976529811},0.72715169970278704,{"$f":"AA$20*((AB182-AD182)/(AB$20-AD$20))+AB182-AB$20*((AB182-AD182)/(AB$20-AD$20))","v":0.74570156121650011},0.76290989957776489,0.78280128424392614,0.79732657630029435,0.80817618297121585,0.81740022380934552,0.82540176047312253,{"$f":"HLOOKUP(AH181,Y181:AG193,2,FALSE)","v":0.74570156121650011},"fevrier",{"$f":"AJ$20*((AK182-AM182)/(AK$20-AM$20))+AK182-AK$20*((AK182-AM182)/(AK$20-AM$20))","v":0.49589343247136597},0.52457923930670947,{"$f":"AL$20*((AM182-AO182)/(AM$20-AO$20))+AM182-AM$20*((AM182-AO182)/(AM$20-AO$20))","v":0.55423090563145283},0.58195085297739646,0.61353423828093967,0.63739074766928361,0.65514840084895531,0.66863797622732102,0.67906197223520237,{"$f":"HLOOKUP(AS181,AJ181:AR193,2,FALSE)","v":0.55423090563145283}]
[null,"mars",0.74248435228887577,0.76084175108807539,0.7800296428784278,0.79755654868647463,0.81840542645913261,0.8326103603025683,0.84148830400591546,0.84701961328710618,0.85037861206879239,0.7800296428784278,"mars",0.54128492818794538,0.55927676152878703,0.57787263326458727,0.59526042821047032,0.61506437673618763,0.63003601810223642,0.64078284720765011,0.6485215541701832,0.65432709976478232,0.57787263326458727,"mars",0.69976377707129256,0.7195903577191235,0.74021531586378009,0.75924351901478537,0.78146523215309316,0.79729992531679583,0.80877224537106429,0.81766502733732216,0.82497151384570955,0.74021531586378009,"mars",0.47874447620618132,0.50965350931923348,0.54150467944944358,0.57147157554533767,0.60520701970986379,0.63140536773712586,0.65143214724662013,0.66659677202944401,0.6781295277242616,0.54150467944944358]
[null,"avril",0.71000405830873714,0.73546631031045517,0.76199253313834947,0.78639081431389124,0.81504497879413795,0.83518737666497467,0.84798131379750041,0.85443117470352425,0.8573351311327716,0.76199253313834947,"avril",0.5690124729664624,0.59392522461249964,0.61966222332987675,0.6437507279045741,0.67113622076463109,0.69192773705396893,0.70700598068931919,0.71757933932739515,0.72541389711934656,0.61966222332987675,"avril",0.64978758521518942,0.67747245983445237,0.70636671676900409,0.73284220907297826,0.76415523063810753,0.78579319368092659,0.80042396552200223,0.81098229518835252,0.81890291275120453,0.70636671676900409,"avril",0.4197688890475566,0.45948150412882094,0.50040702699088446,0.53890673429134961,0.58225807271501118,0.61590614889227979,0.64145735670099868,0.66012897874166565,0.67388846267478997,0.50040702699088446]
[null,"mai",0.60681574676841343,0.65099787633537898,0.69639582453723592,0.73936213546931007,0.78719172094095013,0.82529475733345825,0.84917823489919175,0.86044334872748618,0.86370456085828118,0.69639582453723592,"mai",0.47147040538553064,0.51071469804221425,0.55094689196847735,0.58920328335558136,0.63141127982100387,0.66571606612978951,0.69050437965500489,0.70579238222898422,0.71447341014662857,0.55094689196847735,"mai",0.52339765988161546,0.5702620732721948,0.61884663098149084,0.66399090005335348,0.71601574640008292,0.75427943819707877,0.77991160502445722,0.79738981830876954,0.81009372985304084,0.61884663098149084,"mai",0.26738191032470948,0.32772252821158432,0.3897887509259319,0.44840376398533399,0.51392119635462707,0.56563379010413817,0.603906627107478,0.63206265125671013,0.65338019274957437,0.3897887509259319]
[null,"juin",0.49247594637344516,0.56197524556077294,0.63360013074598021,0.70097384393542872,0.77684990111639474,0.83572127031432564,0.86495805227046485,0.87692274337989518,0.87731433842062168,0.63360013074598021,"juin",0.36219692434489192,0.41334638616416786,0.46577642712371159,0.51564530980271994,0.57063650904279883,0.61538307516073654,0.64349479732492865,0.65933208048836967,0.66763771464470778,0.46577642712371159,"juin",0.24949444118153608,0.33664549761481677,0.42666757808538924,0.51094761048137838,0.60671173902653464,0.67950767527335665,0.72922244895430155,0.76415950063334181,0.78862404920591145,0.42666757808538924,"juin",-5.4428970417054856E-2,4.966314377308656E-2,0.15606655739594322,0.25784737215337017,0.36887338464165698,0.46140900166822457,0.5267703346317647,0.5741282902171998,0.61009372752943103,0.15606655739594322]
[null,"juillet",0.48840543807133674,0.558102155240634,0.62979908597756529,0.6974955895792283,0.77319294745142753,0.83288859678255434,0.86269905086411669,0.87420953527284995,0.87461407546986858,0.62979908597756529,"juillet",0.32925374111260708,0.39326005025857569,0.45858896444374198,0.52127266855051291,0.58924679281407488,0.64664007676405477,0.68201906213384522,0.70349277126560983,0.71592930462501336,0.45858896444374198,"juillet",0.22112700567535848,0.31210624178633672,0.40583869950603191,0.49406471400829355,0.59330361494542261,0.67051674301281694,0.72224785850084161,0.75879370637341392,0.78440022582286051,0.40583869950603191,"juillet",-9.3169856730569212E-2,1.5408678789110564E-2,0.12620952627101412,0.23256574982847047,0.34781122123482117,0.4452781969433835,0.51360559777610149,0.56305134202331619,0.60063506516238618,0.12620952627101412]
[null,"aout",0.48054904125852382,0.54995187128962564,0.62125791394412522,0.68875753135182949,0.76386999925312471,0.82375676616723792,0.85597419799073315,0.86942466966248177,0.87147413667084472,0.62125791394412522,"aout",0.3088694517544528,0.36785156235914918,0.42816417953133579,0.48581578356854177,0.54878941387570879,0.60111899164295335,0.63426388244688747,0.65420640925991702,0.66504624949847135,0.42816417953133579,"aout",0.27642740066248539,0.3595348805474794,0.44529362503114633,0.52574984031746708,0.61681111399848032,0.68666227089010812,0.73375616240538233,0.7670232132776722,0.79049941371684862,0.44529362503114633,"aout",-4.073096115319208E-2,6.0944268306078353E-2,0.16508095491820107,0.26429472722461922,0.37335432814244701,0.46272227183745512,0.52538303742630221,0.571009483316261,0.60625449043129909,0.16508095491820107]
[null,"septembre",0.49396000950622043,0.55948484766672402,0.62692597474886391,0.69053452398773107,0.76180822891314326,0.81775162246546551,0.85058015919168428,0.86588519405026509,0.87069811405680331,0.62692597474886391,"septembre",0.35550907164173751,0.40851552437536354,0.46282926271991853,0.51452842984261571,0.57145673940902797,0.61792676408801006,0.65040806498509851,0.67140956047713607,0.68454606832605658,0.46282926271991853,"septembre",0.38033034355812334,0.44856796149268274,0.51912826996095252,0.58504319736180177,0.66024888689749173,0.71687305216350039,0.75591580649850987,0.78312137512000735,0.80231954509309678,0.51912826996095252,"septembre",7.1897996324109315E-2,0.15836327514007742,0.2470886796835523,0.33129383277201319,0.42453948877050179,0.49970413894893512,0.55368257977756785,0.59372443678735354,0.62454059203912915,0.2470886796835523]
[null,"octobre",0.57519944456200056,0.62366319009105387,0.6732904516698941,0.72059068114916047,0.77254497482757434,0.81519114010769345,0.84278850490019985,0.85706266413568744,0.8619951356417519,0.6732904516698941,"octobre",0.43897745739772775,0.48085878661682735,0.52372973967983805,0.56462144505502676,0.60947164580585922,0.64640485580540419,0.67366259170199205,0.69155215665194003,0.70283780050450928,0.52372973967983805,"octobre",0.51503169066694399,0.56156600567640547,0.60976948379499019,0.65463463569532843,0.70617644003215929,0.7443649394960048,0.7711046430749805,0.79021009367983119,0.80351504103979532,0.60976948379499019,"octobre",0.23152372638300478,0.2940193494529193,0.35830314891982229,0.41901059559274834,0.48687074785362833,0.54042548893860054,0.58076929544436584,0.61149404771903892,0.63532314159052117,0.35830314891982229]
[null,"novembre",0.6734998955896393,0.70322321340477711,0.7337767483219787,0.76266984903505275,0.79488381815638187,0.82045605046120085,0.83905215902887154,0.85073013330224045,0.85739788315761833,0.7337767483219787,"novembre",0.51839375847199221,0.5434633648156223,0.56915540191852221,0.59360257750288248,0.62053947612432203,0.64249692867160302,0.65984051686982892,0.67216431738049309,0.68100005606357017,0.56915540191852221,"novembre",0.6417845184183999,0.66969586947823356,0.69865095783690789,0.7255185715979009,0.75656113455425666,0.77925379911988701,0.79557672389141032,0.80770853980943791,0.816825562627434,0.69865095783690789,"novembre",0.39318395624959768,0.4342496460854216,0.4764975755480293,0.51638102575706957,0.56099343447324501,0.59614792617515011,0.62356795615034877,0.64504191200886152,0.66185287148754357,0.4764975755480293]
[null,"decembre",0.70361794662516164,0.72804201381736844,0.75339974068023385,0.77689014820178204,0.80411519440596468,0.82387096324487852,0.83734623223555027,0.84605861045513486,0.85147364634047185,0.75339974068023385,"decembre",0.53999758641510476,0.5643395047656643,0.58938964370795055,0.61302334146678339,0.63948992159252305,0.66029073698444896,0.67639936946132162,0.68852838712604381,0.6975574928687347,0.58938964370795055,"decembre",0.67106146142890433,0.69463266533202628,0.71916045235672921,0.74177507313827007,0.76821602640613507,0.78700431470135168,0.80076032519948714,0.8112519370867648,0.81995072437617444,0.71916045235672921,"decembre",0.43019819830154249,0.46658322756607795,0.50410102761410613,0.53935328609514888,0.57913662771016239,0.60985780305723425,0.63369561652134809,0.65197385858132428,0.66644000325236941,0.50410102761410613]
[]
[]
[null,"Ref typique",null,null,null,"Moyen",null,null,null,null,null,null,"Ref typique",null,null,null,"Moyen",null,null,null,null,null,null,"Ref typique",null,null,null,"Moyen",null,null,null,null,null,null,"Ref typique",null,null,null,"Moyen"]
[]
[null,null,28,27,26,25,24,23,22,21,20,{"$f":"TempConsigne","v":26},null,28,27,26,25,24,23,22,21,20,{"$f":"TempConsigne","v":26},null,28,27,26,25,24,23,22,21,20,{"$f":"TempConsigne","v":26},null,28,27,26,25,24,23,22,21,20,{"$f":"TempConsigne","v":26}]
[null,"janvier",{"$f":"C$20*((D198-F198)/(D$20-F$20))+D198-D$20*((D198-F198)/(D$20-F$20))","v":0.73514740557338343},{"$f":"D$20*((E198-G198)/(E$20-G$20))+E198-E$20*((E198-G198)/(E$20-G$20))","v":0.7542671421853574},{"$f":"E$20*((F198-H198)/(F$20-H$20))+F198-F$20*((F198-H198)/(F$20-H$20))","v":0.77417061839635948},0.79250661540930534,0.81397757081836353,0.82917860943519706,0.83961080214578865,0.84633803510606465,0.85114941039790581,{"$f":"HLOOKUP(L197,C197:K209,2,FALSE)","v":0.77417061839635948},"janvier",{"$f":"N$20*((O198-Q198)/(O$20-Q$20))+O198-O$20*((O198-Q198)/(O$20-Q$20))","v":0.58605760117826966},{"$f":"O$20*((P198-R198)/(P$20-R$20))+P198-P$20*((P198-R198)/(P$20-R$20))","v":0.60668058781186063},{"$f":"P$20*((Q198-S198)/(Q$20-S$20))+Q198-Q$20*((Q198-S198)/(Q$20-S$20))","v":0.62797422424463012},0.64792656107904267,0.6705614971101691,0.68783123474786778,0.70110862664769436,0.71129967996336874,0.71935976624193365,{"$f":"HLOOKUP(W197,N197:V209,2,FALSE)","v":0.62797422424463012},"janvier",{"$f":"Y$20*((Z198-AB198)/(Z$20-AB$20))+Z198-Z$20*((Z198-AB198)/(Z$20-AB$20))","v":0.74499221118501779},{"$f":"Z$20*((AA198-AC198)/(AA$20-AC$20))+AA198-AA$20*((AA198-AC198)/(AA$20-AC$20))","v":0.76051743761591006},{"$f":"AA$20*((AB198-AD198)/(AB$20-AD$20))+AB198-AB$20*((AB198-AD198)/(AB$20-AD$20))","v":0.77673501286762558},0.79156789047769449,0.80917016337105652,0.8212336456978323,0.82995556343170995,0.83659513065862179,0.84266389505677064,{"$f":"HLOOKUP(AH197,Y197:AG209,2,FALSE)","v":0.77673501286762558},"janvier",{"$f":"AJ$20*((AK198-AM198)/(AK$20-AM$20))+AK198-AK$20*((AK198-AM198)/(AK$20-AM$20))","v":0.54243486669923213},{"$f":"AK$20*((AL198-AN198)/(AL$20-AN$20))+AL198-AL$20*((AL198-AN198)/(AL$20-AN$20))","v":0.56825988072868605},{"$f":"AL$20*((AM198-AO198)/(AM$20-AO$20))+AM198-AM$20*((AM198-AO198)/(AM$20-AO$20))","v":0.59489643692434113},0.61990990878759389,0.64816954931565141,0.6699368525140994,0.68565283185394821,0.69746498296980797,0.70616007571127903,{"$f":"HLOOKUP(AS197,AJ197:AR209,2,FALSE)","v":0.59489643692434113}]
[null,"fevrier",{"$f":"C$20*((D199-F199)/(D$20-F$20))+D199-D$20*((D199-F199)/(D$20-F$20))","v":0.72914424966321212},0.7484887667445137,{"$f":"E$20*((F199-H199)/(F$20-H$20))+F199-F$20*((F199-H199)/(F$20-H$20))","v":0.7687391992912862},0.78717780090711698,0.8092400643848312,0.82405500413877852,0.83387980968503816,0.84060884101474365,0.84514559691825508,{"$f":"HLOOKUP(L198,C198:K210,2,FALSE)","v":0.7687391992912862},"fevrier",{"$f":"N$20*((O199-Q199)/(O$20-Q$20))+O199-O$20*((O199-Q199)/(O$20-Q$20))","v":0.56992242839412421},0.59127761568164627,{"$f":"P$20*((Q199-S199)/(Q$20-S$20))+Q199-Q$20*((Q199-S199)/(Q$20-S$20))","v":0.61336347785730116},0.63398799025669039,0.65753520220861084,0.67523701505546874,0.68849128491955924,0.69862408736843884,0.70661262777936806,{"$f":"HLOOKUP(W198,N198:V210,2,FALSE)","v":0.61336347785730116},"fevrier",{"$f":"Y$20*((Z199-AB199)/(Z$20-AB$20))+Z199-Z$20*((Z199-AB199)/(Z$20-AB$20))","v":0.73705723629440856},0.75291368031759087,{"$f":"AA$20*((AB199-AD199)/(AB$20-AD$20))+AB199-AB$20*((AB199-AD199)/(AB$20-AD$20))","v":0.76941733895303455},0.78462656836395539,0.80242465622392189,0.81504502718579719,0.8244346573415039,0.83291682307449511,0.84013630607858636,{"$f":"HLOOKUP(AH198,Y198:AG210,2,FALSE)","v":0.76941733895303455},"fevrier",{"$f":"AJ$20*((AK199-AM199)/(AK$20-AM$20))+AK199-AK$20*((AK199-AM199)/(AK$20-AM$20))","v":0.53767054934629077},0.56342597040332087,{"$f":"AL$20*((AM199-AO199)/(AM$20-AO$20))+AM199-AM$20*((AM199-AO199)/(AM$20-AO$20))","v":0.59014650502064825},0.61493681251738097,0.643587574255303,0.6645174275108463,0.67962264124567251,0.69041316345603065,0.69929457541105289,{"$f":"HLOOKUP(AS198,AJ198:AR210,2,FALSE)","v":0.59014650502064825}]
[null,"mars",0.72190549594764153,0.74308077337498213,0.76513274147003085,0.78543132822966344,0.80923667766012841,0.82602850174892861,0.83704790267237161,0.84408309393177239,0.84882518522409955,0.76513274147003085,"mars",0.53583134686826372,0.55686932409580281,0.57855616900413742,0.59894527855088098,0.62192985882080654,0.63972349764436809,0.65287989969677485,0.66247360468822014,0.66981837558156421,0.57855616900413742,"mars",0.73112365376126309,0.74865481533774791,0.76692346712500903,0.78371713849071756,0.80346077069953126,0.81730448122213462,0.82718692806593608,0.83486622936236266,0.84112084904229178,0.76692346712500903,"mars",0.52481172211899785,0.55290259015257426,0.58191623138756543,0.60908432621972708,0.63994351385754789,0.66342051588405049,0.68042141148708402,0.6927023984482652,0.70220317640367469,0.58191623138756543]
[null,"avril",0.68128904403299129,0.71031428349908898,0.74045779280729462,0.76836476243128426,0.8007448114237059,0.82417870167926355,0.83977029464989894,0.84893981112169015,0.85402809966711013,0.74045779280729462,"avril",0.55625335348409866,0.58539183004407236,0.61543869538283158,0.64366878316401976,0.67553242606035002,0.70012895872639624,0.71862485586037972,0.73222768328143906,0.74240735122429657,0.61543869538283158,"avril",0.68879294266575963,0.71325450683309766,0.73886013589310739,0.76217763516777381,0.79007139401312687,0.80881263371710665,0.82130929545805442,0.83016070095983119,0.83698387252165163,0.73886013589310739,"avril",0.46999523317991443,0.50645285536186957,0.54408172155013657,0.57936809972577985,0.61933945392667067,0.64994085607706653,0.67268969747719154,0.68883585085304044,0.70015791775949465,0.54408172155013657]
[null,"mai",0.566726635519335,0.61489511832124588,0.66423449985920602,0.71123208392506743,0.76291326293512629,0.80522725205679024,0.83432261587021517,0.85125134420362469,0.8590219794511641,0.66423449985920602,"mai",0.4419853724031787,0.48615810053779074,0.53131785661992603,0.57450355680701481,0.62163736878419695,0.66087495718119216,0.69065835551089627,0.71107383876330443,0.72477565353101836,0.53131785661992603,"mai",0.57243781905541236,0.61495566516730304,0.65910920590155586,0.69999135739108442,0.74741628737006183,0.78175566037014144,0.80455853989763482,0.82005170773837921,0.83038561581480042,0.65910920590155586,"mai",0.32619323975723535,0.38244454918875559,0.4403216317438815,0.49494716805179595,0.55607579685413333,0.60419824066762484,0.63990557794947445,0.66630783603679389,0.68528937443100524,0.4403216317438815]
[null,"juin",0.38625688280618586,0.47070916415858477,0.55736339716146865,0.63961372686338225,0.73067186316723709,0.80411438626720921,0.84603679238243801,0.86637331420217467,0.87076603674883934,0.55736339716146865,"juin",0.28485920879585924,0.34775581686818224,0.4119559486876947,0.47354903301282825,0.54035621232671927,0.59673520166309513,0.63481767731438654,0.65949531328778244,0.67419579219250636,0.4119559486876947,"juin",0.28691330939609117,0.37365948778476876,0.46358009992317739,0.54715184456212396,0.64342132419999432,0.71429533384001764,0.762376968397105,0.79419469327198844,0.8148469070816714,0.46358009992317739,"juin",6.3427597057330587E-4,0.10288670719480963,0.20793629715014816,0.3073915696432819,0.41803547706082539,0.50630211462954888,0.56994307688533019,0.61534977311867411,0.64919955208265223,0.20793629715014816]
[null,"juillet",0.37155915944006157,0.45845315457913749,0.54750439257628347,0.63224114485728966,0.72560686857057533,0.80171464941930282,0.84386563881516785,0.86417453240013398,0.86805630770076347,0.54750439257628347,"juillet",0.24836576107479802,0.32648721595272789,0.40623098987405104,0.48273012570858725,0.56571853771669733,0.63572839737765952,0.68217097688860084,0.71207349034346501,0.73028794004536046,0.40623098987405104,"juillet",0.24776417610939694,0.34043173482687461,0.43646604817412027,0.52576685226183018,0.6285346748686117,0.7043684604372501,0.75480836609118063,0.78833055965089227,0.81016842843771675,0.43646604817412027,"juillet",-4.7157980474306527E-2,6.1268667166159752E-2,0.17256738192748999,0.27812196244709231,0.39516481145015031,0.48923112348629721,0.55647802242592392,0.60393606139481892,0.6394175728781557,0.17256738192748999]
[null,"aout",0.3802325095595025,0.46344111847607028,0.54866628370015702,0.62985833630920507,0.71911661414833006,0.79224244152730139,0.83633024770921705,0.85904702868144844,0.86534984960308203,0.54866628370015702,"aout",0.23653636997745853,0.30770482730719229,0.38055504589486899,0.45004174196665964,0.52625548307022207,0.58901513411024053,0.63197843968971901,0.65958041569318415,0.67615052686696653,0.38055504589486899,"aout",0.31189985845363877,0.39463124037977559,0.48045963865336372,0.56009400423204847,0.65211643520054063,0.71936273538941753,0.76451904103489488,0.79538211330073327,0.81549374906838001,0.48045963865336372,"aout",1.3644250395339341E-2,0.11325294237186467,0.2155977814164638,0.31247032632491512,0.42028745950566188,0.50621541614181864,0.56727932319373819,0.61168558044264465,0.64525162340764641,0.2155977814164638]
[null,"septembre",0.41872886703143819,0.49330520740499195,0.56964346771998131,0.64245788815209948,0.72231998834996036,0.78808672901633592,0.83051460803344246,0.85466448945200602,0.8651013612086762,0.56964346771998131,"septembre",0.30289711394546948,0.36444935235005294,0.42734791545100581,0.48755382915921985,0.5531450416529119,0.60796565657564805,0.64792261805484086,0.67668587407369896,0.69522206273716047,0.42734791545100581,"septembre",0.42939645978393792,0.4942998157921199,0.56148030231398294,0.62410652780848386,0.69584127535770934,0.74935897879748559,0.78550188610950444,0.81065950790767904,0.82656256775359038,0.56148030231398294,"septembre",0.13716428181845997,0.21938873378713786,0.30391885587850642,0.38383763772449381,0.47297910006124305,0.54367520141646841,0.59606871258388128,0.63478108460344229,0.66345028659539074,0.30391885587850642]
[null,"octobre",0.5286056733498613,0.58186099702228689,0.63648891474663161,0.68837164436713805,0.74574475019532127,0.79213710360815071,0.82528441660859175,0.84565741774524805,0.85618369522898286,0.63648891474663161,"octobre",0.4076170631330106,0.45512025455130589,0.50379572988354371,0.55012663738789624,0.60114668054801967,0.64278845239660143,0.67475399927378188,0.69778356696853172,0.71386302506253552,0.50379572988354371,"octobre",0.5622742729720972,0.60492714154031135,0.6492941015616186,0.69023287867673988,0.73802802160423275,0.77211043290698234,0.79578688281802668,0.81227859791313461,0.82343114228059144,0.6492941015616186,"octobre",0.28832108177406668,0.34744078272521461,0.40831196272634451,0.46568018462751065,0.53005432272860398,0.5804166284298431,0.61820612113106577,0.64661835449144722,0.66798693053283009,0.40831196272634451]
[null,"novembre",0.64543098279789246,0.67794151173825046,0.7113551679663368,0.74296256961896645,0.77818248042250959,0.80617737292422587,0.82741764180584532,0.84193277823337842,0.85167385569201415,0.7113551679663368,"novembre",0.50275417351033269,0.53145597012069845,0.56087018329191374,0.58885956334142997,0.6196986096343442,0.64483832344046255,0.66509318195389255,0.68028096801932358,0.69191855325408769,0.56087018329191374,"novembre",0.68191504511447421,0.70654583750444222,0.73215132310765418,0.75580742228437825,0.78336229431407811,0.80311962063782638,0.81693236567501148,0.82713460655392945,0.83542777987892725,0.73215132310765418,"novembre",0.44489185705585388,0.48293391936200292,0.52213453674685206,0.55901804397430099,0.60053577151655069,0.63278505842919885,0.6574879350218823,0.67608847418859874,0.69023750466957934,0.52213453674685206]
[null,"decembre",0.67881168468976383,0.70624406335933188,0.73467420860576116,0.76110882069846808,0.79153449909861973,0.81397804488388192,0.82999890439136415,0.84069425593289249,0.84791543301359973,0.73467420860576116,"decembre",0.52871933605858734,0.55681498000006246,0.58568282118643555,0.61300626788301271,0.64341850355918162,0.66765316127616692,0.68665339692507621,0.70108059037993931,0.71241445909142331,0.58568282118643555,"decembre",0.70667810427352584,0.72755826326597817,0.74937223430715738,0.76931858125088282,0.79300017638951592,0.8092112751383338,0.82089268671736015,0.82986423049927671,0.83702211621808387,0.74937223430715738,"decembre",0.47851747087073471,0.51226759565866864,0.5471520592610597,0.57976784523453639,0.61692098646584181,0.64499941718148968,0.66592866131190587,0.68132144195599387,0.6928124213803657,0.5471520592610597]
[]
[]
[null,"Ref typique",null,null,null,"Lourd",null,null,null,null,null,null,"Ref typique",null,null,null,"Lourd",null,null,null,null,null,null,"Ref typique",null,null,null,"Lourd",null,null,null,null,null,null,"Ref typique",null,null,null,"Lourd"]
[]
[null,null,28,27,26,25,24,23,22,21,20,{"$f":"TempConsigne","v":26},null,28,27,26,25,24,23,22,21,20,{"$f":"TempConsigne","v":26},null,28,27,26,25,24,23,22,21,20,{"$f":"TempConsigne","v":26},null,28,27,26,25,24,23,22,21,20,{"$f":"TempConsigne","v":26}]
[null,"janvier",{"$f":"C$20*((D215-F215)/(D$20-F$20))+D215-D$20*((D215-F215)/(D$20-F$20))","v":0.73278276516623464},{"$f":"D$20*((E215-G215)/(E$20-G$20))+E215-E$20*((E215-G215)/(E$20-G$20))","v":0.75285547496158267},{"$f":"E$20*((F215-H215)/(F$20-H$20))+F215-F$20*((F215-H215)/(F$20-H$20))","v":0.77378582693474307},0.79300089455227873,0.81564653088106387,0.83143102978735017,0.84219096948125982,0.84936177328050955,0.85437554873473298,{"$f":"HLOOKUP(L214,C214:K226,2,FALSE)","v":0.77378582693474307},"janvier",{"$f":"N$20*((O215-Q215)/(O$20-Q$20))+O215-O$20*((O215-Q215)/(O$20-Q$20))","v":0.60450109612931513},{"$f":"O$20*((P215-R215)/(P$20-R$20))+P215-P$20*((P215-R215)/(P$20-R$20))","v":0.62776331443778033},{"$f":"P$20*((Q215-S215)/(Q$20-S$20))+Q215-Q$20*((Q215-S215)/(Q$20-S$20))","v":0.65179886142737875},0.67428775105471073,0.69986995540657548,0.71926553030937479,0.73365290068829891,0.74446281348353383,0.75271569895260659,{"$f":"HLOOKUP(W214,N214:V226,2,FALSE)","v":0.65179886142737875},"janvier",{"$f":"Y$20*((Z215-AB215)/(Z$20-AB$20))+Z215-Z$20*((Z215-AB215)/(Z$20-AB$20))","v":0.75928937037895072},{"$f":"Z$20*((AA215-AC215)/(AA$20-AC$20))+AA215-AA$20*((AA215-AC215)/(AA$20-AC$20))","v":0.7739600400787725},{"$f":"AA$20*((AB215-AD215)/(AB$20-AD$20))+AB215-AB$20*((AB215-AD215)/(AB$20-AD$20))","v":0.78931068615950928},0.80330137947841618,0.82001197832098283,0.83128276611622998,0.83953079341338088,0.84646797539327867,0.85255985069351981,{"$f":"HLOOKUP(AH214,Y214:AG226,2,FALSE)","v":0.78931068615950928},"janvier",{"$f":"AJ$20*((AK215-AM215)/(AK$20-AM$20))+AK215-AK$20*((AK215-AM215)/(AK$20-AM$20))","v":0.57307953515473486},{"$f":"AK$20*((AL215-AN215)/(AL$20-AN$20))+AL215-AL$20*((AL215-AN215)/(AL$20-AN$20))","v":0.59701354687847807},{"$f":"AL$20*((AM215-AO215)/(AM$20-AO$20))+AM215-AM$20*((AM215-AO215)/(AM$20-AO$20))","v":0.62196942901842223},0.64488157032596438,0.67188119329831053,0.69070585294104869,0.70392817409207786,0.71331983074114125,0.72095667944980191,{"$f":"HLOOKUP(AS214,AJ214:AR226,2,FALSE)","v":0.62196942901842223}]
[null,"fevrier",{"$f":"C$20*((D216-F216)/(D$20-F$20))+D216-D$20*((D216-F216)/(D$20-F$20))","v":0.72554935658446562},0.7460120457641003,{"$f":"E$20*((F216-H216)/(F$20-H$20))+F216-F$20*((F216-H216)/(F$20-H$20))","v":0.76743204119370967},0.78693742412336964,0.81027203205292841,0.8259481899826896,0.83639899210068347,0.84343450759619565,0.84834165510359416,{"$f":"HLOOKUP(L215,C215:K227,2,FALSE)","v":0.76743204119370967},"fevrier",{"$f":"N$20*((O216-Q216)/(O$20-Q$20))+O216-O$20*((O216-Q216)/(O$20-Q$20))","v":0.59031173982332297},0.61472328375642837,{"$f":"P$20*((Q216-S216)/(Q$20-S$20))+Q216-Q$20*((Q216-S216)/(Q$20-S$20))","v":0.64000067848182585},0.6635463716226393,0.69055546793262079,0.7106377579042662,0.72526836613810952,0.73551132115948425,0.74306549494199037,{"$f":"HLOOKUP(W215,N215:V227,2,FALSE)","v":0.64000067848182585},"fevrier",{"$f":"Y$20*((Z216-AB216)/(Z$20-AB$20))+Z216-Z$20*((Z216-AB216)/(Z$20-AB$20))","v":0.73821815020548398},0.75525951623339038,{"$f":"AA$20*((AB216-AD216)/(AB$20-AD$20))+AB216-AB$20*((AB216-AD216)/(AB$20-AD$20))","v":0.77294152855324283},0.78934224828920319,0.80830555319294772,0.82214368776112401,0.83265260711029443,0.84095574899074932,0.84823118375512752,{"$f":"HLOOKUP(AH215,Y215:AG227,2,FALSE)","v":0.77294152855324283},"fevrier",{"$f":"AJ$20*((AK216-AM216)/(AK$20-AM$20))+AK216-AK$20*((AK216-AM216)/(AK$20-AM$20))","v":0.55691614852560856},0.58153737426830077,{"$f":"AL$20*((AM216-AO216)/(AM$20-AO$20))+AM216-AM$20*((AM216-AO216)/(AM$20-AO$20))","v":0.6071872270681592},0.63077982575368519,0.65848693266787617,0.67796502312473728,0.69227939607210354,0.70259512309282501,0.71149375472689902,{"$f":"HLOOKUP(AS215,AJ215:AR227,2,FALSE)","v":0.6071872270681592}]
[null,"mars",0.72267872780883291,0.74465151807056507,0.76757890672850881,0.78859709859402927,0.81343368404439631,0.83063348232507006,0.84225804364104762,0.84930801216765106,0.85425778393854068,0.76757890672850881,"mars",0.55429269968606032,0.57806972383904409,0.60262563966068861,0.62562377214501153,0.65173747130397774,0.67162003711365736,0.68627873939558293,0.69659343628302695,0.70408668508100569,0.60262563966068861,"mars",0.74078709016540634,0.75801993564744707,0.77594387024995082,0.79248562661152855,0.81179173945495842,0.82556913933468412,0.83544656421508057,0.8433199813458413,0.84965402035376336,0.77594387024995082,"mars",0.55534971314340897,0.58129132540293804,0.60808812810570356,0.63317454992199618,0.66168173351123472,0.68334739355458152,0.69883116442894078,0.70967830754237193,0.71787222651675553,0.60808812810570356]
[null,"avril",0.67517542095764871,0.70548500829197625,0.73695183563883426,0.76610418296063143,0.7998854903325503,0.82440887760422576,0.84087633924323868,0.85100442449165248,0.85671461790704206,0.73695183563883426,"avril",0.56799079687498477,0.60133845981602618,0.63575776597055766,0.66803378569810912,0.70459637827962063,0.73258582515321202,0.75353062957888017,0.7687224995069265,0.7798310760134034,0.63575776597055766,"avril",0.70171583428400985,0.72493731093281288,0.74915702628676184,0.77138026423041905,0.79759645699465975,0.81582674011773337,0.82850811063831564,0.83791597256262684,0.84520560306986736,0.74915702628676184,"avril",0.50024849114468994,0.53445846220032689,0.56980935833579371,0.60287840431160078,0.64051115060672725,0.6690164962632148,0.68970698639279571,0.70430814557457688,0.71449539442191068,0.56980935833579371]
[null,"mai",0.55006648875583353,0.60101284066266225,0.65331274174168263,0.70290554447631948,0.75791254389972373,0.80209114994559338,0.83346678946171848,0.85230866004913786,0.86204996123282851,0.65331274174168263,"mai",0.43548937005873201,0.48615358125490837,0.53810486628684584,0.58748200364726089,0.64200743635072111,0.68623627836809098,0.72095795553945685,0.74508551167376091,0.76154387579427207,0.53810486628684584,"mai",0.59343725370904588,0.63373874694226251,0.67561577472295975,0.71434173340869578,0.7593698302843539,0.79179365078016772,0.81338286238348279,0.82860290031677264,0.8392848902918294,0.67561577472295975,"mai",0.36747948478980619,0.42055674980896551,0.4752353678536142,0.52671127984728427,0.58459260394291168,0.62966310383462432,0.6640197140005627,0.68840536172157296,0.70583418309153401,0.4752353678536142]
[null,"juin",0.30059346870019343,0.39932733570646084,0.50025906028408818,0.59679506971899599,0.70212250943934296,0.78986708858881227,0.84001189228412476,0.86495788549942609,0.87025798271194343,0.50025906028408818,"juin",0.20068172380487881,0.28117111906223591,0.36351446025748246,0.44214990957695011,0.52820114264797546,0.59942080821588517,0.6512575586551641,0.68435508760663921,0.70424588727351645,0.36351446025748246,"juin",0.28684596284230457,0.3758110291598582,0.46820369098613557,0.55374116179496524,0.65298901463868986,0.7248161034126247,0.77239458195597843,0.80515664754325322,0.82555691726243607,0.46820369098613557,"juin",2.1195233573917616E-2,0.12476009393524423,0.23135873372317306,0.33188981465789752,0.44455601329903083,0.5329519765273466,0.59725903007336945,0.64275584592920221,0.67517155058886125,0.23135873372317306]
[null,"juillet",0.2608969249304689,0.36728281216393333,0.47631842314332484,0.58005458663086185,0.69438964510210743,0.78752691360593574,0.8384075670172545,0.86264343872225946,0.86696834191733607,0.47631842314332484,"juillet",0.14762104212925697,0.24897781727319357,0.35278895444333713,0.45169136756106637,0.56041122878362459,0.64949619379652479,0.71093931653754372,0.74964829453828441,0.7724973089779299,0.35278895444333713,"juillet",0.2223334288463783,0.32175777816153772,0.42509502998086823,0.52060647679185579,0.63176953361952926,0.71162937041383045,0.76245049954861133,0.79751534502512311,0.81975862200231475,0.42509502998086823,"juillet",-4.8923348661500388E-2,6.4788855741715334E-2,0.18184473330677564,0.29221326454814722,0.41595648843689614,0.51295032703089094,0.58133179060597873,0.62960377690542291,0.66410310198507927,0.18184473330677564]
[null,"aout",0.28783214741797147,0.38701716923563234,0.48851091722843609,0.58538721287095485,0.69149841321404315,0.77913980415599238,0.83173129781321919,0.85857886843853082,0.86498228891805429,0.48851091722843609,"aout",0.16754212064306184,0.25542503582956577,0.3453496973721224,0.43119086620257358,0.52519902045723577,0.60287320386347565,0.65888042008444159,0.69539060990152146,0.71629029022283952,0.3453496973721224,"aout",0.30457968164525129,0.39001180865398322,0.47853210585766792,0.5608760626714463,0.655572700265037,0.72556397629900338,0.77149150462286464,0.80348189638366518,0.82438080127905711,0.47853210585766792,"aout",2.8684024665703856E-2,0.12969066325988399,0.2335159607242403,0.33170394044824486,0.44116655565295304,0.52807989989625337,0.59092567238036886,0.63557082323075897,0.66852067671187976,0.2335159607242403]
[null,"septembre",0.35333407948577111,0.43923762420208279,0.52777852750726018,0.61104471363470692,0.70486033411761462,0.77757708588960073,0.8266852256208771,0.85538295534019382,0.86641818429020256,0.52777852750726018,"septembre",0.24877785011549225,0.32462102566589257,0.4023080339286218,0.4763073767666936,0.55768205045407959,0.62430606244283704,0.67426258569485442,0.70925622939354582,0.73260757376622587,0.4023080339286218,"septembre",0.44111032972200248,0.50518827874612371,0.57146341787402111,0.63334417679436605,0.70401369612981635,0.75710569463505595,0.79331242953341974,0.81908682186032566,0.83641974857423562,0.57146341787402111,"septembre",0.17022260402100331,0.25066444714547242,0.33318219146620742,0.41154813339440943,0.4982176801076777,0.56828001725081367,0.62084453232228753,0.65866951743430913,0.68703954129929135,0.33318219146620742]
[null,"octobre",0.49387754096978953,0.55273831851589561,0.61320154691539086,0.67045987360810777,0.73412800371438103,0.78497652699354148,0.82126136779485193,0.84403926485767522,0.85628337204501204,0.61320154691539086,"octobre",0.38569857369125771,0.44242115359202749,0.50052005560914448,0.55586631339356685,0.61671785964337866,0.66655882896241159,0.70524710493605003,0.73372150215097709,0.7535278334200457,0.50052005560914448,"octobre",0.57353909554709359,0.61540928410702556,0.65887825209781337,0.69914966122688949,0.74581618807938932,0.77969247948504172,0.8030343355038122,0.82004045638123224,0.83194295129998375,0.65887825209781337,"octobre",0.31752742937372469,0.37495823349964907,0.43409983566732069,0.48981984175149745,0.55238304000266358,0.6012598539198506,0.63843652937102491,0.66580909298732971,0.68603337172543299,0.43409983566732069]
[null,"novembre",0.62779140838795799,0.66299091306310298,0.6992689347885781,0.73338992241339296,0.77182497823952823,0.80163189766302256,0.82437190663978188,0.84027588196848524,0.85150740236799249,0.6992689347885781,"novembre",0.49695626274733207,0.53111767647843799,0.56614836536131508,0.59944050394064985,0.63620974312706924,0.6660247810993194,0.68972218180257616,0.70751126032987177,0.721050993059972,0.56614836536131508,"novembre",0.69150655790187399,0.71569625782553514,0.74076275072946429,0.76407565767285746,0.7908957365373227,0.81070147155964378,0.82445170284429892,0.83480413586645918,0.84275337827065711,0.74076275072946429,"novembre",0.47076484209900549,0.50707724143188881,0.54449802579457185,0.57970204009765558,0.61933959451993814,0.65011006870382293,0.67358524346894888,0.69103756718419929,0.70386353925773992,0.54449802579457185]
[null,"decembre",0.67112444204187605,0.70032098619903094,0.73057474552839952,0.75871407451334061,0.79108226418713667,0.8149927324832229,0.8319217393511702,0.84308406543400238,0.85092523095005934,0.73057474552839952,"decembre",0.53968448373169209,0.5716905408060351,0.60463208332514451,0.63570265495472122,0.67051516836336333,0.69784379821387466,0.71897052850687926,0.73481981599634061,0.74624602977203247,0.60463208332514451,"decembre",0.71604906321358186,0.73678697896075251,0.75836771931296298,0.77826281045509382,0.80152920001738404,0.81805299273935561,0.82970630045184546,0.83846157473557126,0.84557491542286378,0.75836771931296298,"decembre",0.50897399812070043,0.54062081269714235,0.57326033919357933,0.60391444185002607,0.63853939218645328,0.66522264716291957,0.68435802406457835,0.69858260123266425,0.70845650302980956,0.57326033919357933]
[]
[]
[]
["COEFFICIENTS D'INTERMITTENCE LATENT / INERTIE"]
[]
["CAYENNE"]
[null,"COEFF INTERMITTENCE _ LATENT"]
[null,"Planning : Climatisation de 7h à 18h 7/7 JOUR",null,null,null,null,null,null,null,null,null,null,"Planning : Climatisation de 7h à 18h 5/7 JOUR SEMAINE",null,null,null,null,null,null,null,null,null,null,"Planning : Climatisation de 18h à 7h 7/7 NUIT",null,null,null,null,null,null,null,null,null,null,"Planning : Climatisation de 22h à 6h 7/7 NUIT",null,null,null,null,null,null,null,null,null,null,null,"Bonne classe d'inertie et bon planning ",null,null,null,null,null,null,"Bonne classe d'inertie et bon planning \nET BONNE LOCALISATION "]
[]
[null,"Non isolé ","Léger","1vol/h",null,null,null,null,null,null,null,null,"Non isolé ","Léger",null,null,null,null,null,null,null,null,null,"Non isolé ","Léger",null,null,null,null,null,null,null,null,null,"Non isolé ","Léger"]
[null,null,null,null,null,null,null,null,null,null,null,"TAMPON température",null,null,null,null,null,null,null,null,null,null,"TAMPON température",null,null,null,null,null,null,null,null,null,null,"TAMPON température",null,null,null,null,null,null,null,null,null,null,"TAMPON température",null,"TAMPON final pour la Guyane",null,null,null,null,null,null,"TAMPON FINAL"]
[null,null,28,27,26,25,24,23,22,21,20,{"$f":"TempConsigne","v":26},null,28,27,26,25,24,23,22,21,20,{"$f":"TempConsigne","v":26},null,28,27,26,25,24,23,22,21,20,{"$f":"TempConsigne","v":26},null,28,27,26,25,24,23,22,21,20,{"$f":"TempConsigne","v":26}]
[null,"janvier",{"$f":"C$20*((D239-F239)/(D$20-F$20))+D239-D$20*((D239-F239)/(D$20-F$20))","v":0.65144506545868741},{"$f":"D$20*((E239-G239)/(E$20-G$20))+E239-E$20*((E239-G239)/(E$20-G$20))","v":0.63993323861460383},{"$f":"E$20*((F239-H239)/(F$20-H$20))+F239-F$20*((F239-H239)/(F$20-H$20))","v":0.62871504771023368},0.61690958492643655,0.60627866590149349,0.59329865935884241,0.57967151479653789,0.56655793115399455,0.55438258634927418,{"$f":"HLOOKUP(L238,C238:K250,2,FALSE)","v":0.62871504771023368},"janvier",{"$f":"N$20*((O239-Q239)/(O$20-Q$20))+O239-O$20*((O239-Q239)/(O$20-Q$20))","v":0.49792804533764912},{"$f":"O$20*((P239-R239)/(P$20-R$20))+P239-P$20*((P239-R239)/(P$20-R$20))","v":0.48777345866170824},{"$f":"P$20*((Q239-S239)/(Q$20-S$20))+Q239-Q$20*((Q239-S239)/(Q$20-S$20))","v":0.47785304504069503},0.46746428530982637,0.45801221779866857,0.44668676584808897,0.43510861811893853,0.4242525162609358,0.41448926951048815,{"$f":"HLOOKUP(W238,N238:V250,2,FALSE)","v":0.47785304504069503},"janvier",{"$f":"Y$20*((Z239-AB239)/(Z$20-AB$20))+Z239-Z$20*((Z239-AB239)/(Z$20-AB$20))","v":0.56797702274030815},{"$f":"Z$20*((AA239-AC239)/(AA$20-AC$20))+AA239-AA$20*((AA239-AC239)/(AA$20-AC$20))","v":0.57520594840508865},{"$f":"AA$20*((AB239-AD239)/(AB$20-AD$20))+AB239-AB$20*((AB239-AD239)/(AB$20-AD$20))","v":0.58352422436380191},0.58966379973464966,0.60016077628122833,0.60194295047634527,0.59927952472205981,0.59524141485241677,0.59074339181883195,{"$f":"HLOOKUP(AH238,Y238:AG250,2,FALSE)","v":0.58352422436380191},"janvier",{"$f":"AJ$20*((AK239-AM239)/(AK$20-AM$20))+AK239-AK$20*((AK239-AM239)/(AK$20-AM$20))","v":0.38027401015595325},{"$f":"AK$20*((AL239-AN239)/(AL$20-AN$20))+AL239-AL$20*((AL239-AN239)/(AL$20-AN$20))","v":0.38568398291060613},{"$f":"AL$20*((AM239-AO239)/(AM$20-AO$20))+AM239-AM$20*((AM239-AO239)/(AM$20-AO$20))","v":0.39227914368800582},0.39650392841991189,0.40546946524280525,0.40495349788372403,0.40083227107077274,0.39539799850641538,0.38987285807356015,{"$f":"HLOOKUP(AS238,AJ238:AR250,2,FALSE)","v":0.39227914368800582},null,"Classe séléctionnée",null,null,"janvier",{"$f":"IF($AV$28=$F$5,1,INDEX(INDIRECT(\"classe\"&$AV$23&$AV$28&\"GL\"),1,1))","v":0.44463660563916169},1,null,null,"janvier",{"$f":"IF(Station=\"Saint-Denis\",AV358,AV249)","v":0.4918450791910709}]
[null,"fevrier",{"$f":"C$20*((D240-F240)/(D$20-F$20))+D240-D$20*((D240-F240)/(D$20-F$20))","v":0.68468075102644343},0.66797496541722046,{"$f":"E$20*((F240-H240)/(F$20-H$20))+F240-F$20*((F240-H240)/(F$20-H$20))","v":0.65144310738842026},0.63456339419877439,0.61837939133082009,0.60080396781948242,0.584453768101036,0.56946587396458104,0.55576166632716184,{"$f":"HLOOKUP(L239,C239:K251,2,FALSE)","v":0.65144310738842026},"fevrier",{"$f":"N$20*((O240-Q240)/(O$20-Q$20))+O240-O$20*((O240-Q240)/(O$20-Q$20))","v":0.51192019207445627},0.49697672894780431,{"$f":"P$20*((Q240-S240)/(Q$20-S$20))+Q240-Q$20*((Q240-S240)/(Q$20-S$20))","v":0.48204773744722085},0.46708980269450029,0.45218975444605392,0.43717393318905923,0.42391695246471994,0.41216383445937044,0.40172819341500854,{"$f":"HLOOKUP(W239,N239:V251,2,FALSE)","v":0.48204773744722085},"fevrier",{"$f":"Y$20*((Z240-AB240)/(Z$20-AB$20))+Z240-Z$20*((Z240-AB240)/(Z$20-AB$20))","v":0.55716084446254655},0.56615620431252278,{"$f":"AA$20*((AB240-AD240)/(AB$20-AD$20))+AB240-AB$20*((AB240-AD240)/(AB$20-AD$20))","v":0.57625293721481352},0.58414692401247525,0.596446403019395,0.59993489760779861,0.59891828244532008,0.59578183666054052,0.59191491285043574,{"$f":"HLOOKUP(AH239,Y239:AG251,2,FALSE)","v":0.57625293721481352},"fevrier",{"$f":"AJ$20*((AK240-AM240)/(AK$20-AM$20))+AK240-AK$20*((AK240-AM240)/(AK$20-AM$20))","v":0.37275731282301666},0.37938613356256357,{"$f":"AL$20*((AM240-AO240)/(AM$20-AO$20))+AM240-AM$20*((AM240-AO240)/(AM$20-AO$20))","v":0.38723768465369013},0.39264377504165737,0.40294078683594325,0.4034559558175918,0.39987735805560376,0.39457422103328621,0.38918653183059598,{"$f":"HLOOKUP(AS239,AJ239:AR251,2,FALSE)","v":0.38723768465369013},null,"Classe","Numéro",null,"fevrier",{"$f":"IF($AV$28=$F$5,1,INDEX(INDIRECT(\"classe\"&$AV$23&$AV$28&\"GL\"),2,1))","v":0.44620968727942567},2,null,null,"fevrier",0.49333258784770478]
[null,"mars",0.71402827649650158,0.69321472255819216,0.67235027922102875,0.65158761468157333,0.63062139254670191,0.61006228560266262,0.59187950810365686,0.57618966331552512,0.56158347150464327,0.67235027922102875,"mars",0.49512732303253115,0.47951716653239557,0.46390528336885761,0.44829685353212451,0.43268151704178165,0.41707999385865835,0.40353849024938049,0.3919255321523209,0.38151409347359855,0.46390528336885761,"mars",0.52138850638210221,0.53578555259767802,0.5515498618865784,0.56457964502882951,0.58307848046437905,0.59063921131333164,0.5921985908158991,0.59077849953222361,0.58762909350189296,0.5515498618865784,"mars",0.34165370638438564,0.35313213800870491,0.36599778111811682,0.37608900125734346,0.39172906733694057,0.39627144153579669,0.3948514797216085,0.39114680943852959,0.38646053204914205,0.36599778111811682,null,{"$f":"Hypothèses!$J$19","v":"Moyen"},{"$f":"VLOOKUP(AU241,$J$4:$K$6,2,FALSE)","v":2},null,"mars",{"$f":"IF($AV$28=$F$5,1,INDEX(INDIRECT(\"classe\"&$AV$23&$AV$28&\"GL\"),3,1))","v":0.43181112555821988},3,null,null,"mars",0.47213532296398347]
[null,"avril",0.70212098626067432,0.68340431810731173,0.66470918398093537,0.64597098180058654,0.62731891572818288,0.60849457743988922,0.59136937245740151,0.57602147948641835,0.5624630389970261,0.66470918398093537,"avril",0.53586666301148733,0.51863665225444011,0.50125696112623186,0.4841766307403455,0.4664975788698153,0.45001596996857285,0.4357667108661597,0.42327914933170557,0.41239080663692895,0.50125696112623186,"avril",0.5323363086410875,0.54311489342662722,0.55499689054494583,0.56467206299770678,0.57876088478158305,0.58402240790322879,0.58457106947739379,0.58236397538482199,0.57973333164368746,0.55499689054494583,"avril",0.35109998803176312,0.35898544680205663,0.36802145153405597,0.37475636434264359,0.38609346099805464,0.38822618995981889,0.38590787863480686,0.38195073604757285,0.37743097796701813,0.36802145153405597,null,null,null,null,"avril",{"$f":"IF($AV$28=$F$5,1,INDEX(INDIRECT(\"classe\"&$AV$23&$AV$28&\"GL\"),4,1))","v":0.46374893034220876},4,null,null,"avril",0.50824325954405802]
[null,"mai",0.70368364874802047,0.68358353365276969,0.6631992563402147,0.64338330346226824,0.62243070171510462,0.60375139770637543,0.58746111395210088,0.57308015387500855,0.56034394397212417,0.6631992563402147,"mai",0.51650366534800851,0.50373420724358453,0.49088847267068592,0.47819529103473662,0.46519700352488869,0.45280892776283815,0.44129005795619197,0.43098570191505758,0.42176686950808401,0.49088847267068592,"mai",0.52936989228360298,0.53930914588851464,0.55029112959714321,0.55918765309833784,0.57225509701440036,0.57698070010072711,0.57748124946731449,0.57573186401854792,0.57306660230155648,0.55029112959714321,"mai",0.34914569086899061,0.35609932801558147,0.36404832768204631,0.37000660230876314,0.37994632701497599,0.38192315156219681,0.38007010142333592,0.37662664160611042,0.37287615211264141,0.36404832768204631,null,null,null,null,"mai",{"$f":"IF($AV$28=$F$5,1,INDEX(INDIRECT(\"classe\"&$AV$23&$AV$28&\"GL\"),5,1))","v":0.45985500068192109},5,null,null,"mai",0.50758941794239709]
[null,"juin",0.73238903585879167,0.71394813312615935,0.69600013172367325,0.67706632766089447,0.66010412891870096,0.63919871953533669,0.61982592867174191,0.60311510173705041,0.58853679988259011,0.69600013172367325,"juin",0.52185236355913589,0.50449795888713267,0.48725488415826124,0.46978914954312612,0.45276873470051848,0.43485768031285582,0.4191996817532504,0.40622134897702544,0.39523592321475137,0.48725488415826124,"juin",0.48124002567448265,0.49595406656526697,0.51181198132757322,0.52538214834683561,0.54352781085218571,0.55252248238536039,0.55498013971514515,0.55437894109181529,0.55274788857459911,0.51181198132757322,"juin",0.28600287648405365,0.30041795408325123,0.31637890451286937,0.32924810928164638,0.34830080537210562,0.3549865188192004,0.35531785496868767,0.3530713896628791,0.35003098904138807,0.31637890451286937,null,"Planning séléctionné",null,null,"juin",{"$f":"IF($AV$28=$F$5,1,INDEX(INDIRECT(\"classe\"&$AV$23&$AV$28&\"GL\"),6,1))","v":0.44603332607745272},6,null,null,"juin",0.47719722672146997]
[null,"juillet",0.7056429920211259,0.68794616898760452,0.67052216188204938,0.65255252292056176,0.6356741476709391,0.61661324499758619,0.59844364637753988,0.58201920115473538,0.56792101128991568,0.67052216188204938,"juillet",0.55495370507509167,0.53582429044767399,0.5165912045031682,0.49756546119283873,0.47812503261415684,0.45951397457217968,0.44301334298895773,0.42881965992304816,0.41688793381792333,0.5165912045031682,"juillet",0.52106211537631131,0.53221085029560666,0.54422727554489325,0.55450832013419726,0.56826012604346643,0.57507040931280529,0.57728440493520639,0.57696493502314528,0.57557297474759828,0.54422727554489325,"juillet",0.33133936558731009,0.34087019256609979,0.35149005963048419,0.35993184652367921,0.37272979375925303,0.37681542031006926,0.37617831868979107,0.37330547625942923,0.36992286173991146,0.35149005963048419,null,"Nom","Numéro",null,"juillet",{"$f":"IF($AV$28=$F$5,1,INDEX(INDIRECT(\"classe\"&$AV$23&$AV$28&\"GL\"),7,1))","v":0.46619932571932121},7,null,null,"juillet",0.50341495504515521]
[null,"aout",0.7075292641387626,0.68793626619240711,0.66811780272628019,0.64875027029969612,0.62848087579402634,0.61001520544652799,0.59383784889587676,0.57969382917044643,0.56723374756639977,0.66811780272628019,"aout",0.52057411179146151,0.50470986506944515,0.48862916535106771,0.47298137162541248,0.45646776591431282,0.44168578417410215,0.42884569855028504,0.41772064888644472,0.40797814224523676,0.48862916535106771,"aout",0.52256727973765038,0.53222784895108333,0.54269710811272387,0.55154898737794933,0.56363562643600496,0.56925274590840025,0.57127555160199617,0.57143769525372434,0.5708125483439167,0.54269710811272387,"aout",0.34575605761424288,0.3510289465580041,0.35705644236452427,0.36157472444552652,0.36911143397756457,0.37061128860753095,0.3691739589151618,0.36645348874970496,0.36355191602735604,0.35705644236452427,null,{"$f":"ClimPlan","v":"7-18h, L-V"},{"$f":"VLOOKUP(AU246,$E$5:$F$9,2,FALSE)","v":"b"},null,"aout",{"$f":"IF($AV$28=$F$5,1,INDEX(INDIRECT(\"classe\"&$AV$23&$AV$28&\"GL\"),8,1))","v":0.44715829806210605},8,null,null,"aout",0.48640429435611909]
[null,"septembre",0.71355843937707608,0.6941436566274809,0.67458223239827309,0.65531409112829031,0.63545938393985735,0.61677780858832465,0.60034706753004363,0.58569926110572812,0.57283926596485468,0.67458223239827309,"septembre",0.51196094444788398,0.49616158432615487,0.48015633353320625,0.46456286408269659,0.44814583194730889,0.43337592518167717,0.42058010184141775,0.40936904171725441,0.39963953631262022,0.48015633353320625,"septembre",0.51211629149623061,0.52197048451613215,0.53256617890856595,0.54167887055593522,0.55375756769343354,0.55990425385067377,0.56227560534570598,0.56250383104474333,0.56185741203457162,0.53256617890856595,"septembre",0.34046427502039145,0.34550393079988961,0.35124707089140844,0.355583242358886,0.3627333510744461,0.36425558529384111,0.36307468104767449,0.36069084624955511,0.35812374554540605,0.35124707089140844,null,null,null,null,"septembre",{"$f":"IF($AV$28=$F$5,1,INDEX(INDIRECT(\"classe\"&$AV$23&$AV$28&\"GL\"),9,1))","v":0.43698283185817682},9,null,null,"septembre",0.4779558017007644]
[null,"octobre",0.68427054647524344,0.66843700779757098,0.65250353211409673,0.63676993044222596,0.620636580747148,0.60530272709848421,0.59121101722478242,0.57847036443463484,0.56695629875829689,0.65250353211409673,"octobre",0.50983163612241778,0.49685403169550296,0.48376850430998414,0.47089882284167334,0.45759744953894643,0.44515945990505185,0.4339773072062062,0.42409325327323666,0.4151938496740406,0.48376850430998414,"octobre",0.53666385148025608,0.54297425721032699,0.54984741575690288,0.55559506867046882,0.56359373285005465,0.5670903744976008,0.56800361914699016,0.56745383473190525,0.56667472113459527,0.54984741575690288,"octobre",0.36199823356930638,0.36406628541718372,0.3666041453313349,0.36820238911293834,0.37167986515963725,0.37139887667614518,0.3693396257304325,0.36665674698508843,0.3640433757754481,0.3666041453313349,null,"Non isolé",null,null,"octobre",{"$f":"IF($AV$28=$F$5,1,INDEX(INDIRECT(\"classe\"&$AV$23&$AV$28&\"GL\"),10,1))","v":0.44662837187931947},10,null,null,"octobre",0.4882048848428886]
[null,"novembre",0.66321302256162795,0.65137155955445969,0.63988658889769101,0.62768863354012316,0.61691664758415377,0.60329272282498758,0.58930345114044769,0.57643382454720937,0.56480261042885627,0.63988658889769101,"novembre",0.47527448343142698,0.46614237617085358,0.45726471364599908,0.44787816164970673,0.43950938859629013,0.42910505765712209,0.41858065603573347,0.4089325858249494,0.40028397522450127,0.45726471364599908,"novembre",0.54992816152275237,0.55629752004820232,0.56341925540806037,0.56903623709910223,0.57766272612777647,0.58027020048118605,0.57962304131375708,0.57746661099714169,0.57515806168156203,0.56341925540806037,"novembre",0.36510538856365438,0.36883214810510168,0.37341493352033872,0.37628566718799633,0.38258050435081281,0.38202713452331155,0.3788103708787075,0.3748229488765058,0.37089896911635484,0.37341493352033872,null,"janvier",{"$f":"AY239*Données1!$E$190+Données1!$F$190*Données2!AY253","v":0.4918450791910709},null,"novembre",{"$f":"IF($AV$28=$F$5,1,INDEX(INDIRECT(\"classe\"&$AV$23&$AV$28&\"GL\"),11,1))","v":0.42278446420089955},11,null,null,"novembre",0.46648559038771364]
[null,"decembre",0.65606424263847329,0.64409536254279842,0.63250967441262729,0.62015760235144879,0.60933829815228502,0.5954534582290919,0.58125445198745052,0.5681217745792182,0.55591895404142,0.63250967441262729,"decembre",0.47242791278748381,0.46277323482062094,0.45339181158131736,0.4434638788868952,0.43462896510271021,0.42360801349805088,0.41266203154992437,0.40263681442991273,0.39346008537388943,0.45339181158131736,"decembre",0.57345164160826745,0.57820881885120645,0.58375686015495853,0.58772317333708446,0.59485294276246281,0.59565579970133631,0.59332880634159058,0.58957501839134785,0.58593244213043638,0.58375686015495853,"decembre",0.38686467298804184,0.38942934737215984,0.39287680585492529,0.39455869614039585,0.3997717228204562,0.39792247671133696,0.39358331595610124,0.38827880284807903,0.38321532347561793,0.39287680585492529,null,"fevrier",{"$f":"AY240*Données1!$E$190+Données1!$F$190*Données2!AY254","v":0.49333258784770478},null,"decembre",{"$f":"IF($AV$28=$F$5,1,INDEX(INDIRECT(\"classe\"&$AV$23&$AV$28&\"GL\"),12,1))","v":0.42067224040556828},12,null,null,"decembre",0.46948570684183832]
[null,null,null,null,null,null,null,null,null,null,null,null,null,null,null,null,null,null,null,null,null,null,null,null,null,null,null,null,null,null,null,null,null,null,null,null,null,null,null,null,null,null,null,null,null,null,"mars",{"$f":"AY241*Données1!$E$190+Données1!$F$190*Données2!AY255","v":0.47213532296398347}]
[null,null,null,null,null,null,null,null,null,null,null,null,null,null,null,null,null,null,null,null,null,null,null,null,null,null,null,null,null,null,null,null,null,null,null,null,null,null,null,null,null,null,null,null,null,null,"avril",{"$f":"AY242*Données1!$E$190+Données1!$F$190*Données2!AY256","v":0.50824325954405802},null,"Isolé",null,1]
[null,"Non isolé ","Moyen",null,null,"Moyen",null,null,null,null,null,null,"Non isolé ","Moyen",null,null,"Moyen",null,null,null,null,null,null,"Non isolé ","Moyen",null,null,"Moyen",null,null,null,null,null,null,"Non isolé ","Moyen",null,null,"Moyen",null,null,null,null,null,null,null,"mai",{"$f":"AY243*Données1!$E$190+Données1!$F$190*Données2!AY257","v":0.50758941794239709},null,"janvier",{"$f":"IF($AV$28=$F$5,1,INDEX(INDIRECT(\"classe\"&$AV$23+3&$AV$28&\"GL\"),AZ252,1))","v":0.49813708694273773},2]
[null,null,null,null,null,null,null,null,null,null,null,null,null,null,null,null,null,null,null,null,null,null,null,null,null,null,null,null,null,null,null,null,null,null,null,null,null,null,null,null,null,null,null,null,null,null,"juin",{"$f":"AY244*Données1!$E$190+Données1!$F$190*Données2!AY258","v":0.47719722672146997},null,"fevrier",{"$f":"IF($AV$28=$F$5,1,INDEX(INDIRECT(\"classe\"&$AV$23+3&$AV$28&\"GL\"),AZ253,1))","v":0.4996131903190093},3]
[null,null,28,27,26,25,24,23,22,21,20,{"$f":"TempConsigne","v":26},null,28,27,26,25,24,23,22,21,20,{"$f":"TempConsigne","v":26},null,28,27,26,25,24,23,22,21,20,{"$f":"TempConsigne","v":26},null,28,27,26,25,24,23,22,21,20,{"$f":"TempConsigne","v":26},null,"juillet",{"$f":"AY245*Données1!$E$190+Données1!$F$190*Données2!AY259","v":0.50341495504515521},null,"mars",0.47750978529176502,4]
[null,"janvier",{"$f":"C$20*((D256-F256)/(D$20-F$20))+D256-D$20*((D256-F256)/(D$20-F$20))","v":0.58900996962146057},{"$f":"D$20*((E256-G256)/(E$20-G$20))+E256-E$20*((E256-G256)/(E$20-G$20))","v":0.58676572544198535},{"$f":"E$20*((F256-H256)/(F$20-H$20))+F256-F$20*((F256-H256)/(F$20-H$20))","v":0.58532930422850904},0.5822772370830348,0.58245646180155641,0.57617310279208622,0.56695540374554643,0.55690792388384924,0.54679136690647456,{"$f":"HLOOKUP(L255,C255:K267,2,FALSE)","v":0.58532930422850904},"janvier",{"$f":"N$20*((O256-Q256)/(O$20-Q$20))+O256-O$20*((O256-Q256)/(O$20-Q$20))","v":0.45021489342213006},{"$f":"O$20*((P256-R256)/(P$20-R$20))+P256-P$20*((P256-R256)/(P$20-R$20))","v":0.44713604859531925},{"$f":"P$20*((Q256-S256)/(Q$20-S$20))+Q256-Q$20*((Q256-S256)/(Q$20-S$20))","v":0.44463660563916169},0.44097835894169773,0.43963771972684651,0.43366186554676972,0.42557513296466337,0.41709074757699627,0.40884625632827065,{"$f":"HLOOKUP(W255,N255:V267,2,FALSE)","v":0.44463660563916169},"janvier",{"$f":"Y$20*((Z256-AB256)/(Z$20-AB$20))+Z256-Z$20*((Z256-AB256)/(Z$20-AB$20))","v":0.62893034967891581},{"$f":"Z$20*((AA256-AC256)/(AA$20-AC$20))+AA256-AA$20*((AA256-AC256)/(AA$20-AC$20))","v":0.62835304588188456},{"$f":"AA$20*((AB256-AD256)/(AB$20-AD$20))+AB256-AB$20*((AB256-AD256)/(AB$20-AD$20))","v":0.62841470523513854},0.62719843828782196,0.62853802394164648,0.62476590439318869,0.61823025135653242,0.61080688153934459,0.60298374633626428,{"$f":"HLOOKUP(AH255,Y255:AG267,2,FALSE)","v":0.62841470523513854},"janvier",{"$f":"AJ$20*((AK256-AM256)/(AK$20-AM$20))+AK256-AK$20*((AK256-AM256)/(AK$20-AM$20))","v":0.42962717078443446},{"$f":"AK$20*((AL256-AN256)/(AL$20-AN$20))+AL256-AL$20*((AL256-AN256)/(AL$20-AN$20))","v":0.42749808802678207},{"$f":"AL$20*((AM256-AO256)/(AM$20-AO$20))+AM256-AM$20*((AM256-AO256)/(AM$20-AO$20))","v":0.42594062788611747},0.42323992251147724,0.42282570760478821,0.41783851176219677,0.41096669222343252,0.40359032909280645,0.39637889688249389,{"$f":"HLOOKUP(AS255,AJ255:AR267,2,FALSE)","v":0.42594062788611747},null,"aout",{"$f":"AY246*Données1!$E$190+Données1!$F$190*Données2!AY260","v":0.48640429435611909},null,"avril",0.51417352254939352,5]
[null,"fevrier",{"$f":"C$20*((D257-F257)/(D$20-F$20))+D257-D$20*((D257-F257)/(D$20-F$20))","v":0.61350247621893039},0.60779035365418499,{"$f":"E$20*((F257-H257)/(F$20-H$20))+F257-F$20*((F257-H257)/(F$20-H$20))","v":0.60275662305560118},0.59636610852469418,0.59268916185843346,0.58358507946288019,0.57277156148071695,0.56135150570858605,0.55007565630368838,{"$f":"HLOOKUP(L256,C256:K268,2,FALSE)","v":0.60275662305560118},"fevrier",{"$f":"N$20*((O257-Q257)/(O$20-Q$20))+O257-O$20*((O257-Q257)/(O$20-Q$20))","v":0.45886377418504448},0.45233172664022903,{"$f":"P$20*((Q257-S257)/(Q$20-S$20))+Q257-Q$20*((Q257-S257)/(Q$20-S$20))","v":0.44620968727942567},0.43926763155059811,0.43396560855781907,0.425383520092943,0.41603698902355385,0.40685254004432136,0.39811048614375127,{"$f":"HLOOKUP(W256,N256:V268,2,FALSE)","v":0.44620968727942567},"fevrier",{"$f":"Y$20*((Z257-AB257)/(Z$20-AB$20))+Z257-Z$20*((Z257-AB257)/(Z$20-AB$20))","v":0.62327430426350361},0.62369898536106916,{"$f":"AA$20*((AB257-AD257)/(AB$20-AD$20))+AB257-AB$20*((AB257-AD257)/(AB$20-AD$20))","v":0.62478453487418051},0.62454834755620015,0.6269556339004031,0.62407597292023953,0.61836917543774295,0.61149902356601071,0.60409431922675971,{"$f":"HLOOKUP(AH256,Y256:AG268,2,FALSE)","v":0.62478453487418051},"fevrier",{"$f":"AJ$20*((AK257-AM257)/(AK$20-AM$20))+AK257-AK$20*((AK257-AM257)/(AK$20-AM$20))","v":0.42915352655506539},0.42720722821991947,{"$f":"AL$20*((AM257-AO257)/(AM$20-AO$20))+AM257-AM$20*((AM257-AO257)/(AM$20-AO$20))","v":0.4258723018381691},0.42331463154962762,0.42320244907466842,0.41819929097254466,0.41100379745140053,0.40330342620422488,0.39613665447017915,{"$f":"HLOOKUP(AS256,AJ256:AR268,2,FALSE)","v":0.4258723018381691},null,"septembre",{"$f":"AY247*Données1!$E$190+Données1!$F$190*Données2!AY261","v":0.4779558017007644},null,"mai",0.5139515241666951,6]
[null,"mars",0.62666934865557211,0.62009522023214259,0.61423377529167822,0.60694696338528342,0.60251088541074949,0.59237333957249394,0.58046494723081477,0.56845774448935182,0.55665940982353179,0.61423377529167822,"mars",0.44680087166623739,0.43911049297441074,0.43181112555821988,0.42372973559075738,0.41721239072583816,0.40756695565583245,0.3975688982596558,0.387881141687341,0.3790933515977476,0.43181112555821988,"mars",0.59706484737971732,0.60157937659838834,0.60704068041296899,0.61060843503573037,0.61796328804213041,0.61774394428125312,0.61363824367163855,0.60752183721137043,0.600513914195557,0.60704068041296899,"mars",0.40180507686649097,0.40453533706289374,0.40825135556448811,0.40999585745569928,0.41568339256767683,0.41348486123812161,0.40780813289640727,0.40098437593578318,0.39410801982614285,0.40825135556448811,null,"octobre",{"$f":"AY248*Données1!$E$190+Données1!$F$190*Données2!AY262","v":0.4882048848428886},null,"juin",0.48135079258944324,7]
[null,"avril",0.6260310235928126,0.61899067711705402,0.61247230079149473,0.60490998416553687,0.59943554814037614,0.58978535091362116,0.57883163816772409,0.56726876013497229,0.55612937952840003,0.61247230079149473,"avril",0.480795655859379,0.47214639785826806,0.46374893034220876,0.45484788185604619,0.44695399531009017,0.43704578488372098,0.42692723413046529,0.41713612997867394,0.40815678886503648,0.46374893034220876,"avril",0.60083502604961381,0.60281155061065339,0.60553045182085974,0.60676459973273256,0.61096825424127232,0.6092328955564783,0.60443547541984921,0.59829928580313807,0.59166149236145393,0.60553045182085974,"avril",0.4055378945017839,0.40543271809623399,0.40601798522006011,0.40522236528513417,0.40718851946771234,0.40363112541528229,0.39778974756653668,0.39125055612771487,0.38482049575848254,0.40601798522006011,null,"novembre",{"$f":"AY249*Données1!$E$190+Données1!$F$190*Données2!AY263","v":0.46648559038771364},null,"juillet",0.50837510331056834,8]
[null,"mai",0.63387917707954666,0.62485389863306229,0.61608414432737035,0.60680334174009354,0.59854463571598648,0.5882417365655398,0.57715854073274175,0.56612293198598385,0.55544858320419155,0.61608414432737035,"mai",0.47023607614220075,0.46490192269715375,0.45985500068192109,0.45423361580705957,0.44976115665145583,0.44299084605733652,0.43520106783441531,0.42708196832821332,0.41932012401411717,0.45985500068192109,"mai",0.59377400260717672,0.59522657204643703,0.59734057523861761,0.59813171092495754,0.60156858162297877,0.59971398229763728,0.59507659359544152,0.58918555833752628,0.58319517608998706,0.59734057523861761,"mai",0.39734294841052475,0.39729895316656244,0.39782630899099497,0.39721096267863787,0.39888102063986003,0.39598027005392367,0.39090861191638065,0.38507848925317917,0.37924708968247711,0.39782630899099497,null,"decembre",{"$f":"AY250*Données1!$E$190+Données1!$F$190*Données2!AY264","v":0.46948570684183832},null,"aout",0.49163505261464002,9]
[null,"juin",0.64624930345808207,0.63986782410585841,0.63413548743226844,0.62710486540141108,0.62267081408508851,0.61304362133969648,0.60181159700995313,0.5904526174005329,0.5792982859845085,0.63413548743226844,"juin",0.46404618336523518,0.45491945220581609,0.44603332607745272,0.43666598988697791,0.42826107382072609,0.4179313175060283,0.40758072119415928,0.39794821777504485,0.38902493861928766,0.44603332607745272,"juin",0.55994198494880965,0.56426585159987708,0.56950008055394674,0.57291358490201205,0.57996853846208596,0.57974059359814267,0.57607390371801115,0.57071819073562191,0.56491894368174478,0.56950008055394674,"juin",0.35676215793863209,0.36009186000168009,0.36431452673531278,0.36675126412777603,0.37275986020257817,0.37162473891270253,0.36767945972715793,0.36252635032513142,0.35740041335661188,0.36431452673531278,null,null,null,null,"septembre",0.4834167332764252,10]
[null,"juillet",0.61993124738174332,0.61403673092705646,0.60873851080426,0.60224769801768285,0.59814207055866708,0.58926607244452855,0.57873838090292651,0.56781038336059186,0.55711291973293042,0.60873851080426,"juillet",0.48389143209496804,0.47492405924785647,0.46619932571932121,0.45698931355363342,0.44874985866225076,0.4385692892222578,0.4281694588939805,0.41813277617461436,0.40891152373680767,0.46619932571932121,"juillet",0.59065551914198933,0.59363497537329835,0.59733481443729119,0.59959388783591638,0.60473449256527678,0.60411203463316676,0.60050834024178068,0.5952042106585147,0.58960150754585183,0.59733481443729119,"juillet",0.38725032657181729,0.38857582610272917,0.39053995720248191,0.39122682516455293,0.39446821940198745,0.39260056108869501,0.38811807826739197,0.38275890611932678,0.37750215247656643,0.39053995720248191,null,null,null,null,"octobre",0.49374625744343248,11]
[null,"aout",0.62232011098815887,0.61508391432878362,0.60813166049235412,0.60061152101003312,0.59422715281949512,0.58557124204539113,0.57557344684315015,0.56567140547567785,0.5562529292779792,0.60813166049235412,"aout",0.46133645211442958,0.4541773222466054,0.44715829806210605,0.43985906251095713,0.43312024969310731,0.42526059140865924,0.4168143237928924,0.40857444748301719,0.40112710394106077,0.44715829806210605,"aout",0.59101334742993261,0.59239353636745995,0.59424167170581732,0.59515391424251474,0.59793794238253206,0.59697839931590957,0.59362712411668628,0.58871722569103013,0.58371259774538076,0.59424167170581732,"aout",0.39161115639732058,0.39045792970351517,0.38967208634015871,0.38815147631590441,0.38810039961344583,0.38511025626739587,0.38042558222952871,0.37535126390380352,0.37065284869713938,0.38967208634015871,null,null,null,null,"novembre",0.47231013424680823,12]
[null,"septembre",0.62770221855166508,0.62045320514767821,0.6134781131800231,0.60595517833970447,0.59952792924471277,0.59090930865906732,0.58116161086746054,0.57112418641201734,0.56160414214916932,0.6134781131800231,"septembre",0.45103280939106749,0.44394338241427905,0.43698283185817682,0.42976452846070201,0.42306173074597231,0.41532792166575239,0.40715893503035966,0.39925792109848218,0.39205382585428256,0.43698283185817682,"septembre",0.58264085555942913,0.583876564247092,0.58563560787182545,0.58634798162241764,0.58915369512129234,0.58777272912360201,0.58399186653727064,0.57931208986258786,0.57444202351021389,0.58563560787182545,"septembre",0.38588277300769125,0.38455007673150959,0.38354211610256084,0.38188468417914623,0.38152619484466332,0.37856982033231695,0.37441994411625795,0.36967693997302781,0.36543740919366541,0.38354211610256084,null,null,null,null,"decembre",0.4759916301664936]
[null,"octobre",0.61439572694584554,0.60803856693818459,0.60196961879634325,0.59532424692286268,0.58983172251266047,0.58203350317590163,0.57318468575736126,0.56419053669528574,0.55545338235677799,0.60196961879634325,"octobre",0.45843998312366546,0.4524408190616192,0.44662837187931947,0.44044249093752658,0.43500347751471996,0.42807072905394083,0.42064542466454657,0.41336269285173849,0.4065685442961019,0.44662837187931947,"octobre",0.59611181665307611,0.59566838590260573,0.59553146504695442,0.59478152440166487,0.5952576233356518,0.59328164311108578,0.58931517249609466,0.58449753692555695,0.57985024187645129,0.59553146504695442,"octobre",0.39732806386365005,0.39478932064141536,0.39248186617896735,0.38971183419694599,0.38786695725407133,0.38417177023290328,0.37952596715692072,0.37497327214711018,0.37080863577940243,0.39248186617896735]
[null,"novembre",0.59889748242631669,0.59526163556640299,0.59221217109159718,0.58798994184657549,0.58611324214198568,0.57954548335653211,0.57100078540429344,0.56175806134172623,0.55259210990161434,0.59221217109159718,"novembre",0.42826457735950896,0.4253144975258038,0.42278446420089955,0.4194143378583936,0.41772439755109103,0.41267408517338167,0.40617147440080309,0.39925054067496196,0.39256818108982916,0.42278446420089955,"novembre",0.61144441586245835,0.61046752592237563,0.6099692200434913,0.60851374604221031,0.60897260828572264,0.60560279803964834,0.60031938192715928,0.59424678104248085,0.58871820619371651,0.6099692200434913,"novembre",0.40753703072856118,0.40503335623630399,0.40288351126939981,0.40002600725178966,0.39858382133559145,0.39431099921656937,0.38877631163703402,0.3830008539776687,0.37769119013791114,0.40288351126939981]
[null,"decembre",0.59510781951462421,0.59156667033919474,0.58868016556997915,0.5844843719883358,0.58290715603154808,0.57609278482504922,0.56687559282699929,0.55681051036323714,0.54674995294042394,0.58868016556997915,"decembre",0.42631765570311209,0.42325154049935282,0.42067224040556828,0.41711931009183439,0.41551364021799919,0.41001344946436658,0.40280814647269414,0.39505477280606061,0.38770484024125973,0.42067224040556828,"decembre",0.63150467961600698,0.62932945824418807,0.62766118904621349,0.62497901550055024,0.62432465065026443,0.61961466840922375,0.61315199201640025,0.60570435567242575,0.59834664896492507,0.62766118904621349,"decembre",0.42928110095051053,0.42571890743472407,0.42253899519657145,0.41859452040315109,0.41617917072026622,0.41070557081631032,0.403765495879926,0.39666536367119609,0.39020384792652096,0.42253899519657145]
[]
[]
[null,"Non isolé ",null,null,null,"Lourd",null,null,null,null,null,null,"Non isolé ",null,null,null,"Lourd",null,null,null,null,null,null,"Non isolé ",null,null,null,"Lourd",null,null,null,null,null,null,"Non isolé ",null,null,null,"Lourd"]
[]
[null,null,28,27,26,25,24,23,22,21,20,{"$f":"TempConsigne","v":26},null,28,27,26,25,24,23,22,21,20,{"$f":"TempConsigne","v":26},null,28,27,26,25,24,23,22,21,20,{"$f":"TempConsigne","v":26},null,28,27,26,25,24,23,22,21,20,{"$f":"TempConsigne","v":26}]
[null,"janvier",{"$f":"C$20*((D273-F273)/(D$20-F$20))+D273-D$20*((D273-F273)/(D$20-F$20))","v":0.59189278374358822},{"$f":"D$20*((E273-G273)/(E$20-G$20))+E273-E$20*((E273-G273)/(E$20-G$20))","v":0.58938888334333839},{"$f":"E$20*((F273-H273)/(F$20-H$20))+F273-F$20*((F273-H273)/(F$20-H$20))","v":0.58757155926485516},0.58438108254283871,0.58393691110788881,0.57800012909880571,0.56943982412242011,0.55991211772253113,0.54967173554494875,{"$f":"HLOOKUP(L272,C272:K284,2,FALSE)","v":0.58757155926485516},"janvier",{"$f":"N$20*((O273-Q273)/(O$20-Q$20))+O273-O$20*((O273-Q273)/(O$20-Q$20))","v":0.45916393551147655},{"$f":"O$20*((P273-R273)/(P$20-R$20))+P273-P$20*((P273-R273)/(P$20-R$20))","v":0.45552944149841496},{"$f":"P$20*((Q273-S273)/(Q$20-S$20))+Q273-Q$20*((Q273-S273)/(Q$20-S$20))","v":0.45243891621670268},0.44826045347229188,0.44625786565327807,0.43990352798347038,0.43184141126330056,0.42326634773419342,0.41472965389810024,{"$f":"HLOOKUP(W272,N272:V284,2,FALSE)","v":0.45243891621670268},"janvier",{"$f":"Y$20*((Z273-AB273)/(Z$20-AB$20))+Z273-Z$20*((Z273-AB273)/(Z$20-AB$20))","v":0.63724884932761627},{"$f":"Z$20*((AA273-AC273)/(AA$20-AC$20))+AA273-AA$20*((AA273-AC273)/(AA$20-AC$20))","v":0.63734790920500617},{"$f":"AA$20*((AB273-AD273)/(AB$20-AD$20))+AB273-AB$20*((AB273-AD273)/(AB$20-AD$20))","v":0.63825479526743745},0.63754602895978585,0.6400685673923,0.63612849634448265,0.62889011026097197,0.62002086470609141,0.61057081956229986,{"$f":"HLOOKUP(AH272,Y272:AG284,2,FALSE)","v":0.63825479526743745},"janvier",{"$f":"AJ$20*((AK273-AM273)/(AK$20-AM$20))+AK273-AK$20*((AK273-AM273)/(AK$20-AM$20))","v":0.43378837285314825},{"$f":"AK$20*((AL273-AN273)/(AL$20-AN$20))+AL273-AL$20*((AL273-AN273)/(AL$20-AN$20))","v":0.4331325650256232},{"$f":"AL$20*((AM273-AO273)/(AM$20-AO$20))+AM273-AM$20*((AM273-AO273)/(AM$20-AO$20))","v":0.43316855717563657},0.43182094937057308,0.43324054147566327,0.4291257337604461,0.42199108559086296,0.41371360736550084,0.40490945789957677,{"$f":"HLOOKUP(AS272,AJ272:AR284,2,FALSE)","v":0.43316855717563657}]
[null,"fevrier",{"$f":"C$20*((D274-F274)/(D$20-F$20))+D274-D$20*((D274-F274)/(D$20-F$20))","v":0.60769980231987353},0.6030601496274528,{"$f":"E$20*((F274-H274)/(F$20-H$20))+F274-F$20*((F274-H274)/(F$20-H$20))","v":0.59905930644635941},0.59378084424261135,0.59105762008417262,0.58322391983511523,0.5733446863098367,0.56270360442119938,0.55152725473589692,{"$f":"HLOOKUP(L273,C273:K285,2,FALSE)","v":0.59905930644635941},"fevrier",{"$f":"N$20*((O274-Q274)/(O$20-Q$20))+O274-O$20*((O274-Q274)/(O$20-Q$20))","v":0.46470544520478252},0.45836775631125576,{"$f":"P$20*((Q274-S274)/(Q$20-S$20))+Q274-Q$20*((Q274-S274)/(Q$20-S$20))","v":0.45245573003175621},0.44569237852420235,0.44063167747275706,0.43216567550909457,0.42279287423334139,0.41330254895686319,0.40416605182981657,{"$f":"HLOOKUP(W273,N273:V285,2,FALSE)","v":0.45245573003175621},"fevrier",{"$f":"Y$20*((Z274-AB274)/(Z$20-AB$20))+Z274-Z$20*((Z274-AB274)/(Z$20-AB$20))","v":0.64186887936366521},0.64147775481934732,{"$f":"AA$20*((AB274-AD274)/(AB$20-AD$20))+AB274-AB$20*((AB274-AD274)/(AB$20-AD$20))","v":0.64184281761045237},0.64069550573071155,0.64257294319266245,0.63840088197122991,0.63114333389584698,0.62229773326968352,0.61310600696635975,{"$f":"HLOOKUP(AH273,Y273:AG285,2,FALSE)","v":0.64184281761045237},"fevrier",{"$f":"AJ$20*((AK274-AM274)/(AK$20-AM$20))+AK274-AK$20*((AK274-AM274)/(AK$20-AM$20))","v":0.4398176227738001},0.43821492260703115,{"$f":"AL$20*((AM274-AO274)/(AM$20-AO$20))+AM274-AM$20*((AM274-AO274)/(AM$20-AO$20))","v":0.43724981319115541},0.43500952227349327,0.43531959435940393,0.43052894043816892,0.42327042748017818,0.41457728968089497,0.40542031900422476,{"$f":"HLOOKUP(AS273,AJ273:AR285,2,FALSE)","v":0.43724981319115541}]
[null,"mars",0.62013203617379498,0.61483122978839932,0.61015935399871046,0.60422961701760813,0.60081560241933274,0.59237014305540348,0.58206838686418205,0.5707397139783088,0.55880764575365227,0.61015935399871046,"mars",0.44867566532122816,0.44173701222353445,0.43515483941456734,0.4278597060281471,0.42199049379663311,0.41326943925530668,0.40376572564591695,0.39422495467668367,0.38490140633473752,0.43515483941456734,"mars",0.62540186915408036,0.6276455083114364,0.63089516160440029,0.63213278662614847,0.63739446819032819,0.63460803666964472,0.62775948531538162,0.6186903026528261,0.60910347512011587,0.63089516160440029,"mars",0.42327436303025689,0.42464263602770497,0.42689375175745625,0.42737918202260111,0.43139598321695888,0.42835004255289083,0.42199327465624359,0.4138736166647235,0.40469639433596455,0.42689375175745625]
[null,"avril",0.62083779090965896,0.61500444367320506,0.6096318843995332,0.60333774920029726,0.59888676585218958,0.59074947880182538,0.58081291944460478,0.56988520250639996,0.55874944357786971,0.6096318843995332,"avril",0.48594699489179277,0.47766638655262111,0.469637926487386,0.46110516987427791,0.45358100635691584,0.44403965664806166,0.43401035932532789,0.42397620786600049,0.41458463782675414,0.469637926487386,"avril",0.63178848028191703,0.63074845594446205,0.63041789814278992,0.62866840726955209,0.62975678253944567,0.62516942552307631,0.61793869789747025,0.60919899927298093,0.59980003207532084,0.63041789814278992,"avril",0.42881061160024159,0.42694626872641561,0.42563762014944007,0.42321758297876372,0.42302032299548897,0.41837750863741102,0.41147504574406057,0.40322570730690543,0.39461642732796165,0.42563762014944007]
[null,"mai",0.62328385668471853,0.61656730689079342,0.6101769691554505,0.60313420730294309,0.59739629368476455,0.58904868359792828,0.57920830181668603,0.56851139257210903,0.55792281262803678,0.6101769691554505,"mai",0.48189220386708798,0.47626886267450425,0.47094263811310189,0.46502218028933684,0.46029018899029722,0.4531812646418068,0.44488448319333301,0.43603493902067175,0.42716593656546514,0.47094263811310189,"mai",0.62312819395590013,0.62175709871867546,0.62104114348418515,0.619014908244226,0.61960923301520465,0.61496243776430759,0.60771792932308877,0.59968688047171881,0.59151063295430106,0.62104114348418515,"mai",0.41601482951403707,0.41496621361046965,0.41448343692927359,0.41286898180333481,0.41351788356688152,0.40964007155145732,0.40327879294557911,0.39579977945667966,0.38794746689619714,0.41448343692927359]
[null,"juin",0.63597737543745136,0.63151867211536594,0.62766069338412767,0.6226012654711951,0.61994473592165111,0.61248240964532996,0.6028704643792463,0.59249417688136985,0.58190946396106014,0.62766069338412767,"juin",0.45834185446610731,0.45108473823533835,0.44411627996148584,0.43657050577380047,0.43017936341378094,0.42147895739842978,0.41214073234144316,0.40293809257853769,0.39424202103805911,0.44411627996148584,"juin",0.59269040816429508,0.59386415385805125,0.59589334636356961,0.59621164524556358,0.59995173137460645,0.59684824300955142,0.59010869358940299,0.5817572537710366,0.57320269575851723,0.59589334636356961,"juin",0.38066923122853891,0.38208914376481301,0.3842404948172089,0.38492896883736116,0.38854319692200073,0.38630591687766574,0.38126375868220291,0.37476661586460847,0.36751288103651858,0.3842404948172089]
[null,"juillet",0.60916442484025235,0.60505239186810511,0.60151154678164032,0.59682832592381063,0.59442985660871084,0.58746188420815137,0.57872548398483104,0.56900722672762705,0.55911860275100034,0.60151154678164032,"juillet",0.47955087050214834,0.47200224012476399,0.4646947504204838,0.4569049793699953,0.45007977101192331,0.44132543726901829,0.43182760274778476,0.42249786930444305,0.41363852416953306,0.4646947504204838,"juillet",0.62070527679506737,0.62110357262323024,0.62226916684952771,0.62190016427955597,0.62460035530212277,0.62116215913961259,0.61481173088120378,0.60670603001066203,0.59801188671766647,0.62226916684952771,"juillet",0.40668472314331372,0.40698094490191122,0.40787557039120326,0.40757338841910618,0.40966482136978738,0.40696902447491196,0.40189641804463183,0.39562038230765989,0.3885472865006101,0.40787557039120326]
[null,"aout",0.6118593084491144,0.60656142549195347,0.60159734626549455,0.59596565957763148,0.59166918781257671,0.58470228620190534,0.57649663387286121,0.56774702086670292,0.55873434863825699,0.60159734626549455,"aout",0.46156257037688087,0.4552711649429021,0.44916431080426633,0.44268835407494456,0.43695060252699469,0.42973644061630084,0.42188019453139552,0.41376764722803344,0.40634562152320414,0.44916431080426633,"aout",0.62086889535639189,0.61943945440403803,0.61853892679202183,0.6165805724993304,0.61673787156798943,0.61266386391394745,0.60625572371875058,0.59869086427798324,0.59072241322266483,0.61853892679202183,"aout",0.4079046898022925,0.40639009267738951,0.40528778621905548,0.40336089842758355,0.40308317330238735,0.39950712284463968,0.39420358966720453,0.38790915195985898,0.38159268339296254,0.40528778621905548]
[null,"septembre",0.61987220069855031,0.6141984653327931,0.60880910408322009,0.60285099460127867,0.59803038158407407,0.59093477563739583,0.58254713664663693,0.57348034447111862,0.56432960050748704,0.60880910408322009,"septembre",0.45387430116894961,0.44728540814937756,0.44083870292858351,0.43410762211023346,0.42794529248699542,0.42064546047353318,0.41286139595683125,0.4051696337895298,0.39760529587206395,0.44083870292858351,"septembre",0.61197998556531141,0.61044826210675629,0.6094054558388069,0.60738481518964604,0.60731984330290822,0.60334353389132422,0.59749485759026422,0.59006054395974905,0.58209062121111343,0.6094054558388069,"septembre",0.40231009975185078,0.40066270808670096,0.3993854668390282,0.39736792475640131,0.39683098434368264,0.39333284059114759,0.38827063727632555,0.38237887865591436,0.37606267873312432,0.3993854668390282]
[null,"octobre",0.60633058297830411,0.60163100359202948,0.59721438039015218,0.59223184481948021,0.58838113398639769,0.58226677367813628,0.57468771041503952,0.56662496379245519,0.55818144397712599,0.59721438039015218,"octobre",0.46221076107463344,0.45652891253377598,0.45102513854775594,0.44516521545206095,0.44001759057571582,0.43344536926067101,0.426263028899243,0.41902503610482822,0.41212590609234762,0.45102513854775594,"octobre",0.62078338961977786,0.61834806573956869,0.61632895998362169,0.61347741797915023,0.61229074847172782,0.60777433397020719,0.60134827224002796,0.59397013416821243,0.58663134043074894,0.61632895998362169,"octobre",0.41375800308707888,0.41071587790633329,0.40776447502530733,0.40463162754484217,0.40186166926325545,0.39836593258391184,0.39329095854992052,0.38734112334806287,0.38133969218709829,0.40776447502530733]
[null,"novembre",0.59879401759770001,0.5952762452560606,0.5922186224730579,0.58824070057278166,0.5861033769070525,0.5802848567722293,0.57274030904265394,0.56437585871075613,0.55552130980401371,0.5922186224730579,"novembre",0.44062278874366467,0.43655363552031751,0.43282090869008827,0.42841532907362334,0.42535545502962985,0.41960416984069349,0.41278595168504706,0.40556346790915138,0.39839623235114369,0.43282090869008827,"novembre",0.62689993754023687,0.62552528108588212,0.62468394095525093,0.62277596817717262,0.62300126069398842,0.6189600226210159,0.61224795318328573,0.6043211694166829,0.59598290224567996,0.62468394095525093,"novembre",0.41666991291086924,0.41496975883187354,0.4136556273797144,0.41156945067388212,0.41102736447539612,0.40739709726221751,0.40174189392211401,0.39474909023454141,0.38783331395900678,0.4136556273797144]
[null,"decembre",0.5945186625860378,0.59121798705767892,0.58843070709725076,0.58461663600096114,0.58285614717639433,0.57698849380838202,0.56849660918290779,0.55920171643085925,0.54931851643270135,0.58843070709725076,"decembre",0.44113526157332072,0.4367108859219837,0.43266267208785364,0.42786213461930966,0.4245662444195934,0.41826105968222171,0.41051796162918186,0.402317952842219,0.39425921864785651,0.43266267208785364,"decembre",0.64363609991474346,0.6414972518289338,0.63996066206363811,0.63721955565731447,0.63688748253304661,0.6317373428446672,0.62361521180626189,0.61458635723905808,0.60564971100867715,0.63996066206363811,"decembre",0.43593589969359114,0.43348474848285107,0.43149258154489212,0.42858244606137108,0.42750824766897422,0.42276217509432917,0.41581808576043855,0.40759999889831133,0.39923092665121263,0.43149258154489212]
[]
[]
[null,"Ref typique",null,null,null,"Léger","0,7vol/h",null,null,null,null,null,"Ref typique",null,null,null,"Léger",null,null,null,null,null,null,"Ref typique",null,null,null,"Léger",null,null,null,null,null,null,"Ref typique",null,null,null,"Léger"]
[]
[null,null,28,27,26,25,24,23,22,21,20,{"$f":"TempConsigne","v":26},null,28,27,26,25,24,23,22,21,20,{"$f":"TempConsigne","v":26},null,28,27,26,25,24,23,22,21,20,{"$f":"TempConsigne","v":26},null,28,27,26,25,24,23,22,21,20,{"$f":"TempConsigne","v":26}]
[null,"janvier",{"$f":"C$20*((D290-F290)/(D$20-F$20))+D290-D$20*((D290-F290)/(D$20-F$20))","v":0.67580009166348631},{"$f":"D$20*((E290-G290)/(E$20-G$20))+E290-E$20*((E290-G290)/(E$20-G$20))","v":0.66605169490631533},{"$f":"E$20*((F290-H290)/(F$20-H$20))+F290-F$20*((F290-H290)/(F$20-H$20))","v":0.65695512906372566},0.64655490139197336,0.63876199737854633,0.62575444604846875,0.61046133191402319,0.59463109561443273,0.5783821460983577,{"$f":"HLOOKUP(L289,C289:K301,2,FALSE)","v":0.65695512906372566},"janvier",{"$f":"N$20*((O290-Q290)/(O$20-Q$20))+O290-O$20*((O290-Q290)/(O$20-Q$20))","v":0.5248471421794717},{"$f":"O$20*((P290-R290)/(P$20-R$20))+P290-P$20*((P290-R290)/(P$20-R$20))","v":0.51476844040978575},{"$f":"P$20*((Q290-S290)/(Q$20-S$20))+Q290-Q$20*((Q290-S290)/(Q$20-S$20))","v":0.50517292106413658},0.49461103687041386,0.48598188237283835,0.4734872684829684,0.46007853437915963,0.44676416782726341,0.43368096380131416,{"$f":"HLOOKUP(W289,N289:V301,2,FALSE)","v":0.50517292106413658},"janvier",{"$f":"Y$20*((Z290-AB290)/(Z$20-AB$20))+Z290-Z$20*((Z290-AB290)/(Z$20-AB$20))","v":0.68656956017965942},{"$f":"Z$20*((AA290-AC290)/(AA$20-AC$20))+AA290-AA$20*((AA290-AC290)/(AA$20-AC$20))","v":0.67994649091721315},{"$f":"AA$20*((AB290-AD290)/(AB$20-AD$20))+AB290-AB$20*((AB290-AD290)/(AB$20-AD$20))","v":0.67386539559096892},0.66670035239232062,0.66170320493848056,0.65237026599502401,0.64116838043654434,0.62927201632885321,0.61776735787329995,{"$f":"HLOOKUP(AH289,Y289:AG301,2,FALSE)","v":0.67386539559096892},"janvier",{"$f":"AJ$20*((AK290-AM290)/(AK$20-AM$20))+AK290-AK$20*((AK290-AM290)/(AK$20-AM$20))","v":0.51032652168246784},{"$f":"AK$20*((AL290-AN290)/(AL$20-AN$20))+AL290-AL$20*((AL290-AN290)/(AL$20-AN$20))","v":0.5006298596607468},{"$f":"AL$20*((AM290-AO290)/(AM$20-AO$20))+AM290-AM$20*((AM290-AO290)/(AM$20-AO$20))","v":0.49133808467115769},0.48123653561730467,0.47275453469197931,0.46103343750959869,0.44830670207857509,0.43511546973571463,0.42317252305494846,{"$f":"HLOOKUP(AS289,AJ289:AR301,2,FALSE)","v":0.49133808467115769}]
[null,"fevrier",{"$f":"C$20*((D291-F291)/(D$20-F$20))+D291-D$20*((D291-F291)/(D$20-F$20))","v":0.70395218001371107},0.69009189173190832,{"$f":"E$20*((F291-H291)/(F$20-H$20))+F291-F$20*((F291-H291)/(F$20-H$20))","v":0.67683887692190869},0.66237131516830283,0.65033284730190943,0.63343619166109122,0.61564470381150582,0.59755229567389889,0.58009234424963252,{"$f":"HLOOKUP(L290,C290:K302,2,FALSE)","v":0.67683887692190869},"fevrier",{"$f":"N$20*((O291-Q291)/(O$20-Q$20))+O291-O$20*((O291-Q291)/(O$20-Q$20))","v":0.5358414404118268},0.52188589458367185,{"$f":"P$20*((Q291-S291)/(Q$20-S$20))+Q291-Q$20*((Q291-S291)/(Q$20-S$20))","v":0.50820078275320102},0.49397480292736196,0.48083055909225947,0.46552284327568366,0.45039016835586565,0.43607460037234702,0.42252803955899132,{"$f":"HLOOKUP(W290,N290:V302,2,FALSE)","v":0.50820078275320102},"fevrier",{"$f":"Y$20*((Z291-AB291)/(Z$20-AB$20))+Z291-Z$20*((Z291-AB291)/(Z$20-AB$20))","v":0.69369433121839275},0.68609708487785481,{"$f":"AA$20*((AB291-AD291)/(AB$20-AD$20))+AB291-AB$20*((AB291-AD291)/(AB$20-AD$20))","v":0.67895118787247211},0.67090259219677895,0.6646593938617068,0.65480540084539274,0.64327788880898318,0.63159035288202892,0.62049817244793959,{"$f":"HLOOKUP(AH290,Y290:AG302,2,FALSE)","v":0.67895118787247211},"fevrier",{"$f":"AJ$20*((AK291-AM291)/(AK$20-AM$20))+AK291-AK$20*((AK291-AM291)/(AK$20-AM$20))","v":0.51847660471015045},0.50778599808502989,{"$f":"AL$20*((AM291-AO291)/(AM$20-AO$20))+AM291-AM$20*((AM291-AO291)/(AM$20-AO$20))","v":0.49756757269359742},0.48640478483478872,0.4771307219107323,0.46407920911717138,0.45004101333371865,0.43643962749896703,0.42496507818945733,{"$f":"HLOOKUP(AS290,AJ290:AR302,2,FALSE)","v":0.49756757269359742}]
[null,"mars",0.71598181428780738,0.70158059136253392,0.68775099759246272,0.67277814551198689,0.66009181005232032,0.64283244135103546,0.62441862018554539,0.60562709772820356,0.58641743033725835,0.68775099759246272,"mars",0.51032300403792974,0.49745234526493814,0.48496015472130016,0.4717110277189549,0.45997577363402425,0.44521277371426432,0.43043233473736037,0.41595940092517236,0.40201845463263897,0.48496015472130016,"mars",0.6667624881240759,0.66335107025451268,0.6606986217593509,0.65652823451538633,0.65539372476902735,0.64818746002745731,0.63876870578221245,0.62789293673969793,0.6166476304011933,0.6606986217593509,"mars",0.48941392613616475,0.48400588499601793,0.47952978601860086,0.47318980271572431,0.47057758806376671,0.46050983610997104,0.44774471390483023,0.43495424669726923,0.42276909398476203,0.47952978601860086]
[null,"avril",0.70949986888794458,0.69548171561808658,0.68195800036765897,0.66744540907837047,0.65491056986680396,0.63842022649979324,0.62021257848070299,0.60236148448824789,0.58525212482581956,0.68195800036765897,"avril",0.55158008526109836,0.5369156188780484,0.52245198853900099,0.50758668611194846,0.49352472786090618,0.4778560812578434,0.46195532572834397,0.44701508393499806,0.43342031699852918,0.52245198853900099,"avril",0.67554237834586783,0.66870404987704768,0.66236890179418351,0.65502739293940737,0.64969860562845527,0.6403443752298551,0.62946324065136039,0.61842328702955507,0.60784618995280559,0.66236890179418351,"avril",0.49353086552275538,0.48482795388467392,0.47662731351522025,0.46742213060851096,0.46022603277631291,0.44901176479509231,0.43608757749435151,0.42355200540780441,0.41220033042948867,0.47662731351522025]
[null,"mai",0.71784865382759644,0.7010408172893644,0.68439653575714465,0.66742514421290056,0.65110797269270504,0.63348236112441214,0.61553616156696334,0.59842428498027977,0.58194415427297053,0.68439653575714465,"mai",0.54663629701954586,0.53356085532855768,0.52065630683139785,0.50740997194658133,0.49484720983707808,0.48091730217694839,0.46661405780574217,0.45291948519899461,0.44049394781355694,0.52065630683139785,"mai",0.66953644296299564,0.66178072952059697,0.6544332134687123,0.64626930263579963,0.63973818136494309,0.62994148096997438,0.61863337165818588,0.60792709697705771,0.59832347598664282,0.6544332134687123,"mai",0.48335831527301043,0.47460603890510966,0.46624698791126723,0.45710148616930818,0.44952888592358248,0.43881048268539019,0.42657122139198034,0.41481075367963677,0.40392123654925061,0.46624698791126723]
[null,"juin",0.71504967277691256,0.70426405891115651,0.69439655283729862,0.68269283117964463,0.67466154068958284,0.65928538786433677,0.64262709034753318,0.62612644540635143,0.610224946040825,0.69439655283729862,"juin",0.51452390689928729,0.50242971833669481,0.49084392787187459,0.4782413412115098,0.4676723469422342,0.45303616789078033,0.43866360360611029,0.42548086519480249,0.41347165978653494,0.49084392787187459,"juin",0.63576907695586049,0.63123584490208795,0.62735890111555226,0.62216938079454287,0.61960501354248088,0.61179034015252398,0.60162880158045573,0.59129493255381393,0.58166104166811072,0.62735890111555226,"juin",0.43980482115176878,0.43501431781601541,0.43093440541208006,0.42543331114450861,0.42277458060420925,0.41443112260936565,0.40385288266228891,0.39336479762885329,0.38395062013587794,0.43093440541208006]
[null,"juillet",0.69505374125355979,0.68442104100242307,0.67462724065453061,0.66315564050014963,0.65503963995874559,0.64021244019138757,0.62375124708420371,0.60682169324201407,0.59086835425800943,0.67462724065453061,"juillet",0.54638898764046873,0.5330752690916194,0.52013586282341706,0.50644783199392074,0.49425705028701222,0.47907177033492809,0.46359404105120866,0.44896396275884204,0.43556260697869242,0.52013586282341706,"juillet",0.66135103639933979,0.65655324195721743,0.65227188630802391,0.64695765307297282,0.64370917500963687,0.63632918660287063,0.62702370283218267,0.61755076515597418,0.60783689678268282,0.65227188630802391,"juillet",0.47255868244845317,0.46604913076640447,0.46003604588814972,0.45303002740230719,0.44800987613164017,0.43901799043062206,0.42790407085663235,0.41674246883193333,0.4065522816051278,0.46003604588814972]
[null,"aout",0.70311337902827264,0.68955078952114002,0.67624923423825467,0.66242561050687443,0.64964612367248387,0.63477836304411361,0.61977253355171869,0.60524976650320583,0.59035732256659701,0.67624923423825467,"aout",0.52751675186162827,0.51468739300480926,0.50195974672293897,0.48902867529117122,0.47650445415919823,0.46316653242763567,0.44999916434074827,0.43761724225667725,0.42627641258883792,0.50195974672293897,"aout",0.66151770099070295,0.65506891950636525,0.6489047143720279,0.64217135653768975,0.6365763041033532,0.62870464086901345,0.62013103137064807,0.61064982434403592,0.6014529979458858,0.6489047143720279,"aout",0.47296498380326213,0.46436133557696513,0.45602448976491211,0.44715403912437118,0.43935079814080608,0.42941313784328944,0.41834606320926576,0.40781736204724928,0.39870570511166753,0.45602448976491211]
[null,"septembre",0.71062908743736131,0.69680007374254549,0.68327946471428924,0.66914204635291397,0.65623824665777675,0.64086720963016353,0.62521964571022393,0.60991718382548898,0.59480648687200277,0.68327946471428924,"septembre",0.51850254375059446,0.50565291635161658,0.49287040545043947,0.47995366155366076,0.46730538364808533,0.45412017376010327,0.44116235347264432,0.42899690451648093,0.41726556184771108,0.49287040545043947,"septembre",0.64963645586982466,0.64359910547119681,0.63782790596932337,0.63152440467394122,0.62628550696557661,0.61891740208317692,0.60959199875105063,0.60064567210204323,0.59194018065370635,0.63782790596932337,"septembre",0.46552081752072794,0.45678755299765872,0.44823249377322072,0.43932102395152028,0.43112237532434472,0.42149808430811941,0.41125732013964322,0.4015739240305285,0.3930443003882923,0.44823249377322072]
[null,"octobre",0.69192766816739182,0.67980765136010501,0.66790991444298542,0.65556761774553141,0.64411444060874623,0.63088302435062327,0.61706151062616355,0.60346227974605526,0.58936229326246936,0.66790991444298542,"octobre",0.52438801593952022,0.51303185806014284,0.50178319974801455,0.49031954230138819,0.47928588312375797,0.46739222740813546,0.45567851106004625,0.44468203414962737,0.43417940549419076,0.50178319974801455,"octobre",0.65953267536158811,0.65211882831626988,0.64487033052388443,0.63729113422563344,0.63037333493911341,0.62213274162913146,0.61359282752800226,0.60472733190779515,0.59634771492857663,0.64487033052388443,"octobre",0.47256152535504942,0.46320673326798195,0.45400295101106958,0.44449714909384691,0.43559538649724489,0.42548554525940152,0.41547414986329134,0.40613523927493456,0.39796030006002941,0.45400295101106958]
[null,"novembre",0.6770632621792374,0.66773047574780386,0.65894071594715387,0.64906490288493679,0.64136119634585387,0.62931327676050253,0.61552316331021228,0.60178420484331019,0.58814164039133865,0.65894071594715387,"novembre",0.49541002177697258,0.48665423759383469,0.47823116242350217,0.46914266922755876,0.46138501208283705,0.45096568283567212,0.43944277159416312,0.42847808031955337,0.41752119958957484,0.47823116242350217,"novembre",0.66986967657621421,0.66277269327654231,0.65609344566565175,0.64857872667719851,0.64273495044387063,0.63354928870029215,0.62322502580162997,0.61346819676593389,0.60418284509563602,0.65609344566565175,"novembre",0.4836537632638106,0.47427125750874233,0.46512004488785597,0.45550624599860584,0.44681761964608335,0.4362786482201057,0.42507545186487833,0.41417459824235908,0.40465252632990589,0.46512004488785597]
[null,"decembre",0.68158546926612429,0.67074587307634082,0.66052033007159028,0.64906668069677376,0.6400692440620892,0.62615938194714071,0.61031921940831935,0.59450588833957463,0.57883771182318633,0.66052033007159028,"decembre",0.50100682571797517,0.4909020459925606,0.48122436529151491,0.4706924865417314,0.46186900388942354,0.44962872904216433,0.43657261881893039,0.42382049159970131,0.41203252979101673,0.48122436529151491,"decembre",0.69659021677663557,0.68708687784235878,0.67798356401298698,0.66808019997380519,0.65977693635424339,0.64827347189544171,0.63663240192856518,0.62441074131513374,0.6139756769571455,0.67798356401298698,"decembre",0.51381190303522373,0.50199791547212391,0.49044091787109839,0.47836994034592417,0.46732692266904746,0.45422798529557573,0.44081515217557971,0.42824331944272515,0.41687354606740196,0.49044091787109839]
[]
[]
[null,"Ref typique",null,null,null,"Moyen",null,null,null,null,null,null,"Ref typique",null,null,null,"Moyen",null,null,null,null,null,null,"Ref typique",null,null,null,"Moyen",null,null,null,null,null,null,"Ref typique",null,null,null,"Moyen"]
[]
[null,null,28,27,26,25,24,23,22,21,20,{"$f":"TempConsigne","v":26},null,28,27,26,25,24,23,22,21,20,{"$f":"TempConsigne","v":26},null,28,27,26,25,24,23,22,21,20,{"$f":"TempConsigne","v":26},null,28,27,26,25,24,23,22,21,20,{"$f":"TempConsigne","v":26}]
[null,"janvier",{"$f":"C$20*((D307-F307)/(D$20-F$20))+D307-D$20*((D307-F307)/(D$20-F$20))","v":0.6658782045824656},{"$f":"D$20*((E307-G307)/(E$20-G$20))+E307-E$20*((E307-G307)/(E$20-G$20))","v":0.65625575156195148},{"$f":"E$20*((F307-H307)/(F$20-H$20))+F307-F$20*((F307-H307)/(F$20-H$20))","v":0.6472299345517204},0.63701084552092335,0.62917830053125812,0.61657266745932926,0.60335591033563463,0.58932577742358327,0.57447608322027621,{"$f":"HLOOKUP(L306,C306:K318,2,FALSE)","v":0.6472299345517204},"janvier",{"$f":"N$20*((O307-Q307)/(O$20-Q$20))+O307-O$20*((O307-Q307)/(O$20-Q$20))","v":0.51753585421733483},{"$f":"O$20*((P307-R307)/(P$20-R$20))+P307-P$20*((P307-R307)/(P$20-R$20))","v":0.50763494455065949},{"$f":"P$20*((Q307-S307)/(Q$20-S$20))+Q307-Q$20*((Q307-S307)/(Q$20-S$20))","v":0.49813708694273773},0.48783312521730876,0.47914137172689408,0.46722520176645077,0.45525991195580162,0.44322349117722637,0.43129175825960758,{"$f":"HLOOKUP(W306,N306:V318,2,FALSE)","v":0.49813708694273773},"janvier",{"$f":"Y$20*((Z307-AB307)/(Z$20-AB$20))+Z307-Z$20*((Z307-AB307)/(Z$20-AB$20))","v":0.71223607706042968},{"$f":"Z$20*((AA307-AC307)/(AA$20-AC$20))+AA307-AA$20*((AA307-AC307)/(AA$20-AC$20))","v":0.7024186575299266},{"$f":"AA$20*((AB307-AD307)/(AB$20-AD$20))+AB307-AB$20*((AB307-AD307)/(AB$20-AD$20))","v":0.69312012178270155},0.68278381846892056,0.67452305028825132,0.66211121184135857,0.64974628151621761,0.63648830203129159,0.62325406193100863,{"$f":"HLOOKUP(AH306,Y306:AG318,2,FALSE)","v":0.69312012178270155},"janvier",{"$f":"AJ$20*((AK307-AM307)/(AK$20-AM$20))+AK307-AK$20*((AK307-AM307)/(AK$20-AM$20))","v":0.51812167796853159},{"$f":"AK$20*((AL307-AN307)/(AL$20-AN$20))+AL307-AL$20*((AL307-AN307)/(AL$20-AN$20))","v":0.50792507436722267},{"$f":"AL$20*((AM307-AO307)/(AM$20-AO$20))+AM307-AM$20*((AM307-AO307)/(AM$20-AO$20))","v":0.49806176153554038},0.48753186716460484,0.47833513587217569,0.46647207842273392,0.45420453384848125,0.44149215580709178,0.42911363815670395,{"$f":"HLOOKUP(AS306,AJ306:AR318,2,FALSE)","v":0.49806176153554038}]
[null,"fevrier",{"$f":"C$20*((D308-F308)/(D$20-F$20))+D308-D$20*((D308-F308)/(D$20-F$20))","v":0.68742674888601529},0.67493308946090658,{"$f":"E$20*((F308-H308)/(F$20-H$20))+F308-F$20*((F308-H308)/(F$20-H$20))","v":0.66310941945204238},0.64994577061068926,0.63946207943431388,0.62361847292798311,0.60827453971374867,0.5924622914679627,0.57646350658535228,{"$f":"HLOOKUP(L307,C307:K319,2,FALSE)","v":0.66310941945204238},"fevrier",{"$f":"N$20*((O308-Q308)/(O$20-Q$20))+O308-O$20*((O308-Q308)/(O$20-Q$20))","v":0.52499401566241821},0.5121095324185444,{"$f":"P$20*((Q308-S308)/(Q$20-S$20))+Q308-Q$20*((Q308-S308)/(Q$20-S$20))","v":0.4996131903190093},0.48634056593079683,0.47462050611993922,0.45979531715437183,0.4464519188876554,0.43337255058740209,0.42107204747859939,{"$f":"HLOOKUP(W307,N307:V319,2,FALSE)","v":0.4996131903190093},"fevrier",{"$f":"Y$20*((Z308-AB308)/(Z$20-AB$20))+Z308-Z$20*((Z308-AB308)/(Z$20-AB$20))","v":0.72187647070859418},0.71084035075191832,{"$f":"AA$20*((AB308-AD308)/(AB$20-AD$20))+AB308-AB$20*((AB308-AD308)/(AB$20-AD$20))","v":0.70021947395015771},0.68876811083856659,0.6789777203466365,0.66586538461538447,0.65261476308041655,0.63966482574022565,0.62674486191364831,{"$f":"HLOOKUP(AH307,Y307:AG319,2,FALSE)","v":0.70021947395015771},"fevrier",{"$f":"AJ$20*((AK308-AM308)/(AK$20-AM$20))+AK308-AK$20*((AK308-AM308)/(AK$20-AM$20))","v":0.53025915442247129},0.51830263262512666,{"$f":"AL$20*((AM308-AO308)/(AM$20-AO$20))+AM308-AM$20*((AM308-AO308)/(AM$20-AO$20))","v":0.50673584228054314},0.49438958903043739,0.4836022615913762,0.46969708253022591,0.45608032831670653,0.44274185718446768,0.42992479795862182,{"$f":"HLOOKUP(AS307,AJ307:AR319,2,FALSE)","v":0.50673584228054314}]
[null,"mars",0.69582974368430184,0.68347206739661404,0.67161816323006085,0.65875671482123865,0.64791035489695459,0.63303381800359415,0.61750377139159651,0.60090766197222634,0.58317700963713903,0.67161816323006085,"mars",0.50141067536094719,0.48932106690714899,0.47750978529176502,0.46514184999955271,0.45388722206099702,0.44040597941512821,0.42722211145261585,0.41418261302794901,0.40097503033547016,0.47750978529176502,"mars",0.70156695981851058,0.69362309289155422,0.68626128475806314,0.67773535903764137,0.67153766849108087,0.66068350759679784,0.64878092823258093,0.63589141738416521,0.62288116342826727,0.68626128475806314,"mars",0.50805429938762647,0.50025240139191318,0.49310104280094225,0.4846486054004866,0.47879832561900021,0.46774373059957525,0.45515646102393764,0.44214839062796024,0.42896543862735803,0.49310104280094225]
[null,"avril",0.69244257116178265,0.67993191381731921,0.6679244037403127,0.65491059912839233,0.64390938358629968,0.6288829899045516,0.61337954441909492,0.59770734514919466,0.58179072475128835,0.6679244037403127,"avril",0.54156848294960036,0.5277427558242368,0.51417352254939352,0.50009130157350956,0.48703505599970709,0.47192685962174152,0.45798425030755047,0.44448539469593223,0.43155844006132787,0.51417352254939352,"avril",0.70939456514897015,0.69804039581523691,0.68704690550107028,0.67533205714777056,0.66505992487273713,0.65190236044117111,0.63944373794545106,0.62599981978281394,0.61327538704508522,0.68704690550107028,"avril",0.5095214081236854,0.49890673459262047,0.48869951263199218,0.47767738753049049,0.46828506871073561,0.45563313732748717,0.4430192760397712,0.43035458137252425,0.41825077524294801,0.48869951263199218]
[null,"mai",0.69951240367246226,0.6847231946171678,0.67024680886533949,0.65514477650657899,0.641294037361683,0.62494071178905786,0.60955241554981299,0.5940448033996496,0.57888591590262761,0.67024680886533949,"mai",0.5377341769519578,0.5257219786145173,0.5139515241666951,0.50169758193963632,0.49041061527105062,0.47718969748551882,0.46451689003743746,0.45170697772029705,0.43976807950142061,0.5139515241666951,"mai",0.70362529582490074,0.69110846353619704,0.67903188047158414,0.66607479895878974,0.65487871434235834,0.64016063593320072,0.62676702418325247,0.614460421049421,0.60346750369785251,0.67903188047158414,"mai",0.49834721923377567,0.48788294643652791,0.47779263548081596,0.46695440084203232,0.45761201356939213,0.44527793156446499,0.43262950467814248,0.42070158443608707,0.40894804534194623,0.47779263548081596]
[null,"juin",0.69953308818688109,0.68940989839069711,0.68013481815797006,0.66916351879832925,0.66158465769251595,0.64722092007904775,0.63345149413477175,0.61945909812101851,0.60521869777618642,0.68013481815797006,"juin",0.50404210921021542,0.49250671914935762,0.48135079258944324,0.46943593902764202,0.45903893946961449,0.44560623190403975,0.43318820104460998,0.42140975975129458,0.41046686419308209,0.48135079258944324,"juin",0.67515306611578718,0.66524929024790225,0.65602556102891818,0.64544173851213238,0.63757810259095005,0.62427409347856078,0.61168764449011026,0.59873231155819373,0.58652977745068768,0.65602556102891818,"juin",0.45957290974304738,0.45208695123509174,0.44522974605279297,0.43711503421918058,0.4315153356881955,0.42088561055195572,0.41038419385221325,0.39950709953850988,0.38909141157079302,0.44522974605279297]
[null,"juillet",0.6779979405140043,0.66815905927781183,0.65920733424896194,0.64848129680542688,0.64130388419126216,0.62702922191835686,0.61393600777042256,0.59975499583955205,0.58538937895568088,0.65920733424896194,"juillet",0.53307769053433951,0.52052648606253782,0.50837510331056834,0.49542407711893449,0.48407233780662934,0.46952202473566668,0.45669520780192407,0.44402051166906598,0.43202169346067326,0.50837510331056834,"juillet",0.70050255381922488,0.69060032569872276,0.68122545120698619,0.67079586945771852,0.66247570222351304,0.64993670595918318,0.63786505891257828,0.62526002800047531,0.61285202666514027,0.68122545120698619,"juillet",0.48913584881732119,0.48062624823143113,0.47256020556109468,0.46360704705965095,0.45642812022042184,0.44570073005676347,0.43472363809782155,0.42347417220292427,0.412948950889374,0.47256020556109468]
[null,"aout",0.68457372933680394,0.67239520591051372,0.66066008276514054,0.64803815905793316,0.63718983647439431,0.62279431164351839,0.61048925315852332,0.598109325100463,0.58521797745436221,0.66066008276514054,"aout",0.51490341627343672,0.50313851166062629,0.49163505261464002,0.47960870243500547,0.46862813452266749,0.45555600207573649,0.444282634233644,0.43333421870019823,0.42316542664167239,0.49163505261464002,"aout",0.69809427749250141,0.686829318104761,0.67593914576787972,0.66429939932928006,0.65415880109411717,0.64101990645208073,0.63013067112088383,0.61879800511221239,0.60750561851372997,0.67593914576787972,"aout",0.48630532910409696,0.47643743399067223,0.4669433252417341,0.45670164376382261,0.44795510774385788,0.43621828080799963,0.42524052689941527,0.41441106437762859,0.40530026798856472,0.4669433252417341]
[null,"septembre",0.69363417269513306,0.68088253554931033,0.6686170492282052,0.65537926125766466,0.64408607658599504,0.62890368531658358,0.61610523679260554,0.60317249241598891,0.58938997599605969,0.6686170492282052,"septembre",0.50723877478135149,0.49519690801656618,0.4834167332764252,0.47111317448699563,0.45985638379614319,0.44650605690813644,0.4355546606291878,0.42478706056088633,0.41439671804990819,0.4834167332764252,"septembre",0.68534369377859949,0.67474661848071038,0.66458542418448829,0.65355246788493215,0.64426303559204423,0.63148655528581987,0.62038942393480567,0.60887965043171155,0.5976438843442452,0.66458542418448829,"septembre",0.47884951132672454,0.46890169121815173,0.45923451343412136,0.4490060510010061,0.43990015786606063,0.42854912613477564,0.41841954912081686,0.40874340651777824,0.39971352771745638,0.45923451343412136]
[null,"octobre",0.67819000997694567,0.66668828946424052,0.65564929737691968,0.64368484843883023,0.633571313202278,0.6197559505626512,0.60825166402039865,0.59673760969235834,0.5842291322517591,0.65564929737691968,"octobre",0.51547724419475194,0.50446768745843062,0.49374625744343248,0.48244857398578789,0.47230339741343624,0.4598532070704987,0.44981189334626481,0.4400999408911645,0.43065595467726236,0.49374625744343248,"octobre",0.69372523995502022,0.68191760545775815,0.67046086085346723,0.65830233646323433,0.64754737164488529,0.63398528768276863,0.62360914487732033,0.6126873053153975,0.60244160828327853,0.67046086085346723,"octobre",0.48487865515584028,0.47449140990491884,0.46440586546971357,0.45371691940307579,0.44423477659930322,0.43233902726980022,0.42261347015713369,0.41324082639071613,0.40495988715003867,0.46440586546971357]
[null,"novembre",0.66837943722459636,0.65854380184153904,0.64931533592699819,0.63887253107542441,0.63085840409791649,0.61798692137227684,0.60647597549012489,0.59473181806037179,0.58249484860935608,0.64931533592699819,"novembre",0.48994747225615665,0.48090139116741637,0.47231013424680823,0.46280922898993587,0.45512762040559207,0.44380741847619121,0.43409577360893986,0.42420895901832456,0.41442744648577851,0.47231013424680823,"novembre",0.70130373970680582,0.69008661969252594,0.67941509499129438,0.66765237966396629,0.65807204558883126,0.64412694900931011,0.63221185657095669,0.62050273942546141,0.60925350402688905,0.67941509499129438,"novembre",0.49494886437341168,0.48452623808253703,0.474479612860219,0.46368098550078768,0.45438636241558295,0.44208373078192498,0.43131676973028704,0.42052184698889911,0.41059054862696504,0.474479612860219]
[null,"decembre",0.67053829086058481,0.65994360775831507,0.64995823394839913,0.63875424155377547,0.62998748632856738,0.61634625676452826,0.60291997039676959,0.58872208638044754,0.57431088614667092,0.64995823394839913,"decembre",0.49592419734704418,0.4857478330750219,0.4759916301664936,0.46539510453097738,0.45647922434943689,0.44420205325994488,0.43267850739360159,0.42112806313431866,0.41006221609541615,0.4759916301664936,"decembre",0.72308278035769813,0.71040695454464398,0.69821551373240032,0.68505530291853589,0.67383263210791311,0.65873488129080726,0.64497062989943199,0.63110098981093421,0.61874878543493561,0.69821551373240032,"decembre",0.52175726073690276,0.50956290602453991,0.4976753130521504,0.48517419659981431,0.47390012710737123,0.46017196369514229,0.4472054533694021,0.43409959817656735,0.42179946923506695,0.4976753130521504]
[]
[]
[null,"Ref typique",null,null,null,"Lourd",null,null,null,null,null,null,"Ref typique",null,null,null,"Lourd",null,null,null,null,null,null,"Ref typique",null,null,null,"Lourd",null,null,null,null,null,null,"Ref typique",null,null,null,"Lourd"]
[]
[null,null,28,27,26,25,24,23,22,21,20,{"$f":"TempConsigne","v":26},null,28,27,26,25,24,23,22,21,20,{"$f":"TempConsigne","v":26},null,28,27,26,25,24,23,22,21,20,{"$f":"TempConsigne","v":26},null,28,27,26,25,24,23,22,21,20,{"$f":"TempConsigne","v":26}]
[null,"janvier",{"$f":"C$20*((D324-F324)/(D$20-F$20))+D324-D$20*((D324-F324)/(D$20-F$20))","v":0.65229178952424505},{"$f":"D$20*((E324-G324)/(E$20-G$20))+E324-E$20*((E324-G324)/(E$20-G$20))","v":0.64392410862406946},{"$f":"E$20*((F324-H324)/(F$20-H$20))+F324-F$20*((F324-H324)/(F$20-H$20))","v":0.63621665906967628},0.62718874682371828,0.62080175996088993,0.60913292233180216,0.59781914792936075,0.58488719426625102,0.57104580242769276,{"$f":"HLOOKUP(L323,C323:K335,2,FALSE)","v":0.63621665906967628},"janvier",{"$f":"N$20*((O324-Q324)/(O$20-Q$20))+O324-O$20*((O324-Q324)/(O$20-Q$20))","v":0.51265608441148025},{"$f":"O$20*((P324-R324)/(P$20-R$20))+P324-P$20*((P324-R324)/(P$20-R$20))","v":0.50370703807298334},{"$f":"P$20*((Q324-S324)/(Q$20-S$20))+Q324-Q$20*((Q324-S324)/(Q$20-S$20))","v":0.49522953311279355},0.48580894539598951,0.47827452319241393,0.46696776996238143,0.45635284582783414,0.44522614935021332,0.43352202443634108,{"$f":"HLOOKUP(W323,N323:V335,2,FALSE)","v":0.49522953311279355},"janvier",{"$f":"Y$20*((Z324-AB324)/(Z$20-AB$20))+Z324-Z$20*((Z324-AB324)/(Z$20-AB$20))","v":0.71401779041121305},{"$f":"Z$20*((AA324-AC324)/(AA$20-AC$20))+AA324-AA$20*((AA324-AC324)/(AA$20-AC$20))","v":0.70530646595919089},{"$f":"AA$20*((AB324-AD324)/(AB$20-AD$20))+AB324-AB$20*((AB324-AD324)/(AB$20-AD$20))","v":0.69727340607370358},0.68788381705514667,0.68120728630272886,0.66910463901803285,0.65682466974906617,0.64293161448125857,0.62905107228969215,{"$f":"HLOOKUP(AH323,Y323:AG335,2,FALSE)","v":0.69727340607370358},"janvier",{"$f":"AJ$20*((AK324-AM324)/(AK$20-AM$20))+AK324-AK$20*((AK324-AM324)/(AK$20-AM$20))","v":0.51181950414771071},{"$f":"AK$20*((AL324-AN324)/(AL$20-AN$20))+AL324-AL$20*((AL324-AN324)/(AL$20-AN$20))","v":0.50374192477681912},{"$f":"AL$20*((AM324-AO324)/(AM$20-AO$20))+AM324-AM$20*((AM324-AO324)/(AM$20-AO$20))","v":0.49620721415038999},0.48758676603503587,0.48113779289753178,0.47034586980432752,0.45900534974679469,0.44652758286831407,0.4322674048765382,{"$f":"HLOOKUP(AS323,AJ323:AR335,2,FALSE)","v":0.49620721415038999}]
[null,"fevrier",{"$f":"C$20*((D325-F325)/(D$20-F$20))+D325-D$20*((D325-F325)/(D$20-F$20))","v":0.66775974298965779},0.65741031738408362,{"$f":"E$20*((F325-H325)/(F$20-H$20))+F325-F$20*((F325-H325)/(F$20-H$20))","v":0.64782690275782651},0.63671146617293528,0.62866007350531217,0.61448059300315272,0.60144897202521219,0.58693572529908955,0.5723463890830387,{"$f":"HLOOKUP(L324,C324:K336,2,FALSE)","v":0.64782690275782651},"fevrier",{"$f":"N$20*((O325-Q325)/(O$20-Q$20))+O325-O$20*((O325-Q325)/(O$20-Q$20))","v":0.51861147744361269},0.50724720217285035,{"$f":"P$20*((Q325-S325)/(Q$20-S$20))+Q325-Q$20*((Q325-S325)/(Q$20-S$20))","v":0.49640479516566283},0.48451865163132568,0.47471998115128766,0.46074636456265156,0.44840172545079793,0.43618298387974158,0.42427184984020455,{"$f":"HLOOKUP(W324,N324:V336,2,FALSE)","v":0.49640479516566283},"fevrier",{"$f":"Y$20*((Z325-AB325)/(Z$20-AB$20))+Z325-Z$20*((Z325-AB325)/(Z$20-AB$20))","v":0.72942777579572349},0.71850842121222114,{"$f":"AA$20*((AB325-AD325)/(AB$20-AD$20))+AB325-AB$20*((AB325-AD325)/(AB$20-AD$20))","v":0.70822263443533873},0.69666971204521677,0.68765106088157379,0.67356386726497286,0.66074041294407049,0.64716066611894552,0.63301000745179015,{"$f":"HLOOKUP(AH324,Y324:AG336,2,FALSE)","v":0.70822263443533873},"fevrier",{"$f":"AJ$20*((AK325-AM325)/(AK$20-AM$20))+AK325-AK$20*((AK325-AM325)/(AK$20-AM$20))","v":0.52741235188408764},0.51681214716508417,{"$f":"AL$20*((AM325-AO325)/(AM$20-AO$20))+AM325-AM$20*((AM325-AO325)/(AM$20-AO$20))","v":0.5067132945305115},0.49561173772707717,0.48651558926136618,0.47340862412020845,0.46129855322066882,0.44812968235925243,0.43421083052779674,{"$f":"HLOOKUP(AS324,AJ324:AR336,2,FALSE)","v":0.5067132945305115}]
[null,"mars",0.67529798441767752,0.66535324286860287,0.65603348694695574,0.64546375977045356,0.63739397510366147,0.62432430541744921,0.61104742978787174,0.59605793155291609,0.57947110320144979,0.65603348694695574,"mars",0.4910558850424912,0.48103744124287029,0.47144510596195133,0.46100055364362846,0.4522604354001134,0.44011144900698274,0.42831993250088118,0.41627283222176326,0.40383300509693332,0.47144510596195133,"mars",0.71669530513256752,0.70773160425928772,0.69941788249344472,0.68980420251272812,0.68279043896175862,0.67057684255129502,0.65744752304323351,0.64336136724423287,0.62943691645347655,0.69941788249344472,"mars",0.5135320897946738,0.50581654875304605,0.49875145863893566,0.49038546666979044,0.48462127841071478,0.47365348273150004,0.46203211574026537,0.44832000055426957,0.43445059115266599,0.49875145863893566]
[null,"avril",0.67751548798301431,0.66655394081296782,0.65617346111929631,0.64463084647287494,0.63541250173195318,0.62154561718003221,0.60822734218978403,0.59369183214192234,0.57889172391829946,0.65617346111929631,"avril",0.53851111027708143,0.52547043473017818,0.51270411423636819,0.49938908363637163,0.48717147324874821,0.47275902243637846,0.46008353571674326,0.44681881610370539,0.43419881536813953,0.51270411423636819,"avril",0.72607019633520498,0.71338832302093136,0.7012287493298559,0.68802457639238379,0.67690960194770511,0.6616162305174399,0.64791912478625513,0.63316811826954134,0.61877823153449585,0.7012287493298559,"avril",0.51760825666836441,0.50671442550570611,0.49626329633187222,0.48492676318038958,0.47536103798420454,0.4622536968774244,0.44978980157506521,0.43641435009314888,0.42257443472325773,0.49626329633187222]
[null,"mai",0.67783989240300879,0.66603138968702991,0.65471688106171744,0.64241438425507214,0.63208786381109261,0.61780939064178164,0.60464273889548714,0.59063014583221229,0.57652774250975447,0.65471688106171744,"mai",0.53759505351309667,0.52668022854665009,0.5161540165416254,0.50485057861375682,0.49510159253157598,0.48224370275801964,0.47031633015707147,0.45730901002708574,0.44478461021780624,0.5161540165416254,"mai",0.71654785551327105,0.70332714549897501,0.69067703897259136,0.67688572547038273,0.66537682591982417,0.64930309846596534,0.63544422607855711,0.62200218838006072,0.60888194450132838,0.69067703897259136,"mai",0.50175157004938242,0.4918332397109702,0.48247181750454937,0.47199657903414594,0.46374897309170776,0.4510461020933389,0.43894454350223105,0.42613930294713814,0.41311506295000872,0.48247181750454937]
[null,"juin",0.68044309832435634,0.67247826439148906,0.66535796027579097,0.65654859652575437,0.6511173520443948,0.63892986902568116,0.62760559534614435,0.61474303556757737,0.6022223011648149,0.66535796027579097,"juin",0.49177675383398234,0.48234181003914089,0.47344445885157249,0.46347192244945795,0.45564975647643557,0.44352684964522893,0.432821041791495,0.42201593347293892,0.41150363215708047,0.47344445885157249,"juin",0.69302870189428323,0.68149230166273178,0.67063438377349682,0.65841950119962867,0.64891854799502702,0.63398973605189235,0.61989299098538786,0.60590065001634397,0.5924297245063086,0.67063438377349682,"juin",0.46735651015147045,0.45993065378678544,0.45351214783976412,0.44507894105741541,0.4406751359457215,0.42821252749271804,0.41787281450225805,0.40613972368936957,0.39370300133858099,0.45351214783976412]
[null,"juillet",0.6559560358664166,0.64841184517688644,0.6417054632195569,0.63332346379782611,0.62829269930489773,0.61655946495436453,0.60609151362410363,0.59378402527208007,0.58084546445646812,0.6417054632195569,"juillet",0.51835232421974897,0.50817581202813955,0.49855857299558137,0.48782278764492071,0.47932409493046502,0.46635121694359921,0.45548182092366024,0.44418024422516361,0.43304891684462066,0.49855857299558137,"juillet",0.71485904372844633,0.70414857280794496,0.694092854272786,0.68272763096694189,0.67398141720246818,0.65999718435525379,0.64696769071210014,0.63241720415407354,0.61835153195653403,0.694092854272786,"juillet",0.49740055179688514,0.48839168497025376,0.47973424270799303,0.470373951316991,0.46241935818347168,0.45165336853498711,0.44180916889145155,0.43030729143779722,0.41844582051985874,0.47973424270799303]
[null,"aout",0.66226562585758231,0.65285639865271206,0.64402089379378669,0.63403794424297144,0.62634988407593595,0.61407204514134095,0.6041517021086853,0.59323378477447253,0.58159960010366596,0.64402089379378669,"aout",0.50588784358277261,0.49584403395904397,0.48616844036388424,0.47575641471158675,0.46681725317356476,0.45493236340699189,0.4448742166408588,0.43487980861982461,0.42518150760031925,0.48616844036388424,"aout",0.71038464512126576,0.69889364770103379,0.68809255522347157,0.67591165286056965,0.66649037026834712,0.6515498481347658,0.63861788288324817,0.62516649303545913,0.61211384641056865,0.68809255522347157,"aout",0.49094241514013481,0.48157760556300383,0.47265029545166215,0.4628479864087417,0.45479567522897885,0.44324336832290062,0.43283906377941905,0.42172936682486395,0.4114605445707944,0.47265029545166215]
[null,"septembre",0.67372410266170701,0.66340250661901778,0.65363866133469206,0.64275931453363933,0.63411097076604073,0.62100062093153374,0.61026615969581777,0.59875983782494624,0.58609232500688679,0.65363866133469206,"septembre",0.500615444362426,0.48990956493864041,0.47948301452574371,0.46849780609106922,0.45862991369995038,0.44652738922172014,0.43678828367538813,0.42669041336174746,0.41655041460371445,0.47948301452574371,"septembre",0.70125044552472127,0.68954130369285449,0.67829939555400498,0.66612302002912083,0.65581557927630596,0.64177026897935252,0.62939063353050084,0.61525968780532858,0.60196349366051849,0.67829939555400498,"septembre",0.48389916685337242,0.47456803489318378,0.4656570891188439,0.45590577097280655,0.44783519757016427,0.43640313468073194,0.42665990418380167,0.41618134679150365,0.40486947606287793,0.4656570891188439]
[null,"octobre",0.65854674113059897,0.64946431896867829,0.64091782567296662,0.63129947464483704,0.6238248390815434,0.61206277258857789,0.60258046298039403,0.59207460066688833,0.58088603653963189,0.64091782567296662,"octobre",0.50863029151484218,0.49898360930905089,0.48968632449586624,0.47969024489746814,0.47109175486949689,0.45969808570067178,0.45062046532584843,0.44147402519372286,0.43232101665652467,0.48968632449586624,"octobre",0.7056611010495637,0.69373810935408498,0.68239162300270917,0.66989212596312775,0.65969865029995745,0.64489313188396491,0.63241402828741711,0.61943869618393343,0.60720957219478355,0.68239162300270917,"octobre",0.49760468681007841,0.48611326120886827,0.47450532961404757,0.46313041000644783,0.4512894664244062,0.44038057079124854,0.43099965744018331,0.42105821892308515,0.4118987305945121,0.47450532961404757]
[null,"novembre",0.65301835220791293,0.64469957261719724,0.63708849098732578,0.62806201343576573,0.62186632772758299,0.61000905833264574,0.60055150282842396,0.59018754063167378,0.57885094214065269,0.63708849098732578,"novembre",0.48883947849341713,0.48030075611939582,0.47229542224489918,0.4632233113713532,0.45628475449590578,0.44507908962426107,0.43598262245804781,0.42652116201395729,0.41708146118707506,0.47229542224489918,"novembre",0.71029382413758824,0.6992710785127968,0.68892883380258163,0.67722558726321425,0.6682443443821513,0.65381909418447937,0.64191337578976426,0.62904459860298934,0.61651059187198831,0.68892883380258163,"novembre",0.4926309998715927,0.48425321238193192,0.47685798227770576,0.46749763740261024,0.4620675220692535,0.4487769476524191,0.43876866839591705,0.42761931535929193,0.41656957355175916,0.47685798227770576]
[null,"decembre",0.65461558671451625,0.64559259751700482,0.63728683344255987,0.62754661912198195,0.6206753052936701,0.608066190480826,0.59658304293272602,0.58404063877120149,0.57048997146489011,0.63728683344255987,"decembre",0.49496290945060128,0.48538410714802122,0.47633672093941465,0.46622650254286097,0.45824194852220157,0.44600606574975371,0.43532734821215513,0.42438168830698553,0.41343437487110452,0.47633672093941465,"decembre",0.72868190754152684,0.71645130223095477,0.7049251197679326,0.6919900916098104,0.68187275484188836,0.66612003529356578,0.65214622055146598,0.6379399109196624,0.62484391932175698,0.7049251197679326,"decembre",0.51829456972532173,0.50777977647817529,0.49774042934934082,0.48675018998388248,0.47766173509167181,0.46476971125296584,0.45316547055707879,0.44038009500013392,0.4269444933986779,0.49774042934934082]
[]
[]
[]
[]
[]
["La Réunion"]
[null,"COEFF INTERMITTENCE _ LATENT"]
[null,"Planning : Climatisation de 7h à 18h 7/7 JOUR",null,null,null,null,null,null,null,null,null,null,"Planning : Climatisation de 7h à 18h 5/7 JOUR SEMAINE",null,null,null,null,null,null,null,null,null,null,"Planning : Climatisation de 18h à 7h 7/7 NUIT",null,null,null,null,null,null,null,null,null,null,"Planning : Climatisation de 22h à 6h 7/7 NUIT",null,null,null,null,null,null,null,null,null,null,null,"Bonne classe d'inertie et bon planning "]
[]
[null,"Non isolé ","Léger","1vol/h",null,null,null,null,null,null,null,null,"Non isolé ","Léger",null,null,null,null,null,null,null,null,null,"Non isolé ","Léger",null,null,null,null,null,null,null,null,null,"Non isolé ","Léger"]
[null,null,null,null,null,null,null,null,null,null,null,"TAMPON température",null,null,null,null,null,null,null,null,null,null,"TAMPON température",null,null,null,null,null,null,null,null,null,null,"TAMPON température",null,null,null,null,null,null,null,null,null,null,"TAMPON température",null,"TAMPON final pour La Réunion "]
[null,null,28,27,26,25,24,23,22,21,20,{"$f":"TempConsigne","v":26},null,28,27,26,25,24,23,22,21,20,{"$f":"TempConsigne","v":26},null,28,27,26,25,24,23,22,21,20,{"$f":"TempConsigne","v":26},null,28,27,26,25,24,23,22,21,20,{"$f":"TempConsigne","v":26}]
[null,"janvier",{"$f":"C$20*((D348-F348)/(D$20-F$20))+D348-D$20*((D348-F348)/(D$20-F$20))","v":0.66558400671363294},{"$f":"D$20*((E348-G348)/(E$20-G$20))+E348-E$20*((E348-G348)/(E$20-G$20))","v":0.64958789960972885},{"$f":"E$20*((F348-H348)/(F$20-H$20))+F348-F$20*((F348-H348)/(F$20-H$20))","v":0.63342562310134432},0.61759568540192078,0.60110107008457503,0.58593581000307393,0.57214886543742172,0.55919981536510122,0.54689773826805743,{"$f":"HLOOKUP(L347,C347:K359,2,FALSE)","v":0.63342562310134432},"janvier",{"$f":"N$20*((O348-Q348)/(O$20-Q$20))+O348-O$20*((O348-Q348)/(O$20-Q$20))","v":0.51153136494027651},{"$f":"O$20*((P348-R348)/(P$20-R$20))+P348-P$20*((P348-R348)/(P$20-R$20))","v":0.49763216992768267},{"$f":"P$20*((Q348-S348)/(Q$20-S$20))+Q348-Q$20*((Q348-S348)/(Q$20-S$20))","v":0.48355924692614127},0.46983377990249492,0.45541340092305849,0.44238284585520232,0.43074501051866187,0.41998560198044682,0.40975225081906108,{"$f":"HLOOKUP(W347,N347:V359,2,FALSE)","v":0.48355924692614127},"janvier",{"$f":"Y$20*((Z348-AB348)/(Z$20-AB$20))+Z348-Z$20*((Z348-AB348)/(Z$20-AB$20))","v":0.53878480139656992},{"$f":"Z$20*((AA348-AC348)/(AA$20-AC$20))+AA348-AA$20*((AA348-AC348)/(AA$20-AC$20))","v":0.55209254420190623},{"$f":"AA$20*((AB348-AD348)/(AB$20-AD$20))+AB348-AB$20*((AB348-AD348)/(AB$20-AD$20))","v":0.56636379349210819},0.57870802981257874,0.59490629207251211,0.60339650245351972,0.60694636378050848,0.60782033873498842,0.60703217783656149,{"$f":"HLOOKUP(AH347,Y347:AG359,2,FALSE)","v":0.56636379349210819},"janvier",{"$f":"AJ$20*((AK348-AM348)/(AK$20-AM$20))+AK348-AK$20*((AK348-AM348)/(AK$20-AM$20))","v":0.37488838192229967},{"$f":"AK$20*((AL348-AN348)/(AL$20-AN$20))+AL348-AL$20*((AL348-AN348)/(AL$20-AN$20))","v":0.38228857267077337},{"$f":"AL$20*((AM348-AO348)/(AM$20-AO$20))+AM348-AM$20*((AM348-AO348)/(AM$20-AO$20))","v":0.39051619171746527},0.39708895416772072,0.40697142981084905,0.41023447906823163,0.40985894842571674,0.40764908861536969,0.40477276525290834,{"$f":"HLOOKUP(AS347,AJ347:AR359,2,FALSE)","v":0.39051619171746527},null,"Classe séléctionnée",null,null,"janvier",{"$f":"IF($AV$28=$F$5,1,INDEX(INDIRECT(\"classe\"&$AV$23&$AV$28&\"RL\"),1,1))","v":0.44573143234328305},1]
[null,"fevrier",{"$f":"C$20*((D349-F349)/(D$20-F$20))+D349-D$20*((D349-F349)/(D$20-F$20))","v":0.65664435870293125},0.64260156074227737,{"$f":"E$20*((F349-H349)/(F$20-H$20))+F349-F$20*((F349-H349)/(F$20-H$20))","v":0.62858358784625767},0.61451596482096982,0.6005476420542184,0.5863807187703941,0.57210580190272853,0.55864676821681603,0.54577793302456645,{"$f":"HLOOKUP(L348,C348:K360,2,FALSE)","v":0.62858358784625767},"fevrier",{"$f":"N$20*((O349-Q349)/(O$20-Q$20))+O349-O$20*((O349-Q349)/(O$20-Q$20))","v":0.479532326573052},0.46756993046181966,{"$f":"P$20*((Q349-S349)/(Q$20-S$20))+Q349-Q$20*((Q349-S349)/(Q$20-S$20))","v":0.45560841799702972},0.44364513823935492,0.4316853930674498,0.41971857872400531,0.40821715913290207,0.39775959665158006,0.3879683596200536,{"$f":"HLOOKUP(W348,N348:V360,2,FALSE)","v":0.45560841799702972},"fevrier",{"$f":"Y$20*((Z349-AB349)/(Z$20-AB$20))+Z349-Z$20*((Z349-AB349)/(Z$20-AB$20))","v":0.53624875361266411},0.55043488129696483,{"$f":"AA$20*((AB349-AD349)/(AB$20-AD$20))+AB349-AB$20*((AB349-AD349)/(AB$20-AD$20))","v":0.56558816227416708},0.57880713666556616,0.59589472422857159,0.60524508544836431,0.60895955027203952,0.60924809475005315,0.60762487181973279,{"$f":"HLOOKUP(AH348,Y348:AG360,2,FALSE)","v":0.56558816227416708},"fevrier",{"$f":"AJ$20*((AK349-AM349)/(AK$20-AM$20))+AK349-AK$20*((AK349-AM349)/(AK$20-AM$20))","v":0.36978613290474938},0.3781408758096152,{"$f":"AL$20*((AM349-AO349)/(AM$20-AO$20))+AM349-AM$20*((AM349-AO349)/(AM$20-AO$20))","v":0.38735365766849517},0.39485036161934678,0.40577922138625511,0.40984376952105001,0.40949361663198192,0.40674463219774254,0.40334292852661896,{"$f":"HLOOKUP(AS348,AJ348:AR360,2,FALSE)","v":0.38735365766849517},null,"Classe","Numéro",null,"fevrier",{"$f":"IF($AV$28=$F$5,1,INDEX(INDIRECT(\"classe\"&$AV$23&$AV$28&\"RL\"),2,1))","v":0.42357446650786723},2]
[null,"mars",0.67287110385939064,0.6575521584221532,0.64224181801906677,0.62691426754767843,0.6116211372128938,0.59625916660490164,0.58148826131337195,0.56745877075838791,0.55420557860812825,0.64224181801906677,"mars",0.48207244820655087,0.46924018737975604,0.45634912922744975,0.44357566572616636,0.43056701292283717,0.41802873872359941,0.40645797890438934,0.39593937496405829,0.38627436848031271,0.45634912922744975,"mars",0.53006107427786353,0.54399246767155818,0.55895431380325855,0.57185525445894747,0.5888780060666593,0.59765713577032531,0.60134875808097987,0.60210922474329565,0.60115853056557089,0.55895431380325855,"mars",0.3745571593456587,0.38187750344313798,0.39008609187428689,0.39651819163809648,0.40650326873658477,0.40938239116571562,0.40858999659748224,0.40576346779294964,0.40221203750082524,0.39008609187428689,null,{"$f":"Hypothèses!$J$19","v":"Moyen"},{"$f":"VLOOKUP(AU350,$J$4:$K$6,2,FALSE)","v":2},null,"mars",{"$f":"IF($AV$28=$F$5,1,INDEX(INDIRECT(\"classe\"&$AV$23&$AV$28&\"RL\"),3,1))","v":0.42214473420177612},3]
[null,"avril",0.70063524549291201,0.68275168208594683,0.66525452683127018,0.6469845552720167,0.63026021632191698,0.61044461215350965,0.59235671575853299,0.5761731105570651,0.5615024392611091,0.66525452683127018,"avril",0.53417154559012081,0.51810705394338918,0.50226734086396485,0.48597807064992593,0.47058791470511602,0.4533995302218482,0.43812806459655573,0.42465040876651683,0.41266959954262922,0.50226734086396485,"avril",0.48847290690055101,0.51181342897253412,0.53677140670928791,0.55849447311650036,0.58668736218279538,0.60194060593092513,0.60892051841710448,0.6115043546213349,0.61141364924683905,0.53677140670928791,"avril",0.33970792101990482,0.35653280564159517,0.37517637902367235,0.39018257488497587,0.41246352578782663,0.42019496660758288,0.42092135824231586,0.41838907324144647,0.41442341084072232,0.37517637902367235,null,null,null,null,"avril",{"$f":"IF($AV$28=$F$5,1,INDEX(INDIRECT(\"classe\"&$AV$23&$AV$28&\"RL\"),4,1))","v":0.4452504257618361},4]
[null,"mai",0.70934242062173936,0.69448145270029171,0.68099280035372434,0.66475951685739676,0.65401549566058947,0.6322929498647416,0.60836534230934336,0.58689672569741724,0.56886420977003471,0.68099280035372434,"mai",0.50918376545861088,0.49682713860875649,0.4853542243538469,0.47211388490904782,0.4624083958440276,0.44563320601944967,0.42793998958077462,0.41167702797431766,0.39799609020378834,0.4853542243538469,"mai",0.41038362394585171,0.4512735860371101,0.4946032623023825,0.53305351021962677,0.58126261483292752,0.60995400605411532,0.6221357252563644,0.62610273339623679,0.62622348216921253,0.4946032623023825,"mai",0.2110684635270168,0.25691862396750254,0.30698018677061545,0.34861894484847383,0.40710331237684144,0.4318964610041906,0.43753822856973212,0.43567519908021662,0.43131735626486334,0.30698018677061545,null,null,null,null,"mai",{"$f":"IF($AV$28=$F$5,1,INDEX(INDIRECT(\"classe\"&$AV$23&$AV$28&\"RL\"),5,1))","v":0.39092578995778415},5]
[null,"juin",0.7739743028145315,0.76640924803527444,0.76010516836722886,0.75127913847676031,0.74749700903113769,0.73362707869582333,0.70413052196120673,0.66691922985164309,0.63219569328840353,0.76010516836722886,"juin",0.5524726918829681,0.53439375733903371,0.5160771530524052,0.49823588825116483,0.47944394447914807,0.46255335864868408,0.43724065514257354,0.40823760967722006,0.38323396983573788,0.5160771530524052,"juin",0.15498709642841324,0.23408638901500844,0.31581026866739781,0.39228497418819924,0.47925802797217604,0.5452343852298025,0.58356523987420628,0.601876330926988,0.60825629062142961,0.31581026866739781,"juin",-0.15377683371612161,-5.2850346815323856E-2,5.0301439497346667E-2,0.14900262698627187,0.25660501212268799,0.34640500196412222,0.39552122248253463,0.41248531010046574,0.41372829123585159,5.0301439497346667E-2,null,"Planning séléctionné",null,null,"juin",{"$f":"IF($AV$28=$F$5,1,INDEX(INDIRECT(\"classe\"&$AV$23&$AV$28&\"RL\"),6,1))","v":0.37048944779910759},6]
[null,"juillet",0.76435299525164602,0.75201842642672612,0.73862778600368939,0.72734928877688609,0.71184650515761583,0.70479229432327939,0.67889221556886248,0.64178318135764922,0.60491926633592796,0.73862778600368939,"juillet",0.50120444435602274,0.50801227629579404,0.51534108007372825,0.52162794017533665,0.52999868762959668,0.53420166037855343,0.51928590950878284,0.49064159067882446,0.46056889797308836,0.51534108007372825,"juillet",0.21475449718566653,0.29259574371257324,0.37482795243454037,0.44827823676638667,0.53929236987847451,0.59517880543007917,0.63260646756279981,0.65088171225937164,0.65289591189476759,0.37482795243454037,"juillet",-0.19335253691585175,-7.5666616656614671E-2,4.5890750798352364E-2,0.15970522386186009,0.28900548570828632,0.38733416998887532,0.44357312346261835,0.46097289766970606,0.45748530106142871,4.5890750798352364E-2,null,"Nom","Numéro",null,"juillet",{"$f":"IF($AV$28=$F$5,1,INDEX(INDIRECT(\"classe\"&$AV$23&$AV$28&\"RL\"),7,1))","v":0.34175469185116691},7]
[null,"aout",0.76034972444322346,0.74991842126677233,0.73973784516268037,0.72905581491386984,0.71937669295449636,0.70769175441624899,0.68154757589553638,0.6436270130622691,0.6069636894824707,0.73973784516268037,"aout",0.49452757269955477,0.49746476345595003,0.50083216097690408,0.50333914496874055,0.50756695601881219,0.50835311295241348,0.49486441891958483,0.46893739285800534,0.44222036727879815,0.50083216097690408,"aout",0.21864970487731528,0.29167395047448186,0.36778324245603877,0.43772244166881463,0.52000182641915293,0.5776008400943663,0.61425928449843226,0.63211507352053542,0.63605801335559264,0.36778324245603877,"aout",-0.15046290744271351,-4.2134663976584275E-2,6.8184498056275356E-2,0.17452182295567464,0.28882282212199473,0.38719647275447361,0.43895241105527327,0.45317912934302346,0.44968113522537567,6.8184498056275356E-2,null,{"$f":"ClimPlan","v":"7-18h, L-V"},{"$f":"VLOOKUP(AU355,$E$5:$F$9,2,FALSE)","v":"b"},null,"aout",{"$f":"IF($AV$28=$F$5,1,INDEX(INDIRECT(\"classe\"&$AV$23&$AV$28&\"RL\"),8,1))","v":0.33022712236618279},8]
[null,"septembre",0.72693672669487741,0.72325102850066714,0.72122279309665749,0.71587963211224659,0.7171663222886383,0.70519331014342468,0.67635570763870057,0.6426003000706898,0.61291390994670114,0.72122279309665749,"septembre",0.51907866811235148,0.51496566669892074,0.51195800225176047,0.50673966387205926,0.50594267335743992,0.49630298711265702,0.47279529284119615,0.44665089372015521,0.42389362745492087,0.51195800225176047,"septembre",0.28796265149640976,0.34344821638571954,0.40126477489531176,0.45441934616433949,0.51689789191449587,0.56072848870239478,0.58785173284369974,0.6004190891123391,0.60527360864357338,0.40126477489531176,"septembre",-8.6696645569843689E-3,7.2202031213690621E-2,0.15676627678039612,0.23394542275504046,0.32589476791380712,0.38830371470432845,0.41576856469213597,0.42189884876725747,0.41998295724035895,0.15676627678039612,null,null,null,null,"septembre",{"$f":"IF($AV$28=$F$5,1,INDEX(INDIRECT(\"classe\"&$AV$23&$AV$28&\"RL\"),9,1))","v":0.38167070795306191},9]
[null,"octobre",0.73618703652872419,0.72015124847865841,0.70611149879314983,0.68807967237852674,0.67803199942213255,0.65201601954928068,0.62471348933643633,0.60054805423550583,0.58038914983480572,0.70611149879314983,"octobre",0.52964496427566021,0.51744040407172276,0.50659623682793653,0.49303128366384774,0.48490790234036396,0.46590137733567022,0.44561698126794308,0.42732631335879134,0.41199842790624991,0.50659623682793653,"octobre",0.36652770699295334,0.41100008114564957,0.4576721623509763,0.49994482945104218,0.55101632476162976,0.58449016365117412,0.60122742730747236,0.60844214785181683,0.61065195452707544,0.4576721623509763,"octobre",0.17459854850952161,0.22207861865505896,0.27300263154486359,0.31703875894613354,0.37485065732447276,0.40511101374867348,0.41606728703782947,0.4179800356935367,0.41610535293391426,0.27300263154486359,null,"Non isolé",null,null,"octobre",{"$f":"IF($AV$28=$F$5,1,INDEX(INDIRECT(\"classe\"&$AV$23&$AV$28&\"RL\"),10,1))","v":0.40882520255786536},10]
[null,"novembre",0.70672595602309007,0.68858577875824656,0.67076294946529047,0.65230542422855953,0.63511729087937829,0.61539037375509764,0.59777815576686355,0.5818363494303429,0.56747611449015523,0.67076294946529047,"novembre",0.51924056160349386,0.50235909332866746,0.48553068282823575,0.46859615677901456,0.45187386182737249,0.43472710468057235,0.41980016570553796,0.40680626222425714,0.39539384943613304,0.48553068282823575,"novembre",0.47445924241894122,0.49824569188561807,0.52365639106832973,0.54581859081897188,0.57447778943375305,0.59014299032025608,0.5974050439595211,0.59997293428137077,0.60010435008411345,0.52365639106832973,"novembre",0.30687026429628783,0.32595521220654011,0.34679282071131412,0.36412510802704473,0.3884680377208623,0.39878968265850601,0.40184635475251174,0.40119055117037938,0.39876158410159951,0.34679282071131412,null,"janvier",{"$f":"AY348*Données1!$E$190+Données1!$F$190*Données2!AY362","v":0.49660952745792974},null,"novembre",{"$f":"IF($AV$28=$F$5,1,INDEX(INDIRECT(\"classe\"&$AV$23&$AV$28&\"RL\"),11,1))","v":0.42682017976579467},11]
[null,"decembre",0.70790875165726752,0.69002365066840832,0.67204402488531789,0.65425344869068991,0.63608477331913704,0.61867229630143394,0.60250577028628149,0.58770804458994452,0.57353034542014592,0.67204402488531789,"decembre",0.49179403117436393,0.47709496297758053,0.46229145547831618,0.44769682658401361,0.43268444047978744,0.41850756879540851,0.40598847460714527,0.39499572858917981,0.38486065669755032,0.46229145547831618,"decembre",0.4781801544824994,0.499308838989169,0.52188790158951615,0.54156620800250832,0.56704602679021032,0.58092282082849256,0.58752499658456603,0.59009092429745735,0.59029485502737755,0.52188790158951615,"decembre",0.32021437126333513,0.33527504276700165,0.35171381536625834,0.3653963857743347,0.38459136056477172,0.39276152659048746,0.39517812588132201,0.39449988649397799,0.3923826413784639,0.35171381536625834,null,"fevrier",{"$f":"AY349*Données1!$E$190+Données1!$F$190*Données2!AY363","v":0.47804129304534454},null,"decembre",{"$f":"IF($AV$28=$F$5,1,INDEX(INDIRECT(\"classe\"&$AV$23&$AV$28&\"RL\"),12,1))","v":0.41319272392562478},12]
[null,null,null,null,null,null,null,null,null,null,null,null,null,null,null,null,null,null,null,null,null,null,null,null,null,null,null,null,null,null,null,null,null,null,null,null,null,null,null,null,null,null,null,null,null,null,"mars",{"$f":"AY350*Données1!$E$190+Données1!$F$190*Données2!AY364","v":0.4709077973877398}]
[null,null,null,null,null,null,null,null,null,null,null,null,null,null,null,null,null,null,null,null,null,null,null,null,null,null,null,null,null,null,null,null,null,null,null,null,null,null,null,null,null,null,null,null,null,null,"avril",{"$f":"AY351*Données1!$E$190+Données1!$F$190*Données2!AY365","v":0.49778594480937116},null,"Isolé",null,1]
[null,"Non isolé ","Moyen",null,null,"Moyen",null,null,null,null,null,null,"Non isolé ","Moyen",null,null,"Moyen",null,null,null,null,null,null,"Non isolé ","Moyen",null,null,"Moyen",null,null,null,null,null,null,"Non isolé ","Moyen",null,null,"Moyen",null,null,null,null,null,null,null,"mai",{"$f":"AY352*Données1!$E$190+Données1!$F$190*Données2!AY366","v":0.43837299310705491},null,"janvier",{"$f":"IF($AV$28=$F$5,1,INDEX(INDIRECT(\"classe\"&$AV$23+3&$AV$28&\"RL\"),AZ361,1))","v":0.50339062722171257},2]
[null,null,null,null,null,null,null,null,null,null,null,null,null,null,null,null,null,null,null,null,null,null,null,null,null,null,null,null,null,null,null,null,null,null,null,null,null,null,null,null,null,null,null,null,null,null,"juin",{"$f":"AY353*Données1!$E$190+Données1!$F$190*Données2!AY367","v":0.36805205732301782},null,"fevrier",{"$f":"IF($AV$28=$F$5,1,INDEX(INDIRECT(\"classe\"&$AV$23+3&$AV$28&\"RL\"),AZ362,1))","v":0.48530070367648193},3]
[null,null,28,27,26,25,24,23,22,21,20,{"$f":"TempConsigne","v":26},null,28,27,26,25,24,23,22,21,20,{"$f":"TempConsigne","v":26},null,28,27,26,25,24,23,22,21,20,{"$f":"TempConsigne","v":26},null,28,27,26,25,24,23,22,21,20,{"$f":"TempConsigne","v":26},null,"juillet",{"$f":"AY354*Données1!$E$190+Données1!$F$190*Données2!AY368","v":0.38888714176261951},null,"mars",0.47740700290057492,4]
[null,"janvier",{"$f":"C$20*((D365-F365)/(D$20-F$20))+D365-D$20*((D365-F365)/(D$20-F$20))","v":0.5966307205895085},{"$f":"D$20*((E365-G365)/(E$20-G$20))+E365-E$20*((E365-G365)/(E$20-G$20))","v":0.59122651642978552},{"$f":"E$20*((F365-H365)/(F$20-H$20))+F365-F$20*((F365-H365)/(F$20-H$20))","v":0.5861589682018884},0.58041810811033956,0.57602387174609415,0.56893638792724177,0.56017269328658459,0.55082532905327064,0.54130610230471121,{"$f":"HLOOKUP(L364,C364:K376,2,FALSE)","v":0.5861589682018884},"janvier",{"$f":"N$20*((O365-Q365)/(O$20-Q$20))+O365-O$20*((O365-Q365)/(O$20-Q$20))","v":0.456095106993057},{"$f":"O$20*((P365-R365)/(P$20-R$20))+P365-P$20*((P365-R365)/(P$20-R$20))","v":0.45078902259070752},{"$f":"P$20*((Q365-S365)/(Q$20-S$20))+Q365-Q$20*((Q365-S365)/(Q$20-S$20))","v":0.44573143234328305},0.44017685378600863,0.43561625184843411,0.42906769667145972,0.42165702125862004,0.41388353186448418,0.40605020939456171,{"$f":"HLOOKUP(W364,N364:V376,2,FALSE)","v":0.44573143234328305},"janvier",{"$f":"Y$20*((Z365-AB365)/(Z$20-AB$20))+Z365-Z$20*((Z365-AB365)/(Z$20-AB$20))","v":0.60128765601329215},{"$f":"Z$20*((AA365-AC365)/(AA$20-AC$20))+AA365-AA$20*((AA365-AC365)/(AA$20-AC$20))","v":0.60656916883873668},{"$f":"AA$20*((AB365-AD365)/(AB$20-AD$20))+AB365-AB$20*((AB365-AD365)/(AB$20-AD$20))","v":0.61246326426249054},0.61713219448962575,0.62425145510999835,0.62647005494389629,0.62547390987527851,0.62221465119259345,0.61769369145982522,{"$f":"HLOOKUP(AH364,Y364:AG376,2,FALSE)","v":0.61246326426249054},"janvier",{"$f":"AJ$20*((AK365-AM365)/(AK$20-AM$20))+AK365-AK$20*((AK365-AM365)/(AK$20-AM$20))","v":0.42243705922378133},{"$f":"AK$20*((AL365-AN365)/(AL$20-AN$20))+AL365-AL$20*((AL365-AN365)/(AL$20-AN$20))","v":0.4232737727542058},{"$f":"AL$20*((AM365-AO365)/(AM$20-AO$20))+AM365-AM$20*((AM365-AO365)/(AM$20-AO$20))","v":0.42461651047227333},0.42494719981505474,0.42730198590840834,0.42560857850061762,0.42187549503120675,0.41717047006717034,0.41226528794881534,{"$f":"HLOOKUP(AS364,AJ364:AR376,2,FALSE)","v":0.42461651047227333},null,"aout",{"$f":"AY355*Données1!$E$190+Données1!$F$190*Données2!AY369","v":0.37538630328109507},null,"avril",0.5047879482255897,5]
[null,"fevrier",{"$f":"C$20*((D366-F366)/(D$20-F$20))+D366-D$20*((D366-F366)/(D$20-F$20))","v":0.58932385314949631},0.58537877091145096,{"$f":"E$20*((F366-H366)/(F$20-H$20))+F366-F$20*((F366-H366)/(F$20-H$20))","v":0.58191346623315265},0.57748860643536026,0.57498285687655615,0.56863888683977548,0.55990018252461482,0.55005402781788626,0.5401200669301589,{"$f":"HLOOKUP(L365,C365:K377,2,FALSE)","v":0.58191346623315265},"fevrier",{"$f":"N$20*((O366-Q366)/(O$20-Q$20))+O366-O$20*((O366-Q366)/(O$20-Q$20))","v":0.43299442795214049},0.42812476348761735,{"$f":"P$20*((Q366-S366)/(Q$20-S$20))+Q366-Q$20*((Q366-S366)/(Q$20-S$20))","v":0.42357446650786723},0.41838543455857097,0.41447387254836693,0.40800737065997839,0.40037036478345223,0.39224195785423466,0.38451260354709205,{"$f":"HLOOKUP(W365,N365:V377,2,FALSE)","v":0.42357446650786723},"fevrier",{"$f":"Y$20*((Z366-AB366)/(Z$20-AB$20))+Z366-Z$20*((Z366-AB366)/(Z$20-AB$20))","v":0.60138697619238324},0.60745925135219536,{"$f":"AA$20*((AB366-AD366)/(AB$20-AD$20))+AB366-AB$20*((AB366-AD366)/(AB$20-AD$20))","v":0.61428732011862752},0.61960380167181961,0.62794345765149184,0.63023676477820378,0.62891833513990303,0.62452971394405798,0.6191600471295573,{"$f":"HLOOKUP(AH365,Y365:AG377,2,FALSE)","v":0.61428732011862752},"fevrier",{"$f":"AJ$20*((AK366-AM366)/(AK$20-AM$20))+AK366-AK$20*((AK366-AM366)/(AK$20-AM$20))","v":0.41724190915186166},0.41905040594092963,{"$f":"AL$20*((AM366-AO366)/(AM$20-AO$20))+AM366-AM$20*((AM366-AO366)/(AM$20-AO$20))","v":0.42144492796454325},0.42266739951906562,0.42623397201177055,0.42511234262811043,0.42132011053478041,0.41614774201683058,0.41070005955649752,{"$f":"HLOOKUP(AS365,AJ365:AR377,2,FALSE)","v":0.42144492796454325},null,"septembre",{"$f":"AY356*Données1!$E$190+Données1!$F$190*Données2!AY370","v":0.41417541730935603},null,"mai",0.44469681905499314,6]
[null,"mars",0.598149203723358,0.59369629345901109,0.58965701961510786,0.58479047293031716,0.58157847192730139,0.57505737956073566,0.56626234063949676,0.55646753061169818,0.5461652557153388,0.58965701961510786,"mars",0.43328907816266227,0.42761929872154164,0.42214473420177612,0.41627973983930033,0.41119560516224513,0.40454975111434882,0.39678129629429376,0.38887095560043849,0.38114370471028225,0.42214473420177612,"mars",0.59990871153635572,0.60510668985884086,0.61098739038692096,0.61550264650381126,0.62274879144308104,0.62453315873759185,0.62308605196855515,0.61943059753575369,0.61473233378730496,0.61098739038692096,"mars",0.4218277770622052,0.42257559450768367,0.42384799723923905,0.42407122939864067,0.4263928027023498,0.42451769371744386,0.42034610560235292,0.4151216748812469,0.40986462753614833,0.42384799723923905,null,"octobre",{"$f":"AY357*Données1!$E$190+Données1!$F$190*Données2!AY371","v":0.45369887377187679},null,"juin",0.36772719869880216,7]
[null,"avril",0.5916791383781963,0.58989453364842681,0.58895939584540846,0.58632532418888794,0.58708912023937176,0.58105718087584679,0.57183979609537761,0.56152232179007255,0.55086110317363135,0.58895939584540846,"avril",0.45245667742009621,0.44857192974101961,0.4452504257618361,0.44080243438286631,0.43860741780346912,0.43190645162492686,0.42323004707737288,0.41430265401726463,0.40543815644848424,0.4452504257618361,"avril",0.57748886056147419,0.58891036985910361,0.60142256019646223,0.61175338845436245,0.62644694087117947,0.63241504497016288,0.63302835806283753,0.63080593836663645,0.62646975668978377,0.60142256019646223,"avril",0.40936036109337487,0.41540469340377545,0.42251135267037943,0.42749335802457661,0.43672467120358738,0.43745736873297092,0.43395084098634046,0.42852240757681326,0.42263224975393832,0.42251135267037943,null,"novembre",{"$f":"AY358*Données1!$E$190+Données1!$F$190*Données2!AY372","v":0.47032217979470059},null,"juillet",0.39516901698300377,8]
[null,"mai",0.52931964152002631,0.54078767790956528,0.55440751806598765,0.56372375068864322,0.58164719837883239,0.58235621593395437,0.57478902381376773,0.56425357621590178,0.55271238034909886,0.55440751806598765,"mai",0.37307994181803861,0.38118875742790326,0.39092578995778415,0.3974063886476325,0.41039985501754594,0.41036758602732915,0.40403973869175419,0.39558609005521528,0.38661427540822063,0.39092578995778415,"mai",0.54159455984490767,0.56370671062095645,0.5877941931733055,0.60793101217305401,0.63596915827800371,0.64820465017255113,0.65088123080420213,0.64895526343498922,0.64425521713119382,0.5877941931733055,"mai",0.36430461779592821,0.38349351372693191,0.40504380559921788,0.42187130558893937,0.4481443893437897,0.45552630556838236,0.4535544999212151,0.44782587605606466,0.44084538640202725,0.40504380559921788,null,"decembre",{"$f":"AY359*Données1!$E$190+Données1!$F$190*Données2!AY373","v":0.46006668237505466},null,"aout",0.38140517860149947,9]
[null,"juin",0.45146845003305203,0.49094393797462177,0.53361001612427594,0.56989491385776114,0.61894217242358451,0.64246470932473154,0.63704315934183564,0.61987655491739446,0.60092680078755967,0.53361001612427594,"juin",0.34449343568549579,0.3568355670849937,0.37048944779910759,0.38151982988398947,0.39779720922733536,0.40358059405375324,0.39339552185557103,0.37850946453530826,0.36392991529497581,0.37048944779910759,"juin",0.33965090375914442,0.39595784379403365,0.45538367020787351,0.50857172386381233,0.57423532303555291,0.61494783117568996,0.63348119360101995,0.63749242383636329,0.63400577961222426,0.45538367020787351,"juin",6.4892682037345661E-2,0.13645452354707821,0.21188996867569565,0.27957820656654364,0.36276085893293059,0.41495468234823935,0.43323930530251487,0.43344541245253299,0.42662563105151013,0.21188996867569565,null,null,null,null,"septembre",0.41850768793468335,10]
[null,"juillet",0.3947276652189774,0.43788692254699957,0.48280532334814497,0.52420543720304369,0.57264212495043554,0.60700566491284114,0.60625833022156661,0.58946063954229022,0.57057565897050144,0.48280532334814497,"juillet",0.25464914274837369,0.29713569239657023,0.34175469185116691,0.38210879169296347,0.43099269076036023,0.46281699137655696,0.46359342249793534,0.44995147261503521,0.43449130093531335,0.34175469185116691,"juillet",0.41308719500491142,0.4647818122813584,0.51919079338506713,0.56817104683425235,0.62800875559248481,0.66613155373262267,0.68395773085445932,0.68384003335533827,0.67744783831512889,0.51919079338506713,"juillet",5.7722705804574392E-2,0.14138815521194914,0.23051205613628323,0.30871905402669786,0.40875985798495168,0.46513304980752729,0.48327087086759674,0.47880430376521527,0.46874448132644397,0.23051205613628323,null,null,null,null,"octobre",0.45967969598197955,11]
[null,"aout",0.4204601306346456,0.45950050218505645,0.50077618946014257,0.53758124528587825,0.58332756401031483,0.61119135693734949,0.60713801549766599,0.59043364906770135,0.57268077727666822,0.50077618946014257,"aout",0.25066017569903054,0.28943944398753518,0.33022712236618279,0.36699798056454469,0.41180247912347767,0.44053969696126849,0.44148655379764712,0.43078276615339428,0.41778422061549009,0.33022712236618279,"aout",0.39370438216910952,0.44602735185477371,0.50118693605729736,0.55067329122610209,0.61150610446234466,0.64964600156371177,0.66567251552077411,0.66703297192203503,0.66230780856022486,0.50118693605729736,"aout",6.8652035998985284E-2,0.14857345996005389,0.23315111755015017,0.3084163078821911,0.40230643273034195,0.45894668854627318,0.47305829854317816,0.46940965533196577,0.46097589106036363,0.23315111755015017,null,null,null,null,"novembre",0.47612018385627897,12]
[null,"septembre",0.46119331193032653,0.49360504358157653,0.52923313980186171,0.55842850688407653,0.60048933224243195,0.61681924104850616,0.61102235661282334,0.59726371375492526,0.58208375779561239,0.52923313980186171,"septembre",0.33992067727000341,0.3596652863406109,0.38167070795306191,0.39915450448182593,0.42568155117796391,0.43412209753935393,0.42705490994327527,0.41496502235439026,0.40243372176808223,0.38167070795306191,"septembre",0.44632080498266835,0.48284864090172586,0.52155005791375686,0.55590431273984098,0.59895289193781887,0.62461282239200921,0.63410445018651096,0.63491401895870059,0.63165732849653422,0.52155005791375686,"septembre",0.21066637023794255,0.2575917886592658,0.3083498932178268,0.35144262550191269,0.40986610233494875,0.43762809007008457,0.44304461992234845,0.43914706262631764,0.43214711655527138,0.3083498932178268,null,null,null,null,"decembre",0.4663141055117257]
[null,"octobre",0.55363701180794556,0.56274851778471868,0.57371105833367397,0.58097152973826494,0.59563613943158467,0.59549247254744697,0.58664550838551166,0.57547071324260879,0.5632349847127659,0.57371105833367397,"octobre",0.39384894668765358,0.40061256955915825,0.40882520255786536,0.41413981530216759,0.42525046855527965,0.42476904079077205,0.417961242271012,0.40919983248596353,0.39984958972912726,0.40882520255786536,"octobre",0.51264411021698841,0.53613854759956114,0.56136488815614594,0.5831274223647066,0.61181756926931552,0.62665249078182783,0.63166857473680327,0.63137432307409869,0.62851125167309063,0.56136488815614594,"octobre",0.33094769278574065,0.35271715812651938,0.37674604816834711,0.39625608880807695,0.42480382825200258,0.43527617008753661,0.43593695805809751,0.43227141113776357,0.42675445075630408,0.37674604816834711]
[null,"novembre",0.59031437883066307,0.58881938023815927,0.58788184583619507,0.58582938305315169,0.58600677703226667,0.58172445748706492,0.57406948959163029,0.56513424486735597,0.55566079136977664,0.58788184583619507,"novembre",0.43622339382552777,0.43140400696282943,0.42682017976579467,0.42176523323743281,0.41765252537172515,0.41165534018070904,0.4038427729820106,0.39574898273814041,0.38767544104622298,0.42682017976579467,"novembre",0.5710538776870373,0.58101431057191799,0.59193436926964305,0.60093517634167937,0.61377448666509316,0.6189367904857519,0.61946932024483548,0.61720878509869359,0.61338338905423395,0.59193436926964305,"novembre",0.38963396803987793,0.39578612777848621,0.40283813825555187,0.4080904472557027,0.41694215920968325,0.41859506525600437,0.41636080195753433,0.41213721872604286,0.40723068452927158,0.40283813825555187]
[null,"decembre",0.60519847634791357,0.60286911811745403,0.60118227865544649,0.59821040165653494,0.59780859973143152,0.59226664765871184,0.58450602381074668,0.57546760139852871,0.56568991443249805,0.60118227865544649,"decembre",0.42047331087935602,0.41663239079489073,0.41319272392562478,0.40895055062596025,0.40631339018709284,0.4004662040266313,0.39344236384686193,0.38615911757663729,0.37881534290478119,0.41319272392562478,"decembre",0.56561222320965698,0.57464610410878669,0.58453112230128057,0.59271386590704611,0.60430115868626832,0.6090793531185773,0.60953457220867791,0.60728620908627196,0.60328333196974537,0.58453112230128057,"decembre",0.39038392007780537,0.39495208655368175,0.40025399504756742,0.4040884195054345,0.41085781203533878,0.41175726842116867,0.40931250716179518,0.4054260649206376,0.40091887027199369,0.40025399504756742]
[]
[]
[null,"Non isolé ",null,null,null,"Lourd",null,null,null,null,null,null,"Non isolé ",null,null,null,"Lourd",null,null,null,null,null,null,"Non isolé ",null,null,null,"Lourd",null,null,null,null,null,null,"Non isolé ",null,null,null,"Lourd"]
[]
[null,null,28,27,26,25,24,23,22,21,20,{"$f":"TempConsigne","v":26},null,28,27,26,25,24,23,22,21,20,{"$f":"TempConsigne","v":26},null,28,27,26,25,24,23,22,21,20,{"$f":"TempConsigne","v":26},null,28,27,26,25,24,23,22,21,20,{"$f":"TempConsigne","v":26}]
[null,"janvier",{"$f":"C$20*((D382-F382)/(D$20-F$20))+D382-D$20*((D382-F382)/(D$20-F$20))","v":0.58637531812876897},{"$f":"D$20*((E382-G382)/(E$20-G$20))+E382-E$20*((E382-G382)/(E$20-G$20))","v":0.58292574069998715},{"$f":"E$20*((F382-H382)/(F$20-H$20))+F382-F$20*((F382-H382)/(F$20-H$20))","v":0.57985492077351886},0.5760265858424235,0.57371328092058238,0.5683699159802329,0.56089986729503583,0.55223598178990951,0.54276124951629567,{"$f":"HLOOKUP(L381,C381:K393,2,FALSE)","v":0.57985492077351886},"janvier",{"$f":"N$20*((O382-Q382)/(O$20-Q$20))+O382-O$20*((O382-Q382)/(O$20-Q$20))","v":0.45709533614168885},{"$f":"O$20*((P382-R382)/(P$20-R$20))+P382-P$20*((P382-R382)/(P$20-R$20))","v":0.45270547477404521},{"$f":"P$20*((Q382-S382)/(Q$20-S$20))+Q382-Q$20*((Q382-S382)/(Q$20-S$20))","v":0.44861542347970901},0.443925752038758,0.4404353208910366,0.43454640915685588,0.42757842060696888,0.41967014506872508,0.41141011506945357,{"$f":"HLOOKUP(W381,N381:V393,2,FALSE)","v":0.44861542347970901},"janvier",{"$f":"Y$20*((Z382-AB382)/(Z$20-AB$20))+Z382-Z$20*((Z382-AB382)/(Z$20-AB$20))","v":0.63541383001430451},{"$f":"Z$20*((AA382-AC382)/(AA$20-AC$20))+AA382-AA$20*((AA382-AC382)/(AA$20-AC$20))","v":0.63774892794207516},{"$f":"AA$20*((AB382-AD382)/(AB$20-AD$20))+AB382-AB$20*((AB382-AD382)/(AB$20-AD$20))","v":0.6407373137459289},0.64241912379761645,0.64671408535363639,0.64578274390099155,0.64173607305154945,0.63592995734742208,0.62932777473361257,{"$f":"HLOOKUP(AH381,Y381:AG393,2,FALSE)","v":0.6407373137459289},"janvier",{"$f":"AJ$20*((AK382-AM382)/(AK$20-AM$20))+AK382-AK$20*((AK382-AM382)/(AK$20-AM$20))","v":0.44305216345987686},{"$f":"AK$20*((AL382-AN382)/(AL$20-AN$20))+AL382-AL$20*((AL382-AN382)/(AL$20-AN$20))","v":0.44307322572762775},{"$f":"AL$20*((AM382-AO382)/(AM$20-AO$20))+AM382-AM$20*((AM382-AO382)/(AM$20-AO$20))","v":0.44359470422609759},0.44311535026312954,0.44463766122303727,0.44215664233719343,0.43760531030394495,0.43156040991438255,0.42463365174840106,{"$f":"HLOOKUP(AS381,AJ381:AR393,2,FALSE)","v":0.44359470422609759}]
[null,"fevrier",{"$f":"C$20*((D383-F383)/(D$20-F$20))+D383-D$20*((D383-F383)/(D$20-F$20))","v":0.58265688751965494},0.58019844219362515,{"$f":"E$20*((F383-H383)/(F$20-H$20))+F383-F$20*((F383-H383)/(F$20-H$20))","v":0.57827153852386637},0.57528155154156568,0.57441773118434891,0.5693015775769642,0.56155093817514445,0.552210499593068,0.54183869715291288,{"$f":"HLOOKUP(L382,C382:K394,2,FALSE)","v":0.57827153852386637},"fevrier",{"$f":"N$20*((O383-Q383)/(O$20-Q$20))+O383-O$20*((O383-Q383)/(O$20-Q$20))","v":0.43833621682207458},0.43395982734624122,{"$f":"P$20*((Q383-S383)/(Q$20-S$20))+Q383-Q$20*((Q383-S383)/(Q$20-S$20))","v":0.42992307067732649},0.42520704839457446,0.42184955733949697,0.41577500382907034,0.40807333942676272,0.39972739966019993,0.39137546650920929,{"$f":"HLOOKUP(W382,N382:V394,2,FALSE)","v":0.42992307067732649},"fevrier",{"$f":"Y$20*((Z383-AB383)/(Z$20-AB$20))+Z383-Z$20*((Z383-AB383)/(Z$20-AB$20))","v":0.62993389265038036},0.63367202393952582,{"$f":"AA$20*((AB383-AD383)/(AB$20-AD$20))+AB383-AB$20*((AB383-AD383)/(AB$20-AD$20))","v":0.63810395834158951},0.64114828651781663,0.64696782714571688,0.647236942870271,0.64351283102508172,0.63731393635297939,0.63020234079898807,{"$f":"HLOOKUP(AH382,Y382:AG394,2,FALSE)","v":0.63810395834158951},"fevrier",{"$f":"AJ$20*((AK383-AM383)/(AK$20-AM$20))+AK383-AK$20*((AK383-AM383)/(AK$20-AM$20))","v":0.43642880025959985},0.43759051135028243,{"$f":"AL$20*((AM383-AO383)/(AM$20-AO$20))+AM383-AM$20*((AM383-AO383)/(AM$20-AO$20))","v":0.43935397580673774},0.43991393353164759,0.44288090471964836,0.44103384898146736,0.4360595566922299,0.42937608054199683,0.4214988633228956,{"$f":"HLOOKUP(AS382,AJ382:AR394,2,FALSE)","v":0.43935397580673774}]
[null,"mars",0.59220168320588618,0.58891855742544552,0.58599113163704453,0.58235230586456421,0.58013628006024243,0.57507465431960358,0.56734819921139645,0.5580784226931752,0.54788777813608536,0.58599113163704453,"mars",0.43397500075899009,0.42926816706465698,0.42482402728266283,0.41985449967599081,0.41593574771867442,0.40991544446264688,0.40265641266296642,0.39467049189424652,0.38673995570349406,0.42482402728266283,"mars",0.628873286535656,0.63208737966905271,0.63601682401564297,0.63851556593584613,0.64387571270882349,0.64351304977625234,0.63960089756244909,0.63360604450590197,0.62661094076329205,0.63601682401564297,"mars",0.43857466174835669,0.43919594984181404,0.44035461634228823,0.44043852602872879,0.44267194934323667,0.44060634540160992,0.43590506011618685,0.42969773005739753,0.42252878756685613,0.44035461634228823]
[null,"avril",0.58120007297171705,0.58071747853545908,0.58089649304620272,0.57975228966294323,0.58125452206769013,0.57746388289642425,0.5704009964422514,0.56162290963623551,0.55154275000339648,0.58089649304620272,"avril",0.45326964623770516,0.4500854379975659,0.44742354091978032,0.44371702151728742,0.44209974676420921,0.43630398271230164,0.42852724881067594,0.41987424678230512,0.41098938590413059,0.44742354091978032,"avril",0.61065049180511577,0.61981420615271143,0.63009219178034548,0.63814163484790276,0.65064816303561368,0.65424052098301733,0.65244390752579717,0.64761549604166435,0.64125684421236628,0.63009219178034548,"avril",0.43184016088747146,0.43665774503477545,0.44241796985221599,0.44629291332938337,0.45393841948709701,0.45404280028371813,0.45010376766947013,0.44379674421501675,0.4364897851970273,0.44241796985221599]
[null,"mai",0.52016621737822244,0.53210373925606225,0.54605786039007009,0.55597878301174186,0.57396610265808579,0.57582062825508529,0.5702916119451944,0.56162384033596691,0.55188324586988269,0.54605786039007009,"mai",0.38221724243590499,0.38892821161672503,0.39699522809214915,0.4023501499783651,0.41312926104299741,0.41305999375079699,0.40696502106008581,0.39888339287242608,0.39042370980010199,0.39699522809214915,"mai",0.5635645277780037,0.5859968931431121,0.61058132273724874,0.63086162387332878,0.65975018192552204,0.67142222614548885,0.67284463085413826,0.66873206939284191,0.66160017073157373,0.61058132273724874,"mai",0.38354673786406024,0.40177901401987592,0.42217561052058894,0.43824356633150729,0.46296880352201486,0.47037947795334401,0.46892337383463928,0.46338844070105673,0.45589379620560011,0.42217561052058894]
[null,"juin",0.40241288290930888,0.44942902285577369,0.50111310928295427,0.5434613027487033,0.60448128213731578,0.62815768968020114,0.62420366087448875,0.61101283948834617,0.59633293579012614,0.50111310928295427,"juin",0.29174251437104876,0.31361310409803184,0.33811515894312888,0.35735428355199811,0.38711926863332313,0.39583253276973657,0.38905057864921971,0.376933845147989,0.36435559937794743,0.33811515894312888,"juin",0.27876602682461193,0.3534449052418891,0.433100602994688,0.50280266207644386,0.5924119985002857,0.6422067802399557,0.65953048568329253,0.66152445358972212,0.65583029134237891,0.433100602994688,"juin",5.5912339725570526E-2,0.13412037911034913,0.21782616327261595,0.29053645787990656,0.38523773159714952,0.43595704709448779,0.45039262640114047,0.44894849363641126,0.44130594756054659,0.21782616327261595]
[null,"juillet",0.33789764240507747,0.39018478334638229,0.44674996880157058,0.49475906522899177,0.55988033971194684,0.59077725808383408,0.58925984704172163,0.57737792415276523,0.56291671330124859,0.44674996880157058,"juillet",0.22532711710965003,0.27486409439799431,0.32857895378841762,0.37393804897468269,0.43600867256926401,0.46465623934721245,0.46333718762899284,0.45144188288215903,0.43749500343763459,0.32857895378841762,"juillet",0.28152308323569941,0.36500617183710049,0.45384531149299145,0.53197234903990309,0.63152359080477294,0.68822642413372648,0.70595270753587425,0.70593577351148251,0.69805174040260265,0.45384531149299145,"juillet",9.2216408190473054E-3,0.10587233795375584,0.20921944748054022,0.29917373222317273,0.41591366653410849,0.47908230170843835,0.49493796805976814,0.49179697610696088,0.48206134179684357,0.20921944748054022]
[null,"aout",0.37544217382908973,0.42107822192133992,0.47084712308012711,0.51235031810584031,0.57038492539770125,0.59535670815726671,0.5927551847507474,0.58091723204517798,0.56707846449856858,0.47084712308012711,"aout",0.22981694855270973,0.27406220979088713,0.32201639171337471,0.36255273226724216,0.41792475555834985,0.44362541337497713,0.44271808522361356,0.43306610280159674,0.42128326059411519,0.32201639171337471,"aout",0.3162292894343639,0.39006295824158155,0.46887813485512497,0.5377302958560165,0.62650848808221116,0.67543461785779935,0.69128369261511269,0.69157142795369719,0.68470481955981022,0.46887813485512497,"aout",5.6793487989705849E-2,0.14272048115791724,0.23507348128009231,0.31457446749434043,0.41977948152444244,0.47357643992283677,0.4866982890138869,0.48347408339495207,0.47505944280194612,0.23507348128009231]
[null,"septembre",0.43974080063174492,0.47411371042658923,0.51235581295104993,0.54285953001627785,0.58884001799997121,0.60386696414673358,0.60039204447334893,0.59007878941134151,0.57815616526494817,0.51235581295104993,"septembre",0.33464748971426928,0.35532426173017573,0.37877108004338766,0.39667780576198858,0.4256647166698117,0.43249125719919035,0.42660170559554383,0.41610325139411963,0.40473980115507763,0.37877108004338766,"septembre",0.43818032005343799,0.4822417902349434,0.52958725570599108,0.57036473059795445,0.6242781866480861,0.65191968038188131,0.66028813615370197,0.65927738664040281,0.65316573984711324,0.52958725570599108,"septembre",0.23263206111200185,0.27843761053925498,0.32833814996206845,0.37004870939376133,0.42813922880769534,0.45346982825714705,0.45876000778944992,0.45500801868586693,0.44744396954516907,0.32833814996206845]
[null,"octobre",0.53424760992795228,0.54573476529314124,0.55902145878042209,0.56870907602351928,0.58559484575498377,0.58808431050971355,0.58219155141496781,0.57292324859976185,0.56262336934872148,0.55902145878042209,"octobre",0.39585910115817635,0.40251113204277056,0.41040352702934679,0.41581519381195903,0.42618831700249921,0.4266385273771835,0.42101222251994125,0.41294203765918824,0.40403106034316338,0.41040352702934679,"octobre",0.54145417307662591,0.5646179870574769,0.58981549304791836,0.61094561501917877,0.64021050502880128,0.65320585896169947,0.65551765360595249,0.65208646782373558,0.64589579676653741,0.58981549304791836,"octobre",0.35071364176855307,0.37189316410665213,0.39528456074634372,0.41425220878285035,0.442067354025727,0.45218750485586362,0.45283805161077545,0.44874377970066259,0.44239118670015659,0.39528456074634372]
[null,"novembre",0.57748754884608156,0.57813278790566591,0.57928805006799489,0.57942326602483452,0.58159857439265283,0.57969369793851377,0.57406133157943651,0.56624736692836797,0.55749234350898813,0.57928805006799489,"novembre",0.42941624662909839,0.42675002932979406,0.42443924847076053,0.42141759473118523,0.41981768675269349,0.41537428725203457,0.40868089563122401,0.40120900382158342,0.39327378462186979,0.42443924847076053,"novembre",0.60264827667835252,0.61065969175097645,0.61971767231740582,0.62668252189622442,0.63783363345026456,0.64061222105386151,0.63881372471922149,0.63387954228525833,0.6272781853078403,0.61971767231740582,"novembre",0.40838450669294185,0.41409844105247706,0.42070668821070861,0.42552630977154748,0.43392318252717171,0.43516555289322523,0.43234956641096961,0.42745009261511252,0.42095531291815275,0.42070668821070861]
[null,"decembre",0.59288170869126411,0.59279534167037873,0.59332784905039593,0.59262260762860797,0.59439286381043044,0.59121212478503204,0.58507780312976743,0.57693339366771368,0.56769850564416002,0.59332784905039593,"decembre",0.4209630573512132,0.41802786775443707,0.41548497924729777,0.41215748856088474,0.41039920223301912,0.40550250718805869,0.39909614949920408,0.39197136643253644,0.38475021477526788,0.41548497924729777,"decembre",0.59971741246354404,0.60620432244956435,0.61361106390519138,0.61917814242160496,0.62842454681644544,0.63031229945443212,0.62792957905108315,0.62275334309680297,0.61634395667928155,0.61361106390519138,"decembre",0.41211288806008844,0.41576388960694238,0.42013740864839344,0.42306589270065026,0.42888444673129561,0.42892286080516384,0.42580526258999324,0.42083155933908573,0.41436272983777317,0.42013740864839344]
[]
[]
[null,"Ref typique",null,null,null,"Léger","0,7vol/h",null,null,null,null,null,"Ref typique",null,null,null,"Léger",null,null,null,null,null,null,"Ref typique",null,null,null,"Léger",null,null,null,null,null,null,"Ref typique",null,null,null,"Léger"]
[]
[null,null,28,27,26,25,24,23,22,21,20,{"$f":"TempConsigne","v":26},null,28,27,26,25,24,23,22,21,20,{"$f":"TempConsigne","v":26},null,28,27,26,25,24,23,22,21,20,{"$f":"TempConsigne","v":26},null,28,27,26,25,24,23,22,21,20,{"$f":"TempConsigne","v":26}]
[null,"janvier",{"$f":"C$20*((D399-F399)/(D$20-F$20))+D399-D$20*((D399-F399)/(D$20-F$20))","v":0.70174850680049894},{"$f":"D$20*((E399-G399)/(E$20-G$20))+E399-E$20*((E399-G399)/(E$20-G$20))","v":0.68753199481116856},{"$f":"E$20*((F399-H399)/(F$20-H$20))+F399-F$20*((F399-H399)/(F$20-H$20))","v":0.67352655473430212},0.65909897083250757,0.64551567458056935,0.63024380302891836,0.61394170610085241,0.59764692508809802,0.58000897768593518,{"$f":"HLOOKUP(L398,C398:K410,2,FALSE)","v":0.67352655473430212},"janvier",{"$f":"N$20*((O399-Q399)/(O$20-Q$20))+O399-O$20*((O399-Q399)/(O$20-Q$20))","v":0.54370233679462054},{"$f":"O$20*((P399-R399)/(P$20-R$20))+P399-P$20*((P399-R399)/(P$20-R$20))","v":0.5309022770000833},{"$f":"P$20*((Q399-S399)/(Q$20-S$20))+Q399-Q$20*((Q399-S399)/(Q$20-S$20))","v":0.51820501219463444},0.50530215741100892,0.49281048258373672,0.47949644784375772,0.46517580957996807,0.45110758697544062,0.43716106800818433,{"$f":"HLOOKUP(W398,N398:V410,2,FALSE)","v":0.51820501219463444},"janvier",{"$f":"Y$20*((Z399-AB399)/(Z$20-AB$20))+Z399-Z$20*((Z399-AB399)/(Z$20-AB$20))","v":0.69844628452534585},{"$f":"Z$20*((AA399-AC399)/(AA$20-AC$20))+AA399-AA$20*((AA399-AC399)/(AA$20-AC$20))","v":0.69322193901877605},{"$f":"AA$20*((AB399-AD399)/(AB$20-AD$20))+AB399-AB$20*((AB399-AD399)/(AB$20-AD$20))","v":0.68831854724273489},0.68277324800563632,0.67851176369065258,0.67168264953143908,0.66335810644912874,0.6539850582445208,0.6443959850088582,{"$f":"HLOOKUP(AH398,Y398:AG410,2,FALSE)","v":0.68831854724273489},"janvier",{"$f":"AJ$20*((AK399-AM399)/(AK$20-AM$20))+AK399-AK$20*((AK399-AM399)/(AK$20-AM$20))","v":0.52745555006941236},{"$f":"AK$20*((AL399-AN399)/(AL$20-AN$20))+AL399-AL$20*((AL399-AN399)/(AL$20-AN$20))","v":0.51850433918856187},{"$f":"AL$20*((AM399-AO399)/(AM$20-AO$20))+AM399-AM$20*((AM399-AO399)/(AM$20-AO$20))","v":0.50986887985684581},0.50060191742686089,0.4925979611934137,0.48206799256689115,0.47093341432173369,0.4597627358059847,0.44908793262662816,{"$f":"HLOOKUP(AS398,AJ398:AR410,2,FALSE)","v":0.50986887985684581}]
[null,"fevrier",{"$f":"C$20*((D400-F400)/(D$20-F$20))+D400-D$20*((D400-F400)/(D$20-F$20))","v":0.69856909609346607},0.68514141494666825,{"$f":"E$20*((F400-H400)/(F$20-H$20))+F400-F$20*((F400-H400)/(F$20-H$20))","v":0.67218546345021379},0.65828605265307227,0.64627356045730477,0.6304872310587889,0.61269801254869505,0.59439927641011814,0.5767387496062264,{"$f":"HLOOKUP(L399,C399:K411,2,FALSE)","v":0.67218546345021379},"fevrier",{"$f":"N$20*((O400-Q400)/(O$20-Q$20))+O400-O$20*((O400-Q400)/(O$20-Q$20))","v":0.52406853167719658},0.51098837924432783,{"$f":"P$20*((Q400-S400)/(Q$20-S$20))+Q400-Q$20*((Q400-S400)/(Q$20-S$20))","v":0.49823705565763732},0.48482807437859038,0.47273440848425641,0.45801011182049656,0.44285603475023272,0.42821594939738028,0.41474133890634712,{"$f":"HLOOKUP(W399,N399:V411,2,FALSE)","v":0.49823705565763732},"fevrier",{"$f":"Y$20*((Z400-AB400)/(Z$20-AB$20))+Z400-Z$20*((Z400-AB400)/(Z$20-AB$20))","v":0.69908627860794614},0.69459163648414091,{"$f":"AA$20*((AB400-AD400)/(AB$20-AD$20))+AB400-AB$20*((AB400-AD400)/(AB$20-AD$20))","v":0.69056112421411586},0.68560235223653043,0.68250009967406577,0.67568480828135946,0.66627882924811244,0.6550273070004482,0.64367542316232695,{"$f":"HLOOKUP(AH399,Y399:AG411,2,FALSE)","v":0.69056112421411586},"fevrier",{"$f":"AJ$20*((AK400-AM400)/(AK$20-AM$20))+AK400-AK$20*((AK400-AM400)/(AK$20-AM$20))","v":0.52709716318297806},0.51863087312032463,{"$f":"AL$20*((AM400-AO400)/(AM$20-AO$20))+AM400-AM$20*((AM400-AO400)/(AM$20-AO$20))","v":0.51051390026309174},0.50169829299501778,0.494279954548626,0.48406707845886993,0.47241183162684858,0.46004437260822906,0.44860681055082152,{"$f":"HLOOKUP(AS399,AJ399:AR411,2,FALSE)","v":0.51051390026309174}]
[null,"mars",0.70666583720544862,0.69350265970525959,0.68080493714070967,0.66717630470488165,0.65540949201160981,0.63991903983322551,0.62210457991536616,0.60339340805174091,0.58574350961646993,0.68080493714070967,"mars",0.51593252072737927,0.50369365137199029,0.49172810910719111,0.47921591266121233,0.46779702457759276,0.45419151976925476,0.44043294979196002,0.42608369020970205,0.41272562239492777,0.49172810910719111,"mars",0.69723096891855008,0.69171723936174367,0.68656635611412731,0.68068978024813098,0.67626458961889457,0.66893662851613833,0.6601086931206589,0.64992811626479141,0.63979985820278806,0.68656635611412731,"mars",0.53019399759316577,0.52083582602701273,0.51179186049913916,0.50211948289470665,0.4937039294433922,0.48277472768584168,0.4709984598263785,0.45949341987346942,0.448463938801407,0.51179186049913916]
[null,"avril",0.70332006637835875,0.69369981219379484,0.68507461596192409,0.67445930382466712,0.6678242234981826,0.65322867955015318,0.63596120844061699,0.61770749274332448,0.59855875254740243,0.68507461596192409,"avril",0.5488320555614814,0.53737166402852521,0.52651492253178755,0.51445088096261282,0.50480143953831225,0.49032279782426347,0.47440851148577268,0.45841111927445288,0.44255479884284016,0.52651492253178755,"avril",0.69568428917041514,0.69350670130341097,0.69196891404103456,0.68915152556940251,0.68889333951628162,0.68351674862613843,0.67551577022505982,0.66624712442940248,0.65666215051671828,0.69196891404103456,"avril",0.53887155055180558,0.53228256643290406,0.52642056788009461,0.51910459819510091,0.51469657077447573,0.5044726588251135,0.49154438152189234,0.47830826116805381,0.46557359251057961,0.52642056788009461]
[null,"mai",0.62924612503225352,0.63664695583996833,0.64684657361514675,0.65144861745539795,0.66724580916550358,0.66065270513590024,0.64485349521464808,0.62662802899955783,0.60886507950880531,0.64684657361514675,"mai",0.45965625661653597,0.46332669411639754,0.46925630523038409,0.47066756911612062,0.48111552745835712,0.47349009688759364,0.45907996505656984,0.44394182332145443,0.42965211707937073,0.46925630523038409,"mai",0.67552464552279778,0.68236213060922202,0.69089726568052223,0.69603710078207048,0.70796753582312277,0.70631677098516699,0.69833863747740943,0.68821746472270906,0.67698138181842149,0.69089726568052223,"mai",0.51135892120499649,0.51619286723911206,0.52300714256214675,0.52586075930734333,0.53663569320821602,0.53156799279773637,0.51854752325849418,0.50353048131950484,0.4887314645457736,0.52300714256214675]
[null,"juin",0.54132526957332061,0.57971759159908887,0.62180667473128604,0.65650223565062549,0.70598484099568037,0.72589335748930439,0.70898915991940892,0.68305455800686743,0.65689789725874115,0.62180667473128604,"juin",0.36495982818844591,0.38396628375833036,0.40538559483856845,0.42197919489809921,0.44822421699904447,0.45516639501716072,0.441222750144523,0.42123789568029435,0.40164541004273169,0.40538559483856845,"juin",0.40922846538493207,0.46555317745187352,0.52663668965242338,0.57820260158575632,0.64880371405352255,0.68133442545242218,0.68742632747373822,0.68154299418023645,0.67046884635744997,0.52663668965242338,"juin",0.13411137486760638,0.20983771595650436,0.29179451429202197,0.3612903981342997,0.45570811096305747,0.50028216581885498,0.50475164277333651,0.49411483282564311,0.47938407636012387,0.29179451429202197]
[null,"juillet",0.48549386141882733,0.52992629944380987,0.57765569834659525,0.61879117549377471,0.67311449615216568,0.70106212978813343,0.68611639217441622,0.65886174115794394,0.63149524726922435,0.57765569834659525,"juillet",0.35001715569264902,0.39099335067494678,0.43542300739243789,0.47294574063954248,0.52428232082742043,0.54799120713375182,0.534766233781372,0.51123834606625651,0.48669538297498488,0.43542300739243789,"juillet",0.44184492937339437,0.50190297169539244,0.56624064478038305,0.62201905633938848,0.69491599095036372,0.73357587945739933,0.73686200319311668,0.72621952668144185,0.7121998873157519,0.56624064478038305,"juillet",0.15113984653532464,0.23650555205887125,0.3283793793527412,0.40723696310596369,0.51212703394048176,0.56495213061240834,0.56548628587836547,0.5487902308895849,0.52812562476145453,0.3283793793527412]
[null,"aout",0.51198029088968577,0.5507915401047343,0.59275563629454919,0.62841403853483124,0.67668382867417864,0.69973084301539545,0.68533525503984771,0.65928768523919745,0.63303762528230012,0.59275563629454919,"aout",0.34890406425468201,0.38364417984892318,0.42114618982631224,0.45312441103740553,0.49615020978109042,0.51708085345959209,0.50707635078307012,0.48718220130691559,0.46610860997534931,0.42114618982631224,"aout",0.45079517830641769,0.50485080330705556,0.56335364346641637,0.61296205330833153,0.68035932378513797,0.71217887299216176,0.71603192305269681,0.70779823428784971,0.69606034215537194,0.56335364346641637,"aout",0.16648306570893423,0.2466380267126036,0.3343429350520819,0.40694794871994272,0.50975275173103884,0.55215797605566475,0.55064338882322594,0.53576189758345227,0.51771945621208293,0.3343429350520819]
[null,"septembre",0.54891933027787665,0.58157573541966723,0.61841928927488854,0.64688854570324839,0.69210639698533116,0.70382705855996797,0.68936930805015395,0.66604477611940283,0.64351993474049185,0.61841928927488854,"septembre",0.40340328826368832,0.42418648604765519,0.4484027565964912,0.46575288161558898,0.49683529769416307,0.50045313165378458,0.48701968240396437,0.46777026890006501,0.44863455602213659,0.4484027565964912,"septembre",0.52345271322405718,0.55636110907822989,0.59257848454177642,0.62217790078657542,0.66501323546886937,0.68137673327617343,0.68059632227616096,0.67308363075924749,0.66346394504852768,0.59257848454177642,"septembre",0.31333629798407081,0.35606280203920604,0.4037670251859391,0.44151581014947611,0.49917547147940516,0.51701338007655007,0.51145899546050311,0.4979366077222584,0.48296416288921673,0.4037670251859391]
[null,"octobre",0.6432991928808518,0.64980919224244404,0.6588726442032018,0.66282919096562865,0.67699954812471741,0.67074228449048223,0.65399212219149139,0.63452296541400754,0.61564138689965064,0.6588726442032018,"octobre",0.47861634470799563,0.48069433515741034,0.4845525199635905,0.48485031605623968,0.49226888957595083,0.48544590824153805,0.4718193542372357,0.45620743000794978,0.44050654017056973,0.4845525199635905,"octobre",0.63437248020964909,0.64441423894200311,0.65607606574855759,0.66449775640671116,0.67939971936166665,0.6813411377230183,0.67688360421392857,0.66929159235942459,0.66114163283340643,0.65607606574855759,"octobre",0.46162557002310195,0.47116799771041418,0.48278689402699815,0.49025285308503863,0.50602468666016609,0.5051847712011196,0.49634350041952846,0.48454033361265686,0.47209377162341293,0.48278689402699815]
[null,"novembre",0.68680919070815838,0.67949775077807717,0.67300925714916404,0.66487487091791486,0.66003226989133779,0.6486060984554165,0.63400004585924741,0.6180065137362013,0.60167206265945194,0.67300925714916404,"novembre",0.51484452981798157,0.5048157868354981,0.49516333234307136,0.48475830087053107,0.47585842335821787,0.46394823792545048,0.45037638302722305,0.43661614183673242,0.42283213954192239,0.49516333234307136,"novembre",0.68050305993154914,0.67868593207744199,0.67745439082011705,0.67505167636922769,0.67499130830546705,0.67024624746744899,0.66261082089401235,0.65414031568122621,0.64486304267263095,0.67745439082011705,"novembre",0.50248697736493142,0.49838343580477829,0.49492990551446825,0.49017635268447196,0.48802284493384818,0.4806692470244795,0.47062108257496982,0.45917039559956435,0.44794048639006295,0.49492990551446825]
[null,"decembre",0.70766326399630985,0.69803715051471615,0.68903154793630872,0.67878492355152864,0.67102034277949385,0.65829167478196859,0.64278433724372841,0.62562505214561859,0.60809590632210186,0.68903154793630872,"decembre",0.50263527540024122,0.49253849373580799,0.48279481546623354,0.47234493040694142,0.46330745892708447,0.45144516028835729,0.43846520348830315,0.42563951386378157,0.41334216293773546,0.48279481546623354,"decembre",0.66829691646442035,0.66624155100506677,0.66464678788948717,0.66213082008635971,0.66145726165832797,0.65709888448010478,0.65035544377730425,0.64233834858302985,0.63281669636146698,0.66464678788948717,"decembre",0.49800738085413621,0.49268290877872051,0.48785376737533714,0.48203396462788906,0.47819548456857036,0.47039435913299282,0.4604477240457302,0.45036015240426058,0.4400590742580241,0.48785376737533714]
[]
[]
[null,"Ref typique",null,null,null,"Moyen",null,null,null,null,null,null,"Ref typique",null,null,null,"Moyen",null,null,null,null,null,null,"Ref typique",null,null,null,"Moyen",null,null,null,null,null,null,"Ref typique",null,null,null,"Moyen"]
[]
[null,null,28,27,26,25,24,23,22,21,20,{"$f":"TempConsigne","v":26},null,28,27,26,25,24,23,22,21,20,{"$f":"TempConsigne","v":26},null,28,27,26,25,24,23,22,21,20,{"$f":"TempConsigne","v":26},null,28,27,26,25,24,23,22,21,20,{"$f":"TempConsigne","v":26}]
[null,"janvier",{"$f":"C$20*((D416-F416)/(D$20-F$20))+D416-D$20*((D416-F416)/(D$20-F$20))","v":0.67431280695345486},{"$f":"D$20*((E416-G416)/(E$20-G$20))+E416-E$20*((E416-G416)/(E$20-G$20))","v":0.66353850461824992},{"$f":"E$20*((F416-H416)/(F$20-H$20))+F416-F$20*((F416-H416)/(F$20-H$20))","v":0.65310636019591239},0.64198989994784006,0.63224207135123722,0.61975697945169528,0.60621755120224963,0.59182599317973916,0.57589162822421291,{"$f":"HLOOKUP(L415,C415:K427,2,FALSE)","v":0.65310636019591239},"janvier",{"$f":"N$20*((O416-Q416)/(O$20-Q$20))+O416-O$20*((O416-Q416)/(O$20-Q$20))","v":0.52308753470444891},{"$f":"O$20*((P416-R416)/(P$20-R$20))+P416-P$20*((P416-R416)/(P$20-R$20))","v":0.51312368278508935},{"$f":"P$20*((Q416-S416)/(Q$20-S$20))+Q416-Q$20*((Q416-S416)/(Q$20-S$20))","v":0.50339062722171257},0.49319597894637018,0.48392451609495896,0.47280668239568518,0.46055381222719727,0.44769231901741147,0.43489066913539998,{"$f":"HLOOKUP(W415,N415:V427,2,FALSE)","v":0.50339062722171257},"janvier",{"$f":"Y$20*((Z416-AB416)/(Z$20-AB$20))+Z416-Z$20*((Z416-AB416)/(Z$20-AB$20))","v":0.71981537506414683},{"$f":"Z$20*((AA416-AC416)/(AA$20-AC$20))+AA416-AA$20*((AA416-AC416)/(AA$20-AC$20))","v":0.71264795058175012},{"$f":"AA$20*((AB416-AD416)/(AB$20-AD$20))+AB416-AB$20*((AB416-AD416)/(AB$20-AD$20))","v":0.70583155510805318},0.6983131016169567,0.69219876416065917,0.68327619463476363,0.67249584335086565,0.66103801936394502,0.64948196930565139,{"$f":"HLOOKUP(AH415,Y415:AG427,2,FALSE)","v":0.70583155510805318},"janvier",{"$f":"AJ$20*((AK416-AM416)/(AK$20-AM$20))+AK416-AK$20*((AK416-AM416)/(AK$20-AM$20))","v":0.53352793706739376},{"$f":"AK$20*((AL416-AN416)/(AL$20-AN$20))+AL416-AL$20*((AL416-AN416)/(AL$20-AN$20))","v":0.52473922154722896},{"$f":"AL$20*((AM416-AO416)/(AM$20-AO$20))+AM416-AM$20*((AM416-AO416)/(AM$20-AO$20))","v":0.5162608010792531},0.50716179050689936,0.49930396014330125,0.48896376936219199,0.47807919617733863,0.46686579030183223,0.45599763646851926,{"$f":"HLOOKUP(AS415,AJ415:AR427,2,FALSE)","v":0.5162608010792531}]
[null,"fevrier",{"$f":"C$20*((D417-F417)/(D$20-F$20))+D417-D$20*((D417-F417)/(D$20-F$20))","v":0.67160185934784977},0.66160797972750773,{"$f":"E$20*((F417-H417)/(F$20-H$20))+F417-F$20*((F417-H417)/(F$20-H$20))","v":0.6522124426382836},0.64162022048682366,0.63342136845983521,0.62043577618390389,0.60541067640882695,0.5888437018133944,0.5719990333273709,{"$f":"HLOOKUP(L416,C416:K428,2,FALSE)","v":0.6522124426382836},"fevrier",{"$f":"N$20*((O417-Q417)/(O$20-Q$20))+O417-O$20*((O417-Q417)/(O$20-Q$20))","v":0.50599764662078717},0.49548554911211301,{"$f":"P$20*((Q417-S417)/(Q$20-S$20))+Q417-Q$20*((Q417-S417)/(Q$20-S$20))","v":0.48530070367648193},0.47446135409476464,0.46493101280521981,0.45278265493133002,0.43922018859696127,0.42591573963026752,0.4127777756634457,{"$f":"HLOOKUP(W416,N416:V428,2,FALSE)","v":0.48530070367648193},"fevrier",{"$f":"Y$20*((Z417-AB417)/(Z$20-AB$20))+Z417-Z$20*((Z417-AB417)/(Z$20-AB$20))","v":0.72174400253214122},0.71476119474714539,{"$f":"AA$20*((AB417-AD417)/(AB$20-AD$20))+AB417-AB$20*((AB417-AD417)/(AB$20-AD$20))","v":0.70813558203812477},0.70079557917715374,0.69488435662008363,0.68611557345521179,0.67531272780133977,0.66272106348934401,0.64984662635058266,{"$f":"HLOOKUP(AH416,Y416:AG428,2,FALSE)","v":0.70813558203812477},"fevrier",{"$f":"AJ$20*((AK417-AM417)/(AK$20-AM$20))+AK417-AK$20*((AK417-AM417)/(AK$20-AM$20))","v":0.532122659847164},0.5240472400622932,{"$f":"AL$20*((AM417-AO417)/(AM$20-AO$20))+AM417-AM$20*((AM417-AO417)/(AM$20-AO$20))","v":0.51630293501490954},0.50789640049255169,0.50081432492014233,0.49108333144783589,0.47987368863356861,0.46738865794385787,0.45436372770278244,{"$f":"HLOOKUP(AS416,AJ416:AR428,2,FALSE)","v":0.51630293501490954}]
[null,"mars",0.6781235133956891,0.66830410209555502,0.65895892965054881,0.64866527949528685,0.64026858476053639,0.62807797918476294,0.61304756035273256,0.59669046745500876,0.58022260495887279,0.65895892965054881,"mars",0.49694166096413861,0.48705005000674179,0.47740700290057492,0.46726682809194825,0.45812090868824112,0.44698647847469486,0.43493792731287845,0.42246399307613425,0.41000390582056651,0.47740700290057492,"mars",0.71969576305785943,0.71219959823209567,0.70503855639992885,0.69720726858056814,0.69071647273559522,0.68154469294184661,0.67040891608513464,0.65834767965832219,0.64649553154464046,0.70503855639992885,"mars",0.53401463383116632,0.52510853878031361,0.51644487460514554,0.50729634867860818,0.49911754625480947,0.48899929682553334,0.47772621509438085,0.46650391819302162,0.454981619405046,0.51644487460514554]
[null,"avril",0.66742571166988207,0.6616539845303645,0.65666050811320731,0.65011053025132937,0.64667355527889281,0.63701057452757337,0.62348624872486336,0.60821440730863063,0.59171900395288646,0.65666050811320731,"avril",0.52014110979968542,0.51216711132864523,0.5047879482255897,0.49621911438656491,0.49002962201947864,0.47908144670851538,0.46608262885192248,0.45243668312243457,0.43828436257755826,0.5047879482255897,"avril",0.71552989055102567,0.71192430285646335,0.70892553710881834,0.70471312746733883,0.7029280056135282,0.69628830818437981,0.68708652748740007,0.67625167867748603,0.66476714087926636,0.70892553710881834,"avril",0.54128278809388897,0.53499873227416195,0.52933663417990373,0.52243062063470791,0.51801243799138741,0.50861859354431616,0.49672062640770037,0.48426771832264642,0.47193963431899111,0.52933663417990373]
[null,"mai",0.58435076809844211,0.59624385383390544,0.61108707873587964,0.62003002530483198,0.64077352853982816,0.63791591844273665,0.62721281431941711,0.61311529338435167,0.59852318187764564,0.61108707873587964,"mai",0.43021642747205402,0.43650670038472905,0.44469681905499314,0.44908724621007912,0.46107705639552127,0.45786810052025101,0.44734481020438371,0.43474384057343707,0.42252438348819144,0.44469681905499314,"mai",0.6977626979782281,0.70255809821389603,0.70872317871546153,0.71214889868523201,0.72105333971859265,0.71900033862477297,0.71036422544237554,0.69959139151964278,0.68711611853952681,0.70872317871546153,"mai",0.51781708897939216,0.52137429282910752,0.52651097450988116,0.52848870052853825,0.53678433787142843,0.53244415256585242,0.52119373450538076,0.50760635074536398,0.49380379185650475,0.52651097450988116]
[null,"juin",0.46975201829219282,0.51520614902751971,0.56493515214968881,0.60611441049817372,0.66439315839402724,0.68847292719514364,0.67959346212076155,0.66116596993374199,0.64100022002083556,0.56493515214968881,"juin",0.31685826271606093,0.34089386878404698,0.36772719869880216,0.38896508092001908,0.42139385852831251,0.43144084536245297,0.42200302017007341,0.40754654913422661,0.39191410174505664,0.36772719869880216,"juin",0.46061992291016718,0.51016555579604062,0.56428888392079768,0.60925682156778749,0.67253554017031147,0.69919269686176699,0.70233921945064848,0.69496256273507384,0.68364370409053188,0.56428888392079768,"juin",0.20456943622493395,0.26678024457078098,0.33468971780348711,0.39120186126247491,0.47050866426889937,0.50422614818045042,0.50650414502270946,0.49647984908648402,0.48281398696310268,0.33468971780348711]
[null,"juillet",0.4052173782552797,0.45775349772763207,0.5145916440363385,0.5628257366723366,0.62826793665375169,0.65929392194433267,0.65274395489980463,0.63438379272719014,0.61358681178464058,0.5145916440363385,"juillet",0.30159982880994973,0.34633452080807525,0.39516901698300377,0.43580390480432646,0.49283800933286115,0.51707368044697222,0.51076576129910922,0.49373545000955132,0.47465547162853861,0.39516901698300377,"juillet",0.48633103437336,0.54085910605683529,0.60049216538868055,0.64991524942378587,0.71975828405237086,0.7487614174939965,0.74877399155975399,0.73859879747060841,0.72443290732486765,0.60049216538868055,"juillet",0.21731491017304605,0.28882862430412515,0.36670411379746937,0.43185605256628357,0.52245509278415847,0.56215993010391208,0.56189209959140352,0.54758927501788845,0.52946452872264782,0.36670411379746937]
[null,"aout",0.43979000637815524,0.48531357769407046,0.53492051964096654,0.57636072032590091,0.63413440353475903,0.65924112169576976,0.65317023659526774,0.6357202095977682,0.61588014766906163,0.53492051964096654,"aout",0.29895459033616822,0.33842289869449871,0.38140517860149947,0.41735951541116006,0.46736973841550122,0.48926818903048119,0.48528804423911526,0.47124627737776587,0.4550453595856111,0.38140517860149947,"aout",0.50345371578521181,0.55057857479643191,0.6023676182043568,0.64482829281887211,0.70594570502020682,0.72974964204790249,0.73035559288814167,0.72252013671605031,0.71043127378874205,0.6023676182043568,"aout",0.24031945270036159,0.30495647098921408,0.37606798853726242,0.43423050756691906,0.5182910236333591,0.55055554562623232,0.5488481730365391,0.53641321420942167,0.51985977162808017,0.37606798853726242]
[null,"septembre",0.49584474838181392,0.53244948234865441,0.57310574503451173,0.60565895028233552,0.65441827040622635,0.6707653607779831,0.66110826559973401,0.64557936892135737,0.62820148428864719,0.57310574503451173,"septembre",0.3689681947910764,0.39205352259229836,0.41850768793468335,0.4382241781947423,0.47141601861945343,0.47765715871486014,0.46873912262306677,0.45388226319881453,0.4382344183528456,0.41850768793468335,"septembre",0.57990671749173439,0.60505062060975645,0.6330573235193282,0.65533842684580057,0.68907072933847158,0.69990063349874543,0.69707380124266882,0.68859012160952948,0.67754393088358034,0.6330573235193282,"septembre",0.36532710362264009,0.39752228078296636,0.4336642725827386,0.46191263510361896,0.50594825618228279,0.51840936014537964,0.51325182954463167,0.50080095057870877,0.487136089869392,0.4336642725827386]
[null,"octobre",0.59462858413791497,0.60612423759670908,0.61991510716006326,0.6291155445142973,0.64749684628677173,0.64751641922276526,0.63650738540731078,0.62185269831262424,0.60637000314762379,0.61991510716006326,"octobre",0.44852982577137163,0.45336281631564029,0.45967969598197955,0.46302879740417763,0.47231345531465802,0.46972700024857378,0.46008483595112121,0.44758977592140153,0.43419171650403959,0.45967969598197955,"octobre",0.66622545497821795,0.67292844162747145,0.68087720093930992,0.68633441492597846,0.69677471956298687,0.69724884289931555,0.69095636684755946,0.68203781052705315,0.67090120396600605,0.68087720093930992,"octobre",0.47692605895491103,0.48423678722458818,0.49327798763503794,0.49885824376394244,0.51136038845593745,0.51001875602175151,0.50153633076963711,0.49017381634136298,0.47824697041233905,0.49327798763503794]
[null,"novembre",0.65381187082246217,0.64995066411966673,0.64683119721651328,0.64222825071407585,0.64059226341020625,0.63302235770920101,0.62206885071335782,0.60903422919064587,0.59546675012766248,0.64683119721651328,"novembre",0.48965737081999267,0.48271922387349947,0.47612018385627897,0.46884292998051297,0.46292210382183802,0.45428842222898103,0.44327670419189508,0.43147698373436022,0.41948327916997102,0.47612018385627897,"novembre",0.70131202974896412,0.69792178214544809,0.69516591709626407,0.69114128693841592,0.68965418699789593,0.68309202662271973,0.67390307736820476,0.6636035489572637,0.65203824458935078,0.69516591709626407,"novembre",0.51023498944116674,0.5057390319613384,0.50185231933523233,0.49674711700168173,0.49407889408302019,0.48653671233458051,0.47654261454090502,0.46536186884569403,0.45422391863494216,0.50185231933523233]
[null,"decembre",0.67608458160337148,0.67008429513777157,0.66467996593725809,0.65808372220657174,0.65387130753623113,0.64489123474519905,0.63301301629742346,0.61858563884844131,0.60310649903545532,0.66467996593725809,"decembre",0.48095853953989898,0.47344151670561024,0.4663141055117257,0.45840747103703261,0.45205928312395655,0.44259420208764627,0.432188313373149,0.42113405905159551,0.40997409864963752,0.4663141055117257,"decembre",0.69143180834291118,0.68745027162879158,0.68395156372441301,0.67948719820055226,0.67695414791565589,0.67055846715283074,0.66183224136988195,0.65118046174628508,0.63953780848799313,0.68395156372441301,"decembre",0.50631719958880272,0.50066857210523752,0.49544639821619063,0.48937131713810705,0.48500205043809685,0.47722115498193995,0.46773268362380632,0.45756434097647425,0.44723379398656304,0.49544639821619063]
[]
[]
[null,"Ref typique",null,null,null,"Lourd",null,null,null,null,null,null,"Ref typique",null,null,null,"Lourd",null,null,null,null,null,null,"Ref typique",null,null,null,"Lourd",null,null,null,null,null,null,"Ref typique",null,null,null,"Lourd"]
[]
[null,null,28,27,26,25,24,23,22,21,20,{"$f":"TempConsigne","v":26},null,28,27,26,25,24,23,22,21,20,{"$f":"TempConsigne","v":26},null,28,27,26,25,24,23,22,21,20,{"$f":"TempConsigne","v":26},null,28,27,26,25,24,23,22,21,20,{"$f":"TempConsigne","v":26}]
[null,"janvier",{"$f":"C$20*((D433-F433)/(D$20-F$20))+D433-D$20*((D433-F433)/(D$20-F$20))","v":0.65409398228504201},{"$f":"D$20*((E433-G433)/(E$20-G$20))+E433-E$20*((E433-G433)/(E$20-G$20))","v":0.6456961362086493},{"$f":"E$20*((F433-H433)/(F$20-H$20))+F433-F$20*((F433-H433)/(F$20-H$20))","v":0.63765221440825248},0.62890044405586376,0.62156437080745885,0.61139690335108632,0.59920478086128082,0.58567692755954259,0.57124119432900045,{"$f":"HLOOKUP(L432,C432:K444,2,FALSE)","v":0.63765221440825248},"janvier",{"$f":"N$20*((O433-Q433)/(O$20-Q$20))+O433-O$20*((O433-Q433)/(O$20-Q$20))","v":0.51646022560287896},{"$f":"O$20*((P433-R433)/(P$20-R$20))+P433-P$20*((P433-R433)/(P$20-R$20))","v":0.50785914893707185},{"$f":"P$20*((Q433-S433)/(Q$20-S$20))+Q433-Q$20*((Q433-S433)/(Q$20-S$20))","v":0.49954380360395484},0.4906569956054575,0.48291311293772066,0.47288337960846283,0.46187053106891601,0.44936102772919101,0.4367682168808808,{"$f":"HLOOKUP(W432,N432:V444,2,FALSE)","v":0.49954380360395484},"janvier",{"$f":"Y$20*((Z433-AB433)/(Z$20-AB$20))+Z433-Z$20*((Z433-AB433)/(Z$20-AB$20))","v":0.73621651105847552},{"$f":"Z$20*((AA433-AC433)/(AA$20-AC$20))+AA433-AA$20*((AA433-AC433)/(AA$20-AC$20))","v":0.72800931397793567},{"$f":"AA$20*((AB433-AD433)/(AB$20-AD$20))+AB433-AB$20*((AB433-AD433)/(AB$20-AD$20))","v":0.7201805445959506},0.71159491981685585,0.70452300583198046,0.69442367025866636,0.68329944344206761,0.67101573853285557,0.65833042917405704,{"$f":"HLOOKUP(AH432,Y432:AG444,2,FALSE)","v":0.7201805445959506},"janvier",{"$f":"AJ$20*((AK433-AM433)/(AK$20-AM$20))+AK433-AK$20*((AK433-AM433)/(AK$20-AM$20))","v":0.53766284943911891},{"$f":"AK$20*((AL433-AN433)/(AL$20-AN$20))+AL433-AL$20*((AL433-AN433)/(AL$20-AN$20))","v":0.52980727553969154},{"$f":"AL$20*((AM433-AO433)/(AM$20-AO$20))+AM433-AM$20*((AM433-AO433)/(AM$20-AO$20))","v":0.52260284223453135},0.51409612774083691,0.50819397562421087,0.49708269875344807,0.48696146098843923,0.47532475076949893,0.4631752603773846,{"$f":"HLOOKUP(AS432,AJ432:AR444,2,FALSE)","v":0.52260284223453135}]
[null,"fevrier",{"$f":"C$20*((D434-F434)/(D$20-F$20))+D434-D$20*((D434-F434)/(D$20-F$20))","v":0.65434393771725408},0.64624342618997532,{"$f":"E$20*((F434-H434)/(F$20-H$20))+F434-F$20*((F434-H434)/(F$20-H$20))","v":0.63872038910956896},0.63004240313541782,0.62367431494875614,0.61268643118711552,0.5991411534307336,0.5832897738072611,0.56823353059280535,{"$f":"HLOOKUP(L433,C433:K445,2,FALSE)","v":0.63872038910956896},"fevrier",{"$f":"N$20*((O434-Q434)/(O$20-Q$20))+O434-O$20*((O434-Q434)/(O$20-Q$20))","v":0.50155980723115567},0.49239512808933056,{"$f":"P$20*((Q434-S434)/(Q$20-S$20))+Q434-Q$20*((Q434-S434)/(Q$20-S$20))","v":0.48354066994299244},0.47406576980568016,0.46583175365031626,0.4551159695310556,0.44256738035066973,0.42912271114490286,0.41600769566327528,{"$f":"HLOOKUP(W433,N433:V445,2,FALSE)","v":0.48354066994299244},"fevrier",{"$f":"Y$20*((Z434-AB434)/(Z$20-AB$20))+Z434-Z$20*((Z434-AB434)/(Z$20-AB$20))","v":0.73452776783245977},0.72702746166374876,{"$f":"AA$20*((AB434-AD434)/(AB$20-AD$20))+AB434-AB$20*((AB434-AD434)/(AB$20-AD$20))","v":0.71984225695959025},0.71202684932632687,0.70547184755127312,0.69639603405980011,0.68443505273426675,0.67148395425457774,0.65801312822870683,{"$f":"HLOOKUP(AH433,Y433:AG445,2,FALSE)","v":0.71984225695959025},"fevrier",{"$f":"AJ$20*((AK434-AM434)/(AK$20-AM$20))+AK434-AK$20*((AK434-AM434)/(AK$20-AM$20))","v":0.53545303756435558},0.52834576199792538,{"$f":"AL$20*((AM434-AO434)/(AM$20-AO$20))+AM434-AM$20*((AM434-AO434)/(AM$20-AO$20))","v":0.52195953983725696},0.51413121086506497,0.50918709551592012,0.49847455292068116,0.48700270493800174,0.47326831084077819,0.45779115243688162,{"$f":"HLOOKUP(AS433,AJ433:AR445,2,FALSE)","v":0.52195953983725696}]
[null,"mars",0.65867712994535266,0.65103859157571742,0.64387657251505015,0.63576151483644683,0.62955253439371572,0.61953139947924007,0.60613239434963784,0.59108255061224957,0.57572383861286147,0.64387657251505015,"mars",0.48988555787753074,0.48142932631578439,0.47322922086718366,0.46451686319229168,0.4568290099699821,0.44709214784250773,0.43575642857002883,0.42385321612015475,0.41164756297497618,0.47322922086718366,"mars",0.73146019697427822,0.7240190129168832,0.71703375290138183,0.70913664480209304,0.70306323287037897,0.69334242860351547,0.68176741342519365,0.66898883206500936,0.65579663367072105,0.71703375290138183,"mars",0.54107954947695092,0.53224484550829132,0.52350248868598426,0.51457543757097213,0.50601777504137013,0.49672133534094776,0.48637082409927512,0.47473844302570445,0.46210005606422094,0.52350248868598426]
[null,"avril",0.64470738099738278,0.64087406474046238,0.63775284970816548,0.63320743222662157,0.63151041964357157,0.62411659726353375,0.61329833122901045,0.59944997347381568,0.58492249309749633,0.63775284970816548,"avril",0.512290429852853,0.50546357572196432,0.49915759317917613,0.49180986746018707,0.4865456280935998,0.47711441602220894,0.46580568401591127,0.45325180836602202,0.43949803170152607,0.49915759317917613,"avril",0.72716346680614885,0.72361733352837521,0.72061481970704389,0.71652506697282781,0.71460979206438124,0.70834556150439565,0.69932377810443114,0.68833881076788961,0.67624319225820928,0.72061481970704389,"avril",0.54213437661223918,0.53677946832192391,0.5320012982874639,0.52606965174129339,0.52244495821854386,0.51420635864895237,0.5037076805922216,0.49204736868377885,0.47951442411750683,0.5320012982874639]
[null,"mai",0.561636984471099,0.57449023686345657,0.5900084498706073,0.60019674164817172,0.62104487588490886,0.62057332520330044,0.61247165862449859,0.60119724461400426,0.58880796705951688,0.5900084498706073,"mai",0.4242435540554379,0.43054736596204168,0.43872999434688775,0.44315498977524925,0.45509525111657995,0.4520049806319722,0.44343424800883674,0.43258613960419612,0.42163248040633772,0.43872999434688775,"mai",0.70351456250120292,0.70913717043148528,0.71604785439500762,0.72038238629205009,0.72986922232205231,0.72905145008613503,0.72190751991163316,0.71172525888767424,0.69912816718657667,0.71604785439500762,"mai",0.51590455046556927,0.52013918855595453,0.52580558786467324,0.52860846473672496,0.53713838648211076,0.5342142184808284,0.52539260072088834,0.51392037630584297,0.50137436846382821,0.52580558786467324]
[null,"juin",0.39486023333716136,0.4503178217242132,0.51119464550182958,0.56123299849831676,0.63294829305706246,0.66130970449129101,0.65688937609156128,0.64416437694883266,0.62788012494716539,0.51119464550182958,"juin",0.25949725817925806,0.29245487857072661,0.32911727767509924,0.35837011935366359,0.40244207588384434,0.41687580271079233,0.4123521360534107,0.40125876010025169,0.38815604993762998,0.32911727767509924,"juin",0.47470829593159503,0.52344104947815639,0.57651529940288937,0.62090655657127936,0.68266379925235565,0.70968907090805955,0.71324922893983866,0.70699404720139847,0.6965546746940755,0.57651529940288937,"juin",0.23203820639953165,0.28892155484895232,0.35111830735614746,0.40268825174779382,0.47551181237053775,0.5058281405310866,0.50926665675745986,0.50085011914017019,0.48795682518736916,0.35111830735614746]
[null,"juillet",0.31727245968889983,0.38160385723610646,0.45127340601688548,0.51026665233051971,0.59061250357844386,0.62825314495778828,0.62498793372048533,0.61270760266473689,0.59686420108896809,0.45127340601688548,"juillet",0.22705942418556924,0.28419752878073834,0.34703913723950097,0.39847373797107677,0.47272235415702657,0.50134293943422858,0.49934163630773587,0.48641528574167919,0.47072218313540348,0.34703913723950097,"juillet",0.4596727173908457,0.51977500192416604,0.58523834272725062,0.63997957099080682,0.71616502433341933,0.74946202751791913,0.75294752156042344,0.7466254708753175,0.7337961589430172,0.58523834272725062,"juillet",0.19520702561401837,0.26933788088261768,0.34997519315571513,0.41759959141981595,0.51124981770190969,0.55284838794801738,0.55667200846443066,0.54635578070973045,0.53149728888173053,0.34997519315571513]
[null,"aout",0.36042842433552669,0.41690687899670142,0.47883159447115164,0.52986378831905068,0.60268102542005175,0.63192817601484874,0.62926247555853143,0.61669653732119212,0.60136998858342861,0.47883159447115164,"aout",0.24698930788305962,0.2953073415158074,0.34844633594181951,0.39194340878130318,0.45472432479384356,0.47893755446027064,0.47770071983664619,0.46628625657733708,0.45261595042263542,0.34844633594181951,"aout",0.50303781402663272,0.5516432771955242,0.60447737867950124,0.64885420353330736,0.71014558164745567,0.73760785324091982,0.74107932193453163,0.73450075709264351,0.72302175259650592,0.60447737867950124,"aout",0.24820063169837869,0.30993140521717844,0.37731734515028204,0.43339295225477831,0.5120892250164889,0.54554416646377069,0.54850220014856443,0.5383880726929835,0.5238384124576736,0.37731734515028204]
[null,"septembre",0.44572568472500762,0.48748932026863467,0.5342567205037746,0.57101659135588867,0.62779152097405422,0.64453633306011671,0.64001726410222859,0.62885571904077453,0.61497422555822623,0.5342567205037746,"septembre",0.34449730320257482,0.37033560998379528,0.40000739724524675,0.42201222354623619,0.45935097176814971,0.46602187614821516,0.45985248441221122,0.44807143127316695,0.43486734841859609,0.40000739724524675,"septembre",0.59529484665905064,0.61969227312564124,0.64658657218933313,0.66848712605882243,0.70037517031671681,0.71228823379780104,0.70987059630517391,0.70243352371586332,0.69129777500428413,0.64658657218933313,"septembre",0.37849584006676584,0.40796529307372775,0.44072047714536899,0.46690419908765157,0.50623084528865137,0.51927164297221662,0.51633153242028829,0.5064965674408044,0.49330655545350266,0.44072047714536899]
[null,"octobre",0.56685810752914534,0.58055334855650464,0.5964814736163655,0.60794383061122326,0.62833772373608732,0.63086854460093889,0.62329745935633063,0.61153491376126623,0.59761157499790152,0.5964814736163655,"octobre",0.43487481054952765,0.44148836119183366,0.4495556777530243,0.45471546247644568,0.46569031087540558,0.46503503192328849,0.45723851406598737,0.44647461278026951,0.43449348082995926,0.4495556777530243,"octobre",0.67893990035176299,0.68579954475743121,0.69390658914652281,0.69951883356876765,0.7101206779247059,0.71074332241325722,0.70452586683167184,0.69456835972055897,0.68305015789371737,0.69390658914652281,"octobre",0.47680441125998496,0.48511459804775703,0.4950105135816793,0.50173497162330116,0.51480234464952379,0.51518388770654489,0.50843701428329369,0.49829446392161642,0.48694551536638453,0.4950105135816793]
[null,"novembre",0.62820277140370184,0.62716910902600065,0.62686673479803812,0.62510178427059826,0.62626198634211316,0.62157188321571866,0.61346111421118865,0.60192117098078701,0.58999075479268048,0.62686673479803812,"novembre",0.47277170040905214,0.46869123188588185,0.46514371955279477,0.46053029483954133,0.45804869488662053,0.45130344541303441,0.44230913975006159,0.43178323918590972,0.42057552869212311,0.46514371955279477,"novembre",0.71523323254573334,0.71138588255363322,0.70808278187960982,0.70369118256943308,0.70147658053156303,0.6949079839490796,0.68593674976316832,0.67465051520753472,0.66273018531116823,0.70808278187960982,"novembre",0.5119861441836463,0.50857137286537724,0.50577844341991585,0.50174183022883911,0.50019258452899318,0.49366860384668582,0.48430423441778381,0.47388312488591444,0.46194056320174909,0.50577844341991585]
[null,"decembre",0.65423545724571097,0.65065512712371643,0.64767296447466993,0.64349446687972744,0.64170863917657694,0.63513747168984236,0.62530302562289697,0.61301519517492631,0.59905968811172705,0.64767296447466993,"decembre",0.47263627643954548,0.466637519096397,0.46097883134787776,0.45464000441009994,0.44966145585083922,0.44196235053454436,0.43267768827629766,0.42263851751858322,0.41221665213600683,0.46097883134787776,"decembre",0.70700102616241911,0.70251516558468285,0.69855433572547065,0.69354344442921034,0.69063267600704625,0.68352166183668972,0.67350798134311707,0.66212585343059638,0.64958217499300885,0.69855433572547065,"decembre",0.51663033910330391,0.51051480480304823,0.5046515741550095,0.4982837362025368,0.49292511285893192,0.48554806029759129,0.47696547652960009,0.46686223099088819,0.45580451876100075,0.5046515741550095]

{"sheet":"Consommations","index":5,"n_rows":50,"n_cols":10,"rows_kept":50,"cut":false,"hidden":true,"merged":[[48,8,52,8],[39,1,39,2],[23,1,23,2],[27,1,27,2],[31,1,31,2],[35,1,35,2],[1,1,1,3],[7,1,7,3],[1,5,1,9],[20,5,20,9],[31,5,31,9]]}
[]
[null,"Eclairage (200 lux)",null,null,null,"Equipements"]
[null,"Efficience","Puissance surfacique (W/m2)","Source",null,"Type","Référence","Puissance en fonctionnement (kW)","Nombre d'heures par an","Consommation électrique annuelle (kWh/an)"]
[null,"Faible",20,"AICVF",null,"Cuisinière 2 foyers","Proline IH235T",3.5,{"$f":"0.25*365","v":91.25},{"$f":"H4*I4","v":319.375}]
[null,"Moyenne",7,"AICVF",null,"Four 30 L","Proline PMF30",1.5,{"$f":"0.1*365","v":36.5},54.75]
[null,"Forte",5,"AICVF",null,"Réfrigérateur 438 L","LG GTD7043MC",3.04E-2,{"$f":"24*365","v":8760},266.30399999999997]
[null,null,null,null,null,"Lave-linge 9 kg","LG F94V40WHS",{"$f":"58/100","v":0.57999999999999996},100,57.999999999999993]
[null,"Equipements",null,null,null,"Sèche-linge 9 kg","LG RH9V50WH",2.2799999999999998,100,227.99999999999997]
[null,"Type","Puissance surfacique (W/m2)","Source",null,"Lave-vaisselle 14 couverts","LG DF222FP",0.95,100,95]
[null,"T1",{"$f":"($J$19+J25)/G34/365/24*1000","v":7.912765362313201},null,null,"Micro-ondes 25 L","LG MS2535GDS",1.1499999999999999,{"$f":"0.1*365","v":36.5},41.974999999999994]
[null,"T2",{"$f":"($J$19+J26)/G35/365/24*1000","v":5.6978780960287816},null,null,"Cafetière","Philips Senseo Original",1.45,{"$f":"0.1*365","v":36.5},52.924999999999997]
[null,"T3",{"$f":"($J$19+J27)/G36/365/24*1000","v":4.2397023182297158},null,null,"Fer à repasser","Rowenta Focus Excel",2.6,{"$f":"0.1*365","v":36.5},94.9]
[null,"T4",{"$f":"($J$19+J28)/G37/365/24*1000","v":3.7244101221980079},null,null,"Aspirateur","Rowenta Swift Power Cyclonic",0.75,{"$f":"0.2*365","v":73},54.75]
[null,"T5",{"$f":"($J$19+J29)/G38/365/24*1000","v":3.4391264665399484},null,null,"Téléviseur 50 pouces LED","Samsung QE50Q60T",8.6999999999999994E-2,{"$f":"4*365","v":1460},127.02]
[null,"Bureautique",10,"AICVF",null,"Boîtier ADSL","Freebox Revolution",0.02,{"$f":"24*365","v":8760},175.20000000000002]
[null,null,null,null,null,"Boîtier TV","Freebox Revolution",0.02,{"$f":"24*365","v":8760},175.20000000000002]
[null,null,null,null,null,"Ordinateur (chargeur)",null,6.5000000000000002E-2,{"$f":"2*365","v":730},47.45]
[null,null,null,null,null,"Téléphone (chargeur)",null,0.02,{"$f":"1*365","v":365},7.3]
[null,null,null,null,null,"TOTAL",null,null,null,{"$f":"SUM(J4:J18)","v":1798.1490000000001}]
[]
[null,null,null,null,null,"ECS"]
[null,null,null,null,null,"ECS 80 L","Ariston Velis Evo",1.5,{"$f":"1.5*365","v":547.5},{"$f":"H22*I22","v":821.25}]
[]
[null,"Cuisinière",null,null,null,"Typologie",40,60,"Nombre d'heures par an","Consommation électrique annuelle (kWh/an)"]
[null,"électrique",null,null,null,"T1",75,{"$f":"$G25*($G$24-16)/($H$24-16)","v":40.909090909090907},{"$f":"$I$22*H25/80","v":279.97159090909088},{"$f":"$H$22*I25","v":419.95738636363632}]
[null,"gaz",null,null,null,"T2",80,43.636363636363633,298.63636363636363,447.95454545454544]
[null,null,null,null,null,"T3",110,60,410.625,615.9375]
[null,"ECS",null,null,null,"T4",145,79.090909090909093,541.27840909090912,811.91761363636374]
[null,"électrique",null,null,null,"T5",190,103.63636363636364,709.26136363636374,1063.8920454545455]
[null,"solaire",null,null,null,"Logement standard",125,68.181818181818187,466.61931818181819,699.92897727272725]
[]
[null,"Lave-linge",null,null,null,"Taux d'occupation"]
[null,"oui",null,null,null,"Typologie","Superficie moyenne (m2)","Nombre de personnes moyen","m2/personne","Source"]
[null,"non",null,null,null,"T1",32,1.2,{"$f":"G34/H34","v":26.666666666666668}]
[null,null,null,null,null,"T2",45,1.4,{"$f":"G35/H35","v":32.142857142857146}]
[null,"Sèche-linge",null,null,null,"T3",65,1.9,34.210526315789473]
[null,"oui",null,null,null,"T4",80,2.4,33.333333333333336]
[null,"non",null,null,null,"T5",95,2.7,35.185185185185183]
[null,null,null,null,null,"Bureau",null,null,12,"AICVF"]
[null,"Lave-vaisselle",null,null,null,"Salle de classe",null,null,1.5,"AICVF"]
[null,"oui",null,null,null,"Salle informatique",null,null,5,"AICVF"]
[null,"non",null,null,null,"Supermarché",null,null,4,"AICVF"]
[null,null,null,null,null,"Salle de restaurant",null,null,2.5,"AICVF"]
[null,null,null,null,null,"Cuisine et plonge",null,null,15,"AICVF"]
[null,null,null,null,null,"Chambre d'hôtel",null,null,20]
[null,null,null,null,null,"Personnalisé",null,null,{"$f":"I49","v":16.5}]
[]
[null,null,null,null,null,"Typologie","m2/personne","Pourcentage de surface"]
[null,null,null,null,null,"Chambre d'hôtel",{"$f":"VLOOKUP(F49,$F$34:I45,4,FALSE)","v":20},0.8,{"$f":"G49*H49+G50*H50+G51*H51+G52*H52+G53*H53","v":16.5}]
[null,null,null,null,null,"Salle de restaurant",{"$f":"VLOOKUP(F50,$F$34:I46,4,FALSE)","v":2.5},0.2]

{"sheet":"Comparaison","index":6,"n_rows":51,"n_cols":24,"rows_kept":51,"cut":false,"hidden":true,"merged":[[18,3,18,4],[18,5,18,6],[18,7,18,10],[18,11,18,13],[37,15,38,15]]}
[]
[null,"ICI POUR COMPARER",null,"copier coller resultat STD mensuels, le tableau plus bas indique l'écart de chaque composant (attention de bien renseigner l'interface)"]
[null,null,"Date/Heure","Vitrage","Murs","Plafonds (int)","Planchers (int)","Cloisons (int)","Toits","Vent Méca + Vent Nat Ext + Infiltration","Air extérieur",null,"Date/Heure","Eclairage général","Informatiques + Equip.","Occupation","Apports solaires Fenêtres extérieures","Refroid. Sensible zone","Charge Latente Totale",null,null,"Date/Heure","Refroidissement Sensible","Refroidissement Total"]
[null,null,null,"kWh","kWh","kWh","kWh","kWh","kWh","Vol/h","kWh",null,null,"kWh","kWh","kWh","kWh","kWh","kWh",null,null,null,"kWh","kWh"]
[null,null,"2002-01-01",null,null,null,null,null,null,null,null,null,"2002-01-01",null,null,null,null,null,null,null,null,"2002-01-01"]
[null,null,"2002-02-01",null,null,null,null,null,null,null,null,null,"2002-02-01",null,null,null,null,null,null,null,null,"2002-02-01"]
[null,null,"2002-03-01",null,null,null,null,null,null,null,null,null,"2002-03-01",null,null,null,null,null,null,null,null,"2002-03-01"]
[null,null,"2002-04-01",null,null,null,null,null,null,null,null,null,"2002-04-01",null,null,null,null,null,null,null,null,"2002-04-01"]
[null,null,"2002-05-01",null,null,null,null,null,null,null,null,null,"2002-05-01",null,null,null,null,null,null,null,null,"2002-05-01"]
[null,null,"2002-06-01",null,null,null,null,null,null,null,null,null,"2002-06-01",null,null,null,null,null,null,null,null,"2002-06-01"]
[null,null,"2002-07-01",null,null,null,null,null,null,null,null,null,"2002-07-01",null,null,null,null,null,null,null,null,"2002-07-01"]
[null,null,"2002-08-01",null,null,null,null,null,null,null,null,null,"2002-08-01",null,null,null,null,null,null,null,null,"2002-08-01"]
[null,null,"2002-09-01",null,null,null,null,null,null,null,null,null,"2002-09-01",null,null,null,null,null,null,null,null,"2002-09-01"]
[null,null,"2002-10-01",null,null,null,null,null,null,null,null,null,"2002-10-01",null,null,null,null,null,null,null,null,"2002-10-01"]
[null,null,"2002-11-01",null,null,null,null,null,null,null,null,null,"2002-11-01",null,null,null,null,null,null,null,null,"2002-11-01"]
[null,null,"2002-12-01",null,null,null,null,null,null,null,null,null,"2002-12-01",null,null,null,null,null,null,null,null,"2002-12-01"]
[]
[]
[null,null,null,"ENVELOPPE",null,"AIR",null,"INTERNE",null,null,null,"BESOIN REFROIDISSEMENT"]
[null,null,null,"Solaire vitrage","Enveloppe","air SENSIBLE ","air   LATENT","occupation SENSIBLE","occupation LATENT","Éclairage","Équipements","SENSIBLE","LATENT","TOTAL"]
[null,null,"Janvier ",{"$f":"Calculs!#REF!/Q5","v":{"$error":"#REF!"}},{"$f":"Calculs!#REF!/(D5+E5+I5)","v":{"$error":"#REF!"}},{"$f":"(Calculs!#REF!+Calculs!#REF!)/K5","v":{"$error":"#REF!"}},"/",{"$f":"Calculs!C152/P5","v":{"$error":"#DIV/0!"}},"/",{"$f":"Calculs!E152/N5","v":{"$error":"#DIV/0!"}},{"$f":"Calculs!F152/O5","v":{"$error":"#DIV/0!"}},{"$f":"Calculs!#REF!/-W5","v":{"$error":"#REF!"}},{"$f":"-Calculs!#REF!/(X5-W5)","v":{"$error":"#REF!"}},{"$f":"-(Calculs!#REF!+Calculs!#REF!)/X5","v":{"$error":"#REF!"}}]
[null,null,"Février",{"$f":"Calculs!#REF!/Q6","v":{"$error":"#REF!"}},{"$f":"Calculs!#REF!/(D6+E6+I6)","v":{"$error":"#REF!"}},{"$f":"(Calculs!#REF!+Calculs!#REF!)/K6","v":{"$error":"#REF!"}},"/",{"$f":"Calculs!C153/P6","v":{"$error":"#DIV/0!"}},"/",{"$f":"Calculs!E153/N6","v":{"$error":"#DIV/0!"}},{"$f":"Calculs!F153/O6","v":{"$error":"#DIV/0!"}},{"$f":"Calculs!#REF!/-W6","v":{"$error":"#REF!"}},{"$f":"-Calculs!#REF!/(X6-W6)","v":{"$error":"#REF!"}},{"$f":"-(Calculs!#REF!+Calculs!#REF!)/X6","v":{"$error":"#REF!"}}]
[null,null,"Mars",{"$f":"Calculs!#REF!/Q7","v":{"$error":"#REF!"}},{"$f":"Calculs!#REF!/(D7+E7+I7)","v":{"$error":"#REF!"}},{"$f":"(Calculs!#REF!+Calculs!#REF!)/K7","v":{"$error":"#REF!"}},"/",{"$f":"Calculs!C154/P7","v":{"$error":"#DIV/0!"}},"/",{"$f":"Calculs!E154/N7","v":{"$error":"#DIV/0!"}},{"$f":"Calculs!F154/O7","v":{"$error":"#DIV/0!"}},{"$f":"Calculs!#REF!/-W7","v":{"$error":"#REF!"}},{"$f":"-Calculs!#REF!/(X7-W7)","v":{"$error":"#REF!"}},{"$f":"-(Calculs!#REF!+Calculs!#REF!)/X7","v":{"$error":"#REF!"}}]
[null,null,"Avril",{"$f":"Calculs!#REF!/Q8","v":{"$error":"#REF!"}},{"$f":"Calculs!#REF!/(D8+E8+I8)","v":{"$error":"#REF!"}},{"$f":"(Calculs!#REF!+Calculs!#REF!)/K8","v":{"$error":"#REF!"}},"/",{"$f":"Calculs!C155/P8","v":{"$error":"#DIV/0!"}},"/",{"$f":"Calculs!E155/N8","v":{"$error":"#DIV/0!"}},{"$f":"Calculs!F155/O8","v":{"$error":"#DIV/0!"}},{"$f":"Calculs!#REF!/-W8","v":{"$error":"#REF!"}},{"$f":"-Calculs!#REF!/(X8-W8)","v":{"$error":"#REF!"}},{"$f":"-(Calculs!#REF!+Calculs!#REF!)/X8","v":{"$error":"#REF!"}}]
[null,null,"Mai",{"$f":"Calculs!#REF!/Q9","v":{"$error":"#REF!"}},{"$f":"Calculs!#REF!/(D9+E9+I9)","v":{"$error":"#REF!"}},{"$f":"(Calculs!#REF!+Calculs!#REF!)/K9","v":{"$error":"#REF!"}},"/",{"$f":"Calculs!C156/P9","v":{"$error":"#DIV/0!"}},"/",{"$f":"Calculs!E156/N9","v":{"$error":"#DIV/0!"}},{"$f":"Calculs!F156/O9","v":{"$error":"#DIV/0!"}},{"$f":"Calculs!#REF!/-W9","v":{"$error":"#REF!"}},{"$f":"-Calculs!#REF!/(X9-W9)","v":{"$error":"#REF!"}},{"$f":"-(Calculs!#REF!+Calculs!#REF!)/X9","v":{"$error":"#REF!"}}]
[null,null,"Juin",{"$f":"Calculs!#REF!/Q10","v":{"$error":"#REF!"}},{"$f":"Calculs!#REF!/(D10+E10+I10)","v":{"$error":"#REF!"}},{"$f":"(Calculs!#REF!+Calculs!#REF!)/K10","v":{"$error":"#REF!"}},"/",{"$f":"Calculs!C157/P10","v":{"$error":"#DIV/0!"}},"/",{"$f":"Calculs!E157/N10","v":{"$error":"#DIV/0!"}},{"$f":"Calculs!F157/O10","v":{"$error":"#DIV/0!"}},{"$f":"Calculs!#REF!/-W10","v":{"$error":"#REF!"}},{"$f":"-Calculs!#REF!/(X10-W10)","v":{"$error":"#REF!"}},{"$f":"-(Calculs!#REF!+Calculs!#REF!)/X10","v":{"$error":"#REF!"}}]
[null,null,"Juillet",{"$f":"Calculs!#REF!/Q11","v":{"$error":"#REF!"}},{"$f":"Calculs!#REF!/(D11+E11+I11)","v":{"$error":"#REF!"}},{"$f":"(Calculs!#REF!+Calculs!#REF!)/K11","v":{"$error":"#REF!"}},"/",{"$f":"Calculs!C158/P11","v":{"$error":"#DIV/0!"}},"/",{"$f":"Calculs!E158/N11","v":{"$error":"#DIV/0!"}},{"$f":"Calculs!F158/O11","v":{"$error":"#DIV/0!"}},{"$f":"Calculs!#REF!/-W11","v":{"$error":"#REF!"}},{"$f":"-Calculs!#REF!/(X11-W11)","v":{"$error":"#REF!"}},{"$f":"-(Calculs!#REF!+Calculs!#REF!)/X11","v":{"$error":"#REF!"}}]
[null,null,"Août",{"$f":"Calculs!#REF!/Q12","v":{"$error":"#REF!"}},{"$f":"Calculs!#REF!/(D12+E12+I12)","v":{"$error":"#REF!"}},{"$f":"(Calculs!#REF!+Calculs!#REF!)/K12","v":{"$error":"#REF!"}},"/",{"$f":"Calculs!C159/P12","v":{"$error":"#DIV/0!"}},"/",{"$f":"Calculs!E159/N12","v":{"$error":"#DIV/0!"}},{"$f":"Calculs!F159/O12","v":{"$error":"#DIV/0!"}},{"$f":"Calculs!#REF!/-W12","v":{"$error":"#REF!"}},{"$f":"-Calculs!#REF!/(X12-W12)","v":{"$error":"#REF!"}},{"$f":"-(Calculs!#REF!+Calculs!#REF!)/X12","v":{"$error":"#REF!"}}]
[null,null,"Septembre",{"$f":"Calculs!#REF!/Q13","v":{"$error":"#REF!"}},{"$f":"Calculs!#REF!/(D13+E13+I13)","v":{"$error":"#REF!"}},{"$f":"(Calculs!#REF!+Calculs!#REF!)/K13","v":{"$error":"#REF!"}},"/",{"$f":"Calculs!C160/P13","v":{"$error":"#DIV/0!"}},"/",{"$f":"Calculs!E160/N13","v":{"$error":"#DIV/0!"}},{"$f":"Calculs!F160/O13","v":{"$error":"#DIV/0!"}},{"$f":"Calculs!#REF!/-W13","v":{"$error":"#REF!"}},{"$f":"-Calculs!#REF!/(X13-W13)","v":{"$error":"#REF!"}},{"$f":"-(Calculs!#REF!+Calculs!#REF!)/X13","v":{"$error":"#REF!"}}]
[null,null,"Octobre",{"$f":"Calculs!#REF!/Q14","v":{"$error":"#REF!"}},{"$f":"Calculs!#REF!/(D14+E14+I14)","v":{"$error":"#REF!"}},{"$f":"(Calculs!#REF!+Calculs!#REF!)/K14","v":{"$error":"#REF!"}},"/",{"$f":"Calculs!C161/P14","v":{"$error":"#DIV/0!"}},"/",{"$f":"Calculs!E161/N14","v":{"$error":"#DIV/0!"}},{"$f":"Calculs!F161/O14","v":{"$error":"#DIV/0!"}},{"$f":"Calculs!#REF!/-W14","v":{"$error":"#REF!"}},{"$f":"-Calculs!#REF!/(X14-W14)","v":{"$error":"#REF!"}},{"$f":"-(Calculs!#REF!+Calculs!#REF!)/X14","v":{"$error":"#REF!"}}]
[null,null,"Novembre",{"$f":"Calculs!#REF!/Q15","v":{"$error":"#REF!"}},{"$f":"Calculs!#REF!/(D15+E15+I15)","v":{"$error":"#REF!"}},{"$f":"(Calculs!#REF!+Calculs!#REF!)/K15","v":{"$error":"#REF!"}},"/",{"$f":"Calculs!C162/P15","v":{"$error":"#DIV/0!"}},"/",{"$f":"Calculs!E162/N15","v":{"$error":"#DIV/0!"}},{"$f":"Calculs!F162/O15","v":{"$error":"#DIV/0!"}},{"$f":"Calculs!#REF!/-W15","v":{"$error":"#REF!"}},{"$f":"-Calculs!#REF!/(X15-W15)","v":{"$error":"#REF!"}},{"$f":"-(Calculs!#REF!+Calculs!#REF!)/X15","v":{"$error":"#REF!"}}]
[null,null,"Décembre",{"$f":"Calculs!#REF!/Q16","v":{"$error":"#REF!"}},{"$f":"Calculs!#REF!/(D16+E16+I16)","v":{"$error":"#REF!"}},{"$f":"(Calculs!#REF!+Calculs!#REF!)/K16","v":{"$error":"#REF!"}},"/",{"$f":"Calculs!C163/P16","v":{"$error":"#DIV/0!"}},"/",{"$f":"Calculs!E163/N16","v":{"$error":"#DIV/0!"}},{"$f":"Calculs!F163/O16","v":{"$error":"#DIV/0!"}},{"$f":"Calculs!#REF!/-W16","v":{"$error":"#REF!"}},{"$f":"-Calculs!#REF!/(X16-W16)","v":{"$error":"#REF!"}},{"$f":"-(Calculs!#REF!+Calculs!#REF!)/X16","v":{"$error":"#REF!"}}]
[]
[null,null,"D'important écarts en % pour les apports par l'enveloppe peuvent apparaître lorsque ces apports sont faibles. Un écart de 200kWh n'a pas le même impact lorsque les apports sont à 300kWh et quand ils sont à 4000kwWh."]
[]
[]
[null,"POUR COMPARER",null,"copier coller les résultats de \"confort\" de la std, le tableau de droite indique l'écart, attention de bien renseigner l'interface"]
[null,null,"Date/Heure","Humidité relative","Température d'air","Température radiante","Température opérative","Heures d'inconfort (tout type de vêtement)","Température Sèche Air Extérieur",null,null,"Degrés de surchauffe (°C)",null,null,null,"Surchauffe moyenne (°C)"]
[null,null,null,"%","°C","°C","°C","h","°C",null,null,"°C"]
[null,null,"2002-01-01",null,null,null,null,null,null,null,null,{"$f":"E40-I40","v":0},null,null,"Janvier ",{"$f":"Calculs!I169/L40","v":{"$error":"#DIV/0!"}}]
[null,null,"2002-02-01",null,null,null,null,null,null,null,null,0,null,null,"Février",{"$f":"Calculs!I170/L41","v":{"$error":"#DIV/0!"}}]
[null,null,"2002-03-01",null,null,null,null,null,null,null,null,0,null,null,"Mars",{"$f":"Calculs!I171/L42","v":{"$error":"#DIV/0!"}}]
[null,null,"2002-04-01",null,null,null,null,null,null,null,null,0,null,null,"Avril",{"$f":"Calculs!I172/L43","v":{"$error":"#DIV/0!"}}]
[null,null,"2002-05-01",null,null,null,null,null,null,null,null,0,null,null,"Mai",{"$f":"Calculs!I173/L44","v":{"$error":"#DIV/0!"}}]
[null,null,"2002-06-01",null,null,null,null,null,null,null,null,0,null,null,"Juin",{"$f":"Calculs!I174/L45","v":{"$error":"#DIV/0!"}}]
[null,null,"2002-07-01",null,null,null,null,null,null,null,null,0,null,null,"Juillet",{"$f":"Calculs!I175/L46","v":{"$error":"#DIV/0!"}}]
[null,null,"2002-08-01",null,null,null,null,null,null,null,null,0,null,null,"Août",{"$f":"Calculs!I176/L47","v":{"$error":"#DIV/0!"}}]
[null,null,"2002-09-01",null,null,null,null,null,null,null,null,0,null,null,"Septembre",{"$f":"Calculs!I177/L48","v":{"$error":"#DIV/0!"}}]
[null,null,"2002-10-01",null,null,null,null,null,null,null,null,0,null,null,"Octobre",{"$f":"Calculs!I178/L49","v":{"$error":"#DIV/0!"}}]
[null,null,"2002-11-01",null,null,null,null,null,null,null,null,0,null,null,"Novembre",{"$f":"Calculs!I179/L50","v":{"$error":"#DIV/0!"}}]
[null,null,"2002-12-01",null,null,null,null,null,null,null,null,0,null,null,"Décembre",{"$f":"Calculs!I180/L51","v":{"$error":"#DIV/0!"}}]