{"text_format":"1","workbook":"xlsx","n_sheets":7,"sheets":["Interface","Hypothèses","Calculs","Données1","Données2","Consommations","Comparaison"],"not_rendered":{"charts":1,"images":13,"macros":1,"external_links":0,"defined_names":151,"comments":2,"pivot_tables":0},"unopened":[],"bounds":{"document_bytes":16777216,"sheet_cells":100000,"rows_first":2000,"rows_last":500,"rows_between":2000,"halvings":0,"cell_chars":16384,"cell_head_chars":4096},"cells_cut":0,"cells_raw":0,"read":"whole","date_system":"1900"}

{"sheet":"Interface","index":0,"n_rows":63,"n_cols":18,"rows_kept":63,"cut":false,"hidden":false,"merged":[[25,2,27,3],[30,9,30,10],[32,9,32,10],[34,3,34,5],[36,9,36,10],[34,9,34,10],[32,4,32,5],[28,9,28,10],[26,9,26,10],[14,9,14,10],[16,9,16,10],[18,9,18,10],[24,9,24,10],[3,2,5,3],[3,7,5,8],[11,7,13,8],[21,7,23,8],[11,2,13,3],[6,4,6,5],[8,4,8,5],[22,4,22,5],[49,3,50,3],[42,9,42,10],[44,9,44,10],[38,9,38,10],[40,9,40,10],[48,4,48,5],[49,4,50,4],[49,5,50,5],[42,4,42,5],[37,2,38,3]]}
[]
[]
[]
[null,null,"Localisation",null,null,null,null,"Occupation"]
[null,null,null,null,null,null,null,null,null,null,null,null,null,null,"Température de consigne"]
[]
[null,null,null,"Station météo","Cayenne",null,null,null,"Densité d'occupants (m²/pers)",10,null,null,null,null,"Secteurs","Pas encore de consensus"]
[]
[null,null,null,"Secteur","Enseignement",null,null,null,"Valeur d'ajustement occupation ",0,null,null,null,null,"Valeurs d'ajutement occupation",null,null,"Mettre une valeur par défaut et le programmiste choisit ?"]
[]
[null,null,null,null,null,null,null,null,null,null,null,null,null,null,"Taux de percement"]
[null,null,"Géométrie",null,null,null,null,"Protection solaire"]
[null,null,null,null,null,null,null,null,null,null,null,null,null,null,"Ventilation naturelle",null,"5-15-50"]
[]
[null,null,null,"Surface utile totale (m²)",3000,null,null,null,"Facteur solaire des murs","LEKOL LOJIK",null,null,null,null,"Consommation des équipements spécifiques",null,null,"valeurs en kW, prendre le planning et appliquer un coef (0.6)"]
[]
[null,null,null,"Nombre de niveaux",2,null,null,null,"Facteur solaire des baies","LEKOL LOJIK",null,null,null,null,"Résultats finaux","Retirer tout (image)"]
[]
[null,null,null,"Rapport Longueur / Largeur",3.5,null,null,null,"Facteur solaire de la toiture","LEKOL LOJIK"]
[]
[null,null,null,"Taux de percement / plancher",0.2]
[null,null,null,null,null,null,null,"Equipements"]
[null,null,null,"Orientation façades principales","Est / Ouest"]
[]
[null,null,null,null,null,null,null,null,"Brasseurs d'air","Performant",null,{"$f":"Conso(BanqueConso,I25,J25,$E$9)","v":7}]
[null,null,"Climatisation"]
[null,null,null,null,null,null,null,null,"Ventilation","Niveau de base",null,{"$f":"Conso(BanqueConso,I27,J27,$E$9)","v":5}]
[]
[null,null,null,"Surface climatisée (%)",0.15,{"$f":"Surface*SurfaceClimatisée","v":450},null,null,"Eau chaude sanitaire","Performant",null,{"$f":"Conso(BanqueConso,I29,J29,$E$9)","v":3}]
[]
[null,null,null,"Température de consigne (°C)",26,null,null,null,"Eclairage intérieur","Performant",null,{"$f":"Conso(BanqueConso,I31,J31,$E$9)","v":8}]
[]
[null,null,null,"Fonctionnement du climatiseur","7-18h, L-V",null,null,null,"Eclairage extérieur","Performant",null,{"$f":"Conso(BanqueConso,I33,J33,$E$9)","v":3}]
[]
[null,null,"Installation","Centralisée DRV - Performant",null,null,null,null,"Bureautique","Niveau de base",null,{"$f":"Conso(BanqueConso,I35,J35,$E$9)","v":20}]
[]
[null,null,null,null,null,null,null,null,"Froid alimentaire","Niveau de base",null,{"$f":"Conso(BanqueConso,I37,J37,$E$9)","v":10}]
[null,null,"Ventilation"]
[null,null,null,null,null,null,null,null,"Chaud alimentaire","Niveau de base",null,{"$f":"Conso(BanqueConso,I39,J39,$E$9)","v":6}]
[]
[null,null,null,"VMC (m3/pers.h) | Planning",18,"Permanent",null,null,"Autres","Sans objet",null,{"$f":"Conso(BanqueConso,I41,J41,$E$9)","v":0}]
[]
[null,null,null,"Potentiel de ventilation naturelle","Décharge (15 vol/h)",null,null,null,"Equip. spé. avec apports (W/m²)",null,null,{"$f":"Calculs!M125","v":0}]
[]
[null,null,null,null,null,null,null,null,"Equip. spé. sans apports (W/m²)",null,null,{"$f":"Calculs!M132","v":0}]
[]
[]
[]
[null,null,null,"Climatisation","Ventilation naturelle"]
[null,null,null,"Besoin (kWh/m²)","Horaires ≥ 30°C","% de temps ≥ 30°C",null,"Climatisation"]
[null,null,null,null,null,null,null,{"$f":"Calculs!BB153","v":118.91245592775127},"Besoin (kWh/m²clim.an)"]
[null,null,"Janvier",{"$f":"Calculs!K152","v":13.890266839485953},{"$f":"Calculs!K169","v":"15h-20h"},{"$f":"Calculs!L169","v":0.25},null,{"$f":"IF(OR(Surface=0,D35=\"\"),\"\",H51/Calculs!BB158)","v":30.257622373473605},"Consommation (kWh/m²clim.an)"]
[null,null,"Février",{"$f":"Calculs!K153","v":6.1932689890385184},{"$f":"Calculs!K170","v":"15h-19h"},{"$f":"Calculs!L170","v":0.20833333333333334},null,{"$f":"H52*F29/1000","v":13.615930068063122},"Consommation (MWh/an)"]
[null,null,"Mars",{"$f":"Calculs!K154","v":13.371484114250448},{"$f":"Calculs!K171","v":"15h-19h"},{"$f":"Calculs!L171","v":0.20833333333333334}]
[null,null,"Avril",{"$f":"Calculs!K155","v":7.3669128066351508},{"$f":"Calculs!K172","v":"14h-20h"},{"$f":"Calculs!L172","v":0.29166666666666669},null,"Consommation"]
[null,null,"Mai",{"$f":"Calculs!K156","v":16.09942685240803},{"$f":"Calculs!K173","v":"14h-21h"},{"$f":"Calculs!L173","v":0.33333333333333331},null,{"$f":"IF(D35=\"\",\"\",Calculs!BB159*(1000/Surface))","v":66.538643356021041},"Consommation surf. (kWh/m².an)"]
[null,null,"Juin",{"$f":"Calculs!K157","v":13.568902769962312},{"$f":"Calculs!K174","v":"15h-20h"},{"$f":"Calculs!L174","v":0.25}]
[null,null,"Juillet",{"$f":"Calculs!K158","v":0},{"$f":"Calculs!K175","v":"14h-21h"},{"$f":"Calculs!L175","v":0.33333333333333331},null,"Ventilation naturelle"]
[null,null,"Août",{"$f":"Calculs!K159","v":0},{"$f":"Calculs!K176","v":"13h-22h"},{"$f":"Calculs!L176","v":0.41666666666666669},null,{"$f":"SUM(Calculs!J169:J180)","v":2836},"Nombre d'heures annuel ≥ 30°C"]
[null,null,"Septembre",{"$f":"Calculs!K160","v":16.588721515429338},{"$f":"Calculs!K177","v":"13h-22h"},{"$f":"Calculs!L177","v":0.41666666666666669},null,{"$f":"H59/8760","v":0.32374429223744294},{"$f":"\"Pourcentage de temps ≥ 30°C  (%)\"","v":"Pourcentage de temps ≥ 30°C  (%)"}]
[null,null,"Octobre",{"$f":"Calculs!K161","v":13.506607547856815},{"$f":"Calculs!K178","v":"12h-22h"},{"$f":"Calculs!L178","v":0.45833333333333331},null,{"$f":"AVERAGE(Calculs!I169:I180)","v":0.76441708148665422},"Surchauffe moyenne (°C)"]
[null,null,"Novembre",{"$f":"Calculs!K162","v":11.104832680511807},{"$f":"Calculs!K179","v":"13h-21h"},{"$f":"Calculs!L179","v":0.375}]
[null,null,"Décembre",{"$f":"Calculs!K163","v":7.2220318121728919},{"$f":"Calculs!K180","v":"14h-21h"},{"$f":"Calculs!L180","v":0.33333333333333331}]

{"sheet":"Hypothèses","index":1,"n_rows":62,"n_cols":40,"rows_kept":62,"cut":false,"hidden":true,"merged":[[27,1,27,2],[25,1,25,2],[24,1,24,2],[44,14,44,17],[37,14,37,17],[38,14,38,17],[39,14,39,17],[6,16,11,18],[7,1,7,2],[8,1,8,2],[14,1,14,2],[20,1,20,2],[10,1,10,2],[11,1,11,2],[12,1,12,2],[22,1,22,2],[21,1,21,2],[1,1,1,2],[2,1,2,2],[4,1,4,2],[5,1,5,2],[6,1,6,2],[12,22,13,23],[12,24,12,28],[48,15,48,17],[48,30,48,32],[48,27,48,29],[48,18,48,20],[48,21,48,23],[48,24,48,26],[45,14,45,17],[46,14,46,18],[36,14,36,17],[40,14,40,17],[41,14,41,17],[42,14,42,17],[43,14,43,17],[12,29,12,33],[12,34,12,38]]}
[]
[null,{"$f":"Interface!E7","v":"Cayenne"},null,"Station météo"]
[null,"Logement individuel",null,"Secteur"]
[]
[null,{"$f":"Interface!E15","v":3000},null,"Surface SHON totale (m²)"]
[null,{"$f":"Interface!E19","v":3.5},null,"Rapport Longueur/Largeur",null,null,null,null,null,null,null,null,null,null,null,5.85,"Etanchéité par défaut des fenêtres (m3/h/m²)"]
[null,{"$f":"Interface!E17","v":2},null,"Nombre de niveaux",null,null,null,null,null,null,null,null,null,null,"Logement",1,"Etanchéité par défaut des murs (m3/h/m²)"]
[null,{"$f":"Interface!E23","v":"Est / Ouest"},null,"Orientation des plus grandes façades",null,null,null,null,null,null,null,null,null,null,"Commerces",2.5]
[null,{"$f":"Interface!E21","v":0.2},null,"Taux de percement ramené au plancher (%)",null,null,null,null,null,null,null,null,null,null,"Bureaux",1.2]
[null,null,null,null,null,null,null,null,null,null,null,null,null,null,"Enseignement",1.2]
[null,{"$f":"Interface!J15","v":"LEKOL LOJIK"},null,"Facteur solaire murs",null,null,null,null,null,null,null,null,null,null,"Santé",1.2]
[null,{"$f":"Interface!J17","v":"LEKOL LOJIK"},null,"Facteur solaire vitrage",null,null,null,null,null,null,null,null,null,null,"Hôtellerie",1.2]
[null,{"$f":"Interface!J19","v":"LEKOL LOJIK"},null,"Facteur solaire toiture",null,null,null,null,null,null,null,null,null,null,null,null,null,null,null,null,null,null,"Guyane",null,"Facteurs solaire murs",null,null,null,null,"Facteurs solaires baies",null,null,null,null,"Conductance"]
[null,null,null,null,null,null,null,null,null,null,null,null,null,null,"Valeurs d'occupation par défaut en fonction du secteur",null,null,null,null,null,null,null,null,null,{"$f":"Données1!O5","v":"Base"},{"$f":"Données1!O6","v":"RTAA DOM 2016"},{"$f":"Données1!O7","v":"Ecodom"},{"$f":"Données1!O8","v":"NF Habitat HQE"},{"$f":"Données1!O9","v":"LEKOL LOJIK"},{"$f":"Y14","v":"Base"},{"$f":"Z14","v":"RTAA DOM 2016"},"Ecodom","NF Habitat HQE","LEKOL LOJIK",{"$f":"AD14","v":"Base"},{"$f":"AE14","v":"RTAA DOM 2016"},{"$f":"AF14","v":"Ecodom"},{"$f":"AG14","v":"NF Habitat HQE"},{"$f":"AH14","v":"LEKOL LOJIK"}]
[null,{"$f":"Interface!J9","v":0},null,"Valeur d'ajustement occupation ",null,null,null,null,null,30,"Température de référence (°C)",null,null,null,null,"Logement","Commerces","Bureaux","Enseignement","Santé","Hôtellerie",null,null,"Nord",0.12,0.09,5.3999999999999999E-2,7.0000000000000007E-2,0.08,0.9,0.7,0.7,0.5,0.6,2,1.8,1.6,1.5,1.8,"Murs"]
[null,null,{"$f":"Interface!J7","v":10},"Densité d'occupants (m²/personne)",null,null,null,null,null,null,null,null,null,null,"Janvier",1,1,1,1,1,1,null,null,"Est",0.12,0.09,5.3999999999999999E-2,7.0000000000000007E-2,0.06,0.8,0.6,0.6,0.4,0.4,0.5,0.45,0.4,0.375,0.45,"Toitures"]
[null,null,null,null,null,null,null,null,null,"Valeurs par défaut",null,null,null,null,"Février",1,1,1,0.5,1,1,null,null,"Sud",0.12,0.09,5.3999999999999999E-2,7.0000000000000007E-2,0.08,0.9,0.7,0.7,0.5,0.6,5,5,5,5,5,"Vitrages"]
[null,null,null,null,null,null,null,null,null,null,null,null,null,null,"Mars",1,1,1,1,1,1,null,null,"Ouest",0.12,0.09,5.3999999999999999E-2,7.0000000000000007E-2,0.06,0.8,0.6,0.6,0.4,0.4,0.7,0.7,0.7,0.7,0.7,"So"]
[null,null,null,null,null,null,null,null,null,"Moyen","Niveau d'inertie",null,null,null,"Avril",1,1,1,0.5,1,1,null,null,"Nord-Est",0.12,0.09,5.3999999999999999E-2,7.0000000000000007E-2,7.0000000000000007E-2,0.8,0.6,0.6,0.4,0.5]
[null,null,null,null,null,null,null,null,null,2,"Umurs de base (Sans He et Hi)",null,null,null,"Mai",1,1,1,1,1,1,null,null,"Nord-Ouest",0.12,0.09,5.3999999999999999E-2,7.0000000000000007E-2,7.0000000000000007E-2,0.8,0.6,0.6,0.4,0.5]
[null,{"$f":"Interface!E31","v":26},null,"Température de consigne (°C)",null,null,null,null,null,0.5,"Utoiture de base (Sans He et Hi)",null,null,null,"Juin",1,1,1,1,1,1,null,null,"Sud-Ouest",0.12,0.09,5.3999999999999999E-2,7.0000000000000007E-2,7.0000000000000007E-2,0.8,0.6,0.6,0.4,0.5]
[null,{"$f":"Interface!E29","v":0.15},null,"Surface climatisée (%)",null,null,null,null,null,0.5,"Pourcentage d'amélioration Umurs / Fs",null,null,null,"Juillet",1,1,1,0,1,1,null,null,"Sud-Est",0.12,0.09,5.3999999999999999E-2,7.0000000000000007E-2,7.0000000000000007E-2,0.8,0.6,0.6,0.4,0.5]
[null,{"$f":"Interface!E33","v":"7-18h, L-V"},null,"Planning de fonctionnement Climatiseur",null,null,null,null,null,0.5,"Pourcentage d'amélioration Utoiture / Fs",null,null,null,"Août",1,0.5,1,0,1,1,null,null,"Toiture",0.05,0.03,1.7999999999999999E-2,0.01,1.4999999999999999E-2]
[null,null,null,null,null,null,null,null,null,"SV","Type de vitrage",null,null,null,"Septembre",1,1,1,1,1,1]
[null,{"$f":"Interface!E41","v":18},null,"VMC : Renouvellement d'air contrôlé (m3/pers.h)",null,null,null,null,null,5,"Uw",null,null,null,"Octobre",1,1,1,{"$f":"3/4","v":0.75},1,1]
[null,{"$f":"Interface!F41","v":"Permanent"},null,"Planning de la VMC",null,null,null,null,null,0.7,"SHGC",null,null,null,"Novembre",1,1,1,0.75,1,1]
[null,null,null,null,null,null,null,null,null,0.87,"Facteur solaire du vitrage",null,null,null,"Décembre",1,1,1,0.5,1,1]
[null,"Base (5 vol/h)",null,"Potentiel de ventilation naturelle",null,null,null,null,null,4,"Vitesse du vent considérée (m/s)"]
[null,null,null,null,null,null,null,null,null,0.9,"Coefficient de modulation du vent",null,null,null,"Secteur","Planning associé","Par déf (h/sem)"]
[null,null,null,null,null,null,null,null,null,120,"Métabolisme (W)",null,null,null,"Logement","18h-8h L-V, Permanent le week-end",{"$f":"5*(6+8)+24*2","v":118}]
[null,null,null,null,null,null,null,null,null,{"$f":"Hypothèses!J15","v":30},"Seuil de température d'inconfort",null,null,null,"Commerces","9h-20h, L-S",{"$f":"(20-9)*6","v":66}]
[null,null,null,null,null,null,null,null,null,0,"Epaisseur de dalle par défaut (m)",null,null,null,"Bureaux","8h-18h, L-V",50]
[null,null,null,null,null,null,null,null,null,2.7,"Hauteur sous plafond par défaut (m)",null,null,null,"Enseignement","8h-17h, L-V",45]
[null,null,null,null,null,null,null,null,null,0,"Epaisseur des murs (m)",null,null,null,"Santé","18h-8h L-V, Permanent le week-end",118]
[null,null,null,null,null,null,null,null,null,0.87,"Clair de jour des percements (%)",null,null,null,"Hôtellerie","18h-9h, L-D",105]
[null,null,null,null,null,null,null,null,null,1,"Coefficient de réduction des équipements spé"]
[null,null,null,null,null,null,null,null,null,{"$f":"1.5*0.55","v":0.82500000000000007},"Coefficient SEER Centralisée eau glacée",null,null,null,"Type de climatiseur",null,null,null,"Initial","Final"]
[null,null,null,null,null,null,null,null,null,0.6,"Coefficient SEER Centralisée VRV",null,null,null,"Centralisée EG - Niveau de base",null,null,null,{"$f":"Données1!AR28","v":3},{"$f":"S38*Hypothèses!$J$37","v":2.4750000000000001}]
[null,null,null,null,null,null,null,null,null,0.65,"Coefficient SEER Climatisation Individuelle",null,null,null,"Centralisée EG - Performant",null,null,null,{"$f":"Données1!AR29","v":3.25},{"$f":"S39*Hypothèses!$J$37","v":2.6812500000000004}]
[null,null,null,null,null,null,null,null,null,null,null,null,null,null,"Centralisée EG - Très Performant",null,null,null,{"$f":"Données1!AR30","v":3.6},{"$f":"S40*Hypothèses!$J$37","v":2.97}]
[null,null,null,null,null,null,null,null,null,"Solener","Mot de passe",null,null,null,"Centralisée DRV - Niveau de base",null,null,null,{"$f":"Données1!AS28","v":5.75},{"$f":"Hypothèses!$J$38*S41","v":3.4499999999999997}]
[null,null,null,null,null,null,null,null,null,false,"Verrouillage",null,null,null,"Centralisée DRV - Performant",null,null,null,{"$f":"Données1!AS29","v":6.55},{"$f":"Hypothèses!$J$38*S42","v":3.9299999999999997}]
[null,null,null,null,null,null,null,null,null,null,null,null,null,null,"Centralisée DRV - Très Performant",null,null,null,{"$f":"Données1!AS30","v":7.5},{"$f":"Hypothèses!$J$38*S43","v":4.5}]
[null,null,null,null,null,null,null,null,null,null,null,null,null,null,"Individuelle - Niveau de base",null,null,null,{"$f":"Données1!AT28","v":6.3},{"$f":"S44*Hypothèses!$J$39","v":4.0949999999999998}]
[null,null,null,null,null,null,null,null,null,null,null,null,null,null,"Individuelle - Performant",null,null,null,{"$f":"Données1!AT29","v":7.75},{"$f":"S45*Hypothèses!$J$39","v":5.0375000000000005}]
[null,null,null,null,null,null,null,null,null,null,null,null,null,null,"Individuelle - Très Performant",null,null,null,{"$f":"Données1!AT30","v":9.25},{"$f":"S46*Hypothèses!$J$39","v":6.0125000000000002}]
[null,null,null,null,null,null,null,null,null,null,null,null,null,null,"SEER final",null,null,null,null,{"$f":"IF(Interface!D35=\"\",\"\",VLOOKUP(Interface!D35,Hypothèses!O38:T46,6,FALSE))","v":3.9299999999999997}]
[]
[null,null,null,null,null,null,null,null,null,null,null,null,null,null,"Typologie","Logement",null,null,"Commerces",null,null,"Bureaux",null,null,"Enseignement",null,null,"Santé",null,null,"Hôtellerie"]
[null,null,null,null,null,null,null,null,null,null,null,null,null,null,"Niveau de consommation","Niveau de base","Performant","Très performant","Niveau de base","Performant","Très performant","Niveau de base","Performant","Très performant","Niveau de base","Performant","Très performant","Niveau de base","Performant","Très performant","Niveau de base","Performant","Très performant"]
[null,null,null,null,null,null,null,null,null,null,null,null,null,null,"Climatisation",40,25,5,70,40,10,80,40,10,40,25,10,100,45,15,40,25,10]
[null,null,null,null,null,null,null,null,null,null,null,null,null,null,"Brasseurs d'air",10,5,2,10,5,2,8,4,2,15,7,3,8,4,2,12,6,2]
[null,null,null,null,null,null,null,null,null,null,null,null,null,null,"Ventilation",3,2,1,3,2,1,3,2,1,5,3,1,5,3,1,3,2,1]
[null,null,null,null,null,null,null,null,null,null,null,null,null,null,"Eau chaude sanitaire",6,3,1,6,3,1,6,3,1,6,3,1,10,5,2,10,5,2]
[null,null,null,null,null,null,null,null,null,null,null,null,null,null,"Eclairage intérieur",8,5,3,40,20,10,15,8,4,15,8,4,19,12,5,8,5,3]
[null,null,null,null,null,null,null,null,null,null,null,null,null,null,"Eclairage extérieur",5,3,1,5,3,1,5,3,1,5,3,1,5,3,1,5,3,1]
[null,null,null,null,null,null,null,null,null,null,null,null,null,null,"Bureautique",12,9,5,20,12,5,40,20,10,20,12,5,15,11,6,9,6,3]
[null,null,null,null,null,null,null,null,null,null,null,null,null,null,"Froid alimentaire",45,25,15,35,20,7,10,5,1,10,5,1,7,3,1,19,9,2]
[null,null,null,null,null,null,null,null,null,null,null,null,null,null,"Chaud alimentaire",7,5,3,6,3,1,6,3,1,6,3,1,10,6,3,20,12,5]
[null,null,null,null,null,null,null,null,null,null,null,null,null,null,"Autres",12,9,6,10,6,2,10,6,2,10,6,2,10,6,2,10,6,2]
[null,null,null,null,null,null,null,null,null,null,null,null,null,null,"Consommation (kWh/m² par an)",{"$f":"SUM(P51:P60)","v":148},{"$f":"SUM(Q51:Q60)","v":91},42,205,114,40,183,94,33,132,75,29,189,98,38,136,79,31]
[null,null,null,null,null,null,null,null,null,null,null,null,null,null,"En kWh/m2 (pour 70 m²)",{"$f":"P61*70","v":10360},{"$f":"Q61*70","v":6370},2940]

{"sheet":"Calculs","index":2,"n_rows":270,"n_cols":55,"rows_kept":270,"cut":false,"hidden":true,"merged":[[148,31,148,48],[47,3,47,4],[42,3,42,4],[38,20,38,21],[39,20,39,21],[38,10,38,11],[39,10,39,11],[38,12,38,13],[39,12,39,13],[38,16,38,17],[39,16,39,17],[38,18,38,19],[39,18,39,19],[38,14,38,15],[39,14,39,15],[71,1,71,5],[22,10,23,10],[22,11,23,11],[43,3,43,4],[44,3,44,4],[46,3,46,4],[39,8,39,9],[15,1,15,5],[38,1,38,5],[38,8,38,9],[22,8,23,8],[22,9,23,9],[48,3,48,4],[56,9,56,12],[57,9,57,10],[57,11,57,12],[54,1,54,5],[98,1,98,5],[164,1,164,5],[115,1,115,5],[131,1,131,5],[147,1,147,5],[166,2,166,5],[149,8,149,9],[149,2,149,5],[166,7,167,7],[166,9,167,9],[57,26,57,27],[166,10,167,10],[149,6,149,7],[166,11,167,11],[56,14,56,17],[57,14,57,15],[57,16,57,17],[149,12,149,13],[149,14,149,15],[149,16,149,17],[100,8,100,10],[149,18,149,19],[149,20,149,21],[149,26,149,27],[100,5,100,7],[102,7,113,7],[56,39,56,42],[57,39,57,40],[57,41,57,42],[149,22,149,23],[149,24,149,25],[56,29,56,32],[57,29,57,30],[57,31,57,32],[56,34,56,37],[57,34,57,35],[57,36,57,37],[56,19,56,22],[57,19,57,20],[57,21,57,22],[56,24,56,27],[57,24,57,25],[149,28,149,29],[149,31,149,32],[149,43,149,44],[149,45,149,46],[149,47,149,48],[149,50,149,51],[149,33,149,34],[149,35,149,36],[149,37,149,38],[149,39,149,40],[149,41,149,42]]}
[]
["Surface par niveau (m²)",{"$f":"Surface/NombreNiveaux","v":1500},null,null,"Surface de toiture (m²)",{"$f":"B4*B5","v":1500.0000000000002},null,"Nord",{"$f":"IF(Station=Données1!$J$5,HLOOKUP(FsMur,Hypothèses!$Y$14:$AC$23,J2,FALSE),IF(Station=Données1!$J$6,HLOOKUP(FsMur,Hypothèses!$Y$26:$AC$35,J2,FALSE)))","v":0.08},2,"Murs",{"$f":"IF(Station=Données1!$J$5,HLOOKUP(FsMur,Hypothèses!$AI$14:$AM$18,M2,FALSE),IF(Station=Données1!$J$6,HLOOKUP(FsMur,Hypothèses!$AI$26:$AM$30,M2,FALSE)))","v":1.8},2]
["Hauteur du bâtiment (m)",{"$f":"(Hypothèses!J32+Hypothèses!J33)*NombreNiveaux","v":5.4},null,null,"Volume total (m3)",{"$f":"Surface*Hypothèses!J33","v":8100.0000000000009},null,"Est",{"$f":"IF(Station=Données1!$J$5,HLOOKUP(FsMur,Hypothèses!$Y$14:$AC$23,J3,FALSE),IF(Station=Données1!$J$6,HLOOKUP(FsMur,Hypothèses!$Y$26:$AC$35,J3,FALSE)))","v":0.06},3,"Toiture",{"$f":"IF(Station=Données1!$J$5,HLOOKUP(FsToiture,Hypothèses!$AI$14:$AM$18,M3,FALSE),IF(Station=Données1!$J$6,HLOOKUP(FsToiture,Hypothèses!$AI$26:$AM$30,M3,FALSE)))","v":0.45},3]
["Largeur du bâtiment ext (m)",{"$f":"SQRT(B2/RapportForme)+Hypothèses!J34","v":20.701966780270627},null,null,"Volume par niveau (m3)",{"$f":"B2*Hypothèses!J33","v":4050.0000000000005},null,"Sud",{"$f":"IF(Station=Données1!$J$5,HLOOKUP(FsMur,Hypothèses!$Y$14:$AC$23,J4,FALSE),IF(Station=Données1!$J$6,HLOOKUP(FsMur,Hypothèses!$Y$26:$AC$35,J4,FALSE)))","v":0.08},4,"Vitrages",{"$f":"IF(Station=Données1!$J$5,HLOOKUP(FsBaie,Hypothèses!$AI$14:$AM$18,M4,FALSE),IF(Station=Données1!$J$6,HLOOKUP(FsBaie,Hypothèses!$AI$26:$AM$30,M4,FALSE)))","v":5},4]
["Longueur ext du bâtiment (m)",{"$f":"SQRT(B2*RapportForme)+Hypothèses!J34","v":72.456883730947197},null,null,"Surface totale de vitrage (m²)",{"$f":"TauxPercement*Surface*Hypothèses!J35","v":522},null,"Ouest",{"$f":"IF(Station=Données1!$J$5,HLOOKUP(FsMur,Hypothèses!$Y$14:$AC$23,J5,FALSE),IF(Station=Données1!$J$6,HLOOKUP(FsMur,Hypothèses!$Y$26:$AC$35,J5,FALSE)))","v":0.06},5,"So",{"$f":"IF(Station=Données1!$J$5,HLOOKUP(FsBaie,Hypothèses!$AI$14:$AM$18,M5,FALSE),IF(Station=Données1!$J$6,HLOOKUP(FsBaie,Hypothèses!$AI$26:$AM$30,M5,FALSE)))","v":0.7},5]
[null,null,null,null,null,null,null,"Nord-Est",{"$f":"IF(Station=Données1!$J$5,HLOOKUP(FsMur,Hypothèses!$Y$14:$AC$23,J6,FALSE),IF(Station=Données1!$J$6,HLOOKUP(FsMur,Hypothèses!$Y$26:$AC$35,J6,FALSE)))","v":7.0000000000000007E-2},6]
["Orientation",{"$f":"IF(Orientation=\"Nord / Sud\",\"Nord\",IF(Orientation=\"Nord-Est / Sud-Ouest\",\"Nord-Est\",IF(Orientation=\"Est / Ouest\",\"Est\",\"Nord-Ouest\")))","v":"Est"},{"$f":"IF(Orientation=\"Nord / Sud\",\"Est\",IF(Orientation=\"Nord-Est / Sud-Ouest\",\"Sud-Est\",IF(Orientation=\"Est / Ouest\",\"Sud\",\"Nord-Est\")))","v":"Sud"},{"$f":"IF(Orientation=\"Nord / Sud\",\"Sud\",IF(Orientation=\"Nord-Est / Sud-Ouest\",\"Sud-Ouest\",IF(Orientation=\"Est / Ouest\",\"Ouest\",\"Sud-Est\")))","v":"Ouest"},{"$f":"IF(Orientation=\"Nord / Sud\",\"Ouest\",IF(Orientation=\"Nord-Est / Sud-Ouest\",\"Nord-Ouest\",IF(Orientation=\"Est / Ouest\",\"Nord\",\"Sud-Ouest\")))","v":"Nord"},null,null,"Nord-Ouest",{"$f":"IF(Station=Données1!$J$5,HLOOKUP(FsMur,Hypothèses!$Y$14:$AC$23,J7,FALSE),IF(Station=Données1!$J$6,HLOOKUP(FsMur,Hypothèses!$Y$26:$AC$35,J7,FALSE)))","v":7.0000000000000007E-2},7]
["Surface totale ext  (m²)",{"$f":"Calculs!$B$5*Calculs!$B$3","v":391.26717214711488},{"$f":"Calculs!$B$4*Calculs!$B$3","v":111.7906206134614},{"$f":"Calculs!$B$5*Calculs!$B$3","v":391.26717214711488},{"$f":"Calculs!$B$4*Calculs!$B$3","v":111.7906206134614},{"$f":"SUM(B8:E8)","v":1006.1155855211525},null,"Sud-Ouest",{"$f":"IF(Station=Données1!$J$5,HLOOKUP(FsMur,Hypothèses!$Y$14:$AC$23,J8,FALSE),IF(Station=Données1!$J$6,HLOOKUP(FsMur,Hypothèses!$Y$26:$AC$35,J8,FALSE)))","v":7.0000000000000007E-2},8]
["Surface totale int  (m²)",{"$f":"Hypothèses!$J$33*Calculs!$B$5*NombreNiveaux","v":391.26717214711488},{"$f":"Hypothèses!$J$33*Calculs!$B$4*NombreNiveaux","v":111.7906206134614},{"$f":"Hypothèses!$J$33*Calculs!$B$5*NombreNiveaux","v":391.26717214711488},{"$f":"Hypothèses!$J$33*Calculs!$B$4*NombreNiveaux","v":111.7906206134614},{"$f":"SUM(B9:E9)","v":1006.1155855211525},null,"Sud-Est",{"$f":"IF(Station=Données1!$J$5,HLOOKUP(FsMur,Hypothèses!$Y$14:$AC$23,J9,FALSE),IF(Station=Données1!$J$6,HLOOKUP(FsMur,Hypothèses!$Y$26:$AC$35,J9,FALSE)))","v":7.0000000000000007E-2},9]
["Surface percement  (m²)",{"$f":"Calculs!$F$5*(B8/$F$8)","v":203},{"$f":"Calculs!$F$5*(C8/$F$8)","v":58.000000000000007},{"$f":"Calculs!$F$5*(D8/$F$8)","v":203},{"$f":"Calculs!$F$5*(E8/$F$8)","v":58.000000000000007},522,null,"Toiture",{"$f":"IF(Station=Données1!$J$5,HLOOKUP(FsToiture,Hypothèses!$Y$14:$AC$23,J10,FALSE),IF(Station=Données1!$J$6,HLOOKUP(FsToiture,Hypothèses!$Y$26:$AC$35,J10,FALSE)))","v":1.4999999999999999E-2},10]
["Surface châssis  (m²)",{"$f":"B10*(1-Hypothèses!$J$35)","v":26.39},{"$f":"C10*(1-Hypothèses!$J$35)","v":7.5400000000000009},{"$f":"D10*(1-Hypothèses!$J$35)","v":26.39},{"$f":"E10*(1-Hypothèses!$J$35)","v":7.5400000000000009},67.86]
["Surface vitrage  (m²)",{"$f":"B10*Hypothèses!$J$35","v":176.60999999999999},{"$f":"C10*Hypothèses!$J$35","v":50.460000000000008},{"$f":"D10*Hypothèses!$J$35","v":176.60999999999999},{"$f":"E10*Hypothèses!$J$35","v":50.460000000000008},454.14,null,"Nord",{"$f":"IF(Station=Données1!$J$5,HLOOKUP(FsBaie,Hypothèses!$AD$14:$AH$22,J12,FALSE),IF(Station=Données1!$J$6,HLOOKUP(FsBaie,Hypothèses!$AD$26:$AH$34,J12,FALSE)))","v":0.6},2]
["Surface opaque  (m²)",{"$f":"B8-B10","v":188.26717214711488},{"$f":"C8-C10","v":53.790620613461392},{"$f":"D8-D10","v":188.26717214711488},{"$f":"E8-E10","v":53.790620613461392},484.11558552115252,null,"Est",{"$f":"IF(Station=Données1!$J$5,HLOOKUP(FsBaie,Hypothèses!$AD$14:$AH$22,J13,FALSE),IF(Station=Données1!$J$6,HLOOKUP(FsBaie,Hypothèses!$AD$26:$AH$34,J13,FALSE)))","v":0.4},3]
["Surface vitrée (%)",{"$f":"B12/B8","v":0.45137954976093764},{"$f":"C12/C8","v":0.45137954976093769},{"$f":"D12/D8","v":0.45137954976093764},{"$f":"E12/E8","v":0.45137954976093769},null,null,"Sud",{"$f":"IF(Station=Données1!$J$5,HLOOKUP(FsBaie,Hypothèses!$AD$14:$AH$22,J14,FALSE),IF(Station=Données1!$J$6,HLOOKUP(FsBaie,Hypothèses!$AD$26:$AH$34,J14,FALSE)))","v":0.6},4]
[null,null,null,null,null,null,null,"Ouest",{"$f":"IF(Station=Données1!$J$5,HLOOKUP(FsBaie,Hypothèses!$AD$14:$AH$22,J15,FALSE),IF(Station=Données1!$J$6,HLOOKUP(FsBaie,Hypothèses!$AD$26:$AH$34,J15,FALSE)))","v":0.4},5]
[null,"Apports solaire vitrage",null,null,null,null,null,"Nord-Est",{"$f":"IF(Station=Données1!$J$5,HLOOKUP(FsBaie,Hypothèses!$AD$14:$AH$22,J16,FALSE),IF(Station=Données1!$J$6,HLOOKUP(FsBaie,Hypothèses!$AD$26:$AH$34,J16,FALSE)))","v":0.5},6]
[null,null,null,null,null,null,null,"Nord-Ouest",{"$f":"IF(Station=Données1!$J$5,HLOOKUP(FsBaie,Hypothèses!$AD$14:$AH$22,J17,FALSE),IF(Station=Données1!$J$6,HLOOKUP(FsBaie,Hypothèses!$AD$26:$AH$34,J17,FALSE)))","v":0.5},7]
[null,"Surface développée de paroi opaque (m²)",{"$f":"C44+2*C45","v":3484.1155855211528},null,"Transmission vitrage",{"$f":"Hypothèses!J27","v":0.87},null,"Sud-Ouest",{"$f":"IF(Station=Données1!$J$5,HLOOKUP(FsBaie,Hypothèses!$AD$14:$AH$22,J18,FALSE),IF(Station=Données1!$J$6,HLOOKUP(FsBaie,Hypothèses!$AD$26:$AH$34,J18,FALSE)))","v":0.5},8]
[null,null,null,null,null,null,null,"Sud-Est",{"$f":"IF(Station=Données1!$J$5,HLOOKUP(FsBaie,Hypothèses!$AD$14:$AH$22,J19,FALSE),IF(Station=Données1!$J$6,HLOOKUP(FsBaie,Hypothèses!$AD$26:$AH$34,J19,FALSE)))","v":0.5},9]
[null,null,1,2,3,4]
[null,null,{"$f":"Calculs!$B$7","v":"Est"},{"$f":"Calculs!$C$7","v":"Sud"},{"$f":"Calculs!$D$7","v":"Ouest"},{"$f":"Calculs!$E$7","v":"Nord"},"Total"]
[null,"Surface vitrage (m²)",{"$f":"B10","v":203},{"$f":"C10","v":58.000000000000007},203,58.000000000000007,{"$f":"C43","v":522}]
[null,"Facteur solaire",{"$f":"VLOOKUP(C$21,$H$12:$I$19,2,FALSE)","v":0.4},{"$f":"VLOOKUP(D$21,$H$12:$I$19,2,FALSE)","v":0.6},{"$f":"VLOOKUP(E$21,$H$12:$I$19,2,FALSE)","v":0.4},0.6,null,null,"Ressort par les vitrages","Atterit sur les PO","Ressort par les PO","Final"]
[null,null,{"$f":"Calculs!$B$7","v":"Est"},{"$f":"Calculs!$C$7","v":"Sud"},{"$f":"Calculs!$D$7","v":"Ouest"},{"$f":"Calculs!$E$7","v":"Nord"},"Total (kWh)"]
[null,"Janvier",{"$f":"(Données1!AS100*$C$23^4+Données1!AT100*$C$23^3+Données1!AU100*$C$23^2+Données1!AV100*$C$23+Données1!AW100)*Données1!AK31*C$22","v":2700263.7724612867},{"$f":"(Données1!AX100*$D$23^4+Données1!AY100*$D$23^3+Données1!AZ100*$D$23^2+Données1!BA100*$D$23+Données1!BB100)*Données1!AL31*D$22","v":1798786.8015295805},{"$f":"(Données1!BC100*$E$23^4+Données1!BD100*$E$23^3+Données1!BE100*$E$23^2+Données1!BF100*$E$23+Données1!BG100)*Données1!AM31*E$22","v":2560604.1822042717},{"$f":"(Données1!BH100*$F$23^4+Données1!BI100*$F$23^3+Données1!BJ100*$F$23^2+Données1!BK100*$F$23+Données1!BL100)*Données1!AN31*F$22","v":912976.09143607749},{"$f":"SUM(C25:F25)/1000","v":7972.630847631217},null,{"$f":"G25*($G$22/$C$18)*Hypothèses!$J$27","v":1039.1993274246265},{"$f":"G25-I25","v":6933.43152020659},{"$f":"J25*1*$C$47/8","v":1352.6487858031487},{"$f":"G25-K25-I25","v":5580.7827344034413}]
[null,"Février",{"$f":"(Données1!AS101*$C$23^4+Données1!AT101*$C$23^3+Données1!AU101*$C$23^2+Données1!AV101*$C$23+Données1!AW101)*Données1!AK32*C$22","v":2550882.708107023},{"$f":"(Données1!AX101*$D$23^4+Données1!AY101*$D$23^3+Données1!AZ101*$D$23^2+Données1!BA101*$D$23+Données1!BB101)*Données1!AL32*D$22","v":1354579.5629239215},{"$f":"(Données1!BC101*$E$23^4+Données1!BD101*$E$23^3+Données1!BE101*$E$23^2+Données1!BF101*$E$23+Données1!BG101)*Données1!AM32*E$22","v":2388178.1280796444},{"$f":"(Données1!BH101*$F$23^4+Données1!BI101*$F$23^3+Données1!BJ101*$F$23^2+Données1!BK101*$F$23+Données1!BL101)*Données1!AN32*F$22","v":866509.26939419354},7160.1496685047832,null,{"$f":"G26*$G$22/$C$18*Hypothèses!$J$27","v":933.29577926972615},6226.8538892350571,1214.8019819768044,5012.0519072582529]
[null,"Mars",{"$f":"(Données1!AS102*$C$23^4+Données1!AT102*$C$23^3+Données1!AU102*$C$23^2+Données1!AV102*$C$23+Données1!AW102)*Données1!AK33*C$22","v":2922942.8298685616},{"$f":"(Données1!AX102*$D$23^4+Données1!AY102*$D$23^3+Données1!AZ102*$D$23^2+Données1!BA102*$D$23+Données1!BB102)*Données1!AL33*D$22","v":1027274.9642685453},{"$f":"(Données1!BC102*$E$23^4+Données1!BD102*$E$23^3+Données1!BE102*$E$23^2+Données1!BF102*$E$23+Données1!BG102)*Données1!AM33*E$22","v":2915314.3190920199},{"$f":"(Données1!BH102*$F$23^4+Données1!BI102*$F$23^3+Données1!BJ102*$F$23^2+Données1!BK102*$F$23+Données1!BL102)*Données1!AN33*F$22","v":934150.72550660267},7799.6828387357291,null,{"$f":"G27*$G$22/$C$18*Hypothèses!$J$27","v":1016.6562725712818},6783.0265661644471,1323.30616117767,5459.7204049867769]
[null,"Avril",{"$f":"(Données1!AS103*$C$23^4+Données1!AT103*$C$23^3+Données1!AU103*$C$23^2+Données1!AV103*$C$23+Données1!AW103)*Données1!AK34*C$22","v":2761220.5093512931},{"$f":"(Données1!AX103*$D$23^4+Données1!AY103*$D$23^3+Données1!AZ103*$D$23^2+Données1!BA103*$D$23+Données1!BB103)*Données1!AL34*D$22","v":969422.33854469494},{"$f":"(Données1!BC103*$E$23^4+Données1!BD103*$E$23^3+Données1!BE103*$E$23^2+Données1!BF103*$E$23+Données1!BG103)*Données1!AM34*E$22","v":2886994.9760497059},{"$f":"(Données1!BH103*$F$23^4+Données1!BI103*$F$23^3+Données1!BJ103*$F$23^2+Données1!BK103*$F$23+Données1!BL103)*Données1!AN34*F$22","v":1106564.3697415483},7724.2021936872416,null,{"$f":"G28*$G$22/$C$18*Hypothèses!$J$27","v":1006.8176838962185},6717.3845097910234,1310.4999990929414,5406.8845106980816]
[null,"Mai",{"$f":"(Données1!AS104*$C$23^4+Données1!AT104*$C$23^3+Données1!AU104*$C$23^2+Données1!AV104*$C$23+Données1!AW104)*Données1!AK35*C$22","v":2722950.5156813208},{"$f":"(Données1!AX104*$D$23^4+Données1!AY104*$D$23^3+Données1!AZ104*$D$23^2+Données1!BA104*$D$23+Données1!BB104)*Données1!AL35*D$22","v":886483.74797663442},{"$f":"(Données1!BC104*$E$23^4+Données1!BD104*$E$23^3+Données1!BE104*$E$23^2+Données1!BF104*$E$23+Données1!BG104)*Données1!AM35*E$22","v":2713542.1624712818},{"$f":"(Données1!BH104*$F$23^4+Données1!BI104*$F$23^3+Données1!BJ104*$F$23^2+Données1!BK104*$F$23+Données1!BL104)*Données1!AN35*F$22","v":1500120.8547470928},7823.097280876329,null,{"$f":"G29*$G$22/$C$18*Hypothèses!$J$27","v":1019.7082478840185},6803.3890329923106,1327.2786913671434,5476.1103416251672]
[null,"Juin",{"$f":"(Données1!AS105*$C$23^4+Données1!AT105*$C$23^3+Données1!AU105*$C$23^2+Données1!AV105*$C$23+Données1!AW105)*Données1!AK36*C$22","v":2872858.0934628928},{"$f":"(Données1!AX105*$D$23^4+Données1!AY105*$D$23^3+Données1!AZ105*$D$23^2+Données1!BA105*$D$23+Données1!BB105)*Données1!AL36*D$22","v":941594.24975434574},{"$f":"(Données1!BC105*$E$23^4+Données1!BD105*$E$23^3+Données1!BE105*$E$23^2+Données1!BF105*$E$23+Données1!BG105)*Données1!AM36*E$22","v":2718776.7355475221},{"$f":"(Données1!BH105*$F$23^4+Données1!BI105*$F$23^3+Données1!BJ105*$F$23^2+Données1!BK105*$F$23+Données1!BL105)*Données1!AN36*F$22","v":1796568.9945166237},8329.7980732813849,null,{"$f":"G30*$G$22/$C$18*Hypothèses!$J$27","v":1085.7545922760091},7244.0434810053757,1413.2463254782638,5830.7971555271124]
[null,"Juillet",{"$f":"(Données1!AS106*$C$23^4+Données1!AT106*$C$23^3+Données1!AU106*$C$23^2+Données1!AV106*$C$23+Données1!AW106)*Données1!AK37*C$22","v":3230061.2068766952},{"$f":"(Données1!AX106*$D$23^4+Données1!AY106*$D$23^3+Données1!AZ106*$D$23^2+Données1!BA106*$D$23+Données1!BB106)*Données1!AL37*D$22","v":986393.39800641208},{"$f":"(Données1!BC106*$E$23^4+Données1!BD106*$E$23^3+Données1!BE106*$E$23^2+Données1!BF106*$E$23+Données1!BG106)*Données1!AM37*E$22","v":3164435.0700330311},{"$f":"(Données1!BH106*$F$23^4+Données1!BI106*$F$23^3+Données1!BJ106*$F$23^2+Données1!BK106*$F$23+Données1!BL106)*Données1!AN37*F$22","v":1904434.6238034107},9285.3242987195499,null,{"$f":"G31*$G$22/$C$18*Hypothèses!$J$27","v":1210.3034682730665},8075.0208304464832,1575.3623714038088,6499.6584590426746]
[null,"Août",{"$f":"(Données1!AS107*$C$23^4+Données1!AT107*$C$23^3+Données1!AU107*$C$23^2+Données1!AV107*$C$23+Données1!AW107)*Données1!AK38*C$22","v":3661482.8878513295},{"$f":"(Données1!AX107*$D$23^4+Données1!AY107*$D$23^3+Données1!AZ107*$D$23^2+Données1!BA107*$D$23+Données1!BB107)*Données1!AL38*D$22","v":1056778.0309859598},{"$f":"(Données1!BC107*$E$23^4+Données1!BD107*$E$23^3+Données1!BE107*$E$23^2+Données1!BF107*$E$23+Données1!BG107)*Données1!AM38*E$22","v":3457104.9600168169},{"$f":"(Données1!BH107*$F$23^4+Données1!BI107*$F$23^3+Données1!BJ107*$F$23^2+Données1!BK107*$F$23+Données1!BL107)*Données1!AN38*F$22","v":1539690.2698724123},9715.0561487265186,null,{"$f":"G32*$G$22/$C$18*Hypothèses!$J$27","v":1266.3172306101078},8448.7389181164108,1648.2713366176658,6800.4675814987449]
[null,"Septembre",{"$f":"(Données1!AS108*$C$23^4+Données1!AT108*$C$23^3+Données1!AU108*$C$23^2+Données1!AV108*$C$23+Données1!AW108)*Données1!AK39*C$22","v":3815111.7273007818},{"$f":"(Données1!AX108*$D$23^4+Données1!AY108*$D$23^3+Données1!AZ108*$D$23^2+Données1!BA108*$D$23+Données1!BB108)*Données1!AL39*D$22","v":1082046.4770142091},{"$f":"(Données1!BC108*$E$23^4+Données1!BD108*$E$23^3+Données1!BE108*$E$23^2+Données1!BF108*$E$23+Données1!BG108)*Données1!AM39*E$22","v":3783764.9097776972},{"$f":"(Données1!BH108*$F$23^4+Données1!BI108*$F$23^3+Données1!BJ108*$F$23^2+Données1!BK108*$F$23+Données1!BL108)*Données1!AN39*F$22","v":1049766.8123640269},9730.6899264567164,null,{"$f":"G33*$G$22/$C$18*Hypothèses!$J$27","v":1268.3550286234395},8462.334897833276,1650.9237873417012,6811.4111104915755]
[null,"Octobre",{"$f":"(Données1!AS109*$C$23^4+Données1!AT109*$C$23^3+Données1!AU109*$C$23^2+Données1!AV109*$C$23+Données1!AW109)*Données1!AK40*C$22","v":3699244.122397528},{"$f":"(Données1!AX109*$D$23^4+Données1!AY109*$D$23^3+Données1!AZ109*$D$23^2+Données1!BA109*$D$23+Données1!BB109)*Données1!AL40*D$22","v":1713604.3767023634},{"$f":"(Données1!BC109*$E$23^4+Données1!BD109*$E$23^3+Données1!BE109*$E$23^2+Données1!BF109*$E$23+Données1!BG109)*Données1!AM40*E$22","v":4125352.9418113329},{"$f":"(Données1!BH109*$F$23^4+Données1!BI109*$F$23^3+Données1!BJ109*$F$23^2+Données1!BK109*$F$23+Données1!BL109)*Données1!AN40*F$22","v":1055646.0743514788},10593.847515262703,null,{"$f":"G34*$G$22/$C$18*Hypothèses!$J$27","v":1380.8640363639838},9212.9834788987191,1797.3684286111622,7415.6150502875571]
[null,"Novembre",{"$f":"(Données1!AS110*$C$23^4+Données1!AT110*$C$23^3+Données1!AU110*$C$23^2+Données1!AV110*$C$23+Données1!AW110)*Données1!AK41*C$22","v":3280828.52802331},{"$f":"(Données1!AX110*$D$23^4+Données1!AY110*$D$23^3+Données1!AZ110*$D$23^2+Données1!BA110*$D$23+Données1!BB110)*Données1!AL41*D$22","v":2273770.8022814747},{"$f":"(Données1!BC110*$E$23^4+Données1!BD110*$E$23^3+Données1!BE110*$E$23^2+Données1!BF110*$E$23+Données1!BG110)*Données1!AM41*E$22","v":3730753.8720696475},{"$f":"(Données1!BH110*$F$23^4+Données1!BI110*$F$23^3+Données1!BJ110*$F$23^2+Données1!BK110*$F$23+Données1!BL110)*Données1!AN41*F$22","v":949376.58270977624},10234.729785084208,null,{"$f":"G35*$G$22/$C$18*Hypothèses!$J$27","v":1334.0545313461223},8900.6752537380853,1736.4399633441858,7164.235290393899]
[null,"Décembre",{"$f":"(Données1!AS111*$C$23^4+Données1!AT111*$C$23^3+Données1!AU111*$C$23^2+Données1!AV111*$C$23+Données1!AW111)*Données1!AK42*C$22","v":2914399.0188269755},{"$f":"(Données1!AX111*$D$23^4+Données1!AY111*$D$23^3+Données1!AZ111*$D$23^2+Données1!BA111*$D$23+Données1!BB111)*Données1!AL42*D$22","v":2178474.5227131224},{"$f":"(Données1!BC111*$E$23^4+Données1!BD111*$E$23^3+Données1!BE111*$E$23^2+Données1!BF111*$E$23+Données1!BG111)*Données1!AM42*E$22","v":2961307.3725861521},{"$f":"(Données1!BH111*$F$23^4+Données1!BI111*$F$23^3+Données1!BJ111*$F$23^2+Données1!BK111*$F$23+Données1!BL111)*Données1!AN42*F$22","v":938917.55051546684},8993.0984646417164,null,{"$f":"G36*$G$22/$C$18*Hypothèses!$J$27","v":1172.2130441666984},7820.8854204750178,1525.7828878932764,6295.1025325817418]
[null,null,null,null,null,null,{"$f":"SUM(G25:G36)","v":105362.30704160812},null,{"$f":"SUM(I25:I36)","v":13733.539242705298},{"$f":"SUM(J25:J36)","v":91628.767798902802},{"$f":"SUM(K25:K36)","v":17875.930720107772},{"$f":"SUM(L25:L36)","v":73752.837078795026}]
[]
[null,"Apport conduction enveloppe",null,null,null,null,null,null,20,null,21,null,22,null,23,null,24,null,25,null,26]
[null,null,null,null,null,null,null,null,"Climatisation",null,"Climatisation",null,"Climatisation",null,"Climatisation",null,"Climatisation",null,"Climatisation",null,"Climatisation"]
[null,null,null,null,null,null,null,null,"Brut","Net","Brut","Net","Brut","Net","Brut","Net","Brut","Net","Brut","Net","Brut","Net"]
[null,null,null,null,null,null,null,"Janvier",{"$f":"$C$47*SUM($C$43:$C$45)*(Données1!F181-$I$39)*24*VMOIS(H42)/1000","v":20853.225592987346},{"$f":"I42*(1-(5.5/8)*($C$47/8))","v":18056.288101082155},{"$f":"$C$47*SUM($C$43:$C$45)*(Données1!F181-$K$39)*24*VMOIS(H42)/1000","v":17943.173010447408},{"$f":"K42*(1-(5.5/8)*($C$47/8))","v":15536.546127096637},{"$f":"$C$47*SUM($C$43:$C$45)*(Données1!F181-$M$39)*24*VMOIS(H42)/1000","v":15033.120427907468},{"$f":"M42*(1-(5.5/8)*($C$47/8))","v":13016.804153111116},{"$f":"$C$47*SUM($C$43:$C$45)*(Données1!F181-$O$39)*24*VMOIS(H42)/1000","v":12123.067845367528},{"$f":"O42*(1-(5.5/8)*($C$47/8))","v":10497.062179125594},{"$f":"$C$47*SUM($C$43:$C$45)*(Données1!F181-$Q$39)*24*VMOIS(H42)/1000","v":9213.01526282759},{"$f":"Q42*(1-(5.5/8)*($C$47/8))","v":7977.3202051400758},{"$f":"$C$47*SUM($C$43:$C$45)*(Données1!F181-$S$39)*24*VMOIS(H42)/1000","v":6302.962680287651},{"$f":"S42*(1-(5.5/8)*($C$47/8))","v":5457.5782311545563},{"$f":"$C$47*SUM($C$43:$C$45)*(Données1!F181-$U$39)*24*VMOIS(H42)/1000","v":3392.9100977477115},{"$f":"U42*(1-(5.5/8)*($C$47/8))","v":2937.8362571690359}]
[null,"Surface vitrage (m²)",{"$f":"SUM(C22:F22)","v":522},"Uw (avec Rse et Rsi)",null,{"$f":"Calculs!L4","v":5},null,"Février",{"$f":"$C$47*SUM($C$43:$C$45)*(Données1!F182-$I$39)*24*VMOIS(H43)/1000","v":18665.356926722539},16161.867173765633,{"$f":"$C$47*SUM($C$43:$C$45)*(Données1!F182-$K$39)*24*VMOIS(H43)/1000","v":16036.922336041303},13885.971197262583,{"$f":"$C$47*SUM($C$43:$C$45)*(Données1!F182-$M$39)*24*VMOIS(H43)/1000","v":13408.487745360069},11610.075220759534,{"$f":"$C$47*SUM($C$43:$C$45)*(Données1!F182-$O$39)*24*VMOIS(H43)/1000","v":10780.053154678833},9334.179244256482,{"$f":"$C$47*SUM($C$43:$C$45)*(Données1!F182-$Q$39)*24*VMOIS(H43)/1000","v":8151.6185639975974},7058.2832677534316,{"$f":"$C$47*SUM($C$43:$C$45)*(Données1!F182-$S$39)*24*VMOIS(H43)/1000","v":5523.1839733163624},4782.3872912503821,{"$f":"$C$47*SUM($C$43:$C$45)*(Données1!F182-$U$39)*24*VMOIS(H43)/1000","v":2894.7493826351269},2506.4913147473317]
[null,"Surface murs opaques (m²)",{"$f":"Calculs!F13","v":484.11558552115252},"U_murs (sans Rse et Rsi)",null,{"$f":"Calculs!L2","v":1.8},null,"Mars",{"$f":"$C$47*SUM($C$43:$C$45)*(Données1!F183-$I$39)*24*VMOIS(H44)/1000","v":20747.276601952832},17964.549511404141,{"$f":"$C$47*SUM($C$43:$C$45)*(Données1!F183-$K$39)*24*VMOIS(H44)/1000","v":17837.224019412894},15444.807537418621,{"$f":"$C$47*SUM($C$43:$C$45)*(Données1!F183-$M$39)*24*VMOIS(H44)/1000","v":14927.171436872955},12925.065563433101,{"$f":"$C$47*SUM($C$43:$C$45)*(Données1!F183-$O$39)*24*VMOIS(H44)/1000","v":12017.118854333015},10405.32358944758,{"$f":"$C$47*SUM($C$43:$C$45)*(Données1!F183-$Q$39)*24*VMOIS(H44)/1000","v":9107.0662717930754},7885.5816154620597,{"$f":"$C$47*SUM($C$43:$C$45)*(Données1!F183-$S$39)*24*VMOIS(H44)/1000","v":6197.0136892531364},5365.8396414765402,{"$f":"$C$47*SUM($C$43:$C$45)*(Données1!F183-$U$39)*24*VMOIS(H44)/1000","v":3286.9611067131973},2846.0976674910203]
[null,"Surface toit (m²)",{"$f":"F2","v":1500.0000000000002},"U_toit (sans Rse et Rsi)",null,{"$f":"Calculs!L3","v":0.45},null,"Avril",{"$f":"$C$47*SUM($C$43:$C$45)*(Données1!F184-$I$39)*24*VMOIS(H45)/1000","v":20735.884763046153},17954.68560213107,{"$f":"$C$47*SUM($C$43:$C$45)*(Données1!F184-$K$39)*24*VMOIS(H45)/1000","v":17919.704844459116},15516.225627306372,{"$f":"$C$47*SUM($C$43:$C$45)*(Données1!F184-$M$39)*24*VMOIS(H45)/1000","v":15103.524925872076},13077.765652481674,{"$f":"$C$47*SUM($C$43:$C$45)*(Données1!F184-$O$39)*24*VMOIS(H45)/1000","v":12287.345007285039},10639.305677656979,{"$f":"$C$47*SUM($C$43:$C$45)*(Données1!F184-$Q$39)*24*VMOIS(H45)/1000","v":9471.1650886980024},8200.8457028322828,{"$f":"$C$47*SUM($C$43:$C$45)*(Données1!F184-$S$39)*24*VMOIS(H45)/1000","v":6654.9851701109656},5762.3857280075872,{"$f":"$C$47*SUM($C$43:$C$45)*(Données1!F184-$U$39)*24*VMOIS(H45)/1000","v":3838.8052515239265},3323.9257531828889]
[null,null,null,null,null,null,null,"Mai",{"$f":"$C$47*SUM($C$43:$C$45)*(Données1!F185-$I$39)*24*VMOIS(H46)/1000","v":22883.368627006144},19814.138336058542,{"$f":"$C$47*SUM($C$43:$C$45)*(Données1!F185-$K$39)*24*VMOIS(H46)/1000","v":19973.316044466206},17294.396362073025,{"$f":"$C$47*SUM($C$43:$C$45)*(Données1!F185-$M$39)*24*VMOIS(H46)/1000","v":17063.263461926268},14774.654388087505,{"$f":"$C$47*SUM($C$43:$C$45)*(Données1!F185-$O$39)*24*VMOIS(H46)/1000","v":14153.210879386326},12254.912414101984,{"$f":"$C$47*SUM($C$43:$C$45)*(Données1!F185-$Q$39)*24*VMOIS(H46)/1000","v":11243.158296846386},9735.1704401164625,{"$f":"$C$47*SUM($C$43:$C$45)*(Données1!F185-$S$39)*24*VMOIS(H46)/1000","v":8333.1057143064481},7215.4284661309439,{"$f":"$C$47*SUM($C$43:$C$45)*(Données1!F185-$U$39)*24*VMOIS(H46)/1000","v":5423.0531317665072},4695.6864921454226]
[null,"U bat moyen (W/m²,K)",{"$f":"(C43*F47+C44*F48+C45*F49)/SUM(C43:C45)","v":1.5607264966688181},"Uw (avec Rse et Rsi)",null,{"$f":"F43","v":5},null,"Juin",{"$f":"$C$47*SUM($C$43:$C$45)*(Données1!F186-$I$39)*24*VMOIS(H47)/1000","v":19478.822230289399},16866.226497743643,{"$f":"$C$47*SUM($C$43:$C$45)*(Données1!F186-$K$39)*24*VMOIS(H47)/1000","v":16662.642311702362},14427.766522918946,{"$f":"$C$47*SUM($C$43:$C$45)*(Données1!F186-$M$39)*24*VMOIS(H47)/1000","v":13846.462393115324},11989.30654809425,{"$f":"$C$47*SUM($C$43:$C$45)*(Données1!F186-$O$39)*24*VMOIS(H47)/1000","v":11030.282474528287},9550.8465732695531,{"$f":"$C$47*SUM($C$43:$C$45)*(Données1!F186-$Q$39)*24*VMOIS(H47)/1000","v":8214.1025559412483},7112.3865984448557,{"$f":"$C$47*SUM($C$43:$C$45)*(Données1!F186-$S$39)*24*VMOIS(H47)/1000","v":5397.9226373542097},4673.9266236201584,{"$f":"$C$47*SUM($C$43:$C$45)*(Données1!F186-$U$39)*24*VMOIS(H47)/1000","v":2581.7427187671719},2235.4666487954619]
[null,"U bat parois opaques (W/m²,K)",{"$f":"(Calculs!C44*Calculs!F48+Calculs!C45*Calculs!F49)/(Calculs!C44+Calculs!C45)","v":0.65588971102998217},"U_murs (avec Rse et Rsi)",null,{"$f":"1/(1/F44+1/F76+1/F75)","v":1.3874465580271391},null,"Juillet",{"$f":"$C$47*SUM($C$43:$C$45)*(Données1!F187-$I$39)*24*VMOIS(H48)/1000","v":21396.709203664646},18526.877008723655,{"$f":"$C$47*SUM($C$43:$C$45)*(Données1!F187-$K$39)*24*VMOIS(H48)/1000","v":18486.656621124708},16007.135034738138,{"$f":"$C$47*SUM($C$43:$C$45)*(Données1!F187-$M$39)*24*VMOIS(H48)/1000","v":15576.604038584766},13487.393060752614,{"$f":"$C$47*SUM($C$43:$C$45)*(Données1!F187-$O$39)*24*VMOIS(H48)/1000","v":12666.551456044828},10967.651086767095,{"$f":"$C$47*SUM($C$43:$C$45)*(Données1!F187-$Q$39)*24*VMOIS(H48)/1000","v":9756.4988735048901},8447.9091127815773,{"$f":"$C$47*SUM($C$43:$C$45)*(Données1!F187-$S$39)*24*VMOIS(H48)/1000","v":6846.4462909649501},5928.167138796056,{"$f":"$C$47*SUM($C$43:$C$45)*(Données1!F187-$U$39)*24*VMOIS(H48)/1000","v":3936.3937084250115},3408.4251648105364]
[null,null,null,"U_toit (avec Rse et Rsi)",null,{"$f":"1/(1/F45+1/F79+1/F78)","v":0.41978433014595767},null,"Août",{"$f":"$C$47*SUM($C$43:$C$45)*(Données1!F188-$I$39)*24*VMOIS(H49)/1000","v":23203.464632683143},20091.301486322125,{"$f":"$C$47*SUM($C$43:$C$45)*(Données1!F188-$K$39)*24*VMOIS(H49)/1000","v":20293.412050143204},17571.559512336607,{"$f":"$C$47*SUM($C$43:$C$45)*(Données1!F188-$M$39)*24*VMOIS(H49)/1000","v":17383.359467603266},15051.817538351088,{"$f":"$C$47*SUM($C$43:$C$45)*(Données1!F188-$O$39)*24*VMOIS(H49)/1000","v":14473.306885063324},12532.075564365565,{"$f":"$C$47*SUM($C$43:$C$45)*(Données1!F188-$Q$39)*24*VMOIS(H49)/1000","v":11563.254302523388},10012.333590380047,{"$f":"$C$47*SUM($C$43:$C$45)*(Données1!F188-$S$39)*24*VMOIS(H49)/1000","v":8653.2017199834481},7492.5916163945267,{"$f":"$C$47*SUM($C$43:$C$45)*(Données1!F188-$U$39)*24*VMOIS(H49)/1000","v":5743.1491374435082},4972.8496424090063]
[null,null,null,null,null,null,null,"Septembre",{"$f":"$C$47*SUM($C$43:$C$45)*(Données1!F189-$I$39)*24*VMOIS(H50)/1000","v":22746.568776099917},19695.686756031588,{"$f":"$C$47*SUM($C$43:$C$45)*(Données1!F189-$K$39)*24*VMOIS(H50)/1000","v":19930.388857512884},17257.226781206893,{"$f":"$C$47*SUM($C$43:$C$45)*(Données1!F189-$M$39)*24*VMOIS(H50)/1000","v":17114.20893892584},14818.766806382193,{"$f":"$C$47*SUM($C$43:$C$45)*(Données1!F189-$O$39)*24*VMOIS(H50)/1000","v":14298.029020338805},12380.306831557498,{"$f":"$C$47*SUM($C$43:$C$45)*(Données1!F189-$Q$39)*24*VMOIS(H50)/1000","v":11481.849101751766},9941.8468567328018,{"$f":"$C$47*SUM($C$43:$C$45)*(Données1!F189-$S$39)*24*VMOIS(H50)/1000","v":8665.6691831647295},7503.3868819081054,{"$f":"$C$47*SUM($C$43:$C$45)*(Données1!F189-$U$39)*24*VMOIS(H50)/1000","v":5849.4892645776918},5064.9269070834089]
[null,null,null,null,null,null,null,"Octobre",{"$f":"$C$47*SUM($C$43:$C$45)*(Données1!F190-$I$39)*24*VMOIS(H51)/1000","v":24482.919707153582},21199.149734259303,{"$f":"$C$47*SUM($C$43:$C$45)*(Données1!F190-$K$39)*24*VMOIS(H51)/1000","v":21572.867124613644},18679.407760273785,{"$f":"$C$47*SUM($C$43:$C$45)*(Données1!F190-$M$39)*24*VMOIS(H51)/1000","v":18662.814542073706},16159.665786288266,{"$f":"$C$47*SUM($C$43:$C$45)*(Données1!F190-$O$39)*24*VMOIS(H51)/1000","v":15752.761959533764},13639.923812302744,{"$f":"$C$47*SUM($C$43:$C$45)*(Données1!F190-$Q$39)*24*VMOIS(H51)/1000","v":12842.709376993826},11120.181838317225,{"$f":"$C$47*SUM($C$43:$C$45)*(Données1!F190-$S$39)*24*VMOIS(H51)/1000","v":9932.6567944538874},8600.4398643317054,{"$f":"$C$47*SUM($C$43:$C$45)*(Données1!F190-$U$39)*24*VMOIS(H51)/1000","v":7022.6042119139474},6080.697890346185]
[null,null,null,null,null,null,null,"Novembre",{"$f":"$C$47*SUM($C$43:$C$45)*(Données1!F191-$I$39)*24*VMOIS(H52)/1000","v":21050.847107413196},18227.403643065514,{"$f":"$C$47*SUM($C$43:$C$45)*(Données1!F191-$K$39)*24*VMOIS(H52)/1000","v":18234.667188826159},15788.94366824082,{"$f":"$C$47*SUM($C$43:$C$45)*(Données1!F191-$M$39)*24*VMOIS(H52)/1000","v":15418.487270239119},13350.483693416121,{"$f":"$C$47*SUM($C$43:$C$45)*(Données1!F191-$O$39)*24*VMOIS(H52)/1000","v":12602.307351652082},10912.023718591425,{"$f":"$C$47*SUM($C$43:$C$45)*(Données1!F191-$Q$39)*24*VMOIS(H52)/1000","v":9786.1274330650413},8473.5637437667265,{"$f":"$C$47*SUM($C$43:$C$45)*(Données1!F191-$S$39)*24*VMOIS(H52)/1000","v":6969.9475144780045},6035.10376894203,{"$f":"$C$47*SUM($C$43:$C$45)*(Données1!F191-$U$39)*24*VMOIS(H52)/1000","v":4153.7675958909667},3596.6437941173335]
[null,null,null,null,null,null,null,"Décembre",{"$f":"$C$47*SUM($C$43:$C$45)*(Données1!F192-$I$39)*24*VMOIS(H53)/1000","v":21353.293096586396},18489.284084111747,{"$f":"$C$47*SUM($C$43:$C$45)*(Données1!F192-$K$39)*24*VMOIS(H53)/1000","v":18443.240514046458},15969.542110126227,{"$f":"$C$47*SUM($C$43:$C$45)*(Données1!F192-$M$39)*24*VMOIS(H53)/1000","v":15533.187931506518},13449.800136140706,{"$f":"$C$47*SUM($C$43:$C$45)*(Données1!F192-$O$39)*24*VMOIS(H53)/1000","v":12623.135348966578},10930.058162155186,{"$f":"$C$47*SUM($C$43:$C$45)*(Données1!F192-$Q$39)*24*VMOIS(H53)/1000","v":9713.0827664266399},8410.3161881696669,{"$f":"$C$47*SUM($C$43:$C$45)*(Données1!F192-$S$39)*24*VMOIS(H53)/1000","v":6803.030183886699},5890.5742141841456,{"$f":"$C$47*SUM($C$43:$C$45)*(Données1!F192-$U$39)*24*VMOIS(H53)/1000","v":3892.9776013467608},3370.8322401986266]
[null,null,null,null,null,null,null,null,{"$f":"SUM(I42:I53)","v":257597.73726560528},223047.45793469911,223334.21492279635,193379.52824099865,189070.69257998737,163711.59854729814,154807.17023717839,134043.66885359769,120543.64789436944,104375.73915989722,86280.125551560501,74707.809466196733,52016.603208751527,45039.879772496257]
[null,"Apports renouvellement d'air"]
[]
[null,null,null,null,null,null,null,null,null,20,null,null,null,null,21,null,null,null,null,22,null,null,null,null,23,null,null,null,null,24,null,null,null,null,25,null,null,null,null,26]
[null,"Volume batiment (m3)",{"$f":"Calculs!F3","v":8100.0000000000009},null,null,null,null,null,"Pv sat int","Etanchéité",null,"VMC\n(kWh)",null,"Pv sat int","Etanchéité",null,"VMC\n(kWh)",null,"Pv sat int","Etanchéité",null,"VMC\n(kWh)",null,"Pv sat int","Etanchéité",null,"VMC\n(kWh)",null,"Pv sat int","Etanchéité",null,"VMC\n(kWh)",null,"Pv sat int","Etanchéité",null,"VMC\n(kWh)",null,"Pv sat int","Etanchéité",null,"VMC\n(kWh)"]
[null,null,null,null,null,null,null,null,{"$f":"EXP(23.3265-3802.7/(J57+273.18)-(472.68/(J57+273.18))^2)","v":2336.9779366068346},"SENSIBLE","LATENT","SENSIBLE","LATENT",{"$f":"EXP(23.3265-3802.7/(O57+273.18)-(472.68/(O57+273.18))^2)","v":2485.7909745726224},"SENSIBLE","LATENT","SENSIBLE","LATENT",{"$f":"EXP(23.3265-3802.7/(T57+273.18)-(472.68/(T57+273.18))^2)","v":2642.817204610199},"SENSIBLE","LATENT","SENSIBLE","LATENT",{"$f":"EXP(23.3265-3802.7/(Y57+273.18)-(472.68/(Y57+273.18))^2)","v":2808.435991243849},"SENSIBLE","LATENT","SENSIBLE","LATENT",{"$f":"EXP(23.3265-3802.7/(AD57+273.18)-(472.68/(AD57+273.18))^2)","v":2983.0404868303808},"SENSIBLE","LATENT","SENSIBLE","LATENT",{"$f":"EXP(23.3265-3802.7/(AI57+273.18)-(472.68/(AI57+273.18))^2)","v":3167.0379747467473},"SENSIBLE","LATENT","SENSIBLE","LATENT",{"$f":"EXP(23.3265-3802.7/(AN57+273.18)-(472.68/(AN57+273.18))^2)","v":3360.8502157434891},"SENSIBLE","LATENT","SENSIBLE","LATENT"]
[null,null,"De base ",{"$f":"\"+ ajustement\"","v":"+ ajustement"},null,null,null,"Janvier",{"$f":"(0.622*I59*Données1!$BK248/100)/(101325-I59*Données1!$BK248/100)","v":1.1934557543026313E-2},{"$f":"0.279166*Données1!$AD214*$D$61*Données1!$AD214/(1.292*273.15/($J$57+273))*(Données1!$Z214-$J$57)*24*VMOIS($H60)/1000","v":9282.9070543729558},{"$f":"0.680555*Données1!$AD214*$D$61*Données1!$AD214/(1.292*273.15/($J$57+273))*(Données1!$AC214-I60)*24*VMOIS($H60)","v":25162.560594030114},{"$f":"0.279166*Données1!$Y214*$C$64*Données1!$Y214/(1.292*273.15/($J$57+273))*(Données1!$U214-$J$57)*$C$66*VMOIS($H60)/1000","v":9223.8063691189673},{"$f":"0.680555*Données1!$Y214*$C$64*Données1!$Y214/(1.292*273.15/($J$57+273))*(Données1!$X214-I60)*$C$66*VMOIS($H60)","v":25002.360285533901},{"$f":"(0.622*N59*Données1!$BL248/100)/(101325-N59*Données1!$BL248/100)","v":1.24291022087327E-2},{"$f":"0.279166*Données1!$AD214*$D$61*Données1!$AD214/(1.292*273.15/($O$57+273))*(Données1!$Z214-$O$57)*24*VMOIS($H60)/1000","v":8014.7451118433883},{"$f":"0.680555*Données1!$AD214*$D$61*Données1!$AD214/(1.292*273.15/($O$57+273))*(Données1!$AC214-N60)*24*VMOIS($H60)","v":23681.336669045675},{"$f":"0.279166*Données1!$Y214*$C$64*Données1!$Y214/(1.292*273.15/($O$57+273))*(Données1!$U214-$O$57)*$C$66*VMOIS($H60)/1000","v":7963.7183240632767},{"$f":"0.680555*Données1!$Y214*$C$64*Données1!$Y214/(1.292*273.15/($O$57+273))*(Données1!X214-N60)*$C$66*VMOIS($H60)","v":23530.566741406288},{"$f":"(0.622*S59*Données1!$BM248/100)/(101325-S59*Données1!$BM248/100)","v":1.2966550582668395E-2},{"$f":"0.279166*Données1!$AD214*$D$61*Données1!$AD214/(1.292*273.15/($T$57+273))*(Données1!$Z214-$T$57)*24*VMOIS($H60)/1000","v":6737.7406916324226},{"$f":"0.680555*Données1!$AD214*$D$61*Données1!$AD214/(1.292*273.15/($T$57+273))*(Données1!$AC214-S60)*24*VMOIS($H60)","v":22053.037367782941},{"$f":"0.279166*Données1!$Y214*$C$64*Données1!$Y214/(1.292*273.15/($T$57+273))*(Données1!$U214-$T$57)*$C$66*VMOIS($H60)/1000","v":6694.8440979676652},{"$f":"0.680555*Données1!$Y214*$C$64*Données1!$Y214/(1.292*273.15/($T$57+273))*(Données1!X214-S60)*$C$66*VMOIS($H60)","v":21912.634193138016},{"$f":"(0.622*X59*Données1!$BN248/100)/(101325-X59*Données1!$BN248/100)","v":1.3552170362651885E-2},{"$f":"0.279166*Données1!$AD214*$D$61*Données1!$AD214/(1.292*273.15/($Y$57+273))*(Données1!$Z214-$Y$57)*24*VMOIS($H60)/1000","v":5451.8937937400588},{"$f":"0.680555*Données1!$AD214*$D$61*Données1!$AD214/(1.292*273.15/($Y$57+273))*(Données1!$AC214-X60)*24*VMOIS($H60)","v":20259.469696204244},{"$f":"0.279166*Données1!$Y214*$C$64*Données1!$Y214/(1.292*273.15/($Y$57+273))*(Données1!$U214-$Y$57)*$C$66*VMOIS($H60)/1000","v":5417.1836908321329},{"$f":"0.680555*Données1!$Y214*$C$64*Données1!$Y214/(1.292*273.15/($Y$57+273))*(Données1!X214-X60)*$C$66*VMOIS($H60)","v":20130.485474460478},{"$f":"(0.622*AC59*Données1!$BO248/100)/(101325-AC59*Données1!$BO248/100)","v":1.4191029881649627E-2},{"$f":"0.279166*Données1!$AD214*$D$61*Données1!$AD214/(1.292*273.15/($AD$57+273))*(Données1!$Z214-$AD$57)*24*VMOIS($H60)/1000","v":4157.2044181662941},{"$f":"0.680555*Données1!$AD214*$D$61*Données1!$AD214/(1.292*273.15/($AD$57+273))*(Données1!$AC214-AC60)*24*VMOIS($H60)","v":18282.851745488038},{"$f":"0.279166*Données1!$Y214*$C$64*Données1!$Y214/(1.292*273.15/($AD$57+273))*(Données1!$U214-$AD$57)*$C$66*VMOIS($H60)/1000","v":4130.737102656678},{"$f":"0.680555*Données1!$Y214*$C$64*Données1!$Y214/(1.292*273.15/($AD$57+273))*(Données1!X214-AC60)*$C$66*VMOIS($H60)","v":18166.45188710032},{"$f":"(0.622*AH59*Données1!$BP248/100)/(101325-AH59*Données1!$BP248/100)","v":1.4888633588790558E-2},{"$f":"0.279166*Données1!$AD214*$D$61*Données1!$AD214/(1.292*273.15/($AI$57+273))*(Données1!$Z214-$AI$57)*24*VMOIS($H60)/1000","v":2853.6725649111322},{"$f":"0.680555*Données1!$AD214*$D$61*Données1!$AD214/(1.292*273.15/($AI$57+273))*(Données1!$AC214-AH60)*24*VMOIS($H60)","v":16103.782339517409},{"$f":"0.279166*Données1!$Y214*$C$64*Données1!$Y214/(1.292*273.15/($AI$57+273))*(Données1!$U214-$AI$57)*$C$66*VMOIS($H60)/1000","v":2835.504333441304},{"$f":"0.680555*Données1!$Y214*$C$64*Données1!$Y214/(1.292*273.15/($AI$57+273))*(Données1!X214-AH60)*$C$66*VMOIS($H60)","v":16001.255774738525},{"$f":"(0.622*AM59*Données1!$BQ248/100)/(101325-AM59*Données1!$BQ248/100)","v":1.564898216442279E-2},{"$f":"0.279166*Données1!$AD214*$D$61*Données1!$AD214/(1.292*273.15/($AN$57+273))*(Données1!$Z214-$AN$57)*24*VMOIS($H60)/1000","v":1541.2982339745708},{"$f":"0.680555*Données1!$AD214*$D$61*Données1!$AD214/(1.292*273.15/($AN$57+273))*(Données1!$AC214-AM60)*24*VMOIS($H60)","v":13707.469141727259},{"$f":"0.279166*Données1!$Y214*$C$64*Données1!$Y214/(1.292*273.15/($AN$57+273))*(Données1!$U214-$AN$57)*$C$66*VMOIS($H60)/1000","v":1531.4853831860082},{"$f":"0.680555*Données1!$Y214*$C$64*Données1!$Y214/(1.292*273.15/($AN$57+273))*(Données1!X214-AM60)*$C$66*VMOIS($H60)","v":13620.198977905855}]
[null,"Renouvellement étanchéité(m3/h)",{"$f":"MROUND(C43*Données1!Z230+(C44+C45)*Données1!Y230,0.1)","v":5434.6},{"$f":"C61","v":5434.6},null,null,null,"Février",{"$f":"(0.622*I59*Données1!$BK249/100)/(101325-I59*Données1!$BK249/100)","v":1.1734065383146376E-2},{"$f":"0.279166*Données1!$AD215*$D$61*Données1!$AD215/(1.292*273.15/($J$57+273))*(Données1!$Z215-$J$57)*24*VMOIS($H61)/1000","v":8312.5454339582084},{"$f":"0.680555*Données1!$AD215*$D$61*Données1!$AD215/(1.292*273.15/($J$57+273))*(Données1!$AC215-I61)*24*VMOIS($H61)","v":21765.657232580386},{"$f":"0.279166*Données1!$Y215*$C$64*Données1!$Y215/(1.292*273.15/($J$57+273))*(Données1!$U215-$J$57)*$C$66*VMOIS($H61)/1000","v":8259.6226665024678},{"$f":"0.680555*Données1!$Y215*$C$64*Données1!$Y215/(1.292*273.15/($J$57+273))*(Données1!$X215-I61)*$C$66*VMOIS($H61)","v":21627.08369630406},{"$f":"(0.622*N59*Données1!$BK249/100)/(101325-N59*Données1!$BK249/100)","v":1.2496273493079916E-2},{"$f":"0.279166*Données1!$AD215*$D$61*Données1!$AD215/(1.292*273.15/($O$57+273))*(Données1!$Z215-$O$57)*24*VMOIS($H61)/1000","v":7166.3574912489594},{"$f":"0.680555*Données1!$AD215*$D$61*Données1!$AD215/(1.292*273.15/($O$57+273))*(Données1!$AC215-N61)*24*VMOIS($H61)","v":19657.46971242459},{"$f":"0.279166*Données1!$Y215*$C$64*Données1!$Y215/(1.292*273.15/($O$57+273))*(Données1!$U215-$O$57)*$C$66*VMOIS($H61)/1000","v":7120.7320599021778},{"$f":"0.680555*Données1!$Y215*$C$64*Données1!$Y215/(1.292*273.15/($O$57+273))*(Données1!X215-N61)*$C$66*VMOIS($H61)","v":19532.31819215633},{"$f":"(0.622*S59*Données1!$BM249/100)/(101325-S59*Données1!$BM249/100)","v":1.2708425139716288E-2},{"$f":"0.279166*Données1!$AD215*$D$61*Données1!$AD215/(1.292*273.15/($T$57+273))*(Données1!$Z215-$T$57)*24*VMOIS($H61)/1000","v":6012.1793553088219},{"$f":"0.680555*Données1!$AD215*$D$61*Données1!$AD215/(1.292*273.15/($T$57+273))*(Données1!$AC215-S61)*24*VMOIS($H61)","v":19114.799989106694},{"$f":"0.279166*Données1!$Y215*$C$64*Données1!$Y215/(1.292*273.15/($T$57+273))*(Données1!$U215-$T$57)*$C$66*VMOIS($H61)/1000","v":5973.9021305464303},{"$f":"0.680555*Données1!$Y215*$C$64*Données1!$Y215/(1.292*273.15/($T$57+273))*(Données1!X215-S61)*$C$66*VMOIS($H61)","v":18993.103437451904},{"$f":"(0.622*X59*Données1!$BN249/100)/(101325-X59*Données1!$BN249/100)","v":1.3261759181742893E-2},{"$f":"0.279166*Données1!$AD215*$D$61*Données1!$AD215/(1.292*273.15/($Y$57+273))*(Données1!$Z215-$Y$57)*24*VMOIS($H61)/1000","v":4850.0110261377877},{"$f":"0.680555*Données1!$AD215*$D$61*Données1!$AD215/(1.292*273.15/($Y$57+273))*(Données1!$AC215-X61)*24*VMOIS($H61)","v":17584.425484225478},{"$f":"0.279166*Données1!$Y215*$C$64*Données1!$Y215/(1.292*273.15/($Y$57+273))*(Données1!$U215-$Y$57)*$C$66*VMOIS($H61)/1000","v":4819.1328784352208},{"$f":"0.680555*Données1!$Y215*$C$64*Données1!$Y215/(1.292*273.15/($Y$57+273))*(Données1!X215-X61)*$C$66*VMOIS($H61)","v":17472.472236193567},{"$f":"(0.622*AC59*Données1!$BO249/100)/(101325-AC59*Données1!$BO249/100)","v":1.3864110006435292E-2},{"$f":"0.279166*Données1!$AD215*$D$61*Données1!$AD215/(1.292*273.15/($AD$57+273))*(Données1!$Z215-$AD$57)*24*VMOIS($H61)/1000","v":3679.8525037358627},{"$f":"0.680555*Données1!$AD215*$D$61*Données1!$AD215/(1.292*273.15/($AD$57+273))*(Données1!$AC215-AC61)*24*VMOIS($H61)","v":15901.488141741733},{"$f":"0.279166*Données1!$Y215*$C$64*Données1!$Y215/(1.292*273.15/($AD$57+273))*(Données1!$U215-$AD$57)*$C$66*VMOIS($H61)/1000","v":3656.4243035685527},{"$f":"0.680555*Données1!$Y215*$C$64*Données1!$Y215/(1.292*273.15/($AD$57+273))*(Données1!X215-AC61)*$C$66*VMOIS($H61)","v":15800.249506017984},{"$f":"(0.622*AH59*Données1!$BP249/100)/(101325-AH59*Données1!$BP249/100)","v":1.4518740120768092E-2},{"$f":"0.279166*Données1!$AD215*$D$61*Données1!$AD215/(1.292*273.15/($AI$57+273))*(Données1!$Z215-$AI$57)*24*VMOIS($H61)/1000","v":2501.7037881030456},{"$f":"0.680555*Données1!$AD215*$D$61*Données1!$AD215/(1.292*273.15/($AI$57+273))*(Données1!$AC215-AH61)*24*VMOIS($H61)","v":14055.086976788381},{"$f":"0.279166*Données1!$Y215*$C$64*Données1!$Y215/(1.292*273.15/($AI$57+273))*(Données1!$U215-$AI$57)*$C$66*VMOIS($H61)/1000","v":2485.7764059464253},{"$f":"0.680555*Données1!$Y215*$C$64*Données1!$Y215/(1.292*273.15/($AI$57+273))*(Données1!X215-AH61)*$C$66*VMOIS($H61)","v":13965.603664420056},{"$f":"(0.622*AM59*Données1!$BQ249/100)/(101325-AM59*Données1!$BQ249/100)","v":1.5227233186330558E-2},{"$f":"0.279166*Données1!$AD215*$D$61*Données1!$AD215/(1.292*273.15/($AN$57+273))*(Données1!$Z215-$AN$57)*24*VMOIS($H61)/1000","v":1315.5648792393358},{"$f":"0.680555*Données1!$AD215*$D$61*Données1!$AD215/(1.292*273.15/($AN$57+273))*(Données1!$AC215-AM61)*24*VMOIS($H61)","v":12039.082791961673},{"$f":"0.279166*Données1!$Y215*$C$64*Données1!$Y215/(1.292*273.15/($AN$57+273))*(Données1!$U215-$AN$57)*$C$66*VMOIS($H61)/1000","v":1307.1891855688391},{"$f":"0.680555*Données1!$Y215*$C$64*Données1!$Y215/(1.292*273.15/($AN$57+273))*(Données1!X215-AM61)*$C$66*VMOIS($H61)","v":11962.434599895672}]
[null,"Renouvellement étanchéité (vol/h)",{"$f":"MROUND(C61/C58,0.001)","v":0.67100000000000004},{"$f":"C62","v":0.67100000000000004},null,null,null,"Mars",{"$f":"(0.622*I59*Données1!$BK250/100)/(101325-I59*Données1!$BK250/100)","v":1.1792541227532257E-2},{"$f":"0.279166*Données1!$AD216*$D$61*Données1!$AD216/(1.292*273.15/($J$57+273))*(Données1!$Z216-$J$57)*24*VMOIS($H62)/1000","v":9237.984248891853},{"$f":"0.680555*Données1!$AD216*$D$61*Données1!$AD216/(1.292*273.15/($J$57+273))*(Données1!$AC216-I62)*24*VMOIS($H62)","v":23907.919263010495},{"$f":"0.279166*Données1!$Y216*$C$64*Données1!$Y216/(1.292*273.15/($J$57+273))*(Données1!$U216-$J$57)*$C$66*VMOIS($H62)/1000","v":9179.1695697964915},{"$f":"0.680555*Données1!$Y216*$C$64*Données1!$Y216/(1.292*273.15/($J$57+273))*(Données1!$X216-I62)*$C$66*VMOIS($H62)","v":23755.706771474754},{"$f":"(0.622*N59*Données1!$BK250/100)/(101325-N59*Données1!$BK250/100)","v":1.2558623017573578E-2},{"$f":"0.279166*Données1!$AD216*$D$61*Données1!$AD216/(1.292*273.15/($O$57+273))*(Données1!$Z216-$O$57)*24*VMOIS($H62)/1000","v":7969.3536056475168},{"$f":"0.680555*Données1!$AD216*$D$61*Données1!$AD216/(1.292*273.15/($O$57+273))*(Données1!$AC216-N62)*24*VMOIS($H62)","v":21561.383033669346},{"$f":"0.279166*Données1!$Y216*$C$64*Données1!$Y216/(1.292*273.15/($O$57+273))*(Données1!$U216-$O$57)*$C$66*VMOIS($H62)/1000","v":7918.6158080625237},{"$f":"0.680555*Données1!$Y216*$C$64*Données1!$Y216/(1.292*273.15/($O$57+273))*(Données1!X216-N62)*$C$66*VMOIS($H62)","v":21424.110032350945},{"$f":"(0.622*S59*Données1!$BM250/100)/(101325-S59*Données1!$BM250/100)","v":1.2792573534345432E-2},{"$f":"0.279166*Données1!$AD216*$D$61*Données1!$AD216/(1.292*273.15/($T$57+273))*(Données1!$Z216-$T$57)*24*VMOIS($H62)/1000","v":6691.8783392757978},{"$f":"0.680555*Données1!$AD216*$D$61*Données1!$AD216/(1.292*273.15/($T$57+273))*(Données1!$AC216-S62)*24*VMOIS($H62)","v":20890.681443878297},{"$f":"0.279166*Données1!$Y216*$C$64*Données1!$Y216/(1.292*273.15/($T$57+273))*(Données1!$U216-$T$57)*$C$66*VMOIS($H62)/1000","v":6649.2737335018774},{"$f":"0.680555*Données1!$Y216*$C$64*Données1!$Y216/(1.292*273.15/($T$57+273))*(Données1!X216-S62)*$C$66*VMOIS($H62)","v":20757.678540636443},{"$f":"(0.622*X59*Données1!$BN250/100)/(101325-X59*Données1!$BN250/100)","v":1.3359298003657125E-2},{"$f":"0.279166*Données1!$AD216*$D$61*Données1!$AD216/(1.292*273.15/($Y$57+273))*(Données1!$Z216-$Y$57)*24*VMOIS($H62)/1000","v":5405.5584497766949},{"$f":"0.680555*Données1!$AD216*$D$61*Données1!$AD216/(1.292*273.15/($Y$57+273))*(Données1!$AC216-X62)*24*VMOIS($H62)","v":19153.017284031608},{"$f":"0.279166*Données1!$Y216*$C$64*Données1!$Y216/(1.292*273.15/($Y$57+273))*(Données1!$U216-$Y$57)*$C$66*VMOIS($H62)/1000","v":5371.1433461145534},{"$f":"0.680555*Données1!$Y216*$C$64*Données1!$Y216/(1.292*273.15/($Y$57+273))*(Données1!X216-X62)*$C$66*VMOIS($H62)","v":19031.077417615041},{"$f":"(0.622*AC59*Données1!$BO250/100)/(101325-AC59*Données1!$BO250/100)","v":1.397552494818992E-2},{"$f":"0.279166*Données1!$AD216*$D$61*Données1!$AD216/(1.292*273.15/($AD$57+273))*(Données1!$Z216-$AD$57)*24*VMOIS($H62)/1000","v":4110.393937150212},{"$f":"0.680555*Données1!$AD216*$D$61*Données1!$AD216/(1.292*273.15/($AD$57+273))*(Données1!$AC216-AC62)*24*VMOIS($H62)","v":17244.63215375154},{"$f":"0.279166*Données1!$Y216*$C$64*Données1!$Y216/(1.292*273.15/($AD$57+273))*(Données1!$U216-$AD$57)*$C$66*VMOIS($H62)/1000","v":4084.2246459005523},{"$f":"0.680555*Données1!$Y216*$C$64*Données1!$Y216/(1.292*273.15/($AD$57+273))*(Données1!X216-AC62)*$C$66*VMOIS($H62)","v":17134.842238666752},{"$f":"(0.622*AH59*Données1!$BP250/100)/(101325-AH59*Données1!$BP250/100)","v":1.4646498849878252E-2},{"$f":"0.279166*Données1!$AD216*$D$61*Données1!$AD216/(1.292*273.15/($AI$57+273))*(Données1!$Z216-$AI$57)*24*VMOIS($H62)/1000","v":2806.3848013963448},{"$f":"0.680555*Données1!$AD216*$D$61*Données1!$AD216/(1.292*273.15/($AI$57+273))*(Données1!$AC216-AH62)*24*VMOIS($H62)","v":15147.076230608413},{"$f":"0.279166*Données1!$Y216*$C$64*Données1!$Y216/(1.292*273.15/($AI$57+273))*(Données1!$U216-$AI$57)*$C$66*VMOIS($H62)/1000","v":2788.5176328598723},{"$f":"0.680555*Données1!$Y216*$C$64*Données1!$Y216/(1.292*273.15/($AI$57+273))*(Données1!X216-AH62)*$C$66*VMOIS($H62)","v":15050.640644258165},{"$f":"(0.622*AM59*Données1!$BQ250/100)/(101325-AM59*Données1!$BQ250/100)","v":1.5371600601688571E-2},{"$f":"0.279166*Données1!$AD216*$D$61*Données1!$AD216/(1.292*273.15/($AN$57+273))*(Données1!$Z216-$AN$57)*24*VMOIS($H62)/1000","v":1493.5310425150965},{"$f":"0.680555*Données1!$AD216*$D$61*Données1!$AD216/(1.292*273.15/($AN$57+273))*(Données1!$AC216-AM62)*24*VMOIS($H62)","v":12860.57453238724},{"$f":"0.279166*Données1!$Y216*$C$64*Données1!$Y216/(1.292*273.15/($AN$57+273))*(Données1!$U216-$AN$57)*$C$66*VMOIS($H62)/1000","v":1484.0223069925148},{"$f":"0.680555*Données1!$Y216*$C$64*Données1!$Y216/(1.292*273.15/($AN$57+273))*(Données1!X216-AM62)*$C$66*VMOIS($H62)","v":12778.696219572939}]
[null,null,null,null,null,null,null,"Avril",{"$f":"(0.622*I59*Données1!$BK251/100)/(101325-I59*Données1!$BK251/100)","v":1.1915567798024457E-2},{"$f":"0.279166*Données1!$AD217*$D$61*Données1!$AD217/(1.292*273.15/($J$57+273))*(Données1!$Z217-$J$57)*24*VMOIS($H63)/1000","v":9218.5557980325939},{"$f":"0.680555*Données1!$AD217*$D$61*Données1!$AD217/(1.292*273.15/($J$57+273))*(Données1!$AC217-I63)*24*VMOIS($H63)","v":25673.48433428492},{"$f":"0.279166*Données1!$Y217*$C$64*Données1!$Y217/(1.292*273.15/($J$57+273))*(Données1!$U217-$J$57)*$C$66*VMOIS($H63)/1000","v":9159.8648123828789},{"$f":"0.680555*Données1!$Y217*$C$64*Données1!$Y217/(1.292*273.15/($J$57+273))*(Données1!$X217-I63)*$C$66*VMOIS($H63)","v":25510.031171592862},{"$f":"(0.622*N59*Données1!$BK251/100)/(101325-N59*Données1!$BK251/100)","v":1.2689801813814721E-2},{"$f":"0.279166*Données1!$AD217*$D$61*Données1!$AD217/(1.292*273.15/($O$57+273))*(Données1!$Z217-$O$57)*24*VMOIS($H63)/1000","v":7993.7558608577874},{"$f":"0.680555*Données1!$AD217*$D$61*Données1!$AD217/(1.292*273.15/($O$57+273))*(Données1!$AC217-N63)*24*VMOIS($H63)","v":23389.987994296134},{"$f":"0.279166*Données1!$Y217*$C$64*Données1!$Y217/(1.292*273.15/($O$57+273))*(Données1!$U217-$O$57)*$C$66*VMOIS($H63)/1000","v":7942.8627035351365},{"$f":"0.680555*Données1!$Y217*$C$64*Données1!$Y217/(1.292*273.15/($O$57+273))*(Données1!X217-N63)*$C$66*VMOIS($H63)","v":23241.072971184469},{"$f":"(0.622*S59*Données1!$BM251/100)/(101325-S59*Données1!$BM251/100)","v":1.2922028413853244E-2},{"$f":"0.279166*Données1!$AD217*$D$61*Données1!$AD217/(1.292*273.15/($T$57+273))*(Données1!$Z217-$T$57)*24*VMOIS($H63)/1000","v":6760.4099197037349},{"$f":"0.680555*Données1!$AD217*$D$61*Données1!$AD217/(1.292*273.15/($T$57+273))*(Données1!$AC217-S63)*24*VMOIS($H63)","v":22755.924516382398},{"$f":"0.279166*Données1!$Y217*$C$64*Données1!$Y217/(1.292*273.15/($T$57+273))*(Données1!$U217-$T$57)*$C$66*VMOIS($H63)/1000","v":6717.3689998160235},{"$f":"0.680555*Données1!$Y217*$C$64*Données1!$Y217/(1.292*273.15/($T$57+273))*(Données1!X217-S63)*$C$66*VMOIS($H63)","v":22611.046330634261},{"$f":"(0.622*X59*Données1!$BN251/100)/(101325-X59*Données1!$BN251/100)","v":1.3491703889126475E-2},{"$f":"0.279166*Données1!$AD217*$D$61*Données1!$AD217/(1.292*273.15/($Y$57+273))*(Données1!$Z217-$Y$57)*24*VMOIS($H63)/1000","v":5518.5179745704327},{"$f":"0.680555*Données1!$AD217*$D$61*Données1!$AD217/(1.292*273.15/($Y$57+273))*(Données1!$AC217-X63)*24*VMOIS($H63)","v":21076.543504298395},{"$f":"0.279166*Données1!$Y217*$C$64*Données1!$Y217/(1.292*273.15/($Y$57+273))*(Données1!$U217-$Y$57)*$C$66*VMOIS($H63)/1000","v":5483.3837012255417},{"$f":"0.680555*Données1!$Y217*$C$64*Données1!$Y217/(1.292*273.15/($Y$57+273))*(Données1!X217-X63)*$C$66*VMOIS($H63)","v":20942.357289075801},{"$f":"(0.622*AC59*Données1!$BO251/100)/(101325-AC59*Données1!$BO251/100)","v":1.4112013661973549E-2},{"$f":"0.279166*Données1!$AD217*$D$61*Données1!$AD217/(1.292*273.15/($AD$57+273))*(Données1!$Z217-$AD$57)*24*VMOIS($H63)/1000","v":4268.0800254578808},{"$f":"0.680555*Données1!$AD217*$D$61*Données1!$AD217/(1.292*273.15/($AD$57+273))*(Données1!$AC217-AC63)*24*VMOIS($H63)","v":19228.642441965902},{"$f":"0.279166*Données1!$Y217*$C$64*Données1!$Y217/(1.292*273.15/($AD$57+273))*(Données1!$U217-$AD$57)*$C$66*VMOIS($H63)/1000","v":4240.9068077636903},{"$f":"0.680555*Données1!$Y217*$C$64*Données1!$Y217/(1.292*273.15/($AD$57+273))*(Données1!X217-AC63)*$C$66*VMOIS($H63)","v":19106.221099366259},{"$f":"(0.622*AH59*Données1!$BP251/100)/(101325-AH59*Données1!$BP251/100)","v":1.4786290686151541E-2},{"$f":"0.279166*Données1!$AD217*$D$61*Données1!$AD217/(1.292*273.15/($AI$57+273))*(Données1!$Z217-$AI$57)*24*VMOIS($H63)/1000","v":3009.0960723660783},{"$f":"0.680555*Données1!$AD217*$D$61*Données1!$AD217/(1.292*273.15/($AI$57+273))*(Données1!$AC217-AH63)*24*VMOIS($H63)","v":17200.292825386212},{"$f":"0.279166*Données1!$Y217*$C$64*Données1!$Y217/(1.292*273.15/($AI$57+273))*(Données1!$U217-$AI$57)*$C$66*VMOIS($H63)/1000","v":2989.9383194304673},{"$f":"0.680555*Données1!$Y217*$C$64*Données1!$Y217/(1.292*273.15/($AI$57+273))*(Données1!X217-AH63)*$C$66*VMOIS($H63)","v":17090.785201686522},{"$f":"(0.622*AM59*Données1!$BQ251/100)/(101325-AM59*Données1!$BQ251/100)","v":1.5517452996198758E-2},{"$f":"0.279166*Données1!$AD217*$D$61*Données1!$AD217/(1.292*273.15/($AN$57+273))*(Données1!$Z217-$AN$57)*24*VMOIS($H63)/1000","v":1741.566115295027},{"$f":"0.680555*Données1!$AD217*$D$61*Données1!$AD217/(1.292*273.15/($AN$57+273))*(Données1!$AC217-AM63)*24*VMOIS($H63)","v":14980.719591338671},{"$f":"0.279166*Données1!$Y217*$C$64*Données1!$Y217/(1.292*273.15/($AN$57+273))*(Données1!$U217-$AN$57)*$C$66*VMOIS($H63)/1000","v":1730.4782362258759},{"$f":"0.680555*Données1!$Y217*$C$64*Données1!$Y217/(1.292*273.15/($AN$57+273))*(Données1!X217-AM63)*$C$66*VMOIS($H63)","v":14885.343133483388}]
[null,"Renouvellement VMC (m3/h)",{"$f":"IF(VMCPlan=Données1!$X$5,0,Surface/Hypothèses!C16*Hypothèses!B25)","v":5400},null,null,null,null,"Mai",{"$f":"(0.622*I59*Données1!$BK252/100)/(101325-I59*Données1!$BK252/100)","v":1.2053267595745135E-2},{"$f":"0.279166*Données1!$AD218*$D$61*Données1!$AD218/(1.292*273.15/($J$57+273))*(Données1!$Z218-$J$57)*24*VMOIS($H64)/1000","v":10139.448350845854},{"$f":"0.680555*Données1!$AD218*$D$61*Données1!$AD218/(1.292*273.15/($J$57+273))*(Données1!$AC218-I64)*24*VMOIS($H64)","v":28600.405519372278},{"$f":"0.279166*Données1!$Y218*$C$64*Données1!$Y218/(1.292*273.15/($J$57+273))*(Données1!$U218-$J$57)*$C$66*VMOIS($H64)/1000","v":10074.894397852209},{"$f":"0.680555*Données1!$Y218*$C$64*Données1!$Y218/(1.292*273.15/($J$57+273))*(Données1!$X218-I64)*$C$66*VMOIS($H64)","v":28418.317779525682},{"$f":"(0.622*N59*Données1!$BK252/100)/(101325-N59*Données1!$BK252/100)","v":1.283663006706361E-2},{"$f":"0.279166*Données1!$AD218*$D$61*Données1!$AD218/(1.292*273.15/($O$57+273))*(Données1!$Z218-$O$57)*24*VMOIS($H64)/1000","v":8880.2308279298504},{"$f":"0.680555*Données1!$AD218*$D$61*Données1!$AD218/(1.292*273.15/($O$57+273))*(Données1!$AC218-N64)*24*VMOIS($H64)","v":26227.213321499668},{"$f":"0.279166*Données1!$Y218*$C$64*Données1!$Y218/(1.292*273.15/($O$57+273))*(Données1!$U218-$O$57)*$C$66*VMOIS($H64)/1000","v":8823.6938267436781},{"$f":"0.680555*Données1!$Y218*$C$64*Données1!$Y218/(1.292*273.15/($O$57+273))*(Données1!X218-N64)*$C$66*VMOIS($H64)","v":26060.234780130682},{"$f":"(0.622*S59*Données1!$BM252/100)/(101325-S59*Données1!$BM252/100)","v":1.3118673892348401E-2},{"$f":"0.279166*Données1!$AD218*$D$61*Données1!$AD218/(1.292*273.15/($T$57+273))*(Données1!$Z218-$T$57)*24*VMOIS($H64)/1000","v":7612.2117869955673},{"$f":"0.680555*Données1!$AD218*$D$61*Données1!$AD218/(1.292*273.15/($T$57+273))*(Données1!$AC218-S64)*24*VMOIS($H64)","v":25423.800932430368},{"$f":"0.279166*Données1!$Y218*$C$64*Données1!$Y218/(1.292*273.15/($T$57+273))*(Données1!$U218-$T$57)*$C$66*VMOIS($H64)/1000","v":7563.7477734839858},{"$f":"0.680555*Données1!$Y218*$C$64*Données1!$Y218/(1.292*273.15/($T$57+273))*(Données1!X218-S64)*$C$66*VMOIS($H64)","v":25261.937407559708},{"$f":"(0.622*X59*Données1!$BN252/100)/(101325-X59*Données1!$BN252/100)","v":1.3720545067519054E-2},{"$f":"0.279166*Données1!$AD218*$D$61*Données1!$AD218/(1.292*273.15/($Y$57+273))*(Données1!$Z218-$Y$57)*24*VMOIS($H64)/1000","v":6335.3912280430077},{"$f":"0.680555*Données1!$AD218*$D$61*Données1!$AD218/(1.292*273.15/($Y$57+273))*(Données1!$AC218-X64)*24*VMOIS($H64)","v":23598.706687097594},{"$f":"0.279166*Données1!$Y218*$C$64*Données1!$Y218/(1.292*273.15/($Y$57+273))*(Données1!$U218-$Y$57)*$C$66*VMOIS($H64)/1000","v":6295.0562380731308},{"$f":"0.680555*Données1!$Y218*$C$64*Données1!$Y218/(1.292*273.15/($Y$57+273))*(Données1!X218-X64)*$C$66*VMOIS($H64)","v":23448.462832651345},{"$f":"(0.622*AC59*Données1!$BO252/100)/(101325-AC59*Données1!$BO252/100)","v":1.4372616719813802E-2},{"$f":"0.279166*Données1!$AD218*$D$61*Données1!$AD218/(1.292*273.15/($AD$57+273))*(Données1!$Z218-$AD$57)*24*VMOIS($H64)/1000","v":5049.7691510721697},{"$f":"0.680555*Données1!$AD218*$D$61*Données1!$AD218/(1.292*273.15/($AD$57+273))*(Données1!$AC218-AC64)*24*VMOIS($H64)","v":21600.745338278612},{"$f":"0.279166*Données1!$Y218*$C$64*Données1!$Y218/(1.292*273.15/($AD$57+273))*(Données1!$U218-$AD$57)*$C$66*VMOIS($H64)/1000","v":5017.6192205111183},{"$f":"0.680555*Données1!$Y218*$C$64*Données1!$Y218/(1.292*273.15/($AD$57+273))*(Données1!X218-AC64)*$C$66*VMOIS($H64)","v":21463.221732363825},{"$f":"(0.622*AH59*Données1!$BP252/100)/(101325-AH59*Données1!$BP252/100)","v":1.5081306687649324E-2},{"$f":"0.279166*Données1!$AD218*$D$61*Données1!$AD218/(1.292*273.15/($AI$57+273))*(Données1!$Z218-$AI$57)*24*VMOIS($H64)/1000","v":3755.3455560830544},{"$f":"0.680555*Données1!$AD218*$D$61*Données1!$AD218/(1.292*273.15/($AI$57+273))*(Données1!$AC218-AH64)*24*VMOIS($H64)","v":19407.783278260478},{"$f":"0.279166*Données1!$Y218*$C$64*Données1!$Y218/(1.292*273.15/($AI$57+273))*(Données1!$U218-$AI$57)*$C$66*VMOIS($H64)/1000","v":3731.4367207979412},{"$f":"0.680555*Données1!$Y218*$C$64*Données1!$Y218/(1.292*273.15/($AI$57+273))*(Données1!X218-AH64)*$C$66*VMOIS($H64)","v":19284.221415119155},{"$f":"(0.622*AM59*Données1!$BQ252/100)/(101325-AM59*Données1!$BQ252/100)","v":1.5851273855525743E-2},{"$f":"0.279166*Données1!$AD218*$D$61*Données1!$AD218/(1.292*273.15/($AN$57+273))*(Données1!$Z218-$AN$57)*24*VMOIS($H64)/1000","v":2452.1204430756611},{"$f":"0.680555*Données1!$AD218*$D$61*Données1!$AD218/(1.292*273.15/($AN$57+273))*(Données1!$AC218-AM64)*24*VMOIS($H64)","v":17003.053762006744},{"$f":"0.279166*Données1!$Y218*$C$64*Données1!$Y218/(1.292*273.15/($AN$57+273))*(Données1!$U218-$AN$57)*$C$66*VMOIS($H64)/1000","v":2436.5087389336049},{"$f":"0.680555*Données1!$Y218*$C$64*Données1!$Y218/(1.292*273.15/($AN$57+273))*(Données1!X218-AM64)*$C$66*VMOIS($H64)","v":16894.80188327318}]
[null,"Renouvellement VMC (vol/h)",{"$f":"C64/C58","v":0.66666666666666663},null,null,null,null,"Juin",{"$f":"(0.622*I59*Données1!$BK253/100)/(101325-I59*Données1!$BK253/100)","v":1.1944912603921417E-2},{"$f":"0.279166*Données1!$AD219*$D$61*Données1!$AD219/(1.292*273.15/($J$57+273))*(Données1!$Z219-$J$57)*24*VMOIS($H65)/1000","v":8685.4992631793539},{"$f":"0.680555*Données1!$AD219*$D$61*Données1!$AD219/(1.292*273.15/($J$57+273))*(Données1!$AC219-I65)*24*VMOIS($H65)","v":25459.038042847162},{"$f":"0.279166*Données1!$Y219*$C$64*Données1!$Y219/(1.292*273.15/($J$57+273))*(Données1!$U219-$J$57)*$C$66*VMOIS($H65)/1000","v":8630.2020426836389},{"$f":"0.680555*Données1!$Y219*$C$64*Données1!$Y219/(1.292*273.15/($J$57+273))*(Données1!$X219-I65)*$C$66*VMOIS($H65)","v":25296.950176898885},{"$f":"(0.622*N59*Données1!$BK253/100)/(101325-N59*Données1!$BK253/100)","v":1.272109161096195E-2},{"$f":"0.279166*Données1!$AD219*$D$61*Données1!$AD219/(1.292*273.15/($O$57+273))*(Données1!$Z219-$O$57)*24*VMOIS($H65)/1000","v":7455.1378010433064},{"$f":"0.680555*Données1!$AD219*$D$61*Données1!$AD219/(1.292*273.15/($O$57+273))*(Données1!$AC219-N65)*24*VMOIS($H65)","v":23161.77224440232},{"$f":"0.279166*Données1!$Y219*$C$64*Données1!$Y219/(1.292*273.15/($O$57+273))*(Données1!$U219-$O$57)*$C$66*VMOIS($H65)/1000","v":7407.6738169568789},{"$f":"0.680555*Données1!$Y219*$C$64*Données1!$Y219/(1.292*273.15/($O$57+273))*(Données1!X219-N65)*$C$66*VMOIS($H65)","v":23014.310182860292},{"$f":"(0.622*S59*Données1!$BM253/100)/(101325-S59*Données1!$BM253/100)","v":1.295713217048531E-2},{"$f":"0.279166*Données1!$AD219*$D$61*Données1!$AD219/(1.292*273.15/($T$57+273))*(Données1!$Z219-$T$57)*24*VMOIS($H65)/1000","v":6216.2048776533065},{"$f":"0.680555*Données1!$AD219*$D$61*Données1!$AD219/(1.292*273.15/($T$57+273))*(Données1!$AC219-S65)*24*VMOIS($H65)","v":22513.051722874745},{"$f":"0.279166*Données1!$Y219*$C$64*Données1!$Y219/(1.292*273.15/($T$57+273))*(Données1!$U219-$T$57)*$C$66*VMOIS($H65)/1000","v":6176.6287011606837},{"$f":"0.680555*Données1!$Y219*$C$64*Données1!$Y219/(1.292*273.15/($T$57+273))*(Données1!X219-S65)*$C$66*VMOIS($H65)","v":22369.719814434109},{"$f":"(0.622*X59*Données1!$BN253/100)/(101325-X59*Données1!$BN253/100)","v":1.3532608095355256E-2},{"$f":"0.279166*Données1!$AD219*$D$61*Données1!$AD219/(1.292*273.15/($Y$57+273))*(Données1!$Z219-$Y$57)*24*VMOIS($H65)/1000","v":4968.7004930093499},{"$f":"0.680555*Données1!$AD219*$D$61*Données1!$AD219/(1.292*273.15/($Y$57+273))*(Données1!$AC219-X65)*24*VMOIS($H65)","v":20809.676798746732},{"$f":"0.279166*Données1!$Y219*$C$64*Données1!$Y219/(1.292*273.15/($Y$57+273))*(Données1!$U219-$Y$57)*$C$66*VMOIS($H65)/1000","v":4937.0666952950523},{"$f":"0.680555*Données1!$Y219*$C$64*Données1!$Y219/(1.292*273.15/($Y$57+273))*(Données1!X219-X65)*$C$66*VMOIS($H65)","v":20677.189620806013},{"$f":"(0.622*AC59*Données1!$BO253/100)/(101325-AC59*Données1!$BO253/100)","v":1.4161472668720622E-2},{"$f":"0.279166*Données1!$AD219*$D$61*Données1!$AD219/(1.292*273.15/($AD$57+273))*(Données1!$Z219-$AD$57)*24*VMOIS($H65)/1000","v":3712.6246471114423},{"$f":"0.680555*Données1!$AD219*$D$61*Données1!$AD219/(1.292*273.15/($AD$57+273))*(Données1!$AC219-AC65)*24*VMOIS($H65)","v":18928.611868308064},{"$f":"0.279166*Données1!$Y219*$C$64*Données1!$Y219/(1.292*273.15/($AD$57+273))*(Données1!$U219-$AD$57)*$C$66*VMOIS($H65)/1000","v":3688.9877993599875},{"$f":"0.680555*Données1!$Y219*$C$64*Données1!$Y219/(1.292*273.15/($AD$57+273))*(Données1!X219-AC65)*$C$66*VMOIS($H65)","v":18808.100704534565},{"$f":"(0.622*AH59*Données1!$BP253/100)/(101325-AH59*Données1!$BP253/100)","v":1.4847770862500857E-2},{"$f":"0.279166*Données1!$AD219*$D$61*Données1!$AD219/(1.292*273.15/($AI$57+273))*(Données1!$Z219-$AI$57)*24*VMOIS($H65)/1000","v":2447.9773399595801},{"$f":"0.680555*Données1!$AD219*$D$61*Données1!$AD219/(1.292*273.15/($AI$57+273))*(Données1!$AC219-AH65)*24*VMOIS($H65)","v":16855.589730790634},{"$f":"0.279166*Données1!$Y219*$C$64*Données1!$Y219/(1.292*273.15/($AI$57+273))*(Données1!$U219-$AI$57)*$C$66*VMOIS($H65)/1000","v":2432.3920133554866},{"$f":"0.680555*Données1!$Y219*$C$64*Données1!$Y219/(1.292*273.15/($AI$57+273))*(Données1!X219-AH65)*$C$66*VMOIS($H65)","v":16748.276698610651},{"$f":"(0.622*AM59*Données1!$BQ253/100)/(101325-AM59*Données1!$BQ253/100)","v":1.5590099836448656E-2},{"$f":"0.279166*Données1!$AD219*$D$61*Données1!$AD219/(1.292*273.15/($AN$57+273))*(Données1!$Z219-$AN$57)*24*VMOIS($H65)/1000","v":1174.7585715537637},{"$f":"0.680555*Données1!$AD219*$D$61*Données1!$AD219/(1.292*273.15/($AN$57+273))*(Données1!$AC219-AM65)*24*VMOIS($H65)","v":14593.192547276014},{"$f":"0.279166*Données1!$Y219*$C$64*Données1!$Y219/(1.292*273.15/($AN$57+273))*(Données1!$U219-$AN$57)*$C$66*VMOIS($H65)/1000","v":1167.2793372815522},{"$f":"0.680555*Données1!$Y219*$C$64*Données1!$Y219/(1.292*273.15/($AN$57+273))*(Données1!X219-AM65)*$C$66*VMOIS($H65)","v":14500.283324493152}]
[null,"Temps renouv. Heure par jour VMC",{"$f":"IF(VMCPlan=Données1!$X$5,0,IF(VMCPlan=\"Permanent\",24,IF(VMCPlan=\"Nuit\",8,C106)))","v":24},null,null,null,null,"Juillet",{"$f":"(0.622*I59*Données1!$BK254/100)/(101325-I59*Données1!$BK254/100)","v":1.167833078582854E-2},{"$f":"0.279166*Données1!$AD220*$D$61*Données1!$AD220/(1.292*273.15/($J$57+273))*(Données1!$Z220-$J$57)*24*VMOIS($H66)/1000","v":9512.9997233364338},{"$f":"0.680555*Données1!$AD220*$D$61*Données1!$AD220/(1.292*273.15/($J$57+273))*(Données1!$AC220-I66)*24*VMOIS($H66)","v":25152.516338941801},{"$f":"0.279166*Données1!$Y220*$C$64*Données1!$Y220/(1.292*273.15/($J$57+273))*(Données1!$U220-$J$57)*$C$66*VMOIS($H66)/1000","v":9452.4341268937424},{"$f":"0.680555*Données1!$Y220*$C$64*Données1!$Y220/(1.292*273.15/($J$57+273))*(Données1!$X220-I66)*$C$66*VMOIS($H66)","v":24992.379978339846},{"$f":"(0.622*N59*Données1!$BK254/100)/(101325-N59*Données1!$BK254/100)","v":1.2436847502788435E-2},{"$f":"0.279166*Données1!$AD220*$D$61*Données1!$AD220/(1.292*273.15/($O$57+273))*(Données1!$Z220-$O$57)*24*VMOIS($H66)/1000","v":8247.2390762765535},{"$f":"0.680555*Données1!$AD220*$D$61*Données1!$AD220/(1.292*273.15/($O$57+273))*(Données1!$AC220-N66)*24*VMOIS($H66)","v":22837.777099397888},{"$f":"0.279166*Données1!$Y220*$C$64*Données1!$Y220/(1.292*273.15/($O$57+273))*(Données1!$U220-$O$57)*$C$66*VMOIS($H66)/1000","v":8194.7320891865784},{"$f":"0.680555*Données1!$Y220*$C$64*Données1!$Y220/(1.292*273.15/($O$57+273))*(Données1!X220-N66)*$C$66*VMOIS($H66)","v":22692.377789855484},{"$f":"(0.622*S59*Données1!$BM254/100)/(101325-S59*Données1!$BM254/100)","v":1.2583978188609747E-2},{"$f":"0.279166*Données1!$AD220*$D$61*Données1!$AD220/(1.292*273.15/($T$57+273))*(Données1!$Z220-$T$57)*24*VMOIS($H66)/1000","v":6972.6469447070976},{"$f":"0.680555*Données1!$AD220*$D$61*Données1!$AD220/(1.292*273.15/($T$57+273))*(Données1!$AC220-S66)*24*VMOIS($H66)","v":22448.227714862747},{"$f":"0.279166*Données1!$Y220*$C$64*Données1!$Y220/(1.292*273.15/($T$57+273))*(Données1!$U220-$T$57)*$C$66*VMOIS($H66)/1000","v":6928.2547936220371},{"$f":"0.680555*Données1!$Y220*$C$64*Données1!$Y220/(1.292*273.15/($T$57+273))*(Données1!X220-S66)*$C$66*VMOIS($H66)","v":22305.308515853754},{"$f":"(0.622*X59*Données1!$BN254/100)/(101325-X59*Données1!$BN254/100)","v":1.3096562605417738E-2},{"$f":"0.279166*Données1!$AD220*$D$61*Données1!$AD220/(1.292*273.15/($Y$57+273))*(Données1!$Z220-$Y$57)*24*VMOIS($H66)/1000","v":5689.2233286280671},{"$f":"0.680555*Données1!$AD220*$D$61*Données1!$AD220/(1.292*273.15/($Y$57+273))*(Données1!$AC220-X66)*24*VMOIS($H66)","v":20891.040066032674},{"$f":"0.279166*Données1!$Y220*$C$64*Données1!$Y220/(1.292*273.15/($Y$57+273))*(Données1!$U220-$Y$57)*$C$66*VMOIS($H66)/1000","v":5653.0022402001177},{"$f":"0.680555*Données1!$Y220*$C$64*Données1!$Y220/(1.292*273.15/($Y$57+273))*(Données1!X220-X66)*$C$66*VMOIS($H66)","v":20758.034879582021},{"$f":"(0.622*AC59*Données1!$BO254/100)/(101325-AC59*Données1!$BO254/100)","v":1.3655908725475291E-2},{"$f":"0.279166*Données1!$AD220*$D$61*Données1!$AD220/(1.292*273.15/($AD$57+273))*(Données1!$Z220-$AD$57)*24*VMOIS($H66)/1000","v":4396.9682280394636},{"$f":"0.680555*Données1!$AD220*$D$61*Données1!$AD220/(1.292*273.15/($AD$57+273))*(Données1!$AC220-AC66)*24*VMOIS($H66)","v":19173.313276840752},{"$f":"0.279166*Données1!$Y220*$C$64*Données1!$Y220/(1.292*273.15/($AD$57+273))*(Données1!$U220-$AD$57)*$C$66*VMOIS($H66)/1000","v":4368.974428920822},{"$f":"0.680555*Données1!$Y220*$C$64*Données1!$Y220/(1.292*273.15/($AD$57+273))*(Données1!X220-AC66)*$C$66*VMOIS($H66)","v":19051.244193673876},{"$f":"(0.622*AH59*Données1!$BP254/100)/(101325-AH59*Données1!$BP254/100)","v":1.426138485193466E-2},{"$f":"0.279166*Données1!$AD220*$D$61*Données1!$AD220/(1.292*273.15/($AI$57+273))*(Données1!$Z220-$AI$57)*24*VMOIS($H66)/1000","v":3095.881642941285},{"$f":"0.680555*Données1!$AD220*$D$61*Données1!$AD220/(1.292*273.15/($AI$57+273))*(Données1!$AC220-AH66)*24*VMOIS($H66)","v":17295.563631189118},{"$f":"0.279166*Données1!$Y220*$C$64*Données1!$Y220/(1.292*273.15/($AI$57+273))*(Données1!$U220-$AI$57)*$C$66*VMOIS($H66)/1000","v":3076.1713597841494},{"$f":"0.680555*Données1!$Y220*$C$64*Données1!$Y220/(1.292*273.15/($AI$57+273))*(Données1!X220-AH66)*$C$66*VMOIS($H66)","v":17185.449455051199},{"$f":"(0.622*AM59*Données1!$BQ254/100)/(101325-AM59*Données1!$BQ254/100)","v":1.4913489585439841E-2},{"$f":"0.279166*Données1!$AD220*$D$61*Données1!$AD220/(1.292*273.15/($AN$57+273))*(Données1!$Z220-$AN$57)*24*VMOIS($H66)/1000","v":1785.9635733335326},{"$f":"0.680555*Données1!$AD220*$D$61*Données1!$AD220/(1.292*273.15/($AN$57+273))*(Données1!$AC220-AM66)*24*VMOIS($H66)","v":15254.696565676055},{"$f":"0.279166*Données1!$Y220*$C$64*Données1!$Y220/(1.292*273.15/($AN$57+273))*(Données1!$U220-$AN$57)*$C$66*VMOIS($H66)/1000","v":1774.5930327900994},{"$f":"0.680555*Données1!$Y220*$C$64*Données1!$Y220/(1.292*273.15/($AN$57+273))*(Données1!X220-AM66)*$C$66*VMOIS($H66)","v":15157.575802202682}]
[null,null,null,null,null,null,null,"Août",{"$f":"(0.622*I59*Données1!$BK255/100)/(101325-I59*Données1!$BK255/100)","v":1.1636501499615074E-2},{"$f":"0.279166*Données1!$AD221*$D$61*Données1!$AD221/(1.292*273.15/($J$57+273))*(Données1!$Z221-$J$57)*24*VMOIS($H67)/1000","v":10273.766866368564},{"$f":"0.680555*Données1!$AD221*$D$61*Données1!$AD221/(1.292*273.15/($J$57+273))*(Données1!$AC221-I67)*24*VMOIS($H67)","v":26387.367659436193},{"$f":"0.279166*Données1!$Y221*$C$64*Données1!$Y221/(1.292*273.15/($J$57+273))*(Données1!$U221-$J$57)*$C$66*VMOIS($H67)/1000","v":10208.357759244516},{"$f":"0.680555*Données1!$Y221*$C$64*Données1!$Y221/(1.292*273.15/($J$57+273))*(Données1!$X221-I67)*$C$66*VMOIS($H67)","v":26219.369477230233},{"$f":"(0.622*N59*Données1!$BK255/100)/(101325-N59*Données1!$BK255/100)","v":1.2392248240957917E-2},{"$f":"0.279166*Données1!$AD221*$D$61*Données1!$AD221/(1.292*273.15/($O$57+273))*(Données1!$Z221-$O$57)*24*VMOIS($H67)/1000","v":9015.9533012772081},{"$f":"0.680555*Données1!$AD221*$D$61*Données1!$AD221/(1.292*273.15/($O$57+273))*(Données1!$AC221-N67)*24*VMOIS($H67)","v":24095.467260030415},{"$f":"0.279166*Données1!$Y221*$C$64*Données1!$Y221/(1.292*273.15/($O$57+273))*(Données1!$U221-$O$57)*$C$66*VMOIS($H67)/1000","v":8958.552207503204},{"$f":"0.680555*Données1!$Y221*$C$64*Données1!$Y221/(1.292*273.15/($O$57+273))*(Données1!X221-N67)*$C$66*VMOIS($H67)","v":23942.060722806506},{"$f":"(0.622*S59*Données1!$BM255/100)/(101325-S59*Données1!$BM255/100)","v":1.2480261104714622E-2},{"$f":"0.279166*Données1!$AD221*$D$61*Données1!$AD221/(1.292*273.15/($T$57+273))*(Données1!$Z221-$T$57)*24*VMOIS($H67)/1000","v":7749.344650363877},{"$f":"0.680555*Données1!$AD221*$D$61*Données1!$AD221/(1.292*273.15/($T$57+273))*(Données1!$AC221-S67)*24*VMOIS($H67)","v":23899.082493274818},{"$f":"0.279166*Données1!$Y221*$C$64*Données1!$Y221/(1.292*273.15/($T$57+273))*(Données1!$U221-$T$57)*$C$66*VMOIS($H67)/1000","v":7700.0075648557277},{"$f":"0.680555*Données1!$Y221*$C$64*Données1!$Y221/(1.292*273.15/($T$57+273))*(Données1!X221-S67)*$C$66*VMOIS($H67)","v":23746.926262040251},{"$f":"(0.622*X59*Données1!$BN255/100)/(101325-X59*Données1!$BN255/100)","v":1.2952539364715651E-2},{"$f":"0.279166*Données1!$AD221*$D$61*Données1!$AD221/(1.292*273.15/($Y$57+273))*(Données1!$Z221-$Y$57)*24*VMOIS($H67)/1000","v":6473.9409136285767},{"$f":"0.680555*Données1!$AD221*$D$61*Données1!$AD221/(1.292*273.15/($Y$57+273))*(Données1!$AC221-X67)*24*VMOIS($H67)","v":22481.44550845939},{"$f":"0.279166*Données1!$Y221*$C$64*Données1!$Y221/(1.292*273.15/($Y$57+273))*(Données1!$U221-$Y$57)*$C$66*VMOIS($H67)/1000","v":6432.7238313020862},{"$f":"0.680555*Données1!$Y221*$C$64*Données1!$Y221/(1.292*273.15/($Y$57+273))*(Données1!X221-X67)*$C$66*VMOIS($H67)","v":22338.314824583351},{"$f":"(0.622*AC59*Données1!$BO255/100)/(101325-AC59*Données1!$BO255/100)","v":1.3463624646175797E-2},{"$f":"0.279166*Données1!$AD221*$D$61*Données1!$AD221/(1.292*273.15/($AD$57+273))*(Données1!$Z221-$AD$57)*24*VMOIS($H67)/1000","v":5189.7420910713035},{"$f":"0.680555*Données1!$AD221*$D$61*Données1!$AD221/(1.292*273.15/($AD$57+273))*(Données1!$AC221-AC67)*24*VMOIS($H67)","v":20930.12260367522},{"$f":"0.279166*Données1!$Y221*$C$64*Données1!$Y221/(1.292*273.15/($AD$57+273))*(Données1!$U221-$AD$57)*$C$66*VMOIS($H67)/1000","v":5156.7010068422778},{"$f":"0.680555*Données1!$Y221*$C$64*Données1!$Y221/(1.292*273.15/($AD$57+273))*(Données1!X221-AC67)*$C$66*VMOIS($H67)","v":20796.868593796436},{"$f":"(0.622*AH59*Données1!$BP255/100)/(101325-AH59*Données1!$BP255/100)","v":1.4018611329657633E-2},{"$f":"0.279166*Données1!$AD221*$D$61*Données1!$AD221/(1.292*273.15/($AI$57+273))*(Données1!$Z221-$AI$57)*24*VMOIS($H67)/1000","v":3896.7481826920593},{"$f":"0.680555*Données1!$AD221*$D$61*Données1!$AD221/(1.292*273.15/($AI$57+273))*(Données1!$AC221-AH67)*24*VMOIS($H67)","v":19227.590794948694},{"$f":"0.279166*Données1!$Y221*$C$64*Données1!$Y221/(1.292*273.15/($AI$57+273))*(Données1!$U221-$AI$57)*$C$66*VMOIS($H67)/1000","v":3871.9390914763044},{"$f":"0.680555*Données1!$Y221*$C$64*Données1!$Y221/(1.292*273.15/($AI$57+273))*(Données1!X221-AH67)*$C$66*VMOIS($H67)","v":19105.176147779581},{"$f":"(0.622*AM59*Données1!$BQ255/100)/(101325-AM59*Données1!$BQ255/100)","v":1.4621087341328403E-2},{"$f":"0.279166*Données1!$AD221*$D$61*Données1!$AD221/(1.292*273.15/($AN$57+273))*(Données1!$Z221-$AN$57)*24*VMOIS($H67)/1000","v":2594.9591884908446},{"$f":"0.680555*Données1!$AD221*$D$61*Données1!$AD221/(1.292*273.15/($AN$57+273))*(Données1!$AC221-AM67)*24*VMOIS($H67)","v":17360.937429321486},{"$f":"0.279166*Données1!$Y221*$C$64*Données1!$Y221/(1.292*273.15/($AN$57+273))*(Données1!$U221-$AN$57)*$C$66*VMOIS($H67)/1000","v":2578.4380852041654},{"$f":"0.680555*Données1!$Y221*$C$64*Données1!$Y221/(1.292*273.15/($AN$57+273))*(Données1!X221-AM67)*$C$66*VMOIS($H67)","v":17250.407043450483}]
[null,null,null,null,null,null,null,"Septembre",{"$f":"(0.622*I59*Données1!$BK256/100)/(101325-I59*Données1!$BK256/100)","v":1.1658026044088365E-2},{"$f":"0.279166*Données1!$AD222*$D$61*Données1!$AD222/(1.292*273.15/($J$57+273))*(Données1!$Z222-$J$57)*24*VMOIS($H68)/1000","v":10064.541391431114},{"$f":"0.680555*Données1!$AD222*$D$61*Données1!$AD222/(1.292*273.15/($J$57+273))*(Données1!$AC222-I68)*24*VMOIS($H68)","v":26575.328458489043},{"$f":"0.279166*Données1!$Y222*$C$64*Données1!$Y222/(1.292*273.15/($J$57+273))*(Données1!$U222-$J$57)*$C$66*VMOIS($H68)/1000","v":10000.464342127849},{"$f":"0.680555*Données1!$Y222*$C$64*Données1!$Y222/(1.292*273.15/($J$57+273))*(Données1!$X222-I68)*$C$66*VMOIS($H68)","v":26406.133602443759},{"$f":"(0.622*N59*Données1!$BK256/100)/(101325-N59*Données1!$BK256/100)","v":1.2415198113732411E-2},{"$f":"0.279166*Données1!$AD222*$D$61*Données1!$AD222/(1.292*273.15/($O$57+273))*(Données1!$Z222-$O$57)*24*VMOIS($H68)/1000","v":8848.5799267853872},{"$f":"0.680555*Données1!$AD222*$D$61*Données1!$AD222/(1.292*273.15/($O$57+273))*(Données1!$AC222-N68)*24*VMOIS($H68)","v":24358.14780188783},{"$f":"0.279166*Données1!$Y222*$C$64*Données1!$Y222/(1.292*273.15/($O$57+273))*(Données1!$U222-$O$57)*$C$66*VMOIS($H68)/1000","v":8792.2444346669654},{"$f":"0.680555*Données1!$Y222*$C$64*Données1!$Y222/(1.292*273.15/($O$57+273))*(Données1!X222-N68)*$C$66*VMOIS($H68)","v":24203.068879070088},{"$f":"(0.622*S59*Données1!$BM256/100)/(101325-S59*Données1!$BM256/100)","v":1.2503401487197632E-2},{"$f":"0.279166*Données1!$AD222*$D$61*Données1!$AD222/(1.292*273.15/($T$57+273))*(Données1!$Z222-$T$57)*24*VMOIS($H68)/1000","v":7624.1129421718751},{"$f":"0.680555*Données1!$AD222*$D$61*Données1!$AD222/(1.292*273.15/($T$57+273))*(Données1!$AC222-S68)*24*VMOIS($H68)","v":24171.23787656847},{"$f":"0.279166*Données1!$Y222*$C$64*Données1!$Y222/(1.292*273.15/($T$57+273))*(Données1!$U222-$T$57)*$C$66*VMOIS($H68)/1000","v":7575.5731586001029},{"$f":"0.680555*Données1!$Y222*$C$64*Données1!$Y222/(1.292*273.15/($T$57+273))*(Données1!X222-S68)*$C$66*VMOIS($H68)","v":24017.348937082723},{"$f":"(0.622*X59*Données1!$BN256/100)/(101325-X59*Données1!$BN256/100)","v":1.2976967660358028E-2},{"$f":"0.279166*Données1!$AD222*$D$61*Données1!$AD222/(1.292*273.15/($Y$57+273))*(Données1!$Z222-$Y$57)*24*VMOIS($H68)/1000","v":6391.1404375905722},{"$f":"0.680555*Données1!$AD222*$D$61*Données1!$AD222/(1.292*273.15/($Y$57+273))*(Données1!$AC222-X68)*24*VMOIS($H68)","v":22799.91212724417},{"$f":"0.279166*Données1!$Y222*$C$64*Données1!$Y222/(1.292*273.15/($Y$57+273))*(Données1!$U222-$Y$57)*$C$66*VMOIS($H68)/1000","v":6350.4505139272596},{"$f":"0.680555*Données1!$Y222*$C$64*Données1!$Y222/(1.292*273.15/($Y$57+273))*(Données1!X222-X68)*$C$66*VMOIS($H68)","v":22654.753889360491},{"$f":"(0.622*AC59*Données1!$BO256/100)/(101325-AC59*Données1!$BO256/100)","v":1.3489285517551887E-2},{"$f":"0.279166*Données1!$AD222*$D$61*Données1!$AD222/(1.292*273.15/($AD$57+273))*(Données1!$Z222-$AD$57)*24*VMOIS($H68)/1000","v":5149.6624130414812},{"$f":"0.680555*Données1!$AD222*$D$61*Données1!$AD222/(1.292*273.15/($AD$57+273))*(Données1!$AC222-AC68)*24*VMOIS($H68)","v":21299.445565598951},{"$f":"0.279166*Données1!$Y222*$C$64*Données1!$Y222/(1.292*273.15/($AD$57+273))*(Données1!$U222-$AD$57)*$C$66*VMOIS($H68)/1000","v":5116.8765006484382},{"$f":"0.680555*Données1!$Y222*$C$64*Données1!$Y222/(1.292*273.15/($AD$57+273))*(Données1!X222-AC68)*$C$66*VMOIS($H68)","v":21163.840219010479},{"$f":"(0.622*AH59*Données1!$BP256/100)/(101325-AH59*Données1!$BP256/100)","v":1.4044152359142744E-2},{"$f":"0.279166*Données1!$AD222*$D$61*Données1!$AD222/(1.292*273.15/($AI$57+273))*(Données1!$Z222-$AI$57)*24*VMOIS($H68)/1000","v":3899.6788685246006},{"$f":"0.680555*Données1!$AD222*$D$61*Données1!$AD222/(1.292*273.15/($AI$57+273))*(Données1!$AC222-AH68)*24*VMOIS($H68)","v":19656.901174406961},{"$f":"0.279166*Données1!$Y222*$C$64*Données1!$Y222/(1.292*273.15/($AI$57+273))*(Données1!$U222-$AI$57)*$C$66*VMOIS($H68)/1000","v":3874.8511187636345},{"$f":"0.680555*Données1!$Y222*$C$64*Données1!$Y222/(1.292*273.15/($AI$57+273))*(Données1!X222-AH68)*$C$66*VMOIS($H68)","v":19531.753273800754},{"$f":"(0.622*AM59*Données1!$BQ256/100)/(101325-AM59*Données1!$BQ256/100)","v":1.4645523109213736E-2},{"$f":"0.279166*Données1!$AD222*$D$61*Données1!$AD222/(1.292*273.15/($AN$57+273))*(Données1!$Z222-$AN$57)*24*VMOIS($H68)/1000","v":2641.1898040399324},{"$f":"0.680555*Données1!$AD222*$D$61*Données1!$AD222/(1.292*273.15/($AN$57+273))*(Données1!$AC222-AM68)*24*VMOIS($H68)","v":17858.695851054901},{"$f":"0.279166*Données1!$Y222*$C$64*Données1!$Y222/(1.292*273.15/($AN$57+273))*(Données1!$U222-$AN$57)*$C$66*VMOIS($H68)/1000","v":2624.3743682728509},{"$f":"0.680555*Données1!$Y222*$C$64*Données1!$Y222/(1.292*273.15/($AN$57+273))*(Données1!X222-AM68)*$C$66*VMOIS($H68)","v":17744.996429488179}]
[null,null,null,null,null,null,null,"Octobre",{"$f":"(0.622*I59*Données1!$BK257/100)/(101325-I59*Données1!$BK257/100)","v":1.1609865348963792E-2},{"$f":"0.279166*Données1!$AD223*$D$61*Données1!$AD223/(1.292*273.15/($J$57+273))*(Données1!$Z223-$J$57)*24*VMOIS($H69)/1000","v":10808.667431396556},{"$f":"0.680555*Données1!$AD223*$D$61*Données1!$AD223/(1.292*273.15/($J$57+273))*(Données1!$AC223-I69)*24*VMOIS($H69)","v":27552.262180844107},{"$f":"0.279166*Données1!$Y223*$C$64*Données1!$Y223/(1.292*273.15/($J$57+273))*(Données1!$U223-$J$57)*$C$66*VMOIS($H69)/1000","v":10739.852818890333},{"$f":"0.680555*Données1!$Y223*$C$64*Données1!$Y223/(1.292*273.15/($J$57+273))*(Données1!$X223-I69)*$C$66*VMOIS($H69)","v":27376.847564964886},{"$f":"(0.622*N59*Données1!$BK257/100)/(101325-N59*Données1!$BK257/100)","v":1.2363848418056191E-2},{"$f":"0.279166*Données1!$AD223*$D$61*Données1!$AD223/(1.292*273.15/($O$57+273))*(Données1!$Z223-$O$57)*24*VMOIS($H69)/1000","v":9556.4485202983305},{"$f":"0.680555*Données1!$AD223*$D$61*Données1!$AD223/(1.292*273.15/($O$57+273))*(Données1!$AC223-N69)*24*VMOIS($H69)","v":25276.824056648609},{"$f":"0.279166*Données1!$Y223*$C$64*Données1!$Y223/(1.292*273.15/($O$57+273))*(Données1!$U223-$O$57)*$C$66*VMOIS($H69)/1000","v":9495.6063021401751},{"$f":"0.680555*Données1!$Y223*$C$64*Données1!$Y223/(1.292*273.15/($O$57+273))*(Données1!X223-N69)*$C$66*VMOIS($H69)","v":25115.896276800959},{"$f":"(0.622*S59*Données1!$BM257/100)/(101325-S59*Données1!$BM257/100)","v":1.242570779574511E-2},{"$f":"0.279166*Données1!$AD223*$D$61*Données1!$AD223/(1.292*273.15/($T$57+273))*(Données1!$Z223-$T$57)*24*VMOIS($H69)/1000","v":8295.4601632066715},{"$f":"0.680555*Données1!$AD223*$D$61*Données1!$AD223/(1.292*273.15/($T$57+273))*(Données1!$AC223-S69)*24*VMOIS($H69)","v":25167.738656016627},{"$f":"0.279166*Données1!$Y223*$C$64*Données1!$Y223/(1.292*273.15/($T$57+273))*(Données1!$U223-$T$57)*$C$66*VMOIS($H69)/1000","v":8242.6461710735002},{"$f":"0.680555*Données1!$Y223*$C$64*Données1!$Y223/(1.292*273.15/($T$57+273))*(Données1!X223-S69)*$C$66*VMOIS($H69)","v":25007.505380798921},{"$f":"(0.622*X59*Données1!$BN257/100)/(101325-X59*Données1!$BN257/100)","v":1.2880732325059345E-2},{"$f":"0.279166*Données1!$AD223*$D$61*Données1!$AD223/(1.292*273.15/($Y$57+273))*(Données1!$Z223-$Y$57)*24*VMOIS($H69)/1000","v":7025.7023601215824},{"$f":"0.680555*Données1!$AD223*$D$61*Données1!$AD223/(1.292*273.15/($Y$57+273))*(Données1!$AC223-X69)*24*VMOIS($H69)","v":23813.361700161036},{"$f":"0.279166*Données1!$Y223*$C$64*Données1!$Y223/(1.292*273.15/($Y$57+273))*(Données1!$U223-$Y$57)*$C$66*VMOIS($H69)/1000","v":6980.9724256903091},{"$f":"0.680555*Données1!$Y223*$C$64*Données1!$Y223/(1.292*273.15/($Y$57+273))*(Données1!X223-X69)*$C$66*VMOIS($H69)","v":23661.751220121001},{"$f":"(0.622*AC59*Données1!$BO257/100)/(101325-AC59*Données1!$BO257/100)","v":1.3372479956272243E-2},{"$f":"0.279166*Données1!$AD223*$D$61*Données1!$AD223/(1.292*273.15/($AD$57+273))*(Données1!$Z223-$AD$57)*24*VMOIS($H69)/1000","v":5747.1751110430587},{"$f":"0.680555*Données1!$AD223*$D$61*Données1!$AD223/(1.292*273.15/($AD$57+273))*(Données1!$AC223-AC69)*24*VMOIS($H69)","v":22332.673174708387},{"$f":"0.279166*Données1!$Y223*$C$64*Données1!$Y223/(1.292*273.15/($AD$57+273))*(Données1!$U223-$AD$57)*$C$66*VMOIS($H69)/1000","v":5710.5850659906018},{"$f":"0.680555*Données1!$Y223*$C$64*Données1!$Y223/(1.292*273.15/($AD$57+273))*(Données1!X223-AC69)*$C$66*VMOIS($H69)","v":22190.489666843059},{"$f":"(0.622*AH59*Données1!$BP257/100)/(101325-AH59*Données1!$BP257/100)","v":1.3904795332019371E-2},{"$f":"0.279166*Données1!$AD223*$D$61*Données1!$AD223/(1.292*273.15/($AI$57+273))*(Données1!$Z223-$AI$57)*24*VMOIS($H69)/1000","v":4459.8784159711013},{"$f":"0.680555*Données1!$AD223*$D$61*Données1!$AD223/(1.292*273.15/($AI$57+273))*(Données1!$AC223-AH69)*24*VMOIS($H69)","v":20712.248876201575},{"$f":"0.279166*Données1!$Y223*$C$64*Données1!$Y223/(1.292*273.15/($AI$57+273))*(Données1!$U223-$AI$57)*$C$66*VMOIS($H69)/1000","v":4431.4840919743765},{"$f":"0.680555*Données1!$Y223*$C$64*Données1!$Y223/(1.292*273.15/($AI$57+273))*(Données1!X223-AH69)*$C$66*VMOIS($H69)","v":20580.381984228556},{"$f":"(0.622*AM59*Données1!$BQ257/100)/(101325-AM59*Données1!$BQ257/100)","v":1.4482616680777159E-2},{"$f":"0.279166*Données1!$AD223*$D$61*Données1!$AD223/(1.292*273.15/($AN$57+273))*(Données1!$Z223-$AN$57)*24*VMOIS($H69)/1000","v":3163.8122749057102},{"$f":"0.680555*Données1!$AD223*$D$61*Données1!$AD223/(1.292*273.15/($AN$57+273))*(Données1!$AC223-AM69)*24*VMOIS($H69)","v":18935.005058474973},{"$f":"0.279166*Données1!$Y223*$C$64*Données1!$Y223/(1.292*273.15/($AN$57+273))*(Données1!$U223-$AN$57)*$C$66*VMOIS($H69)/1000","v":3143.6695036416363},{"$f":"0.680555*Données1!$Y223*$C$64*Données1!$Y223/(1.292*273.15/($AN$57+273))*(Données1!X223-AM69)*$C$66*VMOIS($H69)","v":18814.453191727978}]
[null,null,null,null,null,null,null,"Novembre",{"$f":"(0.622*I59*Données1!$BK258/100)/(101325-I59*Données1!$BK258/100)","v":1.1689532919390082E-2},{"$f":"0.279166*Données1!$AD224*$D$61*Données1!$AD224/(1.292*273.15/($J$57+273))*(Données1!$Z224-$J$57)*24*VMOIS($H70)/1000","v":9351.6132136083161},{"$f":"0.680555*Données1!$AD224*$D$61*Données1!$AD224/(1.292*273.15/($J$57+273))*(Données1!$AC224-I70)*24*VMOIS($H70)","v":25246.136923345199},{"$f":"0.279166*Données1!$Y224*$C$64*Données1!$Y224/(1.292*273.15/($J$57+273))*(Données1!$U224-$J$57)*$C$66*VMOIS($H70)/1000","v":9292.0751027646729},{"$f":"0.680555*Données1!$Y224*$C$64*Données1!$Y224/(1.292*273.15/($J$57+273))*(Données1!$X224-I70)*$C$66*VMOIS($H70)","v":25085.404516627539},{"$f":"(0.622*N59*Données1!$BK258/100)/(101325-N59*Données1!$BK258/100)","v":1.2448791517345514E-2},{"$f":"0.279166*Données1!$AD224*$D$61*Données1!$AD224/(1.292*273.15/($O$57+273))*(Données1!$Z224-$O$57)*24*VMOIS($H70)/1000","v":8128.2024143600302},{"$f":"0.680555*Données1!$AD224*$D$61*Données1!$AD224/(1.292*273.15/($O$57+273))*(Données1!$AC224-N70)*24*VMOIS($H70)","v":23008.77546124145},{"$f":"0.279166*Données1!$Y224*$C$64*Données1!$Y224/(1.292*273.15/($O$57+273))*(Données1!$U224-$O$57)*$C$66*VMOIS($H70)/1000","v":8076.4532877385936},{"$f":"0.680555*Données1!$Y224*$C$64*Données1!$Y224/(1.292*273.15/($O$57+273))*(Données1!X224-N70)*$C$66*VMOIS($H70)","v":22862.287471148535},{"$f":"(0.622*S59*Données1!$BM258/100)/(101325-S59*Données1!$BM258/100)","v":1.2561772505130048E-2},{"$f":"0.279166*Données1!$AD224*$D$61*Données1!$AD224/(1.292*273.15/($T$57+273))*(Données1!$Z224-$T$57)*24*VMOIS($H70)/1000","v":6896.2519717927307},{"$f":"0.680555*Données1!$AD224*$D$61*Données1!$AD224/(1.292*273.15/($T$57+273))*(Données1!$AC224-S70)*24*VMOIS($H70)","v":22740.109822817474},{"$f":"0.279166*Données1!$Y224*$C$64*Données1!$Y224/(1.292*273.15/($T$57+273))*(Données1!$U224-$T$57)*$C$66*VMOIS($H70)/1000","v":6852.3461980055099},{"$f":"0.680555*Données1!$Y224*$C$64*Données1!$Y224/(1.292*273.15/($T$57+273))*(Données1!X224-S70)*$C$66*VMOIS($H70)","v":22595.332323117495},{"$f":"(0.622*X59*Données1!$BN258/100)/(101325-X59*Données1!$BN258/100)","v":1.3054462667165947E-2},{"$f":"0.279166*Données1!$AD224*$D$61*Données1!$AD224/(1.292*273.15/($Y$57+273))*(Données1!$Z224-$Y$57)*24*VMOIS($H70)/1000","v":5655.7618859064141},{"$f":"0.680555*Données1!$AD224*$D$61*Données1!$AD224/(1.292*273.15/($Y$57+273))*(Données1!$AC224-X70)*24*VMOIS($H70)","v":21299.180012000787},{"$f":"0.279166*Données1!$Y224*$C$64*Données1!$Y224/(1.292*273.15/($Y$57+273))*(Données1!$U224-$Y$57)*$C$66*VMOIS($H70)/1000","v":5619.7538335654208},{"$f":"0.680555*Données1!$Y224*$C$64*Données1!$Y224/(1.292*273.15/($Y$57+273))*(Données1!X224-X70)*$C$66*VMOIS($H70)","v":21163.576356089547},{"$f":"(0.622*AC59*Données1!$BO258/100)/(101325-AC59*Données1!$BO258/100)","v":1.3590111949238912E-2},{"$f":"0.279166*Données1!$AD224*$D$61*Données1!$AD224/(1.292*273.15/($AD$57+273))*(Données1!$Z224-$AD$57)*24*VMOIS($H70)/1000","v":4406.7321567010804},{"$f":"0.680555*Données1!$AD224*$D$61*Données1!$AD224/(1.292*273.15/($AD$57+273))*(Données1!$AC224-AC70)*24*VMOIS($H70)","v":19715.1859457682},{"$f":"0.279166*Données1!$Y224*$C$64*Données1!$Y224/(1.292*273.15/($AD$57+273))*(Données1!$U224-$AD$57)*$C$66*VMOIS($H70)/1000","v":4378.6761944183263},{"$f":"0.680555*Données1!$Y224*$C$64*Données1!$Y224/(1.292*273.15/($AD$57+273))*(Données1!X224-AC70)*$C$66*VMOIS($H70)","v":19589.66696852542},{"$f":"(0.622*AH59*Données1!$BP258/100)/(101325-AH59*Données1!$BP258/100)","v":1.4173523769277963E-2},{"$f":"0.279166*Données1!$AD224*$D$61*Données1!$AD224/(1.292*273.15/($AI$57+273))*(Données1!$Z224-$AI$57)*24*VMOIS($H70)/1000","v":3149.1627841767308},{"$f":"0.680555*Données1!$AD224*$D$61*Données1!$AD224/(1.292*273.15/($AI$57+273))*(Données1!$AC224-AH70)*24*VMOIS($H70)","v":17971.886450491231},{"$f":"0.279166*Données1!$Y224*$C$64*Données1!$Y224/(1.292*273.15/($AI$57+273))*(Données1!$U224-$AI$57)*$C$66*VMOIS($H70)/1000","v":3129.113280564226},{"$f":"0.680555*Données1!$Y224*$C$64*Données1!$Y224/(1.292*273.15/($AI$57+273))*(Données1!X224-AH70)*$C$66*VMOIS($H70)","v":17857.466388078723},{"$f":"(0.622*AM59*Données1!$BQ258/100)/(101325-AM59*Données1!$BQ258/100)","v":1.4805788594255147E-2},{"$f":"0.279166*Données1!$AD224*$D$61*Données1!$AD224/(1.292*273.15/($AN$57+273))*(Données1!$Z224-$AN$57)*24*VMOIS($H70)/1000","v":1883.053768333365},{"$f":"0.680555*Données1!$AD224*$D$61*Données1!$AD224/(1.292*273.15/($AN$57+273))*(Données1!$AC224-AM70)*24*VMOIS($H70)","v":16064.396178738694},{"$f":"0.279166*Données1!$Y224*$C$64*Données1!$Y224/(1.292*273.15/($AN$57+273))*(Données1!$U224-$AN$57)*$C$66*VMOIS($H70)/1000","v":1871.0650920031226},{"$f":"0.680555*Données1!$Y224*$C$64*Données1!$Y224/(1.292*273.15/($AN$57+273))*(Données1!X224-AM70)*$C$66*VMOIS($H70)","v":15962.120370439208}]
[null,null,null,null,null,null,null,"Décembre",{"$f":"(0.622*I59*Données1!$BK259/100)/(101325-I59*Données1!$BK259/100)","v":1.1809777174016139E-2},{"$f":"0.279166*Données1!$AD225*$D$61*Données1!$AD225/(1.292*273.15/($J$57+273))*(Données1!$Z225-$J$57)*24*VMOIS($H71)/1000","v":9494.6401028700111},{"$f":"0.680555*Données1!$AD225*$D$61*Données1!$AD225/(1.292*273.15/($J$57+273))*(Données1!$AC225-I71)*24*VMOIS($H71)","v":25686.059400967351},{"$f":"0.279166*Données1!$Y225*$C$64*Données1!$Y225/(1.292*273.15/($J$57+273))*(Données1!$U225-$J$57)*$C$66*VMOIS($H71)/1000","v":9434.1913950425187},{"$f":"0.680555*Données1!$Y225*$C$64*Données1!$Y225/(1.292*273.15/($J$57+273))*(Données1!$X225-I71)*$C$66*VMOIS($H71)","v":25522.526177680727},{"$f":"(0.622*N59*Données1!$BK259/100)/(101325-N59*Données1!$BK259/100)","v":1.2577000886563878E-2},{"$f":"0.279166*Données1!$AD225*$D$61*Données1!$AD225/(1.292*273.15/($O$57+273))*(Données1!$Z225-$O$57)*24*VMOIS($H71)/1000","v":8228.6878121534101},{"$f":"0.680555*Données1!$AD225*$D$61*Données1!$AD225/(1.292*273.15/($O$57+273))*(Données1!$AC225-N71)*24*VMOIS($H71)","v":23345.343637105732},{"$f":"0.279166*Données1!$Y225*$C$64*Données1!$Y225/(1.292*273.15/($O$57+273))*(Données1!$U225-$O$57)*$C$66*VMOIS($H71)/1000","v":8176.2989337998042},{"$f":"0.680555*Données1!$Y225*$C$64*Données1!$Y225/(1.292*273.15/($O$57+273))*(Données1!X225-N71)*$C$66*VMOIS($H71)","v":23196.712847379935},{"$f":"(0.622*S59*Données1!$BM259/100)/(101325-S59*Données1!$BM259/100)","v":1.2774637453546026E-2},{"$f":"0.279166*Données1!$AD225*$D$61*Données1!$AD225/(1.292*273.15/($T$57+273))*(Données1!$Z225-$T$57)*24*VMOIS($H71)/1000","v":6953.9031594929766},{"$f":"0.680555*Données1!$AD225*$D$61*Données1!$AD225/(1.292*273.15/($T$57+273))*(Données1!$AC225-S71)*24*VMOIS($H71)","v":22797.071599927938},{"$f":"0.279166*Données1!$Y225*$C$64*Données1!$Y225/(1.292*273.15/($T$57+273))*(Données1!$U225-$T$57)*$C$66*VMOIS($H71)/1000","v":6909.6303428517431},{"$f":"0.680555*Données1!$Y225*$C$64*Données1!$Y225/(1.292*273.15/($T$57+273))*(Données1!X225-S71)*$C$66*VMOIS($H71)","v":22651.931446585011},{"$f":"(0.622*X59*Données1!$BN259/100)/(101325-X59*Données1!$BN259/100)","v":1.3320996395143661E-2},{"$f":"0.279166*Données1!$AD225*$D$61*Données1!$AD225/(1.292*273.15/($Y$57+273))*(Données1!$Z225-$Y$57)*24*VMOIS($H71)/1000","v":5670.2861448887097},{"$f":"0.680555*Données1!$AD225*$D$61*Données1!$AD225/(1.292*273.15/($Y$57+273))*(Données1!$AC225-X71)*24*VMOIS($H71)","v":21133.275394384564},{"$f":"0.279166*Données1!$Y225*$C$64*Données1!$Y225/(1.292*273.15/($Y$57+273))*(Données1!$U225-$Y$57)*$C$66*VMOIS($H71)/1000","v":5634.185622198328},{"$f":"0.680555*Données1!$Y225*$C$64*Données1!$Y225/(1.292*273.15/($Y$57+273))*(Données1!X225-X71)*$C$66*VMOIS($H71)","v":20998.727989120947},{"$f":"(0.622*AC59*Données1!$BO259/100)/(101325-AC59*Données1!$BO259/100)","v":1.391606388757491E-2},{"$f":"0.279166*Données1!$AD225*$D$61*Données1!$AD225/(1.292*273.15/($AD$57+273))*(Données1!$Z225-$AD$57)*24*VMOIS($H71)/1000","v":4377.8367683406077},{"$f":"0.680555*Données1!$AD225*$D$61*Données1!$AD225/(1.292*273.15/($AD$57+273))*(Données1!$AC225-AC71)*24*VMOIS($H71)","v":19301.971925311631},{"$f":"0.279166*Données1!$Y225*$C$64*Données1!$Y225/(1.292*273.15/($AD$57+273))*(Données1!$U225-$AD$57)*$C$66*VMOIS($H71)/1000","v":4349.9647718395627},{"$f":"0.680555*Données1!$Y225*$C$64*Données1!$Y225/(1.292*273.15/($AD$57+273))*(Données1!X225-AC71)*$C$66*VMOIS($H71)","v":19179.083722202704},{"$f":"(0.622*AH59*Données1!$BP259/100)/(101325-AH59*Données1!$BP259/100)","v":1.456336103195789E-2},{"$f":"0.279166*Données1!$AD225*$D$61*Données1!$AD225/(1.292*273.15/($AI$57+273))*(Données1!$Z225-$AI$57)*24*VMOIS($H71)/1000","v":3076.5550298486746},{"$f":"0.680555*Données1!$AD225*$D$61*Données1!$AD225/(1.292*273.15/($AI$57+273))*(Données1!$AC225-AH71)*24*VMOIS($H71)","v":17290.291569641475},{"$f":"0.279166*Données1!$Y225*$C$64*Données1!$Y225/(1.292*273.15/($AI$57+273))*(Données1!$U225-$AI$57)*$C$66*VMOIS($H71)/1000","v":3056.9677917754484},{"$f":"0.680555*Données1!$Y225*$C$64*Données1!$Y225/(1.292*273.15/($AI$57+273))*(Données1!X225-AH71)*$C$66*VMOIS($H71)","v":17180.210958683983},{"$f":"(0.622*AM59*Données1!$BQ259/100)/(101325-AM59*Données1!$BQ259/100)","v":1.5264247265989553E-2},{"$f":"0.279166*Données1!$AD225*$D$61*Données1!$AD225/(1.292*273.15/($AN$57+273))*(Données1!$Z225-$AN$57)*24*VMOIS($H71)/1000","v":1766.4409294129091},{"$f":"0.680555*Données1!$AD225*$D$61*Données1!$AD225/(1.292*273.15/($AN$57+273))*(Données1!$AC225-AM71)*24*VMOIS($H71)","v":15092.171432952257},{"$f":"0.279166*Données1!$Y225*$C$64*Données1!$Y225/(1.292*273.15/($AN$57+273))*(Données1!$U225-$AN$57)*$C$66*VMOIS($H71)/1000","v":1755.1946820059825},{"$f":"0.680555*Données1!$Y225*$C$64*Données1!$Y225/(1.292*273.15/($AN$57+273))*(Données1!X225-AM71)*$C$66*VMOIS($H71)","v":14996.085404250945}]
[null,"Apports solaires parois opaques",null,null,null,null,null,null,"H spé. Int",null,null,null,null,"H spé. Int",null,null,null,null,"H spé. Int",null,null,null,null,"H spé. Int",null,null,null,null,"H spé. Int",null,null,null,null,"H spé. Int",null,null,null,null,"H spé. Int"]
[]
[null,null,null,null,null,"MURS"]
[null,"coeff échanges radiatif int et ext",5.5,null,"He (W/m².K)",{"$f":"C76+C75","v":24.88}]
[null,"coeff échanges convectif ext",{"$f":"Données1!T187","v":19.38},null,"Hi (W/m².K)",{"$f":"C75+C77","v":8}]
[null,"coeff échanges convectif int MURS",2.5,null,null,"TOIT"]
[null,"coeff échanges convectif int TOIT",2.85,null,"He (W/m².K)",{"$f":"C76+C75","v":24.88}]
[null,null,null,null,"Hi (W/m².K)",{"$f":"C75+C78","v":8.35}]
[]
[null,null,{"$f":"Calculs!$B$7","v":"Est"},{"$f":"Calculs!$C$7","v":"Sud"},{"$f":"Calculs!$D$7","v":"Ouest"},{"$f":"Calculs!$E$7","v":"Nord"},"Toit"]
[null,"Surf paroi opaque (m²)",{"$f":"Calculs!B13","v":188.26717214711488},{"$f":"Calculs!C13","v":53.790620613461392},{"$f":"Calculs!D13","v":188.26717214711488},{"$f":"Calculs!E13","v":53.790620613461392},{"$f":"Calculs!F2","v":1500.0000000000002}]
[null,"Facteur solaire",{"$f":"VLOOKUP(C81,$H$2:$I$10,2,FALSE)","v":0.06},{"$f":"VLOOKUP(D81,$H$2:$I$10,2,FALSE)","v":0.08},{"$f":"VLOOKUP(E81,$H$2:$I$10,2,FALSE)","v":0.06},0.08,{"$f":"I10","v":1.4999999999999999E-2}]
[]
[null,null,"Brut","Net 1","Net 2","Net 3",20,21,22,23,24,25,26]
[null,"Janvier",{"$f":"(Données1!AK31*$C$82*$C$83+Données1!AL31*$D$82*$D$83+Données1!AM31*$E$82*$E$83+Données1!AN31*$F$82*$F$83+Données1!AO31*$G$82*$G$83)/1000","v":4642.9903116710775},{"$f":"C86*(1-(5.5/8)*($C$47/8))","v":4020.2495457709347},{"$f":"D86-K25-I25","v":1628.4014325431594},{"$f":"E86-(F119+F135)*($C$47/8)","v":972.25490949156995},{"$f":"F86+I42","v":21825.480502478917},{"$f":"F86+K42","v":18915.427919938978},{"$f":"F86+M42","v":16005.375337399038},{"$f":"F86+O42","v":13095.322754859098},{"$f":"F86+Q42","v":10185.27017231916},{"$f":"F86+S42","v":7275.2175897792213},{"$f":"F86+U42","v":4365.1650072392813}]
[null,"Février",{"$f":"(Données1!AK32*$C$82*$C$83+Données1!AL32*$D$82*$D$83+Données1!AM32*$E$82*$E$83+Données1!AN32*$F$82*$F$83+Données1!AO32*$G$82*$G$83)/1000","v":4373.7234957364099},3787.0981235654208,1639.0003623188904,1046.3518898851967,19711.708816607737,17083.2742259265,14454.839635245266,11826.40504456403,9197.9704538827937,6569.5358632015596,3941.1012725203236]
[null,"Mars",{"$f":"(Données1!AK33*$C$82*$C$83+Données1!AL33*$D$82*$D$83+Données1!AM33*$E$82*$E$83+Données1!AN33*$F$82*$F$83+Données1!AO33*$G$82*$G$83)/1000","v":5129.0709901393911},4441.1346856576329,2101.1722519086807,1445.0257288570911,22192.302330809922,19282.249748269984,16372.197165730046,13462.144583190107,10552.092000650166,7642.0394181102274,4731.9868355702883]
[null,"Avril",{"$f":"(Données1!AK34*$C$82*$C$83+Données1!AL34*$D$82*$D$83+Données1!AM34*$E$82*$E$83+Données1!AN34*$F$82*$F$83+Données1!AO34*$G$82*$G$83)/1000","v":5108.1802065454667},4423.0458770199839,2105.7281940308239,1470.7476878518664,22206.632450898018,19390.452532310985,16574.272613723944,13758.092695136906,10941.912776549869,8125.732857962832,5309.5529393757934]
[null,"Mai",{"$f":"(Données1!AK35*$C$82*$C$83+Données1!AL35*$D$82*$D$83+Données1!AM35*$E$82*$E$83+Données1!AN35*$F$82*$F$83+Données1!AO35*$G$82*$G$83)/1000","v":5133.7684355653346},4445.2020865291061,2098.2151472779442,1442.0686242263546,24325.437251232499,21415.384668692561,18505.332086152623,15595.279503612681,12685.226921072741,9775.1743385328027,6865.1217559928618]
[null,"Juin",{"$f":"(Données1!AK36*$C$82*$C$83+Données1!AL36*$D$82*$D$83+Données1!AM36*$E$82*$E$83+Données1!AN36*$F$82*$F$83+Données1!AO36*$G$82*$G$83)/1000","v":5266.4070545875747},4560.0505596209923,2061.0496418667194,1426.0691356877619,20904.891365977161,18088.711447390124,15272.531528803085,12456.351610216048,9640.1716916290097,6823.9917730419711,4007.8118544549338]
[null,"Juillet",{"$f":"(Données1!AK37*$C$82*$C$83+Données1!AL37*$D$82*$D$83+Données1!AM37*$E$82*$E$83+Données1!AN37*$F$82*$F$83+Données1!AO37*$G$82*$G$83)/1000","v":6109.7115371326136},5290.2468846867814,2504.5810450099061,1848.4345219583165,23245.143725622962,20335.091143083024,17425.038560543082,14514.985978003144,11604.933395463206,8694.8808129232675,5784.8282303833275]
[null,"Août",{"$f":"(Données1!AK38*$C$82*$C$83+Données1!AL38*$D$82*$D$83+Données1!AM38*$E$82*$E$83+Données1!AN38*$F$82*$F$83+Données1!AO38*$G$82*$G$83)/1000","v":6601.4532823079671},5716.0338010859887,2801.445233858215,2145.2987108066254,25348.763343489769,22438.710760949831,19528.658178409893,16618.605595869951,13708.553013330013,10798.500430790074,7888.4478482501336]
[null,"Septembre",{"$f":"(Données1!AK39*$C$82*$C$83+Données1!AL39*$D$82*$D$83+Données1!AM39*$E$82*$E$83+Données1!AN39*$F$82*$F$83+Données1!AO39*$G$82*$G$83)/1000","v":6753.382268824369},5847.5853224184057,2928.3065064532648,2293.3260002743073,25039.894776374225,22223.714857787192,19407.534939200148,16591.355020613111,13775.175102026074,10958.995183439038,8142.815264851999]
[null,"Octobre",{"$f":"(Données1!AK40*$C$82*$C$83+Données1!AL40*$D$82*$D$83+Données1!AM40*$E$82*$E$83+Données1!AN40*$F$82*$F$83+Données1!AO40*$G$82*$G$83)/1000","v":6855.4563979999311},5935.9687658258772,2757.7363008507314,2101.5897777991418,26584.509484952723,23674.456902412785,20764.404319872847,17854.351737332905,14944.299154792967,12034.246572253029,9124.1939897130887]
[null,"Novembre",{"$f":"(Données1!AK41*$C$82*$C$83+Données1!AL41*$D$82*$D$83+Données1!AM41*$E$82*$E$83+Données1!AN41*$F$82*$F$83+Données1!AO41*$G$82*$G$83)/1000","v":6072.8229464179722},5258.3059737415488,2187.8114790512409,1552.8309728722834,22603.678080285477,19787.498161698444,16971.318243111404,14155.138324524365,11338.958405937325,8522.7784873502878,5706.5985687632501]
[null,"Décembre",{"$f":"(Données1!AK42*$C$82*$C$83+Données1!AL42*$D$82*$D$83+Données1!AM42*$E$82*$E$83+Données1!AN42*$F$82*$F$83+Données1!AO42*$G$82*$G$83)/1000","v":5114.8037692576318},4428.7810548251218,1730.785122765147,1074.6385997135576,22427.931696299955,19517.879113760016,16607.826531220075,13697.773948680137,10787.721366140198,7877.6687836002566,4967.6162010603184]
[]
[null,"Apports internes - Occupations"]
[]
[null,null,null,null,null,"Climatisation",null,null,"Surchauffe"]
[null,"Métabolisme (W)",{"$f":"Hypothèses!J30","v":120},null,null,"Sensible","Latent","Charge sensible (W)","Sensible","Latent","Charge sensible (W)","Tint"]
[null,null,null,null,"Janvier",{"$f":"$C$105*($H$103)*$C$106*VMOIS(E103)/1000","v":3569.7457590531412},{"$f":"$C$105*($C$102-$H$103)*$C$106*VMOIS(E103)/1000","v":3604.539955232573},{"$f":"6.461927+0.946892*C102+0.0000255737*C102*C102+7.139322*TempConsigne-0.0627909*C102*TempConsigne+0.0000589172*TempConsigne*C102*C102-0.19855*TempConsigne*TempConsigne+0.000940018*TempConsigne*TempConsigne*C102-0.00000149532*C102*C102*TempConsigne*TempConsigne","v":59.709009111999976},{"$f":"$C$105*K103*$C$106*VMOIS(E103)/1000","v":2535.2692688960265},{"$f":"$C$105*($C$102-K103)*$C$106*VMOIS(E103)/1000","v":4639.0164453896878},{"$f":"6.461927+0.946892*$C$102+0.0000255737*$C$102*$C$102+7.139322*L103-0.0627909*$C$102*L103+0.0000589172*L103*$C$102*$C$102-0.19855*L103*L103+0.000940018*L103*L103*$C$102-0.00000149532*$C$102*$C$102*L103*L103","v":42.405937592048232},{"$f":"Données1!H181","v":29.165927419354851}]
[null,"Nb d'heures / semaine",{"$f":"VLOOKUP(Secteur,TableOccupationPD,3,FALSE)+ValeurAjustementOccupation","v":45},null,"Février",3224.2864920479988,3255.7135079520012,null,2310.1488823034815,4169.8511176965194,42.780534857471878,{"$f":"Données1!H182","v":29.101320684523813}]
[null,"Nombre d'occupants",{"$f":"Surface/Hypothèses!C16","v":300},null,"Mars",3569.7457590531412,3604.539955232573,null,2547.8964600839818,4626.3892542017338,42.617145091010443,{"$f":"Données1!H183","v":29.129519489247265}]
[null,"Nb H/J",{"$f":"C104/7","v":6.4285714285714288},null,"Avril",3454.5926700514269,3488.2644728057162,null,2387.0135773891675,4555.8435654679761,41.257024794380676,{"$f":"Données1!H184","v":29.363124999999989}]
[null,"Surface de plancher (m²)",{"$f":"Surface","v":3000},null,"Mai",3569.7457590531412,3604.539955232573,null,2290.0287210173465,4884.2569932683691,38.303945154412006,{"$f":"Données1!H185","v":29.863558467741907}]
[null,null,null,null,"Juin",3454.5926700514269,3488.2644728057162,null,2536.7894156003799,4406.0677272567636,43.845742985685575,{"$f":"Données1!H186","v":28.916753472222226}]
[null,"Nb d'heures par an",{"$f":"C104*52.14","v":2346.3000000000002},null,"Juillet",3569.7457590531412,3604.539955232573,null,2470.2285919663805,4704.0571223193338,41.318040964790114,{"$f":"Données1!H187","v":29.352688172043017}]
[null,null,null,null,"Août",3569.7457590531412,3604.539955232573,null,2250.7914568711499,4923.4942574145643,37.647646829386026,{"$f":"Données1!H188","v":29.973555107526888}]
[null,null,null,null,"Septembre",3454.5926700514269,3488.2644728057162,null,2142.3034358844634,4800.5537069726797,37.027466793064804,{"$f":"Données1!H189","v":30.077100694444464}]
[null,null,null,null,"Octobre",3569.7457590531412,3604.539955232573,null,2092.4062426766063,5081.8794716091079,34.998431777147538,{"$f":"Données1!H190","v":30.413222446236524}]
[null,null,null,null,"Novembre",3454.5926700514269,3488.2644728057162,null,2349.0991036783507,4593.7580391787924,40.601712903082607,{"$f":"Données1!H191","v":29.474965277777791}]
[null,null,null,null,"Décembre",3569.7457590531412,3604.539955232573,null,2475.4408002898604,4698.8449139958548,41.405222466019168,{"$f":"Données1!H192","v":29.337768817204296}]
[]
[null,"Apports internes - Eclairage"]
[]
[null,"Apports éclairage Wh/jour",{"$f":"M119*Surface*1000/365","v":65753.42465753424},null,null,"Radiatif","Convectif","Total",null,null,null,null,"Consommation avec apports","kWh/m².an"]
[null,null,null,null,"Janvier",{"$f":"$C$120*$C$118*VMOIS(E119)/1000","v":815.34246575342456},{"$f":"($C$121+$C$122)*$C$118*VMOIS(E119)/1000","v":1223.0136986301366},{"$f":"G119+F119","v":2038.356164383561},null,null,null,"Eclairage intérieur",{"$f":"Interface!L31","v":8},null,null,null,"W/m²"]
[null,"Fraction radiative",0.4,null,"Février",{"$f":"$C$120*$C$118*VMOIS(E120)/1000","v":736.43835616438344},1104.6575342465751,1841.0958904109584,null,null,null,"Bureautique",{"$f":"Interface!L35","v":20},null,null,"Equipements spécifiques avec apports",{"$f":"Interface!J43","v":0}]
[null,"Fraction convective",0.4,null,"Mars",815.34246575342456,1223.0136986301366,2038.356164383561,null,null,null,"Autres",{"$f":"Interface!L41","v":0}]
[null,"Fraction lumineuse",{"$f":"1-C120-C121","v":0.19999999999999996},null,"Avril",789.04109589041093,1183.5616438356162,1972.6027397260273,null,null,null,"Froid alimentaire",{"$f":"Interface!L37","v":10}]
[null,null,null,null,"Mai",815.34246575342456,1223.0136986301366,2038.356164383561,null,null,null,"Chaud alimentaire",{"$f":"Interface!L39","v":6}]
[null,null,null,null,"Juin",789.04109589041093,1183.5616438356162,1972.6027397260273,null,null,null,"Brasseurs d'air",{"$f":"Interface!L25","v":7}]
[null,null,null,null,"Juillet",815.34246575342456,1223.0136986301366,2038.356164383561,null,null,null,"Equipements spécifiques sans apports",{"$f":"Hypothèses!J36*Q120*C109/1000","v":0}]
[null,null,null,null,"Août",815.34246575342456,1223.0136986301366,2038.356164383561]
[null,null,null,null,"Septembre",789.04109589041093,1183.5616438356162,1972.6027397260273,null,null,null,null,"Consommation sans apports","kWh/m².an"]
[null,null,null,null,"Octobre",815.34246575342456,1223.0136986301366,2038.356164383561,null,null,null,null,null,null,null,null,"W/m²"]
[null,null,null,null,"Novembre",789.04109589041093,1183.5616438356162,1972.6027397260273,null,null,null,"Eclairage extérieur",{"$f":"Interface!L33","v":3},null,null,"Equipements spécifiques sans apports",{"$f":"Interface!J45","v":0}]
[null,null,null,null,"Décembre",815.34246575342456,1223.0136986301366,2038.356164383561,null,null,null,"Ventilation",{"$f":"Interface!L27","v":5}]
[null,null,null,null,null,null,null,{"$f":"SUM(G119:H130)","v":38399.999999999985},null,null,null,"Eau chaude sanitaire",{"$f":"Interface!L29","v":3}]
[null,"Apports internes - Equipements",null,null,null,null,null,null,null,null,null,"Equipements spécifiques sans apports",{"$f":"Hypothèses!J36*Q129*C109/1000","v":0}]
[]
[null,"Apports kWh/m².an",{"$f":"SUM(M120:M123,M125)","v":36},null,null,"Radiatif","Convectif","Total",null,null,null,null,{"$f":"SUM(M129:M132,M119:M125)*Surface","v":186000},"kWh/an"]
[null,"Apports équipement Wh/jour",{"$f":"C134*Surface*1000/365","v":295890.41095890413},null,"Janvier",{"$f":"($C$137*$C$135+$C$141*$C$143)*VMOIS(E135)/1000","v":2547.9452054794524},{"$f":"($C$138*$C$135+$C$141*$C$144)*VMOIS(E135)/1000","v":7338.0821917808225},{"$f":"G135+F135","v":9886.0273972602754}]
[null,null,null,null,"Février",{"$f":"($C$137*$C$135+$C$141*$C$143)*VMOIS(E136)/1000","v":2301.3698630136987},{"$f":"($C$138*$C$135+$C$141*$C$144)*VMOIS(E136)/1000","v":6627.9452054794519},8929.3150684931497]
[null,"Fraction radiative",0.2,null,"Mars",2547.9452054794524,7338.0821917808225,9886.0273972602754]
[null,"Fraction convective",{"$f":"1-C137","v":0.8},null,"Avril",2465.7534246575342,7101.3698630136996,9567.1232876712347]
[null,null,null,null,"Mai",2547.9452054794524,7338.0821917808225,9886.0273972602754]
[null,"Apports brasseurs d'air kWh/m².an",{"$f":"M124","v":7},null,"Juin",2465.7534246575342,7101.3698630136996,9567.1232876712347]
[null,"Apports brasseurs d'air Wh/jour",{"$f":"C140*Surface*1000/365","v":57534.246575342462},null,"Juillet",2547.9452054794524,7338.0821917808225,9886.0273972602754]
[null,null,null,null,"Août",2547.9452054794524,7338.0821917808225,9886.0273972602754]
[null,"Fraction radiative",0.4,null,"Septembre",2465.7534246575342,7101.3698630136996,9567.1232876712347]
[null,"Fraction convective",0,null,"Octobre",2547.9452054794524,7338.0821917808225,9886.0273972602754]
[null,null,null,null,"Novembre",2465.7534246575342,7101.3698630136996,9567.1232876712347]
[null,null,null,null,"Décembre",2547.9452054794524,7338.0821917808225,9886.0273972602754]
[null,null,null,null,null,null,null,{"$f":"SUM(G135:H146)","v":202800.00000000003}]
[null,"Conclusion Climatisation"]
[null,null,null,null,null,null,null,null,null,null,null,null,null,null,null,null,null,null,null,null,null,null,null,null,null,null,null,null,null,null,null,"Zone climatisée"]
[null,null,"APPORTS INTERNES",null,null,null,"Coeff intermittence",null,"Zone climatisée",null,"BESOIN  PAR m²",null,20,null,21,null,22,null,23,null,24,null,25,null,26,null,27,null,28,null,null,20,null,21,null,22,null,23,null,24,null,25,null,26,null,27,null,28,null,null,"Choix",null,null,{"$f":"Surface*SurfaceClimatisée","v":450},"Surface"]
[null,null,"Sensible","Latent","Eclairage","Equipement","Sensible","Latent","Sensible","Latent",null,null,"Sensible","Latent","Sensible","Latent","Sensible","Latent","Sensible","Latent","Sensible","Latent","Sensible","Latent","Sensible","Latent","Sensible","Latent","Sensible","Latent",null,"Sensible","Latent","Sensible","Latent","Sensible","Latent","Sensible","Latent","Sensible","Latent","Sensible","Latent","Sensible","Latent","Sensible","Latent","Sensible","Latent",null,"Sensible","Latent"]
[null,"Janvier",{"$f":"F103","v":3569.7457590531412},{"$f":"G103","v":3604.539955232573},{"$f":"H119","v":2038.356164383561},{"$f":"H135","v":9886.0273972602754},{"$f":"Données2!BD21","v":0.55190166418867603},{"$f":"Données2!BD134","v":0.48964114595142916},{"$f":"AY152","v":3702.8264743421696},{"$f":"AZ152","v":2547.7936034265099},{"$f":"IF(SurfaceClimatisée=0,0,(I152+J152)/($C$107*SurfaceClimatisée))","v":13.890266839485953},null,{"$f":"SUM(J60,G86,G25)*$G152+L60+$C152+$E152+$F152","v":46286.814785438437},{"$f":"(K60+M60)*$H152+$D152","v":28167.349301265072},{"$f":"SUM(O60,H86,G25)*$G152+Q60+$C152+$E152+$F152","v":42720.763190659593},{"$f":"(P60+R60)*$H152+$D152","v":26721.430443674461},{"$f":"SUM(T60,I86,G25)*$G152+V60+$C152+$E152+$F152","v":39141.045236692902},{"$f":"(U60+W60)*$H152+$D152","v":25131.941760846068},{"$f":"SUM(Y60,J86,G25)*$G152+AA60+$C152+$E152+$F152","v":35547.66092353838},{"$f":"(Z60+AB60)*$H152+$D152","v":23381.123889923696},{"$f":"SUM(AD60,K86,G25)*$G152+AF60+$C152+$E152+$F152","v":31940.61025119602},{"$f":"(AE60+AG60)*$H152+$D152","v":21451.618755024727},{"$f":"SUM(AI60,L86,G25)*$G152+AK60+$C152+$E152+$F152","v":28319.893219665828},{"$f":"(AJ60+AL60)*$H152+$D152","v":19324.487608311159},{"$f":"SUM(AN60,M86,G25)*$G152+AP60+$C152+$E152+$F152","v":24685.509828947797},{"$f":"(AO60+AQ60)*$H152+$D152","v":16985.290689510068},{"$f":"((-U152+Y152)*0.5)*(AA$150-23)+(-Y152+3*U152)*0.5","v":21057.959617823682},{"$f":"((-V152+Z152)*0.5)*(AA$150-23)+(-Z152+3*V152)*0.5","v":14752.126656752738},{"$f":"((-U152+Y152)*0.5)*(AC$150-23)+(-Y152+3*U152)*0.5","v":17430.409406699571},{"$f":"((-V152+Z152)*0.5)*(AC$150-23)+(-Z152+3*V152)*0.5","v":12518.962623995409},null,{"$f":"IF(Calculs!$C258=FALSE,0,M152*Calculs!$F258)*SurfaceClimatisée","v":6943.0222178157655},{"$f":"IF(Calculs!$C258=FALSE,0,N152*Calculs!$F258)*SurfaceClimatisée","v":4225.1023951897605},{"$f":"IF(Calculs!$C258=FALSE,0,O152*Calculs!$F258)*SurfaceClimatisée","v":6408.1144785989391},{"$f":"IF(Calculs!$C258=FALSE,0,P152*Calculs!$F258)*SurfaceClimatisée","v":4008.2145665511689},{"$f":"IF(Calculs!$C258=FALSE,0,Q152*Calculs!$F258)*SurfaceClimatisée","v":5871.1567855039348},{"$f":"IF(Calculs!$C258=FALSE,0,R152*Calculs!$F258)*SurfaceClimatisée","v":3769.7912641269099},{"$f":"IF(Calculs!$C258=FALSE,0,S152*Calculs!$F258)*SurfaceClimatisée","v":5332.1491385307572},{"$f":"IF(Calculs!$C258=FALSE,0,T152*Calculs!$F258)*SurfaceClimatisée","v":3507.1685834885543},{"$f":"IF(Calculs!$C258=FALSE,0,U152*Calculs!$F258)*SurfaceClimatisée","v":4791.0915376794028},{"$f":"IF(Calculs!$C258=FALSE,0,V152*Calculs!$F258)*SurfaceClimatisée","v":3217.7428132537088},{"$f":"IF(Calculs!$C258=FALSE,0,W152*Calculs!$F258)*SurfaceClimatisée","v":4247.9839829498742},{"$f":"IF(Calculs!$C258=FALSE,0,X152*Calculs!$F258)*SurfaceClimatisée","v":2898.6731412466738},{"$f":"IF(Calculs!$C258=FALSE,0,Y152*Calculs!$F258)*SurfaceClimatisée","v":3702.8264743421696},{"$f":"IF(Calculs!$C258=FALSE,0,Z152*Calculs!$F258)*SurfaceClimatisée","v":2547.7936034265099},{"$f":"IF(Calculs!$C258=FALSE,0,AA152*Calculs!$F258)*SurfaceClimatisée","v":3158.6939426735521},{"$f":"IF(Calculs!$C258=FALSE,0,AB152*Calculs!$F258)*SurfaceClimatisée","v":2212.8189985129106},{"$f":"IF(Calculs!$C258=FALSE,0,AC152*Calculs!$F258)*SurfaceClimatisée","v":2614.5614110049355},{"$f":"IF(Calculs!$C258=FALSE,0,AD152*Calculs!$F258)*SurfaceClimatisée","v":1877.8443935993112},null,{"$f":"IF(TempConsigne=20,AF152,IF(TempConsigne=21,AH152,IF(TempConsigne=22,AJ152,IF(TempConsigne=23,AL152,IF(TempConsigne=24,AN152,IF(TempConsigne=25,AP152,IF(TempConsigne=26,AR152,IF(TempConsigne=27,AT152,IF(TempConsigne=28,AV152)))))))))","v":3702.8264743421696},{"$f":"IF(TempConsigne=20,AG152,IF(TempConsigne=21,AI152,IF(TempConsigne=22,AK152,IF(TempConsigne=23,AM152,IF(TempConsigne=24,AO152,IF(TempConsigne=25,AQ152,IF(TempConsigne=26,AS152,IF(TempConsigne=27,AU152,IF(TempConsigne=28,AW152)))))))))","v":2547.7936034265099},null,{"$f":"SUM(AY164:AZ164)","v":53510.605167488073},"Total brut kWh"]
[null,"Février",{"$f":"F104","v":3224.2864920479988},{"$f":"G104","v":3255.7135079520012},1841.0958904109584,{"$f":"H136","v":8929.3150684931497},{"$f":"Données2!BD22","v":0.54877877367891126},{"$f":"Données2!BD135","v":0.4911326495930487},1658.6978696521928,1128.2731754151405,6.1932689890385184,null,41562.774152785685,24567.30533345975,38352.450821210579,22503.097878518442,35129.80331843732,21971.749088273744,31894.831644465874,20473.300571893917,28647.535799296271,18825.471915599934,25387.915782928503,17017.589545995841,22115.971595362571,15043.64233886854,18850.189493395723,13152.727550502845,15584.407391428873,11261.812762137148,null,{"$f":"IF(Calculs!$C259=FALSE,0,M153*Calculs!$F259)*SurfaceClimatisée","v":3117.2080614589263},{"$f":"IF(Calculs!$C259=FALSE,0,N153*Calculs!$F259)*SurfaceClimatisée","v":1842.5479000094811},{"$f":"IF(Calculs!$C259=FALSE,0,O153*Calculs!$F259)*SurfaceClimatisée","v":2876.4338115907935},{"$f":"IF(Calculs!$C259=FALSE,0,P153*Calculs!$F259)*SurfaceClimatisée","v":1687.7323408888831},{"$f":"IF(Calculs!$C259=FALSE,0,Q153*Calculs!$F259)*SurfaceClimatisée","v":2634.7352488827987},{"$f":"IF(Calculs!$C259=FALSE,0,R153*Calculs!$F259)*SurfaceClimatisée","v":1647.8811816205307},{"$f":"IF(Calculs!$C259=FALSE,0,S153*Calculs!$F259)*SurfaceClimatisée","v":2392.1123733349405},{"$f":"IF(Calculs!$C259=FALSE,0,T153*Calculs!$F259)*SurfaceClimatisée","v":1535.4975428920436},{"$f":"IF(Calculs!$C259=FALSE,0,U153*Calculs!$F259)*SurfaceClimatisée","v":2148.5651849472201},{"$f":"IF(Calculs!$C259=FALSE,0,V153*Calculs!$F259)*SurfaceClimatisée","v":1411.9103936699951},{"$f":"IF(Calculs!$C259=FALSE,0,W153*Calculs!$F259)*SurfaceClimatisée","v":1904.0936837196377},{"$f":"IF(Calculs!$C259=FALSE,0,X153*Calculs!$F259)*SurfaceClimatisée","v":1276.319215949688},{"$f":"IF(Calculs!$C259=FALSE,0,Y153*Calculs!$F259)*SurfaceClimatisée","v":1658.6978696521928},{"$f":"IF(Calculs!$C259=FALSE,0,Z153*Calculs!$F259)*SurfaceClimatisée","v":1128.2731754151405},{"$f":"IF(Calculs!$C259=FALSE,0,AA153*Calculs!$F259)*SurfaceClimatisée","v":1413.7642120046792},{"$f":"IF(Calculs!$C259=FALSE,0,AB153*Calculs!$F259)*SurfaceClimatisée","v":986.45456628771331},{"$f":"IF(Calculs!$C259=FALSE,0,AC153*Calculs!$F259)*SurfaceClimatisée","v":1168.8305543571655},{"$f":"IF(Calculs!$C259=FALSE,0,AD153*Calculs!$F259)*SurfaceClimatisée","v":844.63595716028601},null,1658.6978696521928,1128.2731754151405,null,{"$f":"BB152/(BB150)","v":118.91245592775127},"Besoin/m²"]
[null,"Mars",3569.7457590531412,3604.539955232573,2038.356164383561,9886.0273972602754,{"$f":"Données2!BD23","v":0.53295653203498083},{"$f":"Données2!BD136","v":0.47025278298042061},3667.94609442315,2349.221756989552,13.371484114250448,null,45581.167343582274,26018.492744887291,42093.557061361571,23818.587697314189,38592.444666645068,23189.797144521017,35077.830159432757,21560.716754269844,31549.713539724638,19771.583465671381,28008.09480752072,17805.100355293391,24452.973962821001,15661.478379930348,20904.604174369175,13606.425837059829,17356.234385917356,11551.373294189312,null,{"$f":"IF(Calculs!$C260=FALSE,0,M154*Calculs!$F260)*SurfaceClimatisée","v":6837.1751015373411},{"$f":"IF(Calculs!$C260=FALSE,0,N154*Calculs!$F260)*SurfaceClimatisée","v":3902.7739117330934},{"$f":"IF(Calculs!$C260=FALSE,0,O154*Calculs!$F260)*SurfaceClimatisée","v":6314.0335592042356},{"$f":"IF(Calculs!$C260=FALSE,0,P154*Calculs!$F260)*SurfaceClimatisée","v":3572.7881545971281},{"$f":"IF(Calculs!$C260=FALSE,0,Q154*Calculs!$F260)*SurfaceClimatisée","v":5788.86669999676},{"$f":"IF(Calculs!$C260=FALSE,0,R154*Calculs!$F260)*SurfaceClimatisée","v":3478.4695716781525},{"$f":"IF(Calculs!$C260=FALSE,0,S154*Calculs!$F260)*SurfaceClimatisée","v":5261.6745239149132},{"$f":"IF(Calculs!$C260=FALSE,0,T154*Calculs!$F260)*SurfaceClimatisée","v":3234.1075131404764},{"$f":"IF(Calculs!$C260=FALSE,0,U154*Calculs!$F260)*SurfaceClimatisée","v":4732.4570309586952},{"$f":"IF(Calculs!$C260=FALSE,0,V154*Calculs!$F260)*SurfaceClimatisée","v":2965.737519850707},{"$f":"IF(Calculs!$C260=FALSE,0,W154*Calculs!$F260)*SurfaceClimatisée","v":4201.214221128108},{"$f":"IF(Calculs!$C260=FALSE,0,X154*Calculs!$F260)*SurfaceClimatisée","v":2670.7650532940083},{"$f":"IF(Calculs!$C260=FALSE,0,Y154*Calculs!$F260)*SurfaceClimatisée","v":3667.94609442315},{"$f":"IF(Calculs!$C260=FALSE,0,Z154*Calculs!$F260)*SurfaceClimatisée","v":2349.221756989552},{"$f":"IF(Calculs!$C260=FALSE,0,AA154*Calculs!$F260)*SurfaceClimatisée","v":3135.6906261553763},{"$f":"IF(Calculs!$C260=FALSE,0,AB154*Calculs!$F260)*SurfaceClimatisée","v":2040.9638755589742},{"$f":"IF(Calculs!$C260=FALSE,0,AC154*Calculs!$F260)*SurfaceClimatisée","v":2603.4351578876035},{"$f":"IF(Calculs!$C260=FALSE,0,AD154*Calculs!$F260)*SurfaceClimatisée","v":1732.7059941283967},null,3667.94609442315,2349.221756989552]
[null,"Avril",3454.5926700514269,3488.2644728057162,1972.6027397260273,9567.1232876712347,{"$f":"Données2!BD24","v":0.60040852514642307},{"$f":"Données2!BD137","v":0.50616603645834024},1919.7019329724374,1395.4088300133806,7.3669128066351508,null,47659.811285865217,29395.621648419874,44016.57042167311,27091.323777550257,40359.706868964546,26451.48429256121,36689.220627739538,24756.804943724143,33005.111697998087,22892.070409693148,29307.380079740182,20845.243523652804,25596.025772965833,18605.451066845075,21891.482810449706,16462.14139542104,18186.93984793358,14318.831723997004,null,{"$f":"IF(Calculs!$C261=FALSE,0,M155*Calculs!$F261)*SurfaceClimatisée","v":3574.4858464398912},{"$f":"IF(Calculs!$C261=FALSE,0,N155*Calculs!$F261)*SurfaceClimatisée","v":2204.6716236314905},{"$f":"IF(Calculs!$C261=FALSE,0,O155*Calculs!$F261)*SurfaceClimatisée","v":3301.2427816254831},{"$f":"IF(Calculs!$C261=FALSE,0,P155*Calculs!$F261)*SurfaceClimatisée","v":2031.8492833162691},{"$f":"IF(Calculs!$C261=FALSE,0,Q155*Calculs!$F261)*SurfaceClimatisée","v":3026.9780151723407},{"$f":"IF(Calculs!$C261=FALSE,0,R155*Calculs!$F261)*SurfaceClimatisée","v":1983.8613219420906},{"$f":"IF(Calculs!$C261=FALSE,0,S155*Calculs!$F261)*SurfaceClimatisée","v":2751.6915470804652},{"$f":"IF(Calculs!$C261=FALSE,0,T155*Calculs!$F261)*SurfaceClimatisée","v":1856.7603707793105},{"$f":"IF(Calculs!$C261=FALSE,0,U155*Calculs!$F261)*SurfaceClimatisée","v":2475.3833773498563},{"$f":"IF(Calculs!$C261=FALSE,0,V155*Calculs!$F261)*SurfaceClimatisée","v":1716.9052807269861},{"$f":"IF(Calculs!$C261=FALSE,0,W155*Calculs!$F261)*SurfaceClimatisée","v":2198.0535059805134},{"$f":"IF(Calculs!$C261=FALSE,0,X155*Calculs!$F261)*SurfaceClimatisée","v":1563.3932642739603},{"$f":"IF(Calculs!$C261=FALSE,0,Y155*Calculs!$F261)*SurfaceClimatisée","v":1919.7019329724374},{"$f":"IF(Calculs!$C261=FALSE,0,Z155*Calculs!$F261)*SurfaceClimatisée","v":1395.4088300133806},{"$f":"IF(Calculs!$C261=FALSE,0,AA155*Calculs!$F261)*SurfaceClimatisée","v":1641.861210783728},{"$f":"IF(Calculs!$C261=FALSE,0,AB155*Calculs!$F261)*SurfaceClimatisée","v":1234.660604656578},{"$f":"IF(Calculs!$C261=FALSE,0,AC155*Calculs!$F261)*SurfaceClimatisée","v":1364.0204885950184},{"$f":"IF(Calculs!$C261=FALSE,0,AD155*Calculs!$F261)*SurfaceClimatisée","v":1073.9123792997752},null,1919.7019329724374,1395.4088300133806]
[null,"Mai",3569.7457590531412,3604.539955232573,2038.356164383561,9886.0273972602754,{"$f":"Données2!BD25","v":0.56197548871544933},{"$f":"Données2!BD138","v":0.50536093095775403},4134.4633073431951,3110.2787762404187,16.09942685240803,null,49333.833565988207,32419.575043586225,45739.605389779354,30028.573405277733,42131.685494029582,29219.131869011082,38510.073878738891,27380.341342660166,34874.770543907282,25367.386444786498,31225.775489534753,23157.967467700691,27563.088715621299,20735.191841602791,23907.247801478312,18419.094540010934,20251.406887335321,16102.997238419081,null,{"$f":"IF(Calculs!$C262=FALSE,0,M156*Calculs!$F262)*SurfaceClimatisée","v":7400.075034898231},{"$f":"IF(Calculs!$C262=FALSE,0,N156*Calculs!$F262)*SurfaceClimatisée","v":4862.9362565379333},{"$f":"IF(Calculs!$C262=FALSE,0,O156*Calculs!$F262)*SurfaceClimatisée","v":6860.940808466903},{"$f":"IF(Calculs!$C262=FALSE,0,P156*Calculs!$F262)*SurfaceClimatisée","v":4504.2860107916595},{"$f":"IF(Calculs!$C262=FALSE,0,Q156*Calculs!$F262)*SurfaceClimatisée","v":6319.7528241044374},{"$f":"IF(Calculs!$C262=FALSE,0,R156*Calculs!$F262)*SurfaceClimatisée","v":4382.8697803516625},{"$f":"IF(Calculs!$C262=FALSE,0,S156*Calculs!$F262)*SurfaceClimatisée","v":5776.5110818108333},{"$f":"IF(Calculs!$C262=FALSE,0,T156*Calculs!$F262)*SurfaceClimatisée","v":4107.0512013990246},{"$f":"IF(Calculs!$C262=FALSE,0,U156*Calculs!$F262)*SurfaceClimatisée","v":5231.2155815860924},{"$f":"IF(Calculs!$C262=FALSE,0,V156*Calculs!$F262)*SurfaceClimatisée","v":3805.1079667179747},{"$f":"IF(Calculs!$C262=FALSE,0,W156*Calculs!$F262)*SurfaceClimatisée","v":4683.866323430213},{"$f":"IF(Calculs!$C262=FALSE,0,X156*Calculs!$F262)*SurfaceClimatisée","v":3473.6951201551037},{"$f":"IF(Calculs!$C262=FALSE,0,Y156*Calculs!$F262)*SurfaceClimatisée","v":4134.4633073431951},{"$f":"IF(Calculs!$C262=FALSE,0,Z156*Calculs!$F262)*SurfaceClimatisée","v":3110.2787762404187},{"$f":"IF(Calculs!$C262=FALSE,0,AA156*Calculs!$F262)*SurfaceClimatisée","v":3586.0871702217469},{"$f":"IF(Calculs!$C262=FALSE,0,AB156*Calculs!$F262)*SurfaceClimatisée","v":2762.8641810016402},{"$f":"IF(Calculs!$C262=FALSE,0,AC156*Calculs!$F262)*SurfaceClimatisée","v":3037.7110331002982},{"$f":"IF(Calculs!$C262=FALSE,0,AD156*Calculs!$F262)*SurfaceClimatisée","v":2415.4495857628622},null,4134.4633073431951,3110.2787762404187,null,{"$f":"Calculs!BB152*0.001","v":53.510605167488073},"Besoin annuel (MWh/an)"]
[null,"Juin",3454.5926700514269,3488.2644728057162,1972.6027397260273,9567.1232876712347,{"$f":"Données2!BD26","v":0.53401797181075084},{"$f":"Données2!BD139","v":0.47574233628891405},3506.6168482620915,2599.3893982209488,13.568902769962312,null,43874.583001689156,27635.0368891203,40491.128954980384,25456.181807421101,37094.580703847882,24840.899063086606,33684.938248291648,23225.323228549834,30262.201588311698,21441.216276073108,26826.370723908018,19475.046396269692,23377.44565508061,17329.262654806327,19935.067688465067,15273.285844172937,16492.689721849521,13217.309033539546,null,{"$f":"IF(Calculs!$C263=FALSE,0,M157*Calculs!$F263)*SurfaceClimatisée","v":6581.1874502533728},{"$f":"IF(Calculs!$C263=FALSE,0,N157*Calculs!$F263)*SurfaceClimatisée","v":4145.2555333680448},{"$f":"IF(Calculs!$C263=FALSE,0,O157*Calculs!$F263)*SurfaceClimatisée","v":6073.6693432470574},{"$f":"IF(Calculs!$C263=FALSE,0,P157*Calculs!$F263)*SurfaceClimatisée","v":3818.4272711131648},{"$f":"IF(Calculs!$C263=FALSE,0,Q157*Calculs!$F263)*SurfaceClimatisée","v":5564.1871055771817},{"$f":"IF(Calculs!$C263=FALSE,0,R157*Calculs!$F263)*SurfaceClimatisée","v":3726.1348594629908},{"$f":"IF(Calculs!$C263=FALSE,0,S157*Calculs!$F263)*SurfaceClimatisée","v":5052.7407372437474},{"$f":"IF(Calculs!$C263=FALSE,0,T157*Calculs!$F263)*SurfaceClimatisée","v":3483.7984842824749},{"$f":"IF(Calculs!$C263=FALSE,0,U157*Calculs!$F263)*SurfaceClimatisée","v":4539.3302382467546},{"$f":"IF(Calculs!$C263=FALSE,0,V157*Calculs!$F263)*SurfaceClimatisée","v":3216.182441410966},{"$f":"IF(Calculs!$C263=FALSE,0,W157*Calculs!$F263)*SurfaceClimatisée","v":4023.9556085862023},{"$f":"IF(Calculs!$C263=FALSE,0,X157*Calculs!$F263)*SurfaceClimatisée","v":2921.2569594404536},{"$f":"IF(Calculs!$C263=FALSE,0,Y157*Calculs!$F263)*SurfaceClimatisée","v":3506.6168482620915},{"$f":"IF(Calculs!$C263=FALSE,0,Z157*Calculs!$F263)*SurfaceClimatisée","v":2599.3893982209488},{"$f":"IF(Calculs!$C263=FALSE,0,AA157*Calculs!$F263)*SurfaceClimatisée","v":2990.2601532697599},{"$f":"IF(Calculs!$C263=FALSE,0,AB157*Calculs!$F263)*SurfaceClimatisée","v":2290.9928766259404},{"$f":"IF(Calculs!$C263=FALSE,0,AC157*Calculs!$F263)*SurfaceClimatisée","v":2473.9034582774279},{"$f":"IF(Calculs!$C263=FALSE,0,AD157*Calculs!$F263)*SurfaceClimatisée","v":1982.5963550309318},null,3506.6168482620915,2599.3893982209488,null,{"$f":"BB156/BB158","v":13.615930068063124},"Consommation annuelle clim (MWh/an)"]
[null,"Juillet",3569.7457590531412,3604.539955232573,2038.356164383561,9886.0273972602754,{"$f":"Données2!BD27","v":0.59446426464575375},{"$f":"Données2!BD140","v":0.50167753893456635},0,0,0,null,49939.902585372147,28761.108129815428,46199.82880683292,26445.996007382819,42445.72976849159,26056.383870077378,38677.605470348179,24498.945372849859,34895.455912402671,22780.941873903244,31099.281094655074,20902.88974030819,27289.081017105389,18861.693910157694,23485.893569456748,16902.06992828492,19682.706121808107,14942.445946412145,null,{"$f":"IF(Calculs!$C264=FALSE,0,M158*Calculs!$F264)*SurfaceClimatisée","v":0},{"$f":"IF(Calculs!$C264=FALSE,0,N158*Calculs!$F264)*SurfaceClimatisée","v":0},{"$f":"IF(Calculs!$C264=FALSE,0,O158*Calculs!$F264)*SurfaceClimatisée","v":0},{"$f":"IF(Calculs!$C264=FALSE,0,P158*Calculs!$F264)*SurfaceClimatisée","v":0},{"$f":"IF(Calculs!$C264=FALSE,0,Q158*Calculs!$F264)*SurfaceClimatisée","v":0},{"$f":"IF(Calculs!$C264=FALSE,0,R158*Calculs!$F264)*SurfaceClimatisée","v":0},{"$f":"IF(Calculs!$C264=FALSE,0,S158*Calculs!$F264)*SurfaceClimatisée","v":0},{"$f":"IF(Calculs!$C264=FALSE,0,T158*Calculs!$F264)*SurfaceClimatisée","v":0},{"$f":"IF(Calculs!$C264=FALSE,0,U158*Calculs!$F264)*SurfaceClimatisée","v":0},{"$f":"IF(Calculs!$C264=FALSE,0,V158*Calculs!$F264)*SurfaceClimatisée","v":0},{"$f":"IF(Calculs!$C264=FALSE,0,W158*Calculs!$F264)*SurfaceClimatisée","v":0},{"$f":"IF(Calculs!$C264=FALSE,0,X158*Calculs!$F264)*SurfaceClimatisée","v":0},{"$f":"IF(Calculs!$C264=FALSE,0,Y158*Calculs!$F264)*SurfaceClimatisée","v":0},{"$f":"IF(Calculs!$C264=FALSE,0,Z158*Calculs!$F264)*SurfaceClimatisée","v":0},{"$f":"IF(Calculs!$C264=FALSE,0,AA158*Calculs!$F264)*SurfaceClimatisée","v":0},{"$f":"IF(Calculs!$C264=FALSE,0,AB158*Calculs!$F264)*SurfaceClimatisée","v":0},{"$f":"IF(Calculs!$C264=FALSE,0,AC158*Calculs!$F264)*SurfaceClimatisée","v":0},{"$f":"IF(Calculs!$C264=FALSE,0,AD158*Calculs!$F264)*SurfaceClimatisée","v":0},null,0,0,null,{"$f":"Hypothèses!T47","v":3.9299999999999997},"Coefficient SEER"]
[null,"Août",3569.7457590531412,3604.539955232573,2038.356164383561,9886.0273972602754,{"$f":"Données2!BD28","v":0.56578923761402622},{"$f":"Données2!BD141","v":0.48457209032054216},0,0,0,null,51354.005501025298,29096.296534490317,47746.066139138362,26882.185303707396,44124.411521443304,26692.466013226447,40489.04164794011,25322.944907480811,36839.956518628795,23824.275302578273,33177.15613350935,22179.528960440592,29500.64049258177,20376.231495208027,25830.982479558254,18652.209591522904,22161.324466534741,16928.187687837781,null,{"$f":"IF(Calculs!$C265=FALSE,0,M159*Calculs!$F265)*SurfaceClimatisée","v":0},{"$f":"IF(Calculs!$C265=FALSE,0,N159*Calculs!$F265)*SurfaceClimatisée","v":0},{"$f":"IF(Calculs!$C265=FALSE,0,O159*Calculs!$F265)*SurfaceClimatisée","v":0},{"$f":"IF(Calculs!$C265=FALSE,0,P159*Calculs!$F265)*SurfaceClimatisée","v":0},{"$f":"IF(Calculs!$C265=FALSE,0,Q159*Calculs!$F265)*SurfaceClimatisée","v":0},{"$f":"IF(Calculs!$C265=FALSE,0,R159*Calculs!$F265)*SurfaceClimatisée","v":0},{"$f":"IF(Calculs!$C265=FALSE,0,S159*Calculs!$F265)*SurfaceClimatisée","v":0},{"$f":"IF(Calculs!$C265=FALSE,0,T159*Calculs!$F265)*SurfaceClimatisée","v":0},{"$f":"IF(Calculs!$C265=FALSE,0,U159*Calculs!$F265)*SurfaceClimatisée","v":0},{"$f":"IF(Calculs!$C265=FALSE,0,V159*Calculs!$F265)*SurfaceClimatisée","v":0},{"$f":"IF(Calculs!$C265=FALSE,0,W159*Calculs!$F265)*SurfaceClimatisée","v":0},{"$f":"IF(Calculs!$C265=FALSE,0,X159*Calculs!$F265)*SurfaceClimatisée","v":0},{"$f":"IF(Calculs!$C265=FALSE,0,Y159*Calculs!$F265)*SurfaceClimatisée","v":0},{"$f":"IF(Calculs!$C265=FALSE,0,Z159*Calculs!$F265)*SurfaceClimatisée","v":0},{"$f":"IF(Calculs!$C265=FALSE,0,AA159*Calculs!$F265)*SurfaceClimatisée","v":0},{"$f":"IF(Calculs!$C265=FALSE,0,AB159*Calculs!$F265)*SurfaceClimatisée","v":0},{"$f":"IF(Calculs!$C265=FALSE,0,AC159*Calculs!$F265)*SurfaceClimatisée","v":0},{"$f":"IF(Calculs!$C265=FALSE,0,AD159*Calculs!$F265)*SurfaceClimatisée","v":0},null,0,0,null,{"$f":"Calculs!BB157+(Calculs!M134/1000)","v":199.61593006806314},"Consommation totale estimée (MWh/an)"]
[null,"Septembre",3454.5926700514269,3488.2644728057162,1972.6027397260273,9567.1232876712347,{"$f":"Données2!BD29","v":0.57082591101385383},{"$f":"Données2!BD142","v":0.47604297369831633},4399.3518788419169,3065.5728031012854,16.588721515429338,null,50587.834737754689,28709.717223176693,47077.964051873307,26605.490468017208,43554.786826201671,26428.102637895703,40018.30306073981,25126.638851814005,36468.512755487711,23702.613310712633,32905.415910445365,22143.748071566268,29329.012525612779,20437.152020675236,25759.262410675314,18804.421375656537,22189.512295737848,17171.690730637838,null,{"$f":"IF(Calculs!$C266=FALSE,0,M160*Calculs!$F266)*SurfaceClimatisée","v":7588.175210663203},{"$f":"IF(Calculs!$C266=FALSE,0,N160*Calculs!$F266)*SurfaceClimatisée","v":4306.4575834765037},{"$f":"IF(Calculs!$C266=FALSE,0,O160*Calculs!$F266)*SurfaceClimatisée","v":7061.6946077809962},{"$f":"IF(Calculs!$C266=FALSE,0,P160*Calculs!$F266)*SurfaceClimatisée","v":3990.8235702025809},{"$f":"IF(Calculs!$C266=FALSE,0,Q160*Calculs!$F266)*SurfaceClimatisée","v":6533.2180239302506},{"$f":"IF(Calculs!$C266=FALSE,0,R160*Calculs!$F266)*SurfaceClimatisée","v":3964.2153956843554},{"$f":"IF(Calculs!$C266=FALSE,0,S160*Calculs!$F266)*SurfaceClimatisée","v":6002.7454591109718},{"$f":"IF(Calculs!$C266=FALSE,0,T160*Calculs!$F266)*SurfaceClimatisée","v":3768.9958277721007},{"$f":"IF(Calculs!$C266=FALSE,0,U160*Calculs!$F266)*SurfaceClimatisée","v":5470.2769133231568},{"$f":"IF(Calculs!$C266=FALSE,0,V160*Calculs!$F266)*SurfaceClimatisée","v":3555.3919966068947},{"$f":"IF(Calculs!$C266=FALSE,0,W160*Calculs!$F266)*SurfaceClimatisée","v":4935.8123865668049},{"$f":"IF(Calculs!$C266=FALSE,0,X160*Calculs!$F266)*SurfaceClimatisée","v":3321.56221073494},{"$f":"IF(Calculs!$C266=FALSE,0,Y160*Calculs!$F266)*SurfaceClimatisée","v":4399.3518788419169},{"$f":"IF(Calculs!$C266=FALSE,0,Z160*Calculs!$F266)*SurfaceClimatisée","v":3065.5728031012854},{"$f":"IF(Calculs!$C266=FALSE,0,AA160*Calculs!$F266)*SurfaceClimatisée","v":3863.889361601297},{"$f":"IF(Calculs!$C266=FALSE,0,AB160*Calculs!$F266)*SurfaceClimatisée","v":2820.6632063484803},{"$f":"IF(Calculs!$C266=FALSE,0,AC160*Calculs!$F266)*SurfaceClimatisée","v":3328.426844360677},{"$f":"IF(Calculs!$C266=FALSE,0,AD160*Calculs!$F266)*SurfaceClimatisée","v":2575.7536095956757},null,4399.3518788419169,3065.5728031012854]
[null,"Octobre",3569.7457590531412,3604.539955232573,2038.356164383561,9886.0273972602754,{"$f":"Données2!BD30","v":0.58683590459450286},{"$f":"Données2!BD143","v":0.48626388035758045},3607.3903709311335,2470.5830256044333,13.506607547856815,null,54394.491030710837,30314.582004817043,50707.674156823625,28108.699686350108,47006.997442847525,28002.94881846305,43292.460888782574,26689.972584263218,39564.064494628758,25254.545884357816,35821.808260386075,23683.654867598503,32065.692186054519,21960.738005372739,28316.506031767407,20313.834065880197,24567.319877480288,18666.930126387659,null,{"$f":"IF(Calculs!$C267=FALSE,0,M161*Calculs!$F267)*SurfaceClimatisée","v":6119.3802409549689},{"$f":"IF(Calculs!$C267=FALSE,0,N161*Calculs!$F267)*SurfaceClimatisée","v":3410.3904755419171},{"$f":"IF(Calculs!$C267=FALSE,0,O161*Calculs!$F267)*SurfaceClimatisée","v":5704.6133426426577},{"$f":"IF(Calculs!$C267=FALSE,0,P161*Calculs!$F267)*SurfaceClimatisée","v":3162.228714714387},{"$f":"IF(Calculs!$C267=FALSE,0,Q161*Calculs!$F267)*SurfaceClimatisée","v":5288.287212320346},{"$f":"IF(Calculs!$C267=FALSE,0,R161*Calculs!$F267)*SurfaceClimatisée","v":3150.3317420770932},{"$f":"IF(Calculs!$C267=FALSE,0,S161*Calculs!$F267)*SurfaceClimatisée","v":4870.4018499880394},{"$f":"IF(Calculs!$C267=FALSE,0,T161*Calculs!$F267)*SurfaceClimatisée","v":3002.6219157296118},{"$f":"IF(Calculs!$C267=FALSE,0,U161*Calculs!$F267)*SurfaceClimatisée","v":4450.9572556457351},{"$f":"IF(Calculs!$C267=FALSE,0,V161*Calculs!$F267)*SurfaceClimatisée","v":2841.1364119902541},{"$f":"IF(Calculs!$C267=FALSE,0,W161*Calculs!$F267)*SurfaceClimatisée","v":4029.9534292934331},{"$f":"IF(Calculs!$C267=FALSE,0,X161*Calculs!$F267)*SurfaceClimatisée","v":2664.4111726048318},{"$f":"IF(Calculs!$C267=FALSE,0,Y161*Calculs!$F267)*SurfaceClimatisée","v":3607.3903709311335},{"$f":"IF(Calculs!$C267=FALSE,0,Z161*Calculs!$F267)*SurfaceClimatisée","v":2470.5830256044333},{"$f":"IF(Calculs!$C267=FALSE,0,AA161*Calculs!$F267)*SurfaceClimatisée","v":3185.6069285738331},{"$f":"IF(Calculs!$C267=FALSE,0,AB161*Calculs!$F267)*SurfaceClimatisée","v":2285.3063324115219},{"$f":"IF(Calculs!$C267=FALSE,0,AC161*Calculs!$F267)*SurfaceClimatisée","v":2763.8234862165323},{"$f":"IF(Calculs!$C267=FALSE,0,AD161*Calculs!$F267)*SurfaceClimatisée","v":2100.0296392186115},null,3607.3903709311335,2470.5830256044333]
[null,"Novembre",3454.5926700514269,3488.2644728057162,1972.6027397260273,9567.1232876712347,{"$f":"Données2!BD31","v":0.51564840615499596},{"$f":"Données2!BD144","v":0.46444539807971635},2931.3560274133447,2065.8186788169678,11.104832680511807,null,46041.610925234054,26864.517272859594,42742.980595037676,24792.868556779304,39431.46153666771,24544.101947394433,36107.053750124149,23209.89625774544,32769.757235407007,21743.222531049516,29419.571992516274,20129.042514853954,26056.498021451956,18362.832700595271,22699.868414474426,16672.637785368148,19343.238807496899,14982.442870141025,null,{"$f":"IF(Calculs!$C268=FALSE,0,M162*Calculs!$F268)*SurfaceClimatisée","v":5179.6812290888311},{"$f":"IF(Calculs!$C268=FALSE,0,N162*Calculs!$F268)*SurfaceClimatisée","v":3022.2581931967043},{"$f":"IF(Calculs!$C268=FALSE,0,O162*Calculs!$F268)*SurfaceClimatisée","v":4808.5853169417387},{"$f":"IF(Calculs!$C268=FALSE,0,P162*Calculs!$F268)*SurfaceClimatisée","v":2789.1977126376719},{"$f":"IF(Calculs!$C268=FALSE,0,Q162*Calculs!$F268)*SurfaceClimatisée","v":4436.0394228751165},{"$f":"IF(Calculs!$C268=FALSE,0,R162*Calculs!$F268)*SurfaceClimatisée","v":2761.2114690818735},{"$f":"IF(Calculs!$C268=FALSE,0,S162*Calculs!$F268)*SurfaceClimatisée","v":4062.0435468889664},{"$f":"IF(Calculs!$C268=FALSE,0,T162*Calculs!$F268)*SurfaceClimatisée","v":2611.1133289963623},{"$f":"IF(Calculs!$C268=FALSE,0,U162*Calculs!$F268)*SurfaceClimatisée","v":3686.5976889832878},{"$f":"IF(Calculs!$C268=FALSE,0,V162*Calculs!$F268)*SurfaceClimatisée","v":2446.1125347430707},{"$f":"IF(Calculs!$C268=FALSE,0,W162*Calculs!$F268)*SurfaceClimatisée","v":3309.7018491580807},{"$f":"IF(Calculs!$C268=FALSE,0,X162*Calculs!$F268)*SurfaceClimatisée","v":2264.5172829210701},{"$f":"IF(Calculs!$C268=FALSE,0,Y162*Calculs!$F268)*SurfaceClimatisée","v":2931.3560274133447},{"$f":"IF(Calculs!$C268=FALSE,0,Z162*Calculs!$F268)*SurfaceClimatisée","v":2065.8186788169678},{"$f":"IF(Calculs!$C268=FALSE,0,AA162*Calculs!$F268)*SurfaceClimatisée","v":2553.7351966283732},{"$f":"IF(Calculs!$C268=FALSE,0,AB162*Calculs!$F268)*SurfaceClimatisée","v":1875.6717508539166},{"$f":"IF(Calculs!$C268=FALSE,0,AC162*Calculs!$F268)*SurfaceClimatisée","v":2176.1143658434012},{"$f":"IF(Calculs!$C268=FALSE,0,AD162*Calculs!$F268)*SurfaceClimatisée","v":1685.5248228908654},null,2931.3560274133447,2065.8186788169678]
[null,"Décembre",3569.7457590531412,3604.539955232573,2038.356164383561,9886.0273972602754,{"$f":"Données2!BD32","v":0.53543613377877353},{"$f":"Données2!BD145","v":0.46720684431723791},1925.2658542416384,1324.648461236163,7.2220318121728919,null,46836.049012761956,27529.54162538196,43342.17264754144,25349.307293383761,39834.79098688424,24838.625245958421,36313.904030790341,23288.900300803372,32779.511779259759,21583.152530303774,29231.614232292479,19709.394663520881,25670.211389888515,17661.97948314884,22115.561195202892,15701.392959571371,18560.91100051727,13740.806435993904,null,{"$f":"IF(Calculs!$C269=FALSE,0,M163*Calculs!$F269)*SurfaceClimatisée","v":3512.7036759571465},{"$f":"IF(Calculs!$C269=FALSE,0,N163*Calculs!$F269)*SurfaceClimatisée","v":2064.7156219036469},{"$f":"IF(Calculs!$C269=FALSE,0,O163*Calculs!$F269)*SurfaceClimatisée","v":3250.6629485656081},{"$f":"IF(Calculs!$C269=FALSE,0,P163*Calculs!$F269)*SurfaceClimatisée","v":1901.198047003782},{"$f":"IF(Calculs!$C269=FALSE,0,Q163*Calculs!$F269)*SurfaceClimatisée","v":2987.6093240163177},{"$f":"IF(Calculs!$C269=FALSE,0,R163*Calculs!$F269)*SurfaceClimatisée","v":1862.8968934468814},{"$f":"IF(Calculs!$C269=FALSE,0,S163*Calculs!$F269)*SurfaceClimatisée","v":2723.5428023092754},{"$f":"IF(Calculs!$C269=FALSE,0,T163*Calculs!$F269)*SurfaceClimatisée","v":1746.6675225602528},{"$f":"IF(Calculs!$C269=FALSE,0,U163*Calculs!$F269)*SurfaceClimatisée","v":2458.4633834444817},{"$f":"IF(Calculs!$C269=FALSE,0,V163*Calculs!$F269)*SurfaceClimatisée","v":1618.7364397727831},{"$f":"IF(Calculs!$C269=FALSE,0,W163*Calculs!$F269)*SurfaceClimatisée","v":2192.371067421936},{"$f":"IF(Calculs!$C269=FALSE,0,X163*Calculs!$F269)*SurfaceClimatisée","v":1478.204599764066},{"$f":"IF(Calculs!$C269=FALSE,0,Y163*Calculs!$F269)*SurfaceClimatisée","v":1925.2658542416384},{"$f":"IF(Calculs!$C269=FALSE,0,Z163*Calculs!$F269)*SurfaceClimatisée","v":1324.648461236163},{"$f":"IF(Calculs!$C269=FALSE,0,AA163*Calculs!$F269)*SurfaceClimatisée","v":1658.6670896402168},{"$f":"IF(Calculs!$C269=FALSE,0,AB163*Calculs!$F269)*SurfaceClimatisée","v":1177.6044719678528},{"$f":"IF(Calculs!$C269=FALSE,0,AC163*Calculs!$F269)*SurfaceClimatisée","v":1392.0683250387951},{"$f":"IF(Calculs!$C269=FALSE,0,AD163*Calculs!$F269)*SurfaceClimatisée","v":1030.5604826995427},null,1925.2658542416384,1324.648461236163]
[null,null,null,null,null,null,null,null,{"$f":"SUM(I152:I163)","v":31453.616658423274},{"$f":"SUM(J152:J163)","v":22056.988509064799},null,null,null,null,null,null,null,null,null,null,null,null,null,null,null,null,null,null,null,null,null,{"$f":"SUM(AF152:AF163)","v":56853.094069067687},33987.109494588578,52659.99099866442,31466.745671816694,48450.830662379492,30727.663479472543,44225.613060212905,28853.78229104021,39984.338192164687,26794.963798743338,35727.006058234801,24532.798020384798,31453.616658423274,22056.988509064799,27188.255891552562,19688.000864225527,22922.895124681858,17319.013219386259,null,{"$f":"SUM(AY152:AY163)","v":31453.616658423274},{"$f":"SUM(AZ152:AZ163)","v":22056.988509064799}]
[null,"Conclusion Ventilation"]
[]
[null,null,"APPORTS INTERNES",null,null,null,null,"Puissance / jour (W)",null,"Nb d'heures d'inconfort (sans clim)","Plage","Pourcentage d'inconfort"]
[null,null,"Sensible","Latent","Eclairage","Equipement","Sensible",null,"Surchauffe moyenne mensuelle (°C)"]
[null,"Janvier",{"$f":"I103","v":2535.2692688960265},{"$f":"J103","v":4639.0164453896878},{"$f":"E152","v":2038.356164383561},{"$f":"F152","v":9886.0273972602754},{"$f":"IF(SUM(G25,F86,$C169,$E169:$F169)>0,SUM(G25,F86,$C169,$E169:$F169),0)","v":23404.538587662653},{"$f":"(G169/(VMOIS($B169)*24))*1000","v":31457.713155460555},{"$f":"H169/($C$182*$C$183+Données1!AD214*1005/3600*$C$184*$F$182)","v":0.71837387559777843},{"$f":"C249","v":186},{"$f":"C255","v":"15h-20h"},{"$f":"J169/(VMOIS(B169)*24)","v":0.25}]
[null,"Février",2310.1488823034815,4169.8511176965194,1841.0958904109584,8929.3150684931497,21287.061399597569,31677.174701782096,{"$f":"H170/($C$182*$C$183+Données1!AD215*1005/3600*$C$184*$F$182)","v":0.72324374336548025},{"$f":"D249","v":140},{"$f":"D255","v":"15h-19h"},{"$f":"J170/(VMOIS(B170)*24)","v":0.20833333333333334}]
[null,"Mars",2547.8964600839818,4626.3892542017338,2038.356164383561,9886.0273972602754,23716.988589320637,31877.672835108384,{"$f":"H171/($C$182*$C$183+Données1!AD216*1005/3600*$C$184*$F$182)","v":0.72788373788957883},{"$f":"E249","v":155},{"$f":"E255","v":"15h-19h"},0.20833333333333334]
[null,"Avril",2387.0135773891675,4555.8435654679761,1972.6027397260273,9567.1232876712347,23121.689486325537,32113.457619896581,{"$f":"H172/($C$182*$C$183+Données1!AD217*1005/3600*$C$184*$F$182)","v":0.73378729493170824},{"$f":"F249","v":210},{"$f":"F255","v":"14h-20h"},0.29166666666666669]
[null,"Mai",2290.0287210173465,4884.2569932683691,2038.356164383561,9886.0273972602754,23479.578187763866,31558.572833015947,{"$f":"H173/($C$182*$C$183+Données1!AD218*1005/3600*$C$184*$F$182)","v":0.72220216252587222},{"$f":"G249","v":248},{"$f":"G255","v":"14h-21h"},0.33333333333333331]
[null,"Juin",2536.7894156003799,4406.0677272567636,1972.6027397260273,9567.1232876712347,23832.382651966789,33100.53146106498,{"$f":"H174/($C$182*$C$183+Données1!AD219*1005/3600*$C$184*$F$182)","v":0.75531808850122284},{"$f":"H249","v":180},{"$f":"H255","v":"15h-20h"},0.25]
[null,"Juillet",2470.2285919663805,4704.0571223193338,2038.356164383561,9886.0273972602754,25528.370974288082,34312.326578344197,{"$f":"H175/($C$182*$C$183+Données1!AD220*1005/3600*$C$184*$F$182)","v":0.78400628550111251},{"$f":"I249","v":248},{"$f":"I255","v":"14h-21h"},0.33333333333333331]
[null,"Août",2250.7914568711499,4923.4942574145643,2038.356164383561,9886.0273972602754,26035.529878048132,34993.991771570065,{"$f":"H176/($C$182*$C$183+Données1!AD221*1005/3600*$C$184*$F$182)","v":0.80108657422319607},{"$f":"J249","v":310},{"$f":"J255","v":"13h-22h"},0.41666666666666669]
[null,"Septembre",2142.3034358844634,4800.5537069726797,1972.6027397260273,9567.1232876712347,25706.045390012747,35702.840819462144,{"$f":"H177/($C$182*$C$183+Données1!AD222*1005/3600*$C$184*$F$182)","v":0.81756962988026505},{"$f":"K249","v":300},{"$f":"K255","v":"13h-22h"},0.41666666666666669]
[null,"Octobre",2092.4062426766063,5081.8794716091079,2038.356164383561,9886.0273972602754,26712.227097382289,35903.531044868665,{"$f":"H178/($C$182*$C$183+Données1!AD223*1005/3600*$C$184*$F$182)","v":0.82300086231488889},{"$f":"L249","v":341},{"$f":"L255","v":"12h-22h"},0.45833333333333331]
[null,"Novembre",2349.0991036783507,4593.7580391787924,1972.6027397260273,9567.1232876712347,25676.385889032106,35661.647068100145,{"$f":"H179/($C$182*$C$183+Données1!AD224*1005/3600*$C$184*$F$182)","v":0.8151391358159451},{"$f":"M249","v":270},{"$f":"M255","v":"13h-21h"},0.375]
[null,"Décembre",2475.4408002898604,4698.8449139958548,2038.356164383561,9886.0273972602754,24467.561426288972,32886.507293399154,{"$f":"H180/($C$182*$C$183+Données1!AD225*1005/3600*$C$184*$F$182)","v":0.7513935872928037},{"$f":"N249","v":248},{"$f":"N255","v":"14h-21h"},0.33333333333333331]
[]
[null,"U_bat",{"$f":"C47","v":1.5607264966688181},null,"Renouv Air",{"$f":"VLOOKUP(PotentielVN,TablePotentielVN,2,FALSE)","v":15}]
[null,"Surf_enveloppe",{"$f":"SUM(Calculs!C43:C45)","v":2506.1155855211528},null,"Période omega ",{"$f":"PI()/12","v":0.26179938779914941}]
[null,"Volume_bat",{"$f":"Calculs!C58","v":8100.0000000000009}]
[]
[null,"Text","Janvier","Février","Mars","Avril","Mai","Juin","Juillet","Août","Septembre","Octobre","Novembre","Décembre"]
[null,0,{"$f":"IF(Station=\"Saint-Denis\",Données1!C281,Données1!C308)","v":26.241935483870964},{"$f":"IF(Station=\"Saint-Denis\",Données1!D281,Données1!D308)","v":26.235714285714288},{"$f":"IF(Station=\"Saint-Denis\",Données1!E281,Données1!E308)","v":26.429032258064517},{"$f":"IF(Station=\"Saint-Denis\",Données1!F281,Données1!F308)","v":26.392499999999998},{"$f":"IF(Station=\"Saint-Denis\",Données1!G281,Données1!G308)","v":26.75403225806452},{"$f":"IF(Station=\"Saint-Denis\",Données1!H281,Données1!H308)","v":25.568333333333328},{"$f":"IF(Station=\"Saint-Denis\",Données1!I281,Données1!I308)","v":26.062096774193556},{"$f":"IF(Station=\"Saint-Denis\",Données1!J281,Données1!J308)","v":26.58790322580645},{"$f":"IF(Station=\"Saint-Denis\",Données1!K281,Données1!K308)","v":26.403333333333343},{"$f":"IF(Station=\"Saint-Denis\",Données1!L281,Données1!L308)","v":26.821774193548389},{"$f":"IF(Station=\"Saint-Denis\",Données1!M281,Données1!M308)","v":26.043333333333337},{"$f":"IF(Station=\"Saint-Denis\",Données1!N281,Données1!N308)","v":26.033870967741933}]
[null,1,{"$f":"IF(Station=\"Saint-Denis\",Données1!C282,Données1!C309)","v":25.915322580645157},{"$f":"IF(Station=\"Saint-Denis\",Données1!D282,Données1!D309)","v":25.80892857142857},{"$f":"IF(Station=\"Saint-Denis\",Données1!E282,Données1!E309)","v":25.968548387096774},{"$f":"IF(Station=\"Saint-Denis\",Données1!F282,Données1!F309)","v":25.960000000000004},{"$f":"IF(Station=\"Saint-Denis\",Données1!G282,Données1!G309)","v":26.295161290322579},{"$f":"IF(Station=\"Saint-Denis\",Données1!H282,Données1!H309)","v":25.150833333333328},{"$f":"IF(Station=\"Saint-Denis\",Données1!I282,Données1!I309)","v":25.472580645161294},{"$f":"IF(Station=\"Saint-Denis\",Données1!J282,Données1!J309)","v":25.899193548387093},{"$f":"IF(Station=\"Saint-Denis\",Données1!K282,Données1!K309)","v":25.915833333333332},{"$f":"IF(Station=\"Saint-Denis\",Données1!L282,Données1!L309)","v":26.131451612903223},{"$f":"IF(Station=\"Saint-Denis\",Données1!M282,Données1!M309)","v":25.592500000000008},{"$f":"IF(Station=\"Saint-Denis\",Données1!N282,Données1!N309)","v":25.712096774193547}]
[null,2,{"$f":"IF(Station=\"Saint-Denis\",Données1!C283,Données1!C310)","v":25.504838709677426},{"$f":"IF(Station=\"Saint-Denis\",Données1!D283,Données1!D310)","v":25.43035714285714},{"$f":"IF(Station=\"Saint-Denis\",Données1!E283,Données1!E310)","v":25.438709677419347},{"$f":"IF(Station=\"Saint-Denis\",Données1!F283,Données1!F310)","v":25.577500000000004},{"$f":"IF(Station=\"Saint-Denis\",Données1!G283,Données1!G310)","v":25.887903225806454},{"$f":"IF(Station=\"Saint-Denis\",Données1!H283,Données1!H310)","v":24.736666666666672},{"$f":"IF(Station=\"Saint-Denis\",Données1!I283,Données1!I310)","v":24.941935483870971},{"$f":"IF(Station=\"Saint-Denis\",Données1!J283,Données1!J310)","v":25.332258064516132},{"$f":"IF(Station=\"Saint-Denis\",Données1!K283,Données1!K310)","v":25.370833333333334},{"$f":"IF(Station=\"Saint-Denis\",Données1!L283,Données1!L310)","v":25.575000000000003},{"$f":"IF(Station=\"Saint-Denis\",Données1!M283,Données1!M310)","v":25.045833333333338},{"$f":"IF(Station=\"Saint-Denis\",Données1!N283,Données1!N310)","v":25.220967741935489}]
[null,3,{"$f":"IF(Station=\"Saint-Denis\",Données1!C284,Données1!C311)","v":25.098387096774193},{"$f":"IF(Station=\"Saint-Denis\",Données1!D284,Données1!D311)","v":25.13214285714286},{"$f":"IF(Station=\"Saint-Denis\",Données1!E284,Données1!E311)","v":25.044354838709676},{"$f":"IF(Station=\"Saint-Denis\",Données1!F284,Données1!F311)","v":25.27833333333334},{"$f":"IF(Station=\"Saint-Denis\",Données1!G284,Données1!G311)","v":25.595967741935489},{"$f":"IF(Station=\"Saint-Denis\",Données1!H284,Données1!H311)","v":24.331666666666663},{"$f":"IF(Station=\"Saint-Denis\",Données1!I284,Données1!I311)","v":24.441935483870967},{"$f":"IF(Station=\"Saint-Denis\",Données1!J284,Données1!J311)","v":24.758870967741931},{"$f":"IF(Station=\"Saint-Denis\",Données1!K284,Données1!K311)","v":24.850833333333334},{"$f":"IF(Station=\"Saint-Denis\",Données1!L284,Données1!L311)","v":25.020161290322573},{"$f":"IF(Station=\"Saint-Denis\",Données1!M284,Données1!M311)","v":24.510833333333334},{"$f":"IF(Station=\"Saint-Denis\",Données1!N284,Données1!N311)","v":24.779838709677421}]
[null,4,{"$f":"IF(Station=\"Saint-Denis\",Données1!C285,Données1!C312)","v":24.837903225806453},{"$f":"IF(Station=\"Saint-Denis\",Données1!D285,Données1!D312)","v":24.883928571428562},{"$f":"IF(Station=\"Saint-Denis\",Données1!E285,Données1!E312)","v":24.869354838709672},{"$f":"IF(Station=\"Saint-Denis\",Données1!F285,Données1!F312)","v":24.94916666666667},{"$f":"IF(Station=\"Saint-Denis\",Données1!G285,Données1!G312)","v":25.411290322580641},{"$f":"IF(Station=\"Saint-Denis\",Données1!H285,Données1!H312)","v":23.934999999999999},{"$f":"IF(Station=\"Saint-Denis\",Données1!I285,Données1!I312)","v":24.10483870967742},{"$f":"IF(Station=\"Saint-Denis\",Données1!J285,Données1!J312)","v":24.390322580645162},{"$f":"IF(Station=\"Saint-Denis\",Données1!K285,Données1!K312)","v":24.548333333333332},{"$f":"IF(Station=\"Saint-Denis\",Données1!L285,Données1!L312)","v":24.694354838709682},{"$f":"IF(Station=\"Saint-Denis\",Données1!M285,Données1!M312)","v":24.125},{"$f":"IF(Station=\"Saint-Denis\",Données1!N285,Données1!N312)","v":24.498387096774184}]
[null,5,{"$f":"IF(Station=\"Saint-Denis\",Données1!C286,Données1!C313)","v":24.682258064516127},{"$f":"IF(Station=\"Saint-Denis\",Données1!D286,Données1!D313)","v":24.699107142857144},{"$f":"IF(Station=\"Saint-Denis\",Données1!E286,Données1!E313)","v":24.683870967741932},{"$f":"IF(Station=\"Saint-Denis\",Données1!F286,Données1!F313)","v":24.680833333333329},{"$f":"IF(Station=\"Saint-Denis\",Données1!G286,Données1!G313)","v":25.25725806451613},{"$f":"IF(Station=\"Saint-Denis\",Données1!H286,Données1!H313)","v":23.651666666666664},{"$f":"IF(Station=\"Saint-Denis\",Données1!I286,Données1!I313)","v":23.751612903225805},{"$f":"IF(Station=\"Saint-Denis\",Données1!J286,Données1!J313)","v":24.132258064516126},{"$f":"IF(Station=\"Saint-Denis\",Données1!K286,Données1!K313)","v":24.215},{"$f":"IF(Station=\"Saint-Denis\",Données1!L286,Données1!L313)","v":24.421774193548387},{"$f":"IF(Station=\"Saint-Denis\",Données1!M286,Données1!M313)","v":23.805},{"$f":"IF(Station=\"Saint-Denis\",Données1!N286,Données1!N313)","v":24.245161290322574}]
[null,6,{"$f":"IF(Station=\"Saint-Denis\",Données1!C287,Données1!C314)","v":24.590322580645161},{"$f":"IF(Station=\"Saint-Denis\",Données1!D287,Données1!D314)","v":24.528571428571432},{"$f":"IF(Station=\"Saint-Denis\",Données1!E287,Données1!E314)","v":24.537903225806449},{"$f":"IF(Station=\"Saint-Denis\",Données1!F287,Données1!F314)","v":24.54000000000001},{"$f":"IF(Station=\"Saint-Denis\",Données1!G287,Données1!G314)","v":25.064516129032263},{"$f":"IF(Station=\"Saint-Denis\",Données1!H287,Données1!H314)","v":23.46},{"$f":"IF(Station=\"Saint-Denis\",Données1!I287,Données1!I314)","v":23.437903225806448},{"$f":"IF(Station=\"Saint-Denis\",Données1!J287,Données1!J314)","v":23.99596774193548},{"$f":"IF(Station=\"Saint-Denis\",Données1!K287,Données1!K314)","v":23.943333333333332},{"$f":"IF(Station=\"Saint-Denis\",Données1!L287,Données1!L314)","v":24.184677419354831},{"$f":"IF(Station=\"Saint-Denis\",Données1!M287,Données1!M314)","v":23.561666666666667},{"$f":"IF(Station=\"Saint-Denis\",Données1!N287,Données1!N314)","v":24.05725806451613}]
[null,7,{"$f":"IF(Station=\"Saint-Denis\",Données1!C288,Données1!C315)","v":24.53709677419355},{"$f":"IF(Station=\"Saint-Denis\",Données1!D288,Données1!D315)","v":24.474999999999998},{"$f":"IF(Station=\"Saint-Denis\",Données1!E288,Données1!E315)","v":24.579032258064519},{"$f":"IF(Station=\"Saint-Denis\",Données1!F288,Données1!F315)","v":24.53083333333333},{"$f":"IF(Station=\"Saint-Denis\",Données1!G288,Données1!G315)","v":25.068548387096779},{"$f":"IF(Station=\"Saint-Denis\",Données1!H288,Données1!H315)","v":23.47666666666667},{"$f":"IF(Station=\"Saint-Denis\",Données1!I288,Données1!I315)","v":23.410483870967738},{"$f":"IF(Station=\"Saint-Denis\",Données1!J288,Données1!J315)","v":23.992741935483878},{"$f":"IF(Station=\"Saint-Denis\",Données1!K288,Données1!K315)","v":23.915833333333332},{"$f":"IF(Station=\"Saint-Denis\",Données1!L288,Données1!L315)","v":24.24274193548387},{"$f":"IF(Station=\"Saint-Denis\",Données1!M288,Données1!M315)","v":23.616666666666674},{"$f":"IF(Station=\"Saint-Denis\",Données1!N288,Données1!N315)","v":24.059677419354834}]
[null,8,{"$f":"IF(Station=\"Saint-Denis\",Données1!C289,Données1!C316)","v":24.995161290322589},{"$f":"IF(Station=\"Saint-Denis\",Données1!D289,Données1!D316)","v":24.902678571428577},{"$f":"IF(Station=\"Saint-Denis\",Données1!E289,Données1!E316)","v":24.980645161290326},{"$f":"IF(Station=\"Saint-Denis\",Données1!F289,Données1!F316)","v":25.151666666666664},{"$f":"IF(Station=\"Saint-Denis\",Données1!G289,Données1!G316)","v":25.788709677419355},{"$f":"IF(Station=\"Saint-Denis\",Données1!H289,Données1!H316)","v":24.47166666666666},{"$f":"IF(Station=\"Saint-Denis\",Données1!I289,Données1!I316)","v":24.316129032258072},{"$f":"IF(Station=\"Saint-Denis\",Données1!J289,Données1!J316)","v":24.781451612903233},{"$f":"IF(Station=\"Saint-Denis\",Données1!K289,Données1!K316)","v":24.929166666666664},{"$f":"IF(Station=\"Saint-Denis\",Données1!L289,Données1!L316)","v":25.371774193548386},{"$f":"IF(Station=\"Saint-Denis\",Données1!M289,Données1!M316)","v":24.580833333333334},{"$f":"IF(Station=\"Saint-Denis\",Données1!N289,Données1!N316)","v":24.763709677419349}]
[null,9,{"$f":"IF(Station=\"Saint-Denis\",Données1!C290,Données1!C317)","v":25.862903225806452},{"$f":"IF(Station=\"Saint-Denis\",Données1!D290,Données1!D317)","v":25.667857142857148},{"$f":"IF(Station=\"Saint-Denis\",Données1!E290,Données1!E317)","v":25.810483870967751},{"$f":"IF(Station=\"Saint-Denis\",Données1!F290,Données1!F317)","v":26.14416666666666},{"$f":"IF(Station=\"Saint-Denis\",Données1!G290,Données1!G317)","v":26.789516129032261},{"$f":"IF(Station=\"Saint-Denis\",Données1!H290,Données1!H317)","v":25.691666666666666},{"$f":"IF(Station=\"Saint-Denis\",Données1!I290,Données1!I317)","v":25.602419354838709},{"$f":"IF(Station=\"Saint-Denis\",Données1!J290,Données1!J317)","v":26.159677419354836},{"$f":"IF(Station=\"Saint-Denis\",Données1!K290,Données1!K317)","v":26.448333333333334},{"$f":"IF(Station=\"Saint-Denis\",Données1!L290,Données1!L317)","v":26.901612903225804},{"$f":"IF(Station=\"Saint-Denis\",Données1!M290,Données1!M317)","v":25.982500000000002},{"$f":"IF(Station=\"Saint-Denis\",Données1!N290,Données1!N317)","v":25.937096774193545}]
[null,10,{"$f":"IF(Station=\"Saint-Denis\",Données1!C291,Données1!C318)","v":26.86451612903226},{"$f":"IF(Station=\"Saint-Denis\",Données1!D291,Données1!D318)","v":26.681250000000002},{"$f":"IF(Station=\"Saint-Denis\",Données1!E291,Données1!E318)","v":26.800000000000008},{"$f":"IF(Station=\"Saint-Denis\",Données1!F291,Données1!F318)","v":27.151666666666667},{"$f":"IF(Station=\"Saint-Denis\",Données1!G291,Données1!G318)","v":27.816935483870978},{"$f":"IF(Station=\"Saint-Denis\",Données1!H291,Données1!H318)","v":26.972500000000004},{"$f":"IF(Station=\"Saint-Denis\",Données1!I291,Données1!I318)","v":26.91935483870968},{"$f":"IF(Station=\"Saint-Denis\",Données1!J291,Données1!J318)","v":27.705645161290331},{"$f":"IF(Station=\"Saint-Denis\",Données1!K291,Données1!K318)","v":28.035833333333333},{"$f":"IF(Station=\"Saint-Denis\",Données1!L291,Données1!L318)","v":28.408064516129034},{"$f":"IF(Station=\"Saint-Denis\",Données1!M291,Données1!M318)","v":27.391666666666666},{"$f":"IF(Station=\"Saint-Denis\",Données1!N291,Données1!N318)","v":27.226612903225806}]
[null,11,{"$f":"IF(Station=\"Saint-Denis\",Données1!C292,Données1!C319)","v":27.883870967741938},{"$f":"IF(Station=\"Saint-Denis\",Données1!D292,Données1!D319)","v":27.69464285714286},{"$f":"IF(Station=\"Saint-Denis\",Données1!E292,Données1!E319)","v":27.736290322580647},{"$f":"IF(Station=\"Saint-Denis\",Données1!F292,Données1!F319)","v":28.175000000000008},{"$f":"IF(Station=\"Saint-Denis\",Données1!G292,Données1!G319)","v":28.845967741935482},{"$f":"IF(Station=\"Saint-Denis\",Données1!H292,Données1!H319)","v":28.147499999999994},{"$f":"IF(Station=\"Saint-Denis\",Données1!I292,Données1!I319)","v":28.305645161290325},{"$f":"IF(Station=\"Saint-Denis\",Données1!J292,Données1!J319)","v":29.151612903225807},{"$f":"IF(Station=\"Saint-Denis\",Données1!K292,Données1!K319)","v":29.50333333333333},{"$f":"IF(Station=\"Saint-Denis\",Données1!L292,Données1!L319)","v":29.859677419354835},{"$f":"IF(Station=\"Saint-Denis\",Données1!M292,Données1!M319)","v":28.714999999999996},{"$f":"IF(Station=\"Saint-Denis\",Données1!N292,Données1!N319)","v":28.352419354838702}]
[null,12,{"$f":"IF(Station=\"Saint-Denis\",Données1!C293,Données1!C320)","v":28.712096774193551},{"$f":"IF(Station=\"Saint-Denis\",Données1!D293,Données1!D320)","v":28.521428571428576},{"$f":"IF(Station=\"Saint-Denis\",Données1!E293,Données1!E320)","v":28.549999999999994},{"$f":"IF(Station=\"Saint-Denis\",Données1!F293,Données1!F320)","v":28.920833333333331},{"$f":"IF(Station=\"Saint-Denis\",Données1!G293,Données1!G320)","v":29.676612903225813},{"$f":"IF(Station=\"Saint-Denis\",Données1!H293,Données1!H320)","v":29.154999999999994},{"$f":"IF(Station=\"Saint-Denis\",Données1!I293,Données1!I320)","v":29.478225806451615},{"$f":"IF(Station=\"Saint-Denis\",Données1!J293,Données1!J320)","v":30.354838709677423},{"$f":"IF(Station=\"Saint-Denis\",Données1!K293,Données1!K320)","v":30.69},{"$f":"IF(Station=\"Saint-Denis\",Données1!L293,Données1!L320)","v":31.06370967741935},{"$f":"IF(Station=\"Saint-Denis\",Données1!M293,Données1!M320)","v":29.837499999999999},{"$f":"IF(Station=\"Saint-Denis\",Données1!N293,Données1!N320)","v":29.304032258064513}]
[null,13,{"$f":"IF(Station=\"Saint-Denis\",Données1!C294,Données1!C321)","v":29.377419354838711},{"$f":"IF(Station=\"Saint-Denis\",Données1!D294,Données1!D321)","v":29.191071428571426},{"$f":"IF(Station=\"Saint-Denis\",Données1!E294,Données1!E321)","v":29.139516129032256},{"$f":"IF(Station=\"Saint-Denis\",Données1!F294,Données1!F321)","v":29.585833333333323},{"$f":"IF(Station=\"Saint-Denis\",Données1!G294,Données1!G321)","v":30.291129032258063},{"$f":"IF(Station=\"Saint-Denis\",Données1!H294,Données1!H321)","v":29.799166666666668},{"$f":"IF(Station=\"Saint-Denis\",Données1!I294,Données1!I321)","v":30.346774193548388},{"$f":"IF(Station=\"Saint-Denis\",Données1!J294,Données1!J321)","v":31.333064516129031},{"$f":"IF(Station=\"Saint-Denis\",Données1!K294,Données1!K321)","v":31.609166666666656},{"$f":"IF(Station=\"Saint-Denis\",Données1!L294,Données1!L321)","v":32.010483870967747},{"$f":"IF(Station=\"Saint-Denis\",Données1!M294,Données1!M321)","v":30.760833333333323},{"$f":"IF(Station=\"Saint-Denis\",Données1!N294,Données1!N321)","v":29.96290322580645}]
[null,14,{"$f":"IF(Station=\"Saint-Denis\",Données1!C295,Données1!C322)","v":29.874193548387098},{"$f":"IF(Station=\"Saint-Denis\",Données1!D295,Données1!D322)","v":29.644642857142856},{"$f":"IF(Station=\"Saint-Denis\",Données1!E295,Données1!E322)","v":29.495967741935484},{"$f":"IF(Station=\"Saint-Denis\",Données1!F295,Données1!F322)","v":30.068333333333335},{"$f":"IF(Station=\"Saint-Denis\",Données1!G295,Données1!G322)","v":30.69596774193548},{"$f":"IF(Station=\"Saint-Denis\",Données1!H295,Données1!H322)","v":30.185833333333324},{"$f":"IF(Station=\"Saint-Denis\",Données1!I295,Données1!I322)","v":30.944354838709678},{"$f":"IF(Station=\"Saint-Denis\",Données1!J295,Données1!J322)","v":31.980645161290326},{"$f":"IF(Station=\"Saint-Denis\",Données1!K295,Données1!K322)","v":32.238333333333337},{"$f":"IF(Station=\"Saint-Denis\",Données1!L295,Données1!L322)","v":32.665322580645167},{"$f":"IF(Station=\"Saint-Denis\",Données1!M295,Données1!M322)","v":31.382499999999997},{"$f":"IF(Station=\"Saint-Denis\",Données1!N295,Données1!N322)","v":30.539516129032265}]
[null,15,{"$f":"IF(Station=\"Saint-Denis\",Données1!C296,Données1!C323)","v":30.076612903225804},{"$f":"IF(Station=\"Saint-Denis\",Données1!D296,Données1!D323)","v":29.836607142857137},{"$f":"IF(Station=\"Saint-Denis\",Données1!E296,Données1!E323)","v":29.6991935483871},{"$f":"IF(Station=\"Saint-Denis\",Données1!F296,Données1!F323)","v":30.273333333333333},{"$f":"IF(Station=\"Saint-Denis\",Données1!G296,Données1!G323)","v":30.839516129032251},{"$f":"IF(Station=\"Saint-Denis\",Données1!H296,Données1!H323)","v":30.422499999999999},{"$f":"IF(Station=\"Saint-Denis\",Données1!I296,Données1!I323)","v":31.3991935483871},{"$f":"IF(Station=\"Saint-Denis\",Données1!J296,Données1!J323)","v":32.281451612903226},{"$f":"IF(Station=\"Saint-Denis\",Données1!K296,Données1!K323)","v":32.546666666666667},{"$f":"IF(Station=\"Saint-Denis\",Données1!L296,Données1!L323)","v":32.991129032258065},{"$f":"IF(Station=\"Saint-Denis\",Données1!M296,Données1!M323)","v":31.639166666666664},{"$f":"IF(Station=\"Saint-Denis\",Données1!N296,Données1!N323)","v":30.920967741935478}]
[null,16,{"$f":"IF(Station=\"Saint-Denis\",Données1!C297,Données1!C324)","v":30.067741935483877},{"$f":"IF(Station=\"Saint-Denis\",Données1!D297,Données1!D324)","v":29.902678571428563},{"$f":"IF(Station=\"Saint-Denis\",Données1!E297,Données1!E324)","v":29.821774193548389},{"$f":"IF(Station=\"Saint-Denis\",Données1!F297,Données1!F324)","v":30.331666666666663},{"$f":"IF(Station=\"Saint-Denis\",Données1!G297,Données1!G324)","v":30.79032258064516},{"$f":"IF(Station=\"Saint-Denis\",Données1!H297,Données1!H324)","v":30.415833333333339},{"$f":"IF(Station=\"Saint-Denis\",Données1!I297,Données1!I324)","v":31.436290322580643},{"$f":"IF(Station=\"Saint-Denis\",Données1!J297,Données1!J324)","v":32.291935483870972},{"$f":"IF(Station=\"Saint-Denis\",Données1!K297,Données1!K324)","v":32.523333333333333},{"$f":"IF(Station=\"Saint-Denis\",Données1!L297,Données1!L324)","v":32.954838709677418},{"$f":"IF(Station=\"Saint-Denis\",Données1!M297,Données1!M324)","v":31.55},{"$f":"IF(Station=\"Saint-Denis\",Données1!N297,Données1!N324)","v":30.951612903225808}]
[null,17,{"$f":"IF(Station=\"Saint-Denis\",Données1!C298,Données1!C325)","v":29.754838709677415},{"$f":"IF(Station=\"Saint-Denis\",Données1!D298,Données1!D325)","v":29.691964285714288},{"$f":"IF(Station=\"Saint-Denis\",Données1!E298,Données1!E325)","v":29.688709677419347},{"$f":"IF(Station=\"Saint-Denis\",Données1!F298,Données1!F325)","v":30.097500000000004},{"$f":"IF(Station=\"Saint-Denis\",Données1!G298,Données1!G325)","v":30.537903225806453},{"$f":"IF(Station=\"Saint-Denis\",Données1!H298,Données1!H325)","v":30.074166666666663},{"$f":"IF(Station=\"Saint-Denis\",Données1!I298,Données1!I325)","v":31.103225806451615},{"$f":"IF(Station=\"Saint-Denis\",Données1!J298,Données1!J325)","v":31.837096774193551},{"$f":"IF(Station=\"Saint-Denis\",Données1!K298,Données1!K325)","v":32.046666666666667},{"$f":"IF(Station=\"Saint-Denis\",Données1!L298,Données1!L325)","v":32.431451612903224},{"$f":"IF(Station=\"Saint-Denis\",Données1!M298,Données1!M325)","v":31.109166666666667},{"$f":"IF(Station=\"Saint-Denis\",Données1!N298,Données1!N325)","v":30.543548387096774}]
[null,18,{"$f":"IF(Station=\"Saint-Denis\",Données1!C299,Données1!C326)","v":29.212096774193544},{"$f":"IF(Station=\"Saint-Denis\",Données1!D299,Données1!D326)","v":29.213392857142857},{"$f":"IF(Station=\"Saint-Denis\",Données1!E299,Données1!E326)","v":29.255645161290325},{"$f":"IF(Station=\"Saint-Denis\",Données1!F299,Données1!F326)","v":29.564166666666672},{"$f":"IF(Station=\"Saint-Denis\",Données1!G299,Données1!G326)","v":29.967741935483872},{"$f":"IF(Station=\"Saint-Denis\",Données1!H299,Données1!H326)","v":29.47166666666666},{"$f":"IF(Station=\"Saint-Denis\",Données1!I299,Données1!I326)","v":30.460483870967742},{"$f":"IF(Station=\"Saint-Denis\",Données1!J299,Données1!J326)","v":31.056451612903224},{"$f":"IF(Station=\"Saint-Denis\",Données1!K299,Données1!K326)","v":31.176666666666666},{"$f":"IF(Station=\"Saint-Denis\",Données1!L299,Données1!L326)","v":31.493548387096777},{"$f":"IF(Station=\"Saint-Denis\",Données1!M299,Données1!M326)","v":30.291666666666661},{"$f":"IF(Station=\"Saint-Denis\",Données1!N299,Données1!N326)","v":29.771774193548392}]
[null,19,{"$f":"IF(Station=\"Saint-Denis\",Données1!C300,Données1!C327)","v":28.522580645161291},{"$f":"IF(Station=\"Saint-Denis\",Données1!D300,Données1!D327)","v":28.620535714285715},{"$f":"IF(Station=\"Saint-Denis\",Données1!E300,Données1!E327)","v":28.630645161290325},{"$f":"IF(Station=\"Saint-Denis\",Données1!F300,Données1!F327)","v":28.910833333333333},{"$f":"IF(Station=\"Saint-Denis\",Données1!G300,Données1!G327)","v":29.283064516129031},{"$f":"IF(Station=\"Saint-Denis\",Données1!H300,Données1!H327)","v":28.596666666666668},{"$f":"IF(Station=\"Saint-Denis\",Données1!I300,Données1!I327)","v":29.506451612903227},{"$f":"IF(Station=\"Saint-Denis\",Données1!J300,Données1!J327)","v":30.100000000000009},{"$f":"IF(Station=\"Saint-Denis\",Données1!K300,Données1!K327)","v":30.104166666666664},{"$f":"IF(Station=\"Saint-Denis\",Données1!L300,Données1!L327)","v":30.410483870967742},{"$f":"IF(Station=\"Saint-Denis\",Données1!M300,Données1!M327)","v":29.318333333333339},{"$f":"IF(Station=\"Saint-Denis\",Données1!N300,Données1!N327)","v":29.006451612903231}]
[null,20,{"$f":"IF(Station=\"Saint-Denis\",Données1!C301,Données1!C328)","v":27.995967741935491},{"$f":"IF(Station=\"Saint-Denis\",Données1!D301,Données1!D328)","v":28.082142857142859},{"$f":"IF(Station=\"Saint-Denis\",Données1!E301,Données1!E328)","v":28.179032258064517},{"$f":"IF(Station=\"Saint-Denis\",Données1!F301,Données1!F328)","v":28.295833333333341},{"$f":"IF(Station=\"Saint-Denis\",Données1!G301,Données1!G328)","v":28.72983870967742},{"$f":"IF(Station=\"Saint-Denis\",Données1!H301,Données1!H328)","v":27.942499999999999},{"$f":"IF(Station=\"Saint-Denis\",Données1!I301,Données1!I328)","v":28.779032258064518},{"$f":"IF(Station=\"Saint-Denis\",Données1!J301,Données1!J328)","v":29.336290322580645},{"$f":"IF(Station=\"Saint-Denis\",Données1!K301,Données1!K328)","v":29.286666666666676},{"$f":"IF(Station=\"Saint-Denis\",Données1!L301,Données1!L328)","v":29.625},{"$f":"IF(Station=\"Saint-Denis\",Données1!M301,Données1!M328)","v":28.6},{"$f":"IF(Station=\"Saint-Denis\",Données1!N301,Données1!N328)","v":28.418548387096774}]
[null,21,{"$f":"IF(Station=\"Saint-Denis\",Données1!C302,Données1!C329)","v":27.544354838709666},{"$f":"IF(Station=\"Saint-Denis\",Données1!D302,Données1!D329)","v":27.648214285714278},{"$f":"IF(Station=\"Saint-Denis\",Données1!E302,Données1!E329)","v":27.735483870967741},{"$f":"IF(Station=\"Saint-Denis\",Données1!F302,Données1!F329)","v":27.894166666666671},{"$f":"IF(Station=\"Saint-Denis\",Données1!G302,Données1!G329)","v":28.250000000000007},{"$f":"IF(Station=\"Saint-Denis\",Données1!H302,Données1!H329)","v":27.363333333333333},{"$f":"IF(Station=\"Saint-Denis\",Données1!I302,Données1!I329)","v":28.102419354838709},{"$f":"IF(Station=\"Saint-Denis\",Données1!J302,Données1!J329)","v":28.656451612903226},{"$f":"IF(Station=\"Saint-Denis\",Données1!K302,Données1!K329)","v":28.571666666666662},{"$f":"IF(Station=\"Saint-Denis\",Données1!L302,Données1!L329)","v":28.91532258064516},{"$f":"IF(Station=\"Saint-Denis\",Données1!M302,Données1!M329)","v":27.948333333333331},{"$f":"IF(Station=\"Saint-Denis\",Données1!N302,Données1!N329)","v":27.848387096774193}]
[null,22,{"$f":"IF(Station=\"Saint-Denis\",Données1!C303,Données1!C330)","v":27.139516129032259},{"$f":"IF(Station=\"Saint-Denis\",Données1!D303,Données1!D330)","v":27.206250000000001},{"$f":"IF(Station=\"Saint-Denis\",Données1!E303,Données1!E330)","v":27.22983870967742},{"$f":"IF(Station=\"Saint-Denis\",Données1!F303,Données1!F330)","v":27.3825},{"$f":"IF(Station=\"Saint-Denis\",Données1!G303,Données1!G330)","v":27.798387096774189},{"$f":"IF(Station=\"Saint-Denis\",Données1!H303,Données1!H330)","v":26.791666666666668},{"$f":"IF(Station=\"Saint-Denis\",Données1!I303,Données1!I330)","v":27.411290322580648},{"$f":"IF(Station=\"Saint-Denis\",Données1!J303,Données1!J330)","v":27.96935483870968},{"$f":"IF(Station=\"Saint-Denis\",Données1!K303,Données1!K330)","v":27.843333333333323},{"$f":"IF(Station=\"Saint-Denis\",Données1!L303,Données1!L330)","v":28.215322580645168},{"$f":"IF(Station=\"Saint-Denis\",Données1!M303,Données1!M330)","v":27.31583333333333},{"$f":"IF(Station=\"Saint-Denis\",Données1!N303,Données1!N330)","v":27.277419354838713}]
[null,23,{"$f":"IF(Station=\"Saint-Denis\",Données1!C304,Données1!C331)","v":26.688709677419357},{"$f":"IF(Station=\"Saint-Denis\",Données1!D304,Données1!D331)","v":26.723214285714285},{"$f":"IF(Station=\"Saint-Denis\",Données1!E304,Données1!E331)","v":26.814516129032263},{"$f":"IF(Station=\"Saint-Denis\",Données1!F304,Données1!F331)","v":26.85},{"$f":"IF(Station=\"Saint-Denis\",Données1!G304,Données1!G331)","v":27.290322580645157},{"$f":"IF(Station=\"Saint-Denis\",Données1!H304,Données1!H331)","v":26.180000000000007},{"$f":"IF(Station=\"Saint-Denis\",Données1!I304,Données1!I331)","v":26.742741935483874},{"$f":"IF(Station=\"Saint-Denis\",Données1!J304,Données1!J331)","v":27.28387096774193},{"$f":"IF(Station=\"Saint-Denis\",Données1!K304,Données1!K331)","v":27.122500000000002},{"$f":"IF(Station=\"Saint-Denis\",Données1!L304,Données1!L331)","v":27.51693548387097},{"$f":"IF(Station=\"Saint-Denis\",Données1!M304,Données1!M331)","v":26.667500000000004},{"$f":"IF(Station=\"Saint-Denis\",Données1!N304,Données1!N331)","v":26.661290322580644}]
[]
[null,"Tint","Janvier","Février","Mars","Avril","Mai","Juin","Juillet","Août","Septembre","Octobre","Novembre","Décembre"]
[null,0,{"$f":"IF($B213<C$241,C$247+C$248+C$245*SIN($F$183*$B213+$C$243),C$247+C$248+C$246*SIN($F$183*$B213+$C$243))","v":27.387404062944892},{"$f":"IF($B213<D$241,D$247+D$248+D$245*SIN($F$183*$B213+$C$243),D$247+D$248+D$246*SIN($F$183*$B213+$C$243))","v":27.327879277505136},27.367934570266907,27.561334319372246,28.056789173666541,27.018429551888715,27.392063259109555,28.022413733016659,28.107820549273761,28.437351763692632,27.550246860668427,27.468717664754351,1]
[null,1,26.736221102066555,26.67739818641822,26.725849459069519,26.859820466998812,27.36341316609769,26.162240324242703,26.415388702692479,27.036266758542016,27.077130180909844,27.389783899194452,26.580943254987066,26.656220589679492,1]
[null,2,26.16327332917912,26.105067958457497,26.160906491322766,26.242588715687461,26.753341553083882,25.408916388235035,25.556054927772749,26.168598611938759,26.170270225154695,26.468074163265385,25.728094861383816,25.941339492339676,1]
[null,3,25.707606188163901,25.649891952838068,25.711605596666192,25.75170238926637,26.268149706860996,24.809795525177968,24.872624110994934,25.478539443508485,25.449041689336084,25.735035551211638,25.049821888484129,25.372792338121741,1]
[null,4,25.40027264165553,25.342889662128979,25.408565888565807,25.420614579653122,25.94090264993169,24.405706831794799,24.411670933099618,25.013115645203026,24.962595106283551,25.240623433041094,24.592347518492037,24.989324676017038,1]
[null,5,25.262216962955854,25.204982785096785,25.272439022331859,25.271888373924387,25.793901728424355,24.224188284751452,24.204608591399225,24.804045079727707,24.744081006741126,25.018531177552418,24.386847873710352,24.817069193487733,1]
[null,6,25.302847418420463,25.24556944750934,25.312501818937907,25.315659217218901,25.837164812209217,24.277610073055349,24.26554804229394,24.865575560614221,24.808390765481011,25.083894004932354,24.447327415326733,24.867764817002552,1]
[null,7,25.51939510965444,25.461883735395855,25.526024065002151,25.548944198900884,26.067743593621959,24.56233159011726,24.590336362912485,25.193513887274083,25.151141778721978,25.43225754651214,24.76966456252719,25.137956723597437,1]
[null,8,25.897102669362173,25.83918418751313,25.898454572317508,25.955845332990368,26.469924509758755,25.058949535073967,25.156839765942792,25.765511604689134,25.748976131334494,26.039881402631092,25.331892571417335,25.609231781351188,1]
[null,9,26.410229951540835,26.351758401567853,26.404412817280949,26.508632979635067,27.016299595820275,25.73362021567663,25.926451980659476,26.542588013688452,26.56115240015599,26.865357011640594,26.095696532317014,26.249473373896738,1]
[null,10,{"$f":"IF($B223<C$241,C$247+C$248+C$245*SIN($F$183*$B223+$C$243),C$247+C$248+C$246*SIN($F$183*$B223+$C$243))","v":27.023808179892878},{"$f":"IF($B223<D$241,D$247+D$248+D$245*SIN($F$183*$B223+$C$243),D$247+D$248+D$246*SIN($F$183*$B223+$C$243))","v":26.964675291941127},27.009418581633749,27.169635574240932,27.669634292618944,26.540365939988195,26.84672520647392,27.471786641178227,27.532322114651024,27.852429574949596,27.009024467536641,27.01505009475137,1]
[null,11,27.696023012142074,27.636165585447074,27.672241722354567,27.893806882344006,28.385404920254569,27.424208320107173,27.85494434387028,28.489784136268359,28.596301663710602,28.933831728583126,28.009634587636782,27.85378915556419,1]
[null,12,28.381064118358179,28.320468328273439,28.347711937770306,28.631795826046737,29.114832893320678,28.334325464826232,28.882400924795903,29.527205651988869,29.680582599375654,30.035867702872622,29.029336966519022,28.708531875422644,1]
[null,13,29.15539521555165,29.047731477353441,29.033380219231752,29.393114984022457,29.885425952044226,29.202848812927169,29.920356060008491,30.660625588338949,30.846320141089976,31.235668499464836,30.10848581403177,29.66706925705234,1]
[null,14,29.789803486829406,29.658381924303217,29.620074578806349,30.040194234440865,30.534034879468173,29.967025009005713,30.810273610104339,31.601794397697841,31.820579140214171,32.233354309071359,31.016155526988861,30.454835826267811,1]
[null,15,30.294350352859961,30.144034118950874,30.086674422854671,30.554818369486338,31.049875571381083,30.574776708159987,31.518027798148122,32.3503088712108,32.595410344290578,33.026816928192439,31.738028065221975,31.081349022353315,1]
[null,16,30.634651778526457,30.47159166680937,30.401381743097524,30.901916604812122,31.397794337096144,30.984686636449794,31.995386345843759,32.855158984486579,33.118010287230504,33.561983190593956,32.224909008201294,31.503913006357639,1]
[null,17,30.78751678404441,30.618732062306595,30.5427497557388,31.057834769287719,31.554081087692822,31.168820109670374,32.209818057038092,33.081940036609694,33.352764646559834,33.802382399897319,32.443618224271589,31.693730741090892,1]
[null,18,30.742527871909147,30.57542793065041,30.50114446433868,31.011947297671064,31.508085139394019,31.114628735916693,32.146709764978382,33.015197273651353,33.283675300640191,33.731631747266974,32.379251041791726,31.637866461619641,1]
[null,19,30.502750962134986,30.344630376849725,30.279401200750087,30.76738134532021,31.262941040064401,30.825805567754589,31.810362195477115,32.659479104609552,32.915450574220465,33.354552772758709,32.036193977875918,31.340127226269765,1]
[null,20,30.084526454872957,29.942067872785064,29.892631401938516,30.340803677723507,30.835354954953498,30.322033426791446,31.22369687955516,32.039027134852404,32.273184373886018,32.69684278533277,31.437825804501415,30.820803471893001,1]
[null,21,29.516355659144295,29.395174387842442,29.367192790525657,29.761284857974754,30.254466169142209,29.63764355191109,30.42669408898233,31.196124140773506,31.400646079794566,31.80332363371511,30.62492432383354,30.115286254127049,1]
[null,22,28.836958475731276,28.741219809236483,28.738893139550942,29.068318135939695,29.559861293419459,28.819275982078867,29.473668246826772,30.188212568456279,30.357297734750734,30.734887171478253,29.652887428396589,29.271655405440331,1]
[null,23,28.09263469992656,28.024770060788143,28.050550031914028,28.309128048543364,28.798876502176928,27.922701114762486,28.429566489281722,29.083979925901513,29.214241804254595,29.564345577848897,28.587957826247671,28.347402974004947,1]
[null,null,2,3,4,5,6,7,8,9,10,11,12,13]
[null,"Heure","Janvier","Février","Mars","Avril","Mai","Juin","Juillet","Août","Septembre","Octobre","Novembre","Décembre"]
[null,"NI",{"$f":"IF(Station=\"Saint-Denis\",VLOOKUP(Hypothèses!$J$19,Données1!$AX$282:$BJ$284,C$237,FALSE),VLOOKUP(Hypothèses!$J$19,Données1!$AX$289:$BJ$291,C$237,FALSE))","v":12.375092964591706},{"$f":"IF(Station=\"Saint-Denis\",VLOOKUP(Hypothèses!$J$19,Données1!$AX$282:$BJ$284,D$237,FALSE),VLOOKUP(Hypothèses!$J$19,Données1!$AX$289:$BJ$291,D$237,FALSE))","v":12.453972745062664},{"$f":"IF(Station=\"Saint-Denis\",VLOOKUP(Hypothèses!$J$19,Données1!$AX$282:$BJ$284,E$237,FALSE),VLOOKUP(Hypothèses!$J$19,Données1!$AX$289:$BJ$291,E$237,FALSE))","v":12.430009719984522},{"$f":"IF(Station=\"Saint-Denis\",VLOOKUP(Hypothèses!$J$19,Données1!$AX$282:$BJ$284,F$237,FALSE),VLOOKUP(Hypothèses!$J$19,Données1!$AX$289:$BJ$291,F$237,FALSE))","v":12.485343511690688},{"$f":"IF(Station=\"Saint-Denis\",VLOOKUP(Hypothèses!$J$19,Données1!$AX$282:$BJ$284,G$237,FALSE),VLOOKUP(Hypothèses!$J$19,Données1!$AX$289:$BJ$291,G$237,FALSE))","v":12.149046460880442},{"$f":"IF(Station=\"Saint-Denis\",VLOOKUP(Hypothèses!$J$19,Données1!$AX$282:$BJ$284,H$237,FALSE),VLOOKUP(Hypothèses!$J$19,Données1!$AX$289:$BJ$291,H$237,FALSE))","v":12.003176512301062},{"$f":"IF(Station=\"Saint-Denis\",VLOOKUP(Hypothèses!$J$19,Données1!$AX$282:$BJ$284,I$237,FALSE),VLOOKUP(Hypothèses!$J$19,Données1!$AX$289:$BJ$291,I$237,FALSE))","v":12.392216268732342},{"$f":"IF(Station=\"Saint-Denis\",VLOOKUP(Hypothèses!$J$19,Données1!$AX$282:$BJ$284,J$237,FALSE),VLOOKUP(Hypothèses!$J$19,Données1!$AX$289:$BJ$291,J$237,FALSE))","v":12.263554863844151},{"$f":"IF(Station=\"Saint-Denis\",VLOOKUP(Hypothèses!$J$19,Données1!$AX$282:$BJ$284,K$237,FALSE),VLOOKUP(Hypothèses!$J$19,Données1!$AX$289:$BJ$291,K$237,FALSE))","v":12.202509739194214},{"$f":"IF(Station=\"Saint-Denis\",VLOOKUP(Hypothèses!$J$19,Données1!$AX$282:$BJ$284,L$237,FALSE),VLOOKUP(Hypothèses!$J$19,Données1!$AX$289:$BJ$291,L$237,FALSE))","v":12.214668236867599},{"$f":"IF(Station=\"Saint-Denis\",VLOOKUP(Hypothèses!$J$19,Données1!$AX$282:$BJ$284,M$237,FALSE),VLOOKUP(Hypothèses!$J$19,Données1!$AX$289:$BJ$291,M$237,FALSE))","v":12.299511082087321},{"$f":"IF(Station=\"Saint-Denis\",VLOOKUP(Hypothèses!$J$19,Données1!$AX$282:$BJ$284,N$237,FALSE),VLOOKUP(Hypothèses!$J$19,Données1!$AX$289:$BJ$291,N$237,FALSE))","v":12.322982173025494}]
[null,"ISO",{"$f":"IF(Station=\"Saint-Denis\",VLOOKUP(Hypothèses!$J$19,Données1!$AX$285:$BJ$288,C$237,FALSE),VLOOKUP(Hypothèses!$J$19,Données1!$AX$292:$BJ$294,C$237,FALSE))","v":12.25457554919439},{"$f":"IF(Station=\"Saint-Denis\",VLOOKUP(Hypothèses!$J$19,Données1!$AX$285:$BJ$288,D$237,FALSE),VLOOKUP(Hypothèses!$J$19,Données1!$AX$292:$BJ$294,D$237,FALSE))","v":12.455311192801197},{"$f":"IF(Station=\"Saint-Denis\",VLOOKUP(Hypothèses!$J$19,Données1!$AX$285:$BJ$288,E$237,FALSE),VLOOKUP(Hypothèses!$J$19,Données1!$AX$292:$BJ$294,E$237,FALSE))","v":12.367768563972371},{"$f":"IF(Station=\"Saint-Denis\",VLOOKUP(Hypothèses!$J$19,Données1!$AX$285:$BJ$288,F$237,FALSE),VLOOKUP(Hypothèses!$J$19,Données1!$AX$292:$BJ$294,F$237,FALSE))","v":12.497822491315942},{"$f":"IF(Station=\"Saint-Denis\",VLOOKUP(Hypothèses!$J$19,Données1!$AX$285:$BJ$288,G$237,FALSE),VLOOKUP(Hypothèses!$J$19,Données1!$AX$292:$BJ$294,G$237,FALSE))","v":12.030939117054372},{"$f":"IF(Station=\"Saint-Denis\",VLOOKUP(Hypothèses!$J$19,Données1!$AX$285:$BJ$288,H$237,FALSE),VLOOKUP(Hypothèses!$J$19,Données1!$AX$292:$BJ$294,H$237,FALSE))","v":11.941338187992272},{"$f":"IF(Station=\"Saint-Denis\",VLOOKUP(Hypothèses!$J$19,Données1!$AX$285:$BJ$288,I$237,FALSE),VLOOKUP(Hypothèses!$J$19,Données1!$AX$292:$BJ$294,I$237,FALSE))","v":12.317887768490914},{"$f":"IF(Station=\"Saint-Denis\",VLOOKUP(Hypothèses!$J$19,Données1!$AX$285:$BJ$288,J$237,FALSE),VLOOKUP(Hypothèses!$J$19,Données1!$AX$292:$BJ$294,J$237,FALSE))","v":12.156009086908291},{"$f":"IF(Station=\"Saint-Denis\",VLOOKUP(Hypothèses!$J$19,Données1!$AX$285:$BJ$288,K$237,FALSE),VLOOKUP(Hypothèses!$J$19,Données1!$AX$292:$BJ$294,K$237,FALSE))","v":12.045750517040533},{"$f":"IF(Station=\"Saint-Denis\",VLOOKUP(Hypothèses!$J$19,Données1!$AX$285:$BJ$288,L$237,FALSE),VLOOKUP(Hypothèses!$J$19,Données1!$AX$292:$BJ$294,L$237,FALSE))","v":12.114110853504085},{"$f":"IF(Station=\"Saint-Denis\",VLOOKUP(Hypothèses!$J$19,Données1!$AX$285:$BJ$288,M$237,FALSE),VLOOKUP(Hypothèses!$J$19,Données1!$AX$292:$BJ$294,M$237,FALSE))","v":12.2639874818843},{"$f":"IF(Station=\"Saint-Denis\",VLOOKUP(Hypothèses!$J$19,Données1!$AX$285:$BJ$288,N$237,FALSE),VLOOKUP(Hypothèses!$J$19,Données1!$AX$292:$BJ$294,N$237,FALSE))","v":12.346566274854219}]
[null,"Heure de dépassement (extrapolation)",{"$f":"C239*Données1!$E$175+C240*Données1!$F$175","v":12.273713860190711},{"$f":"D239*Données1!$E$175+D240*Données1!$F$175","v":12.455098645685181},{"$f":"E239*Données1!$E$175+E240*Données1!$F$175","v":12.377652534654981},{"$f":"F239*Données1!$E$175+F240*Données1!$F$175","v":12.495840814292771},{"$f":"G239*Données1!$E$175+G240*Données1!$F$175","v":12.049694705776886},{"$f":"H239*Données1!$E$175+H240*Données1!$F$175","v":11.951158188514283},{"$f":"I239*Données1!$E$175+I240*Données1!$F$175","v":12.329691224023218},{"$f":"J239*Données1!$E$175+J240*Données1!$F$175","v":12.173087486063748},{"$f":"K239*Données1!$E$175+K240*Données1!$F$175","v":12.070644070683613},{"$f":"L239*Données1!$E$175+L240*Données1!$F$175","v":12.130079487327192},{"$f":"M239*Données1!$E$175+M240*Données1!$F$175","v":12.26962867246371},{"$f":"N239*Données1!$E$175+N240*Données1!$F$175","v":12.342821091024321}]
[null,"Déphasage phi HEURE",{"$f":"(2*PI()/$F$183)-C241+1","v":12.726286139809289},{"$f":"(2*PI()/$F$183)-D239+1","v":12.546027254937336},12.569990280015478,12.514656488309312,12.850953539119558,12.996823487698938,12.607783731267658,12.736445136155849,12.797490260805786,12.785331763132401,12.700488917912679,12.677017826974506]
[null,"Déphasage phi Sinus",{"$f":"C242*$F$183","v":3.3317339203588725},{"$f":"D242*$F$183","v":3.2845422546540375},3.2908157599493109,3.2763294071560307,3.3643717691768127,3.4025604324131877,3.3007100623499483,3.3343935393830555,3.3503751156445314,3.3471920283970822,3.3249802234594208,3.3188355062208292]
[]
[null,"Amin",{"$f":"AVERAGE(C187:C210)-MIN(C187:C210)","v":2.6287634408602081},{"$f":"AVERAGE(D187:D210)-MIN(D187:D210)","v":2.6259300595238102},2.5920362903225822,2.8319444444444528,2.7990927419354747,3.4563541666666602,3.9427419354838769,3.9809811827956914,4.1607986111111117,4.2289314516129082,3.9129861111111133,3.2799731182795639]
[null,"Amax",{"$f":"MAX(C187:C210)-AVERAGE(C187:C210)","v":2.910752688172046},2.8017485119047549,2.691834677419358,2.9688888888888805,2.9759072580645132,3.5061458333333384,4.0830645161290278,4.3182123655914033,4.4700347222222234,4.5775201612903267,4.1645138888888837,3.6143817204301136]
[null,"Textmoy",{"$f":"AVERAGE(C187:C210)","v":27.165860215053758},{"$f":"AVERAGE(D187:D210)","v":27.100930059523808},27.129939516129031,27.362777777777783,27.863608870967738,26.916354166666661,27.353225806451615,27.973723118279569,28.076631944444443,28.413608870967739,27.474652777777781,27.337231182795694]
[null,"Surchauffe",{"$f":"I169","v":0.71837387559777843},{"$f":"I170","v":0.72324374336548025},{"$f":"I171","v":0.72788373788957883},{"$f":"I172","v":0.73378729493170824},{"$f":"I173","v":0.72220216252587222},{"$f":"I174","v":0.75531808850122284},{"$f":"I175","v":0.78400628550111251},{"$f":"I176","v":0.80108657422319607},{"$f":"I177","v":0.81756962988026505},{"$f":"I178","v":0.82300086231488889},{"$f":"I179","v":0.8151391358159451},{"$f":"I180","v":0.7513935872928037}]
[null,"Nb d'heures > Tmax",{"$f":"SUMIF(C213:C236,\">\"&Hypothèses!$J$31,Calculs!$O$213:$O$236)*VMOIS(C238)","v":186},{"$f":"SUMIF(D213:D236,\">\"&Hypothèses!$J$31,Calculs!$O$213:$O$236)*VMOIS(D238)","v":140},{"$f":"SUMIF(E213:E236,\">\"&Hypothèses!$J$31,Calculs!$O$213:$O$236)*VMOIS(E238)","v":155},{"$f":"SUMIF(F213:F236,\">\"&Hypothèses!$J$31,Calculs!$O$213:$O$236)*VMOIS(F238)","v":210},{"$f":"SUMIF(G213:G236,\">\"&Hypothèses!$J$31,Calculs!$O$213:$O$236)*VMOIS(G238)","v":248},{"$f":"SUMIF(H213:H236,\">\"&Hypothèses!$J$31,Calculs!$O$213:$O$236)*VMOIS(H238)","v":180},{"$f":"SUMIF(I213:I236,\">\"&Hypothèses!$J$31,Calculs!$O$213:$O$236)*VMOIS(I238)","v":248},{"$f":"SUMIF(J213:J236,\">\"&Hypothèses!$J$31,Calculs!$O$213:$O$236)*VMOIS(J238)","v":310},{"$f":"SUMIF(K213:K236,\">\"&Hypothèses!$J$31,Calculs!$O$213:$O$236)*VMOIS(K238)","v":300},{"$f":"SUMIF(L213:L236,\">\"&Hypothèses!$J$31,Calculs!$O$213:$O$236)*VMOIS(L238)","v":341},{"$f":"SUMIF(M213:M236,\">\"&Hypothèses!$J$31,Calculs!$O$213:$O$236)*VMOIS(M238)","v":270},{"$f":"SUMIF(N213:N236,\">\"&Hypothèses!$J$31,Calculs!$O$213:$O$236)*VMOIS(N238)","v":248}]
[null,"Heure 1",{"$f":"HeureX(C$213:C$236,Hypothèses!$J$31,1)","v":15},{"$f":"HeureX(D$213:D$236,Hypothèses!$J$31,1)","v":15},{"$f":"HeureX(E$213:E$236,Hypothèses!$J$31,1)","v":15},{"$f":"HeureX(F$213:F$236,Hypothèses!$J$31,1)","v":14},{"$f":"HeureX(G$213:G$236,Hypothèses!$J$31,1)","v":14},{"$f":"HeureX(H$213:H$236,Hypothèses!$J$31,1)","v":15},{"$f":"HeureX(I$213:I$236,Hypothèses!$J$31,1)","v":14},{"$f":"HeureX(J$213:J$236,Hypothèses!$J$31,1)","v":13},{"$f":"HeureX(K$213:K$236,Hypothèses!$J$31,1)","v":13},{"$f":"HeureX(L$213:L$236,Hypothèses!$J$31,1)","v":12},{"$f":"HeureX(M$213:M$236,Hypothèses!$J$31,1)","v":13},{"$f":"HeureX(N$213:N$236,Hypothèses!$J$31,1)","v":14}]
[null,"Heure 2",{"$f":"HeureX(C$213:C$236,Hypothèses!$J$31,2)","v":20},{"$f":"HeureX(D$213:D$236,Hypothèses!$J$31,2)","v":19},{"$f":"HeureX(E$213:E$236,Hypothèses!$J$31,2)","v":19},{"$f":"HeureX(F$213:F$236,Hypothèses!$J$31,2)","v":20},{"$f":"HeureX(G$213:G$236,Hypothèses!$J$31,2)","v":21},{"$f":"HeureX(H$213:H$236,Hypothèses!$J$31,2)","v":20},{"$f":"HeureX(I$213:I$236,Hypothèses!$J$31,2)","v":21},{"$f":"HeureX(J$213:J$236,Hypothèses!$J$31,2)","v":22},{"$f":"HeureX(K$213:K$236,Hypothèses!$J$31,2)","v":22},{"$f":"HeureX(L$213:L$236,Hypothèses!$J$31,2)","v":22},{"$f":"HeureX(M$213:M$236,Hypothèses!$J$31,2)","v":21},{"$f":"HeureX(N$213:N$236,Hypothèses!$J$31,2)","v":21}]
[null,"Heure 1",{"$f":"HeureX(C$213:C$236,Hypothèses!$J$31,3)","v":0},{"$f":"HeureX(D$213:D$236,Hypothèses!$J$31,3)","v":0},{"$f":"HeureX(E$213:E$236,Hypothèses!$J$31,3)","v":0},{"$f":"HeureX(F$213:F$236,Hypothèses!$J$31,3)","v":0},{"$f":"HeureX(G$213:G$236,Hypothèses!$J$31,3)","v":0},{"$f":"HeureX(H$213:H$236,Hypothèses!$J$31,3)","v":0},{"$f":"HeureX(I$213:I$236,Hypothèses!$J$31,3)","v":0},{"$f":"HeureX(J$213:J$236,Hypothèses!$J$31,3)","v":0},{"$f":"HeureX(K$213:K$236,Hypothèses!$J$31,3)","v":0},{"$f":"HeureX(L$213:L$236,Hypothèses!$J$31,3)","v":0},{"$f":"HeureX(M$213:M$236,Hypothèses!$J$31,3)","v":0},{"$f":"HeureX(N$213:N$236,Hypothèses!$J$31,3)","v":0}]
[null,"Heure 2",{"$f":"HeureX(C$213:C$236,Hypothèses!$J$31,4)","v":50},{"$f":"HeureX(D$213:D$236,Hypothèses!$J$31,4)","v":50},{"$f":"HeureX(E$213:E$236,Hypothèses!$J$31,4)","v":50},{"$f":"HeureX(F$213:F$236,Hypothèses!$J$31,4)","v":50},{"$f":"HeureX(G$213:G$236,Hypothèses!$J$31,4)","v":50},{"$f":"HeureX(H$213:H$236,Hypothèses!$J$31,4)","v":50},{"$f":"HeureX(I$213:I$236,Hypothèses!$J$31,4)","v":50},{"$f":"HeureX(J$213:J$236,Hypothèses!$J$31,4)","v":50},{"$f":"HeureX(K$213:K$236,Hypothèses!$J$31,4)","v":50},{"$f":"HeureX(L$213:L$236,Hypothèses!$J$31,4)","v":50},{"$f":"HeureX(M$213:M$236,Hypothèses!$J$31,4)","v":50},{"$f":"HeureX(N$213:N$236,Hypothèses!$J$31,4)","v":50}]
[null,"Minuit",{"$f":"C251 & \"h\"","v":"20h"},{"$f":"IF(D251=0,\"Minuit\",D251 & \"h\")","v":"19h"},"19h","20h","21h","20h","21h","22h","22h","22h","21h","21h"]
[null,"Plage horaire",{"$f":"IF(AND(C250=0,C251=23,C252=0,C253=0),\"Permanent\",IF(AND(C250=0,C251=23,C252=50,C253=0),\"\",IF(C252=0,C250 & \"h-\" & C251 & \"h\",C250 & \"h-\" & C252-1 & \"h\")))","v":"15h-20h"},{"$f":"IF(AND(D250=0,D251=23,D252=0,D253=0),\"Permanent\",IF(AND(D250=0,D251=23),\"\",IF(D252=0,D250 & \"h-\" & D251 & \"h\",D250 & \"h-\" & D252-1 & \"h\")))","v":"15h-19h"},"15h-19h","14h-20h","14h-21h","15h-20h","14h-21h","13h-22h","13h-22h","12h-22h","13h-21h","14h-21h"]
[]
[null,"Mois sélectionnés","Retenu",null,null,"Retenu"]
[null,"Janvier",true,null,"Janvier",{"$f":"HLOOKUP(Secteur,TableauSecteursAnnée,Calculs!B189,FALSE)","v":1},{"$f":"F258*Calculs!$C$106*VMOIS(Calculs!B258)","v":199.28571428571431}]
[null,"Février",true,null,"Février",{"$f":"HLOOKUP(Secteur,TableauSecteursAnnée,Calculs!B190,FALSE)","v":0.5},{"$f":"F259*Calculs!$C$106*VMOIS(Calculs!B259)","v":90}]
[null,"Mars",true,null,"Mars",{"$f":"HLOOKUP(Secteur,TableauSecteursAnnée,Calculs!B191,FALSE)","v":1},{"$f":"F260*Calculs!$C$106*VMOIS(Calculs!B260)","v":199.28571428571431}]
[null,"Avril",true,null,"Avril",{"$f":"HLOOKUP(Secteur,TableauSecteursAnnée,Calculs!B192,FALSE)","v":0.5},{"$f":"F261*Calculs!$C$106*VMOIS(Calculs!B261)","v":96.428571428571431}]
[null,"Mai",true,null,"Mai",{"$f":"HLOOKUP(Secteur,TableauSecteursAnnée,Calculs!B193,FALSE)","v":1},{"$f":"F262*Calculs!$C$106*VMOIS(Calculs!B262)","v":199.28571428571431}]
[null,"Juin",true,null,"Juin",{"$f":"HLOOKUP(Secteur,TableauSecteursAnnée,Calculs!B194,FALSE)","v":1},{"$f":"F263*Calculs!$C$106*VMOIS(Calculs!B263)","v":192.85714285714286}]
[null,"Juillet",true,null,"Juillet",{"$f":"HLOOKUP(Secteur,TableauSecteursAnnée,Calculs!B195,FALSE)","v":0},{"$f":"F264*Calculs!$C$106*VMOIS(Calculs!B264)","v":0}]
[null,"Août",true,null,"Août",{"$f":"HLOOKUP(Secteur,TableauSecteursAnnée,Calculs!B196,FALSE)","v":0},{"$f":"F265*Calculs!$C$106*VMOIS(Calculs!B265)","v":0}]
[null,"Septembre",true,null,"Septembre",{"$f":"HLOOKUP(Secteur,TableauSecteursAnnée,Calculs!B197,FALSE)","v":1},{"$f":"F266*Calculs!$C$106*VMOIS(Calculs!B266)","v":192.85714285714286}]
[null,"Octobre",true,null,"Octobre",{"$f":"HLOOKUP(Secteur,TableauSecteursAnnée,Calculs!B198,FALSE)","v":0.75},{"$f":"F267*Calculs!$C$106*VMOIS(Calculs!B267)","v":149.46428571428569}]
[null,"Novembre",true,null,"Novembre",{"$f":"HLOOKUP(Secteur,TableauSecteursAnnée,Calculs!B199,FALSE)","v":0.75},{"$f":"F268*Calculs!$C$106*VMOIS(Calculs!B268)","v":144.64285714285714}]
[null,"Décembre",true,null,"Décembre",{"$f":"HLOOKUP(Secteur,TableauSecteursAnnée,Calculs!B200,FALSE)","v":0.5},{"$f":"F269*Calculs!$C$106*VMOIS(Calculs!B269)","v":99.642857142857153}]
[null,null,null,null,null,null,{"$f":"SUM(G258:G269)","v":1563.7500000000002}]

{"sheet":"Données1","index":3,"n_rows":334,"n_cols":87,"rows_kept":334,"cut":false,"hidden":true,"merged":[[97,49,97,53],[97,54,97,58],[97,59,97,63],[97,43,98,43],[81,44,81,83],[82,44,82,48],[82,49,82,53],[82,54,82,58],[82,59,82,63],[82,64,82,68],[82,69,82,73],[82,74,82,78],[82,79,82,83],[245,38,246,38],[245,39,245,43],[261,38,262,38],[245,46,246,46],[97,65,98,65],[97,81,98,81],[261,45,262,45],[176,1,176,10],[180,10,180,14],[184,10,184,14],[210,12,211,14],[227,24,227,25],[179,17,179,18],[180,17,180,18],[182,17,182,18],[184,17,184,18],[186,17,186,18],[211,25,211,29],[245,27,245,31],[245,32,245,36],[261,2,261,6],[261,7,261,11],[261,12,261,16],[261,17,261,21],[276,63,279,63],[276,62,279,62],[261,46,261,50],[245,45,246,45],[261,39,261,43],[49,22,49,26],[49,27,49,31],[49,32,49,36],[49,37,49,41],[49,2,49,6],[49,7,49,11],[49,12,49,16],[49,44,49,48],[49,49,49,53],[49,54,49,58],[48,43,50,43],[97,82,97,85],[48,2,48,41],[48,44,48,83],[49,59,49,63],[49,64,49,68],[49,69,49,73],[49,74,49,78],[49,79,49,83],[64,43,66,43],[64,44,64,83],[65,44,65,48],[65,49,65,53],[65,54,65,58],[65,59,65,63],[65,64,65,68],[65,69,65,73],[65,74,65,78],[65,79,65,83],[97,66,97,73],[97,75,98,75],[97,76,97,79],[81,43,83,43],[97,44,97,48],[261,32,261,36],[245,2,245,6],[245,7,245,11],[245,12,245,16],[245,17,245,21],[245,22,245,26],[28,35,28,40],[227,1,227,2],[211,20,211,24],[211,30,211,34],[211,38,211,39],[227,19,227,21],[209,1,209,10],[49,17,49,21],[65,7,65,11],[65,12,65,16],[28,12,28,21],[130,1,140,2],[178,10,178,11],[182,10,182,11],[48,1,49,1],[64,1,65,1],[64,2,64,41],[65,2,65,6],[65,17,65,21],[65,22,65,26],[65,27,65,31],[65,32,65,36],[65,37,65,41],[10,9,10,10],[16,4,16,5],[10,4,10,5],[178,1,178,2],[194,1,194,2],[178,4,178,5],[26,1,26,9],[47,1,47,10],[28,1,28,10],[280,50,280,61],[210,1,210,10],[243,1,243,15],[142,1,152,2],[142,4,142,5],[10,14,10,15],[113,4,114,5],[113,7,114,8],[116,1,126,2],[116,4,116,5],[116,7,116,8],[142,7,142,8],[44,1,44,9],[130,4,130,5],[130,7,130,8],[245,59,246,59],[28,23,28,32],[261,22,261,26],[261,27,261,31],[245,62,246,62],[245,63,246,63],[245,64,246,64],[245,65,246,65],[245,66,246,66],[245,67,246,67],[245,68,246,68],[261,52,262,52],[261,53,262,53],[261,54,262,54],[261,55,262,55],[261,56,262,56],[261,57,262,57],[261,58,262,58],[261,59,262,59],[245,61,246,61],[245,52,246,52],[245,53,246,53],[245,57,246,57],[245,54,246,54],[245,55,246,55],[245,56,246,56],[245,58,246,58]]}
[null,null,null,null,null,null,null,null,null,null,null,null,null,null,null,null,null,null,null,null,null,null,null,null,null,null,null,"Poste de consommation"]
[null,null,null,null,null,null,null,null,null,null,null,null,null,null,null,null,null,null,null,null,null,null,null,null,null,null,null,"Climatisation"]
[null,null,null,null,null,null,null,null,null,null,null,null,null,null,null,null,null,null,null,null,null,null,null,null,null,null,null,"Brasseurs d'air"]
[null,"Jan","Orientation des plus grandes façades",null,"U",null,"Installation","consigne clim",null,"Localisation","correspondance pour nom tableaux",null,"% vitrage ",null,"Facteur solaire murs",null,"TempInconfort",null,null,null,null,null,null,"VMC",null,"Typologie","Niveau de consommation","Ventilation"]
[null,"Fév","Nord / Sud",null,0.5,null,"Centralisée Eau-Glacée",28,null,"Cayenne","Cayenne",null,0,null,"Base",null,28,null,null,null,null,null,null,"Jamais",null,"Logement","Sans objet","Eau chaude sanitaire"]
[null,"Mars","Est / Ouest",null,1,null,"Centralisée VRV",27,null,null,null,null,0.05,null,"RTAA DOM 2016",null,29,null,null,null,null,null,null,"Permanent",null,"Commerces","Niveau de base","Eclairage intérieur"]
[null,"Avril","Nord-Est / Sud-Ouest",null,1.5,null,"Individuelle",26,null,null,null,null,0.1,null,"Ecodom",null,30,null,null,null,null,null,null,"Occupation",null,"Bureaux","Performant","Eclairage extérieur"]
[null,"Mai","Nord-Ouest / Sud-Est",null,2,null,null,25,null,null,null,null,0.15,null,"NF Habitat HQE",null,31,null,null,null,null,null,null,"Nuit",null,"Enseignement","Très performant","Bureautique"]
[null,"Juin",null,null,3,null,null,24,null,null,null,null,0.2,null,"LEKOL LOJIK",null,null,null,null,null,null,null,null,null,null,"Santé",null,"Froid alimentaire"]
[null,"Juil","Orientation ",null,null,null,null,23,null,null,null,null,0.25,null,null,null,null,null,null,null,null,null,null,null,null,"Hôtellerie",null,"Chaud alimentaire"]
[null,"Août","Nord",null,"coeff d'absorption solaire",null,null,22,null,"PLANNING RENOUV. AIR",null,null,0.3,null,"Niveau ventilation",null,null,null,null,null,null,null,null,null,null,null,null,"Autres"]
[null,"Sept","Sud",null,"Couleur claire",0.4,null,21,null,"Type",null,null,0.35,null,"Base (5 vol/h)",5,null,null,null,null,null,null,null,null,null,null,null,"Equipements spécifiques avec apports"]
[null,"Oct","Est",null,"Couleur moyenne",0.6,null,20,null,"Permanent",null,null,0.4,null,"Décharge (15 vol/h)",15,null,null,null,null,null,null,null,null,null,null,null,"Equipements spécifiques sans apports"]
[null,"Nov","Ouest",null,"couleur sombre",0.8,null,null,null,"Jour-calé sur l'occupation",null,null,0.45,null,"Confort (50 vol/h)",50]
[null,"Déc",null,null,null,null,null,null,null,"Nuit",null,null,0.5]
[null,null,null,null,null,null,null,null,null,null,null,null,0.55000000000000004]
[null,null,"Type de vitrage",null,"exposition au vent",null,null,null,null,"Attention, si chgt de formulation dans ce tableau, modifier à la main les formules (apports renouv. Air et peut être d'autre)",null,null,0.6,null,"Facteur solaire murs"]
[null,null,"SV",null,"Type","K_vent",null,null,null,null,null,null,0.65,null,"Léger"]
[null,null,"DV",null,"Zone littorale au vent",1.1499999999999999,null,null,null,null,null,null,0.7,null,"Moyen"]
[null,null,"Attention, si chgt de formulation dans ce tableau, modifier à la main les formules (apports  par clo transmis vitrage))",null,"Zone au vent",1,null,null,null,null,null,null,0.75,null,"Lourd",null,null,null,null,null,null,null,null,null,null,null,null,null,null,null,null,null,null,null,null,null,null,null,null,null,null,null,null,"Valeurs limites"]
[null,null,null,null,"Zone continentale",0.9,null,null,null,null,null,null,0.8,null,null,null,null,null,null,null,null,null,null,null,null,null,null,null,null,null,null,null,null,null,null,null,null,null,null,null,null,null,null,"Centralisée Eau Glacée","Centralisée DRV","Climatisation individuelle"]
[null,null,null,null,"Zone sous le vent",0.65,null,null,null,null,null,null,0.85,null,null,null,null,null,null,null,null,null,null,null,null,null,null,null,null,null,null,null,null,null,null,null,null,null,null,null,null,null,null,2.9,5.6,5.6]
[null,null,null,null,null,null,null,null,null,null,null,null,0.9,null,null,null,null,null,null,null,null,null,null,null,null,null,null,null,null,null,null,null,null,null,null,null,null,null,null,null,null,null,null,3.1,6.1,7]
[null,null,null,null,null,null,null,null,null,null,null,null,0.95,null,null,null,null,null,null,null,null,null,null,null,null,null,null,null,null,null,null,null,null,null,null,null,null,null,null,null,null,null,null,3.4,7,8.5]
[null,null,null,null,null,null,null,null,null,null,null,null,1]
[null,null,null,null,null,null,null,null,null,null,null,null,null,null,null,null,null,null,null,null,null,null,null,null,null,null,null,null,null,null,null,null,null,null,null,null,null,null,null,null,null,null,null,"Valeurs hypothétiques"]
[null,"APPORT SOLAIRE CLO INCIDENT (Wh/m² de paroi)",null,null,null,null,null,null,null,null,null,null,null,null,null,null,null,null,null,null,null,null,null,null,null,null,null,null,null,null,null,null,null,null,null,null,null,null,null,null,null,null,null,"Centralisée Eau Glacée","Centralisée DRV","Climatisation individuelle"]
[null,null,null,null,null,null,null,null,null,null,null,null,null,null,null,null,null,null,null,null,null,null,null,null,null,null,null,null,null,null,null,null,null,null,null,null,null,null,null,null,null,null,null,3,5.75,6.3]
[null,"CAYENNE (Wh/m² de paroi)",null,null,null,null,null,null,null,null,null,null,"CAYENNE (Wh/m² de paroi)",null,null,null,null,null,null,null,null,null,null,"CAYENNE (Wh/m² de paroi)",null,null,null,null,null,null,null,null,null,null,null,"(Wh/m² de paroi)",null,null,null,null,null,null,null,3.25,6.55,7.75]
[null,"RDC ","NORD","NORD-EST","EST","SUD-EST","SUD","SUD-OUEST","OUEST","NORD-OUEST","TOIT",null,"Etage","NORD","NORD-EST","EST","SUD-EST","SUD","SUD-OUEST","OUEST","NORD-OUEST","TOIT",null,"MOYEN","NORD","NORD-EST","EST","SUD-EST","SUD","SUD-OUEST","OUEST","NORD-OUEST","TOIT",null,null,"Tampon 1",{"$f":"Calculs!B7","v":"Est"},{"$f":"Calculs!C7","v":"Sud"},{"$f":"Calculs!D7","v":"Ouest"},{"$f":"Calculs!E7","v":"Nord"},"TOIT",null,null,3.6,7.5,9.25]
[null,"Janvier ",38722.337105977196,46302.732919423535,66796.875126128652,76592.178905121677,79597.474158802608,72860.150260286202,63476.196831681234,45340.292831625535,118322.75793343103,null,"Janvier ",38722.337105977196,46302.732919423535,66796.875126128652,76592.178905121677,79597.474158802608,72860.150260286202,63476.196831681234,45340.292831625535,118322.75793343103,null,"Janvier ",{"$f":"(C31+(NombreNiveaux-1)*N31)/NombreNiveaux","v":38722.337105977196},{"$f":"(D31+(NombreNiveaux-1)*O31)/NombreNiveaux","v":46302.732919423535},{"$f":"(E31+(NombreNiveaux-1)*P31)/NombreNiveaux","v":66796.875126128652},{"$f":"(F31+(NombreNiveaux-1)*Q31)/NombreNiveaux","v":76592.178905121677},{"$f":"(G31+(NombreNiveaux-1)*R31)/NombreNiveaux","v":79597.474158802608},{"$f":"(H31+(NombreNiveaux-1)*S31)/NombreNiveaux","v":72860.150260286202},{"$f":"(I31+(NombreNiveaux-1)*T31)/NombreNiveaux","v":63476.196831681234},{"$f":"(J31+(NombreNiveaux-1)*U31)/NombreNiveaux","v":45340.292831625535},{"$f":"(K31+(NombreNiveaux-1)*V31)/NombreNiveaux","v":118322.75793343103},null,null,"Janvier ",{"$f":"HLOOKUP(AK30,INDIRECT(VLOOKUP(Station,$J$5:$K$8,2,FALSE)&1),2,FALSE)","v":66796.875126128652},{"$f":"HLOOKUP(AL30,INDIRECT(VLOOKUP(Station,$J$5:$K$8,2,FALSE)&1),2,FALSE)","v":79597.474158802608},{"$f":"HLOOKUP(AM30,INDIRECT(VLOOKUP(Station,$J$5:$K$8,2,FALSE)&1),2,FALSE)","v":63476.196831681234},{"$f":"HLOOKUP(AN30,INDIRECT(VLOOKUP(Station,$J$5:$K$8,2,FALSE)&1),2,FALSE)","v":38722.337105977196},{"$f":"HLOOKUP(AO30,INDIRECT(VLOOKUP(Station,$J$5:$K$8,2,FALSE)&1),2,FALSE)","v":118322.75793343103}]
[null,"Février",36751.525422925217,47290.594888621665,63580.592815840544,66799.171549856997,62626.034582941393,62846.304848230982,59701.895322791024,45755.842289161606,113487.74757723649,null,"Février",36751.525422925217,47290.594888621665,63580.592815840544,66799.171549856997,62626.034582941393,62846.304848230982,59701.895322791024,45755.842289161606,113487.74757723649,null,"Février",36751.525422925217,47290.594888621665,63580.592815840544,66799.171549856997,62626.034582941393,62846.304848230982,59701.895322791024,45755.842289161606,113487.74757723649,null,null,"Février",{"$f":"HLOOKUP(AK30,INDIRECT(VLOOKUP(Station,$J$5:$K$8,2,FALSE)&1),3,FALSE)","v":63580.592815840544},{"$f":"HLOOKUP(AL30,INDIRECT(VLOOKUP(Station,$J$5:$K$8,2,FALSE)&1),3,FALSE)","v":62626.034582941393},{"$f":"HLOOKUP(AM30,INDIRECT(VLOOKUP(Station,$J$5:$K$8,2,FALSE)&1),3,FALSE)","v":59701.895322791024},{"$f":"HLOOKUP(AN30,INDIRECT(VLOOKUP(Station,$J$5:$K$8,2,FALSE)&1),3,FALSE)","v":36751.525422925217},{"$f":"HLOOKUP(AO30,INDIRECT(VLOOKUP(Station,$J$5:$K$8,2,FALSE)&1),3,FALSE)","v":113487.74757723649}]
[null,"Mars",40358.52188676528,62190.546399429128,74379.227671430854,66390.3173018011,45949.659696059833,66066.917288110344,74171.795269135779,62220.995152794087,136872.37677847699,null,"Mars",40358.52188676528,62190.546399429128,74379.227671430854,66390.3173018011,45949.659696059833,66066.917288110344,74171.795269135779,62220.995152794087,136872.37677847699,null,"Mars",40358.52188676528,62190.546399429128,74379.227671430854,66390.3173018011,45949.659696059833,66066.917288110344,74171.795269135779,62220.995152794087,136872.37677847699,null,null,"Mars",{"$f":"HLOOKUP(AK30,INDIRECT(VLOOKUP(Station,$J$5:$K$8,2,FALSE)&1),4,FALSE)","v":74379.227671430854},{"$f":"HLOOKUP(AL30,INDIRECT(VLOOKUP(Station,$J$5:$K$8,2,FALSE)&1),4,FALSE)","v":45949.659696059833},{"$f":"HLOOKUP(AM30,INDIRECT(VLOOKUP(Station,$J$5:$K$8,2,FALSE)&1),4,FALSE)","v":74171.795269135779},{"$f":"HLOOKUP(AN30,INDIRECT(VLOOKUP(Station,$J$5:$K$8,2,FALSE)&1),4,FALSE)","v":40358.52188676528},{"$f":"HLOOKUP(AO30,INDIRECT(VLOOKUP(Station,$J$5:$K$8,2,FALSE)&1),4,FALSE)","v":136872.37677847699}]
[null,"Avril",51259.020129454322,65994.246870598072,71079.659960504097,58904.5833247271,41239.419464062077,61012.411733977635,74284.537264169034,68408.858515959728,136359.9088110677,null,"Avril",51259.020129454322,65994.246870598072,71079.659960504097,58904.5833247271,41239.419464062077,61012.411733977635,74284.537264169034,68408.858515959728,136359.9088110677,null,"Avril",51259.020129454322,65994.246870598072,71079.659960504097,58904.5833247271,41239.419464062077,61012.411733977635,74284.537264169034,68408.858515959728,136359.9088110677,null,null,"Avril",{"$f":"HLOOKUP(AK30,INDIRECT(VLOOKUP(Station,$J$5:$K$8,2,FALSE)&1),5,FALSE)","v":71079.659960504097},{"$f":"HLOOKUP(AL30,INDIRECT(VLOOKUP(Station,$J$5:$K$8,2,FALSE)&1),5,FALSE)","v":41239.419464062077},{"$f":"HLOOKUP(AM30,INDIRECT(VLOOKUP(Station,$J$5:$K$8,2,FALSE)&1),5,FALSE)","v":74284.537264169034},{"$f":"HLOOKUP(AN30,INDIRECT(VLOOKUP(Station,$J$5:$K$8,2,FALSE)&1),5,FALSE)","v":51259.020129454322},{"$f":"HLOOKUP(AO30,INDIRECT(VLOOKUP(Station,$J$5:$K$8,2,FALSE)&1),5,FALSE)","v":136359.9088110677}]
[null,"Mai",71923.879330533469,75376.208733206251,72127.365421975512,51046.12044423911,37598.709155818833,50843.551662106067,71760.373058231955,75055.834125994195,134982.45054563147,null,"Mai",71923.879330533469,75376.208733206251,72127.365421975512,51046.12044423911,37598.709155818833,50843.551662106067,71760.373058231955,75055.834125994195,134982.45054563147,null,"Mai",71923.879330533469,75376.208733206251,72127.365421975512,51046.12044423911,37598.709155818833,50843.551662106067,71760.373058231955,75055.834125994195,134982.45054563147,null,null,"Mai",{"$f":"HLOOKUP(AK30,INDIRECT(VLOOKUP(Station,$J$5:$K$8,2,FALSE)&1),6,FALSE)","v":72127.365421975512},{"$f":"HLOOKUP(AL30,INDIRECT(VLOOKUP(Station,$J$5:$K$8,2,FALSE)&1),6,FALSE)","v":37598.709155818833},{"$f":"HLOOKUP(AM30,INDIRECT(VLOOKUP(Station,$J$5:$K$8,2,FALSE)&1),6,FALSE)","v":71760.373058231955},{"$f":"HLOOKUP(AN30,INDIRECT(VLOOKUP(Station,$J$5:$K$8,2,FALSE)&1),6,FALSE)","v":71923.879330533469},{"$f":"HLOOKUP(AO30,INDIRECT(VLOOKUP(Station,$J$5:$K$8,2,FALSE)&1),6,FALSE)","v":134982.45054563147}]
[null,"Juin",82725.106295195277,83373.09091808903,76128.679468342089,51441.154438495825,39936.127898690276,49907.225874679782,71588.246277875398,78487.122355750063,136442.2341456468,null,"Juin",82725.106295195277,83373.09091808903,76128.679468342089,51441.154438495825,39936.127898690276,49907.225874679782,71588.246277875398,78487.122355750063,136442.2341456468,null,"Juin",82725.106295195277,83373.09091808903,76128.679468342089,51441.154438495825,39936.127898690276,49907.225874679782,71588.246277875398,78487.122355750063,136442.2341456468,null,null,"Juin",{"$f":"HLOOKUP(AK30,INDIRECT(VLOOKUP(Station,$J$5:$K$8,2,FALSE)&1),7,FALSE)","v":76128.679468342089},{"$f":"HLOOKUP(AL30,INDIRECT(VLOOKUP(Station,$J$5:$K$8,2,FALSE)&1),7,FALSE)","v":39936.127898690276},{"$f":"HLOOKUP(AM30,INDIRECT(VLOOKUP(Station,$J$5:$K$8,2,FALSE)&1),7,FALSE)","v":71588.246277875398},{"$f":"HLOOKUP(AN30,INDIRECT(VLOOKUP(Station,$J$5:$K$8,2,FALSE)&1),7,FALSE)","v":82725.106295195277},{"$f":"HLOOKUP(AO30,INDIRECT(VLOOKUP(Station,$J$5:$K$8,2,FALSE)&1),7,FALSE)","v":136442.2341456468}]
[null,"Juillet",90644.238131265811,92641.811909859913,86061.59079240101,57591.674681136377,41836.208017927944,56788.188523279343,84164.937057795672,90760.556618428498,160743.60366065885,null,"Juillet",90644.238131265811,92641.811909859913,86061.59079240101,57591.674681136377,41836.208017927944,56788.188523279343,84164.937057795672,90760.556618428498,160743.60366065885,null,"Juillet",90644.238131265811,92641.811909859913,86061.59079240101,57591.674681136377,41836.208017927944,56788.188523279343,84164.937057795672,90760.556618428498,160743.60366065885,null,null,"Juillet",{"$f":"HLOOKUP(AK30,INDIRECT(VLOOKUP(Station,$J$5:$K$8,2,FALSE)&1),8,FALSE)","v":86061.59079240101},{"$f":"HLOOKUP(AL30,INDIRECT(VLOOKUP(Station,$J$5:$K$8,2,FALSE)&1),8,FALSE)","v":41836.208017927944},{"$f":"HLOOKUP(AM30,INDIRECT(VLOOKUP(Station,$J$5:$K$8,2,FALSE)&1),8,FALSE)","v":84164.937057795672},{"$f":"HLOOKUP(AN30,INDIRECT(VLOOKUP(Station,$J$5:$K$8,2,FALSE)&1),8,FALSE)","v":90644.238131265811},{"$f":"HLOOKUP(AO30,INDIRECT(VLOOKUP(Station,$J$5:$K$8,2,FALSE)&1),8,FALSE)","v":160743.60366065885}]
[null,"Août",76385.315337648062,93981.62875551988,96455.880020015087,70184.69797232667,44821.453207675906,67494.105515710558,90564.649787039758,88345.246481854745,176323.58761270178,null,"Août",76385.315337648062,93981.62875551988,96455.880020015087,70184.69797232667,44821.453207675906,67494.105515710558,90564.649787039758,88345.246481854745,176323.58761270178,null,"Août",76385.315337648062,93981.62875551988,96455.880020015087,70184.69797232667,44821.453207675906,67494.105515710558,90564.649787039758,88345.246481854745,176323.58761270178,null,null,"Août",{"$f":"HLOOKUP(AK30,INDIRECT(VLOOKUP(Station,$J$5:$K$8,2,FALSE)&1),9,FALSE)","v":96455.880020015087},{"$f":"HLOOKUP(AL30,INDIRECT(VLOOKUP(Station,$J$5:$K$8,2,FALSE)&1),9,FALSE)","v":44821.453207675906},{"$f":"HLOOKUP(AM30,INDIRECT(VLOOKUP(Station,$J$5:$K$8,2,FALSE)&1),9,FALSE)","v":90564.649787039758},{"$f":"HLOOKUP(AN30,INDIRECT(VLOOKUP(Station,$J$5:$K$8,2,FALSE)&1),9,FALSE)","v":76385.315337648062},{"$f":"HLOOKUP(AO30,INDIRECT(VLOOKUP(Station,$J$5:$K$8,2,FALSE)&1),9,FALSE)","v":176323.58761270178}]
[null,"Septembre",47731.878617301649,81307.046340354253,98307.573845252395,83145.452361483607,50152.176351430629,82426.488353094959,97364.172492540005,80682.723504099369,183193.27833349872,null,"Septembre",47731.878617301649,81307.046340354253,98307.573845252395,83145.452361483607,50152.176351430629,82426.488353094959,97364.172492540005,80682.723504099369,183193.27833349872,null,"Septembre",47731.878617301649,81307.046340354253,98307.573845252395,83145.452361483607,50152.176351430629,82426.488353094959,97364.172492540005,80682.723504099369,183193.27833349872,null,null,"Septembre",{"$f":"HLOOKUP(AK30,INDIRECT(VLOOKUP(Station,$J$5:$K$8,2,FALSE)&1),10,FALSE)","v":98307.573845252395},{"$f":"HLOOKUP(AL30,INDIRECT(VLOOKUP(Station,$J$5:$K$8,2,FALSE)&1),10,FALSE)","v":50152.176351430629},{"$f":"HLOOKUP(AM30,INDIRECT(VLOOKUP(Station,$J$5:$K$8,2,FALSE)&1),10,FALSE)","v":97364.172492540005},{"$f":"HLOOKUP(AN30,INDIRECT(VLOOKUP(Station,$J$5:$K$8,2,FALSE)&1),10,FALSE)","v":47731.878617301649},{"$f":"HLOOKUP(AO30,INDIRECT(VLOOKUP(Station,$J$5:$K$8,2,FALSE)&1),10,FALSE)","v":183193.27833349872}]
[null,"Octobre",44773.443181125731,67995.857047740094,93603.925172780146,93765.579811939053,84545.333460542548,102973.01795262097,103307.17901105006,72508.908230166489,181095.62723796794,null,"Octobre",44773.443181125731,67995.857047740094,93603.925172780146,93765.579811939053,84545.333460542548,102973.01795262097,103307.17901105006,72508.908230166489,181095.62723796794,null,"Octobre",44773.443181125731,67995.857047740094,93603.925172780146,93765.579811939053,84545.333460542548,102973.01795262097,103307.17901105006,72508.908230166489,181095.62723796794,null,null,"Octobre",{"$f":"HLOOKUP(AK30,INDIRECT(VLOOKUP(Station,$J$5:$K$8,2,FALSE)&1),11,FALSE)","v":93603.925172780146},{"$f":"HLOOKUP(AL30,INDIRECT(VLOOKUP(Station,$J$5:$K$8,2,FALSE)&1),11,FALSE)","v":84545.333460542548},{"$f":"HLOOKUP(AM30,INDIRECT(VLOOKUP(Station,$J$5:$K$8,2,FALSE)&1),11,FALSE)","v":103307.17901105006},{"$f":"HLOOKUP(AN30,INDIRECT(VLOOKUP(Station,$J$5:$K$8,2,FALSE)&1),11,FALSE)","v":44773.443181125731},{"$f":"HLOOKUP(AO30,INDIRECT(VLOOKUP(Station,$J$5:$K$8,2,FALSE)&1),11,FALSE)","v":181095.62723796794}]
[null,"Novembre",40266.202391327883,52461.942977499777,81611.935438155851,94507.408029266648,104203.61965695528,104893.45759377361,91825.23362189543,56518.925670958895,155199.18726836785,null,"Novembre",40266.202391327883,52461.942977499777,81611.935438155851,94507.408029266648,104203.61965695528,104893.45759377361,91825.23362189543,56518.925670958895,155199.18726836785,null,"Novembre",40266.202391327883,52461.942977499777,81611.935438155851,94507.408029266648,104203.61965695528,104893.45759377361,91825.23362189543,56518.925670958895,155199.18726836785,null,null,"Novembre",{"$f":"HLOOKUP(AK30,INDIRECT(VLOOKUP(Station,$J$5:$K$8,2,FALSE)&1),12,FALSE)","v":81611.935438155851},{"$f":"HLOOKUP(AL30,INDIRECT(VLOOKUP(Station,$J$5:$K$8,2,FALSE)&1),12,FALSE)","v":104203.61965695528},{"$f":"HLOOKUP(AM30,INDIRECT(VLOOKUP(Station,$J$5:$K$8,2,FALSE)&1),12,FALSE)","v":91825.23362189543},{"$f":"HLOOKUP(AN30,INDIRECT(VLOOKUP(Station,$J$5:$K$8,2,FALSE)&1),12,FALSE)","v":40266.202391327883},{"$f":"HLOOKUP(AO30,INDIRECT(VLOOKUP(Station,$J$5:$K$8,2,FALSE)&1),12,FALSE)","v":155199.18726836785}]
[null,"Décembre",39822.600226682742,47139.522600565833,71854.827322071054,85803.981019861894,95282.549368317879,87171.100441051138,73008.389583548007,47403.863211843498,128757.035110096,null,"Décembre",39822.600226682742,47139.522600565833,71854.827322071054,85803.981019861894,95282.549368317879,87171.100441051138,73008.389583548007,47403.863211843498,128757.035110096,null,"Décembre",39822.600226682742,47139.522600565833,71854.827322071054,85803.981019861894,95282.549368317879,87171.100441051138,73008.389583548007,47403.863211843498,128757.035110096,null,null,"Décembre",{"$f":"HLOOKUP(AK30,INDIRECT(VLOOKUP(Station,$J$5:$K$8,2,FALSE)&1),13,FALSE)","v":71854.827322071054},{"$f":"HLOOKUP(AL30,INDIRECT(VLOOKUP(Station,$J$5:$K$8,2,FALSE)&1),13,FALSE)","v":95282.549368317879},{"$f":"HLOOKUP(AM30,INDIRECT(VLOOKUP(Station,$J$5:$K$8,2,FALSE)&1),13,FALSE)","v":73008.389583548007},{"$f":"HLOOKUP(AN30,INDIRECT(VLOOKUP(Station,$J$5:$K$8,2,FALSE)&1),13,FALSE)","v":39822.600226682742},{"$f":"HLOOKUP(AO30,INDIRECT(VLOOKUP(Station,$J$5:$K$8,2,FALSE)&1),13,FALSE)","v":128757.035110096}]
[]
[]
[null,"APPORT SOLAIRE CLO TRANSMIS FENETRE"]
[null,null,null,"CGCS = x"]
[null,null,null,"% solaire transmis = a * x² + b*x+c",null,null,null,null,null,null,null,null,null,null,null,null,null,null,null,null,null,null,null,null,null,null,null,"CGCS =",{"$f":"Hypothèses!J26","v":0.7}]
[null,"CAYENNE"]
[null,"DV","ORIENTATION",null,null,null,null,null,null,null,null,null,null,null,null,null,null,null,null,null,null,null,null,null,null,null,null,null,null,null,null,null,null,null,null,null,null,null,null,null,null,null,null,"Tampon 1","ORIENTATION"]
[null,null,"NORD",null,null,null,null,"NORD-EST",null,null,null,null,"EST",null,null,null,null,"SUD-EST",null,null,null,null,"SUD",null,null,null,null,"SUD-OUEST",null,null,null,null,"OUEST",null,null,null,null,"NORD-OUEST",null,null,null,null,null,null,"NORD",null,null,null,null,"NORD-EST",null,null,null,null,"EST",null,null,null,null,"SUD-EST",null,null,null,null,"SUD",null,null,null,null,"SUD-OUEST",null,null,null,null,"OUEST",null,null,null,null,"NORD-OUEST"]
[null,null,"a","b","c","d","e","a","b","c","d","e","a","b","c","d","e","a","b","c","d","e","a","b","c","d","e","a","b","c","d","e","a","b","c","d","e","a","b","c","d","e",null,null,"a","b","c","d","e","a","b","c","d","e","a","b","c","d","e","a","b","c","d","e","a","b","c","d","e","a","b","c","d","e","a","b","c","d","e","a","b","c","d","e"]
[null,"Janvier",0.23358171630941918,-0.94756657318825865,1.239937104452344,0.29897870953085987,-8.0445058606417319E-3,0.1277617825225246,-0.73724102585386853,1.0982091931006754,0.29520822438135408,-8.1157691251763052E-3,0.2452621249994934,-0.9743296218177645,1.2624018207532592,0.30159990806167042,-8.0984172293211698E-3,0.2452621249994934,-0.9743296218177645,1.2624018207532592,0.30159990806167042,-8.0984172293211698E-3,-3.2677215730929528E-2,-0.44786098163677807,0.9400064252285536,0.30758987805339028,-8.7323233554078075E-3,0.24907851160243896,-0.97939658922367845,1.2626720926868904,0.30017607933826662,-8.0521124170504013E-3,0.24907851160243896,-0.97939658922367845,1.2626720926868904,0.30017607933826662,-8.0521124170504013E-3,0.13448342338672609,-0.75058852234109186,1.107186439898227,0.29543297945923641,-8.1108719724795851E-3,null,"Janvier",{"$f":"IF(Hypothèses!$J$24=\"SV\",Données1!C68,Données1!C52)","v":-2.4753395395996702},{"$f":"IF(Hypothèses!$J$24=\"SV\",Données1!D68,Données1!D52)","v":4.3057939937583756},{"$f":"IF(Hypothèses!$J$24=\"SV\",Données1!E68,Données1!E52)","v":-1.6400664593626766},{"$f":"IF(Hypothèses!$J$24=\"SV\",Données1!F68,Données1!F52)","v":0.70122639854682423},{"$f":"IF(Hypothèses!$J$24=\"SV\",Données1!G68,Données1!G52)","v":-3.3050707536873947E-2},{"$f":"IF(Hypothèses!$J$24=\"SV\",Données1!H68,Données1!H52)","v":-2.5451551650293509},{"$f":"IF(Hypothèses!$J$24=\"SV\",Données1!I68,Données1!I52)","v":4.4675020255701003},{"$f":"IF(Hypothèses!$J$24=\"SV\",Données1!J68,Données1!J52)","v":-1.7782866531424328},{"$f":"IF(Hypothèses!$J$24=\"SV\",Données1!K68,Données1!K52)","v":0.7198615746448801},{"$f":"IF(Hypothèses!$J$24=\"SV\",Données1!L68,Données1!L52)","v":-3.4727553162436697E-2},{"$f":"IF(Hypothèses!$J$24=\"SV\",Données1!M68,Données1!M52)","v":-2.479354476804521},{"$f":"IF(Hypothèses!$J$24=\"SV\",Données1!N68,Données1!N52)","v":4.3083776970053949},{"$f":"IF(Hypothèses!$J$24=\"SV\",Données1!O68,Données1!O52)","v":-1.6325004785026511},{"$f":"IF(Hypothèses!$J$24=\"SV\",Données1!P68,Données1!P52)","v":0.70276770967226254},{"$f":"IF(Hypothèses!$J$24=\"SV\",Données1!Q68,Données1!Q52)","v":-3.3033767234172229E-2},{"$f":"IF(Hypothèses!$J$24=\"SV\",Données1!R68,Données1!R52)","v":-2.479354476804521},{"$f":"IF(Hypothèses!$J$24=\"SV\",Données1!S68,Données1!S52)","v":4.3083776970053949},{"$f":"IF(Hypothèses!$J$24=\"SV\",Données1!T68,Données1!T52)","v":-1.6325004785026511},{"$f":"IF(Hypothèses!$J$24=\"SV\",Données1!U68,Données1!U52)","v":0.70276770967226254},{"$f":"IF(Hypothèses!$J$24=\"SV\",Données1!V68,Données1!V52)","v":-3.3033767234172229E-2},{"$f":"IF(Hypothèses!$J$24=\"SV\",Données1!W68,Données1!W52)","v":-2.7777850285108672},{"$f":"IF(Hypothèses!$J$24=\"SV\",Données1!X68,Données1!X52)","v":4.9353373235901348},{"$f":"IF(Hypothèses!$J$24=\"SV\",Données1!Y68,Données1!Y52)","v":-2.0768494723013449},{"$f":"IF(Hypothèses!$J$24=\"SV\",Données1!Z68,Données1!Z52)","v":0.78376335610669878},{"$f":"IF(Hypothèses!$J$24=\"SV\",Données1!AA68,Données1!AA52)","v":-3.8994104640358629E-2},{"$f":"IF(Hypothèses!$J$24=\"SV\",Données1!AB68,Données1!AB52)","v":-2.4681731601116583},{"$f":"IF(Hypothèses!$J$24=\"SV\",Données1!AC68,Données1!AC52)","v":4.287459605158463},{"$f":"IF(Hypothèses!$J$24=\"SV\",Données1!AD68,Données1!AD52)","v":-1.6217605544829989},{"$f":"IF(Hypothèses!$J$24=\"SV\",Données1!AE68,Données1!AE52)","v":0.69960671073810965},{"$f":"IF(Hypothèses!$J$24=\"SV\",Données1!AF68,Données1!AF52)","v":-3.2855952133643507E-2},{"$f":"IF(Hypothèses!$J$24=\"SV\",Données1!AG68,Données1!AG52)","v":-2.4681731601116583},{"$f":"IF(Hypothèses!$J$24=\"SV\",Données1!AH68,Données1!AH52)","v":4.287459605158463},{"$f":"IF(Hypothèses!$J$24=\"SV\",Données1!AI68,Données1!AI52)","v":-1.6217605544829989},{"$f":"IF(Hypothèses!$J$24=\"SV\",Données1!AJ68,Données1!AJ52)","v":0.69960671073810965},{"$f":"IF(Hypothèses!$J$24=\"SV\",Données1!AK68,Données1!AK52)","v":-3.2855952133643507E-2},{"$f":"IF(Hypothèses!$J$24=\"SV\",Données1!AL68,Données1!AL52)","v":-2.5412368926890063},{"$f":"IF(Hypothèses!$J$24=\"SV\",Données1!AM68,Données1!AM52)","v":4.4581834898156414},{"$f":"IF(Hypothèses!$J$24=\"SV\",Données1!AN68,Données1!AN52)","v":-1.7699758861819272},{"$f":"IF(Hypothèses!$J$24=\"SV\",Données1!AO68,Données1!AO52)","v":0.71882020817885905},{"$f":"IF(Hypothèses!$J$24=\"SV\",Données1!AP68,Données1!AP52)","v":-3.4628856801194263E-2}]
[null,"Février",0.23358171630942257,-0.94756657318832527,1.2399371044524248,0.29897870953083322,-8.0445058606396433E-3,0.10988451500334816,-0.70844202271820189,1.0872078449674938,0.29873479072035841,-8.2445897514384393E-3,0.19992707596857251,-0.89107991103807183,1.2148670945626647,0.30424100372006424,-8.2482358230554706E-3,0.19992707596857251,-0.89107991103807183,1.2148670945626647,0.30424100372006424,-8.2482358230554706E-3,-3.412738297572096E-2,-0.41819757436578769,0.88658944711188059,0.29098009318104934,-8.2688604624248686E-3,0.20404775690347735,-0.89619394084778081,1.2144734022619166,0.30248541134959378,-8.192102835435984E-3,0.20404775690347735,-0.89619394084778081,1.2144734022619166,0.30248541134959378,-8.192102835435984E-3,0.12493515385020906,-0.73750435028786465,1.105726170285525,0.2987361411376161,-8.2194990965498531E-3,null,"Février",{"$f":"IF(Hypothèses!$J$24=\"SV\",Données1!C69,Données1!C53)","v":-2.4753395395998061},{"$f":"IF(Hypothèses!$J$24=\"SV\",Données1!D69,Données1!D53)","v":4.3057939937586154},{"$f":"IF(Hypothèses!$J$24=\"SV\",Données1!E69,Données1!E53)","v":-1.6400664593628096},{"$f":"IF(Hypothèses!$J$24=\"SV\",Données1!F69,Données1!F53)","v":0.70122639854685154},{"$f":"IF(Hypothèses!$J$24=\"SV\",Données1!G69,Données1!G53)","v":-3.3050707536875779E-2},{"$f":"IF(Hypothèses!$J$24=\"SV\",Données1!H69,Données1!H53)","v":-2.5829523918308031},{"$f":"IF(Hypothèses!$J$24=\"SV\",Données1!I69,Données1!I53)","v":4.5402702503215675},{"$f":"IF(Hypothèses!$J$24=\"SV\",Données1!J69,Données1!J53)","v":-1.8193730498097},{"$f":"IF(Hypothèses!$J$24=\"SV\",Données1!K69,Données1!K53)","v":0.73035658547616311},{"$f":"IF(Hypothèses!$J$24=\"SV\",Données1!L69,Données1!L53)","v":-3.5361554381573013E-2},{"$f":"IF(Hypothèses!$J$24=\"SV\",Données1!M69,Données1!M53)","v":-2.5317219670577149},{"$f":"IF(Hypothèses!$J$24=\"SV\",Données1!N69,Données1!N53)","v":4.4166458105701532},{"$f":"IF(Hypothèses!$J$24=\"SV\",Données1!O69,Données1!O53)","v":-1.7064025627250639},{"$f":"IF(Hypothèses!$J$24=\"SV\",Données1!P69,Données1!P53)","v":0.71715243897255143},{"$f":"IF(Hypothèses!$J$24=\"SV\",Données1!Q69,Données1!Q53)","v":-3.4052075096493661E-2},{"$f":"IF(Hypothèses!$J$24=\"SV\",Données1!R69,Données1!R53)","v":-2.5317219670577149},{"$f":"IF(Hypothèses!$J$24=\"SV\",Données1!S69,Données1!S53)","v":4.4166458105701532},{"$f":"IF(Hypothèses!$J$24=\"SV\",Données1!T69,Données1!T53)","v":-1.7064025627250639},{"$f":"IF(Hypothèses!$J$24=\"SV\",Données1!U69,Données1!U53)","v":0.71715243897255143},{"$f":"IF(Hypothèses!$J$24=\"SV\",Données1!V69,Données1!V53)","v":-3.4052075096493661E-2},{"$f":"IF(Hypothèses!$J$24=\"SV\",Données1!W69,Données1!W53)","v":-2.6738184331639046},{"$f":"IF(Hypothèses!$J$24=\"SV\",Données1!X69,Données1!X53)","v":4.7541152951306538},{"$f":"IF(Hypothèses!$J$24=\"SV\",Données1!Y69,Données1!Y53)","v":-2.0070065975068552},{"$f":"IF(Hypothèses!$J$24=\"SV\",Données1!Z69,Données1!Z53)","v":0.75448461742485362},{"$f":"IF(Hypothèses!$J$24=\"SV\",Données1!AA69,Données1!AA53)","v":-3.7605332702053518E-2},{"$f":"IF(Hypothèses!$J$24=\"SV\",Données1!AB69,Données1!AB53)","v":-2.5177468995447132},{"$f":"IF(Hypothèses!$J$24=\"SV\",Données1!AC69,Données1!AC53)","v":4.390700124356349},{"$f":"IF(Hypothèses!$J$24=\"SV\",Données1!AD69,Données1!AD53)","v":-1.6934243417929353},{"$f":"IF(Hypothèses!$J$24=\"SV\",Données1!AE69,Données1!AE53)","v":0.71321066257467414},{"$f":"IF(Hypothèses!$J$24=\"SV\",Données1!AF69,Données1!AF53)","v":-3.3834080493649554E-2},{"$f":"IF(Hypothèses!$J$24=\"SV\",Données1!AG69,Données1!AG53)","v":-2.5177468995447132},{"$f":"IF(Hypothèses!$J$24=\"SV\",Données1!AH69,Données1!AH53)","v":4.390700124356349},{"$f":"IF(Hypothèses!$J$24=\"SV\",Données1!AI69,Données1!AI53)","v":-1.6934243417929353},{"$f":"IF(Hypothèses!$J$24=\"SV\",Données1!AJ69,Données1!AJ53)","v":0.71321066257467414},{"$f":"IF(Hypothèses!$J$24=\"SV\",Données1!AK69,Données1!AK53)","v":-3.3834080493649554E-2},{"$f":"IF(Hypothèses!$J$24=\"SV\",Données1!AL69,Données1!AL53)","v":-2.5704542891933921},{"$f":"IF(Hypothèses!$J$24=\"SV\",Données1!AM69,Données1!AM53)","v":4.5128418642297952},{"$f":"IF(Hypothèses!$J$24=\"SV\",Données1!AN69,Données1!AN53)","v":-1.7981044442193352},{"$f":"IF(Hypothèses!$J$24=\"SV\",Données1!AO69,Données1!AO53)","v":0.72697171022282248},{"$f":"IF(Hypothèses!$J$24=\"SV\",Données1!AP69,Données1!AP53)","v":-3.5089258360258946E-2}]
[null,"Mars",0.22374959989751592,-0.9199649931739301,1.2113075333590015,0.29377651342205646,-7.9142466139469E-3,0.11585413468338258,-0.72862740371742418,1.1112025133726409,0.30412413658493093,-8.3855741725614372E-3,0.11878558707617624,-0.73653193843202502,1.1191248733786534,0.30552254379115634,-8.4198390984029613E-3,0.11878558707617624,-0.73653193843202502,1.1191248733786534,0.30552254379115634,-8.4198390984029613E-3,0.16695118400150341,-0.79831280931605497,1.1184154000505147,0.28641799453989963,-7.8023693163587898E-3,0.11949226613698942,-0.73788997095694342,1.11998202284764,0.30551956752271753,-8.4185696828967364E-3,0.11949226613698942,-0.73788997095694342,1.11998202284764,0.30551956752271753,-8.4185696828967364E-3,0.11986938783886912,-0.73694753172642902,1.1172339150583577,0.30448208601358506,-8.3888673402798541E-3,null,"Mars",{"$f":"IF(Hypothèses!$J$24=\"SV\",Données1!C70,Données1!C54)","v":-2.4391678062982374},{"$f":"IF(Hypothèses!$J$24=\"SV\",Données1!D70,Données1!D54)","v":4.2452428631900867},{"$f":"IF(Hypothèses!$J$24=\"SV\",Données1!E70,Données1!E54)","v":-1.6214896906354348},{"$f":"IF(Hypothèses!$J$24=\"SV\",Données1!F70,Données1!F54)","v":0.69094509141230531},{"$f":"IF(Hypothèses!$J$24=\"SV\",Données1!G70,Données1!G54)","v":-3.2612823541582958E-2},{"$f":"IF(Hypothèses!$J$24=\"SV\",Données1!H70,Données1!H54)","v":-2.6056715391917091},{"$f":"IF(Hypothèses!$J$24=\"SV\",Données1!I70,Données1!I54)","v":4.5773906622327711},{"$f":"IF(Hypothèses!$J$24=\"SV\",Données1!J70,Données1!J54)","v":-1.8288581804433093},{"$f":"IF(Hypothèses!$J$24=\"SV\",Données1!K70,Données1!K54)","v":0.73700076105368151},{"$f":"IF(Hypothèses!$J$24=\"SV\",Données1!L70,Données1!L54)","v":-3.5625969798844137E-2},{"$f":"IF(Hypothèses!$J$24=\"SV\",Données1!M70,Données1!M54)","v":-2.6106347596017372},{"$f":"IF(Hypothèses!$J$24=\"SV\",Données1!N70,Données1!N54)","v":4.5848842677261459},{"$f":"IF(Hypothèses!$J$24=\"SV\",Données1!O70,Données1!O54)","v":-1.8295331221753406},{"$f":"IF(Hypothèses!$J$24=\"SV\",Données1!P70,Données1!P54)","v":0.73845538863285154},{"$f":"IF(Hypothèses!$J$24=\"SV\",Données1!Q70,Données1!Q54)","v":-3.5671790971071204E-2},{"$f":"IF(Hypothèses!$J$24=\"SV\",Données1!R70,Données1!R54)","v":-2.6106347596017372},{"$f":"IF(Hypothèses!$J$24=\"SV\",Données1!S70,Données1!S54)","v":4.5848842677261459},{"$f":"IF(Hypothèses!$J$24=\"SV\",Données1!T70,Données1!T54)","v":-1.8295331221753406},{"$f":"IF(Hypothèses!$J$24=\"SV\",Données1!U70,Données1!U54)","v":0.73845538863285154},{"$f":"IF(Hypothèses!$J$24=\"SV\",Données1!V70,Données1!V54)","v":-3.5671790971071204E-2},{"$f":"IF(Hypothèses!$J$24=\"SV\",Données1!W70,Données1!W54)","v":-2.4368073610269754},{"$f":"IF(Hypothèses!$J$24=\"SV\",Données1!X70,Données1!X54)","v":4.2618956591124952},{"$f":"IF(Hypothèses!$J$24=\"SV\",Données1!Y70,Données1!Y54)","v":-1.6672630411516125},{"$f":"IF(Hypothèses!$J$24=\"SV\",Données1!Z70,Données1!Z54)","v":0.68980441183404018},{"$f":"IF(Hypothèses!$J$24=\"SV\",Données1!AA70,Données1!AA54)","v":-3.2969759823827938E-2},{"$f":"IF(Hypothèses!$J$24=\"SV\",Données1!AB70,Données1!AB54)","v":-2.609916336183475},{"$f":"IF(Hypothèses!$J$24=\"SV\",Données1!AC70,Données1!AC54)","v":4.5833582147825895},{"$f":"IF(Hypothèses!$J$24=\"SV\",Données1!AD70,Données1!AD54)","v":-1.8284253176922864},{"$f":"IF(Hypothèses!$J$24=\"SV\",Données1!AE70,Données1!AE54)","v":0.73826064760176635},{"$f":"IF(Hypothèses!$J$24=\"SV\",Données1!AF70,Données1!AF54)","v":-3.5657123653755951E-2},{"$f":"IF(Hypothèses!$J$24=\"SV\",Données1!AG70,Données1!AG54)","v":-2.609916336183475},{"$f":"IF(Hypothèses!$J$24=\"SV\",Données1!AH70,Données1!AH54)","v":4.5833582147825895},{"$f":"IF(Hypothèses!$J$24=\"SV\",Données1!AI70,Données1!AI54)","v":-1.8284253176922864},{"$f":"IF(Hypothèses!$J$24=\"SV\",Données1!AJ70,Données1!AJ54)","v":0.73826064760176635},{"$f":"IF(Hypothèses!$J$24=\"SV\",Données1!AK70,Données1!AK54)","v":-3.5657123653755951E-2},{"$f":"IF(Hypothèses!$J$24=\"SV\",Données1!AL70,Données1!AL54)","v":-2.6037430399743},{"$f":"IF(Hypothèses!$J$24=\"SV\",Données1!AM70,Données1!AM54)","v":4.5724701880739298},{"$f":"IF(Hypothèses!$J$24=\"SV\",Données1!AN70,Données1!AN54)","v":-1.8239982525871734},{"$f":"IF(Hypothèses!$J$24=\"SV\",Données1!AO70,Données1!AO54)","v":0.73650804613132859},{"$f":"IF(Hypothèses!$J$24=\"SV\",Données1!AP70,Données1!AP54)","v":-3.55716165565646E-2}]
[null,"Avril",0.11361247746041724,-0.6835473580706769,1.0301782849565422,0.27919598847901178,-7.6884919951520185E-3,0.15564144344409014,-0.80465645206251857,1.1586259614324783,0.30365532148704527,-8.3058650453976743E-3,0.10441698770985594,-0.70342537225564639,1.0911339870513712,0.3021748799360971,-8.3501208473001354E-3,0.10441698770985594,-0.70342537225564639,1.0911339870513712,0.3021748799360971,-8.3501208473001354E-3,0.23261344062138953,-0.94423751820385704,1.2359460019241795,0.29809938008909787,-8.021319281090511E-3,9.9233050447369228E-2,-0.69480739795852497,1.0874320697802944,0.30303865414654851,-8.3829824983517841E-3,9.9233050447369228E-2,-0.69480739795852497,1.0874320697802944,0.30303865414654851,-8.3829824983517841E-3,0.15771181332953924,-0.80920227918596943,1.162227467326068,0.30399796889880221,-8.3119973380628188E-3,null,"Avril",{"$f":"IF(Hypothèses!$J$24=\"SV\",Données1!C71,Données1!C55)","v":-2.4312338177064112},{"$f":"IF(Hypothèses!$J$24=\"SV\",Données1!D71,Données1!D55)","v":4.2715500481499147},{"$f":"IF(Hypothèses!$J$24=\"SV\",Données1!E71,Données1!E55)","v":-1.7077012760085906},{"$f":"IF(Hypothèses!$J$24=\"SV\",Données1!F71,Données1!F55)","v":0.68777374620058018},{"$f":"IF(Hypothèses!$J$24=\"SV\",Données1!G71,Données1!G55)","v":-3.3256964817452883E-2},{"$f":"IF(Hypothèses!$J$24=\"SV\",Données1!H71,Données1!H55)","v":-2.567158062553704},{"$f":"IF(Hypothèses!$J$24=\"SV\",Données1!I71,Données1!I55)","v":4.4951451357829821},{"$f":"IF(Hypothèses!$J$24=\"SV\",Données1!J71,Données1!J55)","v":-1.7684617746686409},{"$f":"IF(Hypothèses!$J$24=\"SV\",Données1!K71,Données1!K55)","v":0.72659269509432756},{"$f":"IF(Hypothèses!$J$24=\"SV\",Données1!L71,Données1!L55)","v":-3.483235760323683E-2},{"$f":"IF(Hypothèses!$J$24=\"SV\",Données1!M71,Données1!M55)","v":-2.6068460611940938},{"$f":"IF(Hypothèses!$J$24=\"SV\",Données1!N71,Données1!N55)","v":4.5839199184876618},{"$f":"IF(Hypothèses!$J$24=\"SV\",Données1!O71,Données1!O55)","v":-1.8399488325474656},{"$f":"IF(Hypothèses!$J$24=\"SV\",Données1!P71,Données1!P55)","v":0.73710128402328567},{"$f":"IF(Hypothèses!$J$24=\"SV\",Données1!Q71,Données1!Q55)","v":-3.5720549193998419E-2},{"$f":"IF(Hypothèses!$J$24=\"SV\",Données1!R71,Données1!R55)","v":-2.6068460611940938},{"$f":"IF(Hypothèses!$J$24=\"SV\",Données1!S71,Données1!S55)","v":4.5839199184876618},{"$f":"IF(Hypothèses!$J$24=\"SV\",Données1!T71,Données1!T55)","v":-1.8399488325474656},{"$f":"IF(Hypothèses!$J$24=\"SV\",Données1!U71,Données1!U55)","v":0.73710128402328567},{"$f":"IF(Hypothèses!$J$24=\"SV\",Données1!V71,Données1!V55)","v":-3.5720549193998419E-2},{"$f":"IF(Hypothèses!$J$24=\"SV\",Données1!W71,Données1!W55)","v":-2.4683986141007055},{"$f":"IF(Hypothèses!$J$24=\"SV\",Données1!X71,Données1!X55)","v":4.2938361319984315},{"$f":"IF(Hypothèses!$J$24=\"SV\",Données1!Y71,Données1!Y55)","v":-1.6357306823142548},{"$f":"IF(Hypothèses!$J$24=\"SV\",Données1!Z71,Données1!Z55)","v":0.69925884797122106},{"$f":"IF(Hypothèses!$J$24=\"SV\",Données1!AA71,Données1!AA55)","v":-3.2960249665770158E-2},{"$f":"IF(Hypothèses!$J$24=\"SV\",Données1!AB71,Données1!AB55)","v":-2.616009515710076},{"$f":"IF(Hypothèses!$J$24=\"SV\",Données1!AC71,Données1!AC55)","v":4.6018245912627185},{"$f":"IF(Hypothèses!$J$24=\"SV\",Données1!AD71,Données1!AD55)","v":-1.850500859139371},{"$f":"IF(Hypothèses!$J$24=\"SV\",Données1!AE71,Données1!AE55)","v":0.73965306246824336},{"$f":"IF(Hypothèses!$J$24=\"SV\",Données1!AF71,Données1!AF55)","v":-3.5879694167715803E-2},{"$f":"IF(Hypothèses!$J$24=\"SV\",Données1!AG71,Données1!AG55)","v":-2.616009515710076},{"$f":"IF(Hypothèses!$J$24=\"SV\",Données1!AH71,Données1!AH55)","v":4.6018245912627185},{"$f":"IF(Hypothèses!$J$24=\"SV\",Données1!AI71,Données1!AI55)","v":-1.850500859139371},{"$f":"IF(Hypothèses!$J$24=\"SV\",Données1!AJ71,Données1!AJ55)","v":0.73965306246824336},{"$f":"IF(Hypothèses!$J$24=\"SV\",Données1!AK71,Données1!AK55)","v":-3.5879694167715803E-2},{"$f":"IF(Hypothèses!$J$24=\"SV\",Données1!AL71,Données1!AL55)","v":-2.5669199703142866},{"$f":"IF(Hypothèses!$J$24=\"SV\",Données1!AM71,Données1!AM55)","v":4.4939239806448725},{"$f":"IF(Hypothèses!$J$24=\"SV\",Données1!AN71,Données1!AN55)","v":-1.7664431275818377},{"$f":"IF(Hypothèses!$J$24=\"SV\",Données1!AO71,Données1!AO55)","v":0.72657625725311137},{"$f":"IF(Hypothèses!$J$24=\"SV\",Données1!AP71,Données1!AP55)","v":-3.4815344762271661E-2}]
[null,"Mai",-0.12877767873743673,-0.22872587624721627,0.75722209801440787,0.28672692191952287,-8.3081891910492221E-3,0.1961728186988918,-0.88276427911344302,1.2081985700501494,0.30358211222454357,-8.2360184344516113E-3,5.6608056350562437E-2,-0.60138854322766622,1.0136136607216459,0.29609389773860534,-8.2597837640787999E-3,5.6608056350562437E-2,-0.60138854322766622,1.0136136607216459,0.29609389773860534,-8.2597837640787999E-3,0.2335817163095478,-0.94756657318853099,1.2399371044525338,0.29897870953081263,-8.0445058606381931E-3,6.0290595537447027E-2,-0.6088069282695977,1.0187357615903512,0.29628454271284504,-8.2589816894230866E-3,6.0290595537447027E-2,-0.6088069282695977,1.0187357615903512,0.29628454271284504,-8.2589816894230866E-3,0.20924593252628593,-0.90654824716412308,1.2214783409401999,0.30268269190057623,-8.1889517591007405E-3,null,"Mai",{"$f":"IF(Hypothèses!$J$24=\"SV\",Données1!C72,Données1!C56)","v":-2.7347067502377911},{"$f":"IF(Hypothèses!$J$24=\"SV\",Données1!D72,Données1!D56)","v":4.8963680895266686},{"$f":"IF(Hypothèses!$J$24=\"SV\",Données1!E72,Données1!E56)","v":-2.1303443195444749},{"$f":"IF(Hypothèses!$J$24=\"SV\",Données1!F72,Données1!F56)","v":0.77070222730130067},{"$f":"IF(Hypothèses!$J$24=\"SV\",Données1!G72,Données1!G56)","v":-3.909036599814647E-2},{"$f":"IF(Hypothèses!$J$24=\"SV\",Données1!H72,Données1!H56)","v":-2.531345916643323},{"$f":"IF(Hypothèses!$J$24=\"SV\",Données1!I72,Données1!I56)","v":4.4174261534526815},{"$f":"IF(Hypothèses!$J$24=\"SV\",Données1!J72,Données1!J56)","v":-1.7094077865588182},{"$f":"IF(Hypothèses!$J$24=\"SV\",Données1!K72,Données1!K56)","v":0.71703975173707801},{"$f":"IF(Hypothèses!$J$24=\"SV\",Données1!L72,Données1!L56)","v":-3.4074923679401237E-2},{"$f":"IF(Hypothèses!$J$24=\"SV\",Données1!M72,Données1!M56)","v":-2.6157435479794149},{"$f":"IF(Hypothèses!$J$24=\"SV\",Données1!N72,Données1!N56)","v":4.6177390117054724},{"$f":"IF(Hypothèses!$J$24=\"SV\",Données1!O72,Données1!O56)","v":-1.8877717026711567},{"$f":"IF(Hypothèses!$J$24=\"SV\",Données1!P72,Données1!P56)","v":0.73904475920887625},{"$f":"IF(Hypothèses!$J$24=\"SV\",Données1!Q72,Données1!Q56)","v":-3.6176371651270745E-2},{"$f":"IF(Hypothèses!$J$24=\"SV\",Données1!R72,Données1!R56)","v":-2.6157435479794149},{"$f":"IF(Hypothèses!$J$24=\"SV\",Données1!S72,Données1!S56)","v":4.6177390117054724},{"$f":"IF(Hypothèses!$J$24=\"SV\",Données1!T72,Données1!T56)","v":-1.8877717026711567},{"$f":"IF(Hypothèses!$J$24=\"SV\",Données1!U72,Données1!U56)","v":0.73904475920887625},{"$f":"IF(Hypothèses!$J$24=\"SV\",Données1!V72,Données1!V56)","v":-3.6176371651270745E-2},{"$f":"IF(Hypothèses!$J$24=\"SV\",Données1!W72,Données1!W56)","v":-2.4753395395999256},{"$f":"IF(Hypothèses!$J$24=\"SV\",Données1!X72,Données1!X56)","v":4.3057939937588579},{"$f":"IF(Hypothèses!$J$24=\"SV\",Données1!Y72,Données1!Y56)","v":-1.640066459362971},{"$f":"IF(Hypothèses!$J$24=\"SV\",Données1!Z72,Données1!Z56)","v":0.70122639854689017},{"$f":"IF(Hypothèses!$J$24=\"SV\",Données1!AA72,Données1!AA56)","v":-3.3050707536878221E-2},{"$f":"IF(Hypothèses!$J$24=\"SV\",Données1!AB72,Données1!AB56)","v":-2.6138294121518193},{"$f":"IF(Hypothèses!$J$24=\"SV\",Données1!AC72,Données1!AC56)","v":4.6130237949804718},{"$f":"IF(Hypothèses!$J$24=\"SV\",Données1!AD72,Données1!AD56)","v":-1.8833405607273042},{"$f":"IF(Hypothèses!$J$24=\"SV\",Données1!AE72,Données1!AE56)","v":0.7385390712959794},{"$f":"IF(Hypothèses!$J$24=\"SV\",Données1!AF72,Données1!AF56)","v":-3.6125081361122968E-2},{"$f":"IF(Hypothèses!$J$24=\"SV\",Données1!AG72,Données1!AG56)","v":-2.6138294121518193},{"$f":"IF(Hypothèses!$J$24=\"SV\",Données1!AH72,Données1!AH56)","v":4.6130237949804718},{"$f":"IF(Hypothèses!$J$24=\"SV\",Données1!AI72,Données1!AI56)","v":-1.8833405607273042},{"$f":"IF(Hypothèses!$J$24=\"SV\",Données1!AJ72,Données1!AJ56)","v":0.7385390712959794},{"$f":"IF(Hypothèses!$J$24=\"SV\",Données1!AK72,Données1!AK56)","v":-3.6125081361122968E-2},{"$f":"IF(Hypothèses!$J$24=\"SV\",Données1!AL72,Données1!AL56)","v":-2.5152816384838381},{"$f":"IF(Hypothèses!$J$24=\"SV\",Données1!AM72,Données1!AM56)","v":4.384517196468634},{"$f":"IF(Hypothèses!$J$24=\"SV\",Données1!AN72,Données1!AN56)","v":-1.6874274366343476},{"$f":"IF(Hypothèses!$J$24=\"SV\",Données1!AO72,Données1!AO56)","v":0.71262338939791225},{"$f":"IF(Hypothèses!$J$24=\"SV\",Données1!AP72,Données1!AP56)","v":-3.3768349266413922E-2}]
[null,"Juin",-0.10568113509283282,-0.29279990447376036,0.82305951690052126,0.29871167162353945,-8.6061404373952363E-3,0.23258340518479981,-0.95084332408667127,1.2487156348504016,0.30221232528744102,-8.1367766122765542E-3,7.8279879065769803E-2,-0.63890576724828252,1.0319586162082854,0.29343262547042304,-8.1488688983139251E-3,7.8279879065769803E-2,-0.63890576724828252,1.0319586162082854,0.29343262547042304,-8.1488688983139251E-3,0.23358171630934832,-0.94756657318815496,1.2399371044523009,0.29897870953086486,-8.0445058606418707E-3,9.6538521941744157E-2,-0.67476476653696338,1.0555852222264361,0.29382359153987503,-8.1292477108368261E-3,9.6538521941744157E-2,-0.67476476653696338,1.0555852222264361,0.29382359153987503,-8.1292477108368261E-3,0.2261047970328256,-0.93731133790408017,1.2387806119259517,0.30158246676382494,-8.1299107092993664E-3,null,"Juin",{"$f":"IF(Hypothèses!$J$24=\"SV\",Données1!C73,Données1!C57)","v":-2.7959817147155395},{"$f":"IF(Hypothèses!$J$24=\"SV\",Données1!D73,Données1!D57)","v":4.9953046651426787},{"$f":"IF(Hypothèses!$J$24=\"SV\",Données1!E73,Données1!E57)","v":-2.1535832124765442},{"$f":"IF(Hypothèses!$J$24=\"SV\",Données1!F73,Données1!F57)","v":0.78810064924144163},{"$f":"IF(Hypothèses!$J$24=\"SV\",Données1!G73,Données1!G57)","v":-3.9760169266062795E-2},{"$f":"IF(Hypothèses!$J$24=\"SV\",Données1!H73,Données1!H57)","v":-2.4935400386531681},{"$f":"IF(Hypothèses!$J$24=\"SV\",Données1!I73,Données1!I57)","v":4.3378782597898997},{"$f":"IF(Hypothèses!$J$24=\"SV\",Données1!J73,Données1!J57)","v":-1.6529009729010349},{"$f":"IF(Hypothèses!$J$24=\"SV\",Données1!K73,Données1!K57)","v":0.70667861775785923},{"$f":"IF(Hypothèses!$J$24=\"SV\",Données1!L73,Données1!L57)","v":-3.3313543946369262E-2},{"$f":"IF(Hypothèses!$J$24=\"SV\",Données1!M73,Données1!M57)","v":-2.5794875831237181},{"$f":"IF(Hypothèses!$J$24=\"SV\",Données1!N73,Données1!N57)","v":4.5462107779067589},{"$f":"IF(Hypothèses!$J$24=\"SV\",Données1!O73,Données1!O57)","v":-1.8444083072280859},{"$f":"IF(Hypothèses!$J$24=\"SV\",Données1!P73,Données1!P57)","v":0.72903841594940422},{"$f":"IF(Hypothèses!$J$24=\"SV\",Données1!Q73,Données1!Q57)","v":-3.5536732703976281E-2},{"$f":"IF(Hypothèses!$J$24=\"SV\",Données1!R73,Données1!R57)","v":-2.5794875831237181},{"$f":"IF(Hypothèses!$J$24=\"SV\",Données1!S73,Données1!S57)","v":4.5462107779067589},{"$f":"IF(Hypothèses!$J$24=\"SV\",Données1!T73,Données1!T57)","v":-1.8444083072280859},{"$f":"IF(Hypothèses!$J$24=\"SV\",Données1!U73,Données1!U57)","v":0.72903841594940422},{"$f":"IF(Hypothèses!$J$24=\"SV\",Données1!V73,Données1!V57)","v":-3.5536732703976281E-2},{"$f":"IF(Hypothèses!$J$24=\"SV\",Données1!W73,Données1!W57)","v":-2.4753395395996867},{"$f":"IF(Hypothèses!$J$24=\"SV\",Données1!X73,Données1!X57)","v":4.3057939937584226},{"$f":"IF(Hypothèses!$J$24=\"SV\",Données1!Y73,Données1!Y57)","v":-1.6400664593627126},{"$f":"IF(Hypothèses!$J$24=\"SV\",Données1!Z73,Données1!Z57)","v":0.70122639854683244},{"$f":"IF(Hypothèses!$J$24=\"SV\",Données1!AA73,Données1!AA57)","v":-3.3050707536874724E-2},{"$f":"IF(Hypothèses!$J$24=\"SV\",Données1!AB73,Données1!AB57)","v":-2.5651886734848737},{"$f":"IF(Hypothèses!$J$24=\"SV\",Données1!AC73,Données1!AC57)","v":4.5143203272084307},{"$f":"IF(Hypothèses!$J$24=\"SV\",Données1!AD73,Données1!AD57)","v":-1.8189031666028763},{"$f":"IF(Hypothèses!$J$24=\"SV\",Données1!AE73,Données1!AE57)","v":0.72519169114032056},{"$f":"IF(Hypothèses!$J$24=\"SV\",Données1!AF73,Données1!AF57)","v":-3.5216212570733652E-2},{"$f":"IF(Hypothèses!$J$24=\"SV\",Données1!AG73,Données1!AG57)","v":-2.5651886734848737},{"$f":"IF(Hypothèses!$J$24=\"SV\",Données1!AH73,Données1!AH57)","v":4.5143203272084307},{"$f":"IF(Hypothèses!$J$24=\"SV\",Données1!AI73,Données1!AI57)","v":-1.8189031666028763},{"$f":"IF(Hypothèses!$J$24=\"SV\",Données1!AJ73,Données1!AJ57)","v":0.72519169114032056},{"$f":"IF(Hypothèses!$J$24=\"SV\",Données1!AK73,Données1!AK57)","v":-3.5216212570733652E-2},{"$f":"IF(Hypothèses!$J$24=\"SV\",Données1!AL73,Données1!AL57)","v":-2.4948544050900772},{"$f":"IF(Hypothèses!$J$24=\"SV\",Données1!AM73,Données1!AM57)","v":4.3425568408707234},{"$f":"IF(Hypothèses!$J$24=\"SV\",Données1!AN73,Données1!AN57)","v":-1.6592493572515565},{"$f":"IF(Hypothèses!$J$24=\"SV\",Données1!AO73,Données1!AO57)","v":0.70696128773485301},{"$f":"IF(Hypothèses!$J$24=\"SV\",Données1!AP73,Données1!AP57)","v":-3.3374490523401135E-2}]
[null,"Juillet",-0.14923687990660964,-0.19610896203080888,0.74527342602099234,0.2909091103082137,-8.4601087570713059E-3,0.20236554145620345,-0.89342956892743364,1.21333364386941,0.30278398623319586,-8.2032890975157549E-3,5.0854410794638844E-2,-0.58779001468822401,1.001751792431202,0.29455614859450363,-8.2262498281316931E-3,5.0854410794638844E-2,-0.58779001468822401,1.001751792431202,0.29455614859450363,-8.2262498281316931E-3,0.23358171630936575,-0.94756657318815296,1.239937104452276,0.29897870953087696,-8.0445058606429809E-3,5.5876378397877215E-2,-0.59757928236192737,1.0081073538666339,0.29461213636979228,-8.2194436641484063E-3,5.5876378397877215E-2,-0.59757928236192737,1.0081073538666339,0.29461213636979228,-8.2194436641484063E-3,0.20241921994862058,-0.89314615864909397,1.212655834244641,0.30254511577932852,-8.1964967570838723E-3,null,"Juillet",{"$f":"IF(Hypothèses!$J$24=\"SV\",Données1!C74,Données1!C58)","v":-2.784535594255543},{"$f":"IF(Hypothèses!$J$24=\"SV\",Données1!D74,Données1!D58)","v":4.9915771242337099},{"$f":"IF(Hypothèses!$J$24=\"SV\",Données1!E74,Données1!E58)","v":-2.1829041270804006},{"$f":"IF(Hypothèses!$J$24=\"SV\",Données1!F74,Données1!F58)","v":0.78448647202257893},{"$f":"IF(Hypothèses!$J$24=\"SV\",Données1!G74,Données1!G58)","v":-3.9910019818280129E-2},{"$f":"IF(Hypothèses!$J$24=\"SV\",Données1!H74,Données1!H58)","v":-2.5218474627897467},{"$f":"IF(Hypothèses!$J$24=\"SV\",Données1!I74,Données1!I58)","v":4.3985606145466489},{"$f":"IF(Hypothèses!$J$24=\"SV\",Données1!J74,Données1!J58)","v":-1.6977676928708025},{"$f":"IF(Hypothèses!$J$24=\"SV\",Données1!K74,Données1!K58)","v":0.71440769566768958},{"$f":"IF(Hypothèses!$J$24=\"SV\",Données1!L74,Données1!L58)","v":-3.3904463480847025E-2},{"$f":"IF(Hypothèses!$J$24=\"SV\",Données1!M74,Données1!M58)","v":-2.610735773384631},{"$f":"IF(Hypothèses!$J$24=\"SV\",Données1!N74,Données1!N58)","v":4.6111067210253722},{"$f":"IF(Hypothèses!$J$24=\"SV\",Données1!O74,Données1!O58)","v":-1.8891958813307292},{"$f":"IF(Hypothèses!$J$24=\"SV\",Données1!P74,Données1!P58)","v":0.73757544860966473},{"$f":"IF(Hypothèses!$J$24=\"SV\",Données1!Q74,Données1!Q58)","v":-3.6148271717822367E-2},{"$f":"IF(Hypothèses!$J$24=\"SV\",Données1!R74,Données1!R58)","v":-2.610735773384631},{"$f":"IF(Hypothèses!$J$24=\"SV\",Données1!S74,Données1!S58)","v":4.6111067210253722},{"$f":"IF(Hypothèses!$J$24=\"SV\",Données1!T74,Données1!T58)","v":-1.8891958813307292},{"$f":"IF(Hypothèses!$J$24=\"SV\",Données1!U74,Données1!U58)","v":0.73757544860966473},{"$f":"IF(Hypothèses!$J$24=\"SV\",Données1!V74,Données1!V58)","v":-3.6148271717822367E-2},{"$f":"IF(Hypothèses!$J$24=\"SV\",Données1!W74,Données1!W58)","v":-2.4753395395997049},{"$f":"IF(Hypothèses!$J$24=\"SV\",Données1!X74,Données1!X58)","v":4.3057939937584377},{"$f":"IF(Hypothèses!$J$24=\"SV\",Données1!Y74,Données1!Y58)","v":-1.6400664593627055},{"$f":"IF(Hypothèses!$J$24=\"SV\",Données1!Z74,Données1!Z58)","v":0.70122639854682867},{"$f":"IF(Hypothèses!$J$24=\"SV\",Données1!AA74,Données1!AA58)","v":-3.305070753687428E-2},{"$f":"IF(Hypothèses!$J$24=\"SV\",Données1!AB74,Données1!AB58)","v":-2.60698025878933},{"$f":"IF(Hypothèses!$J$24=\"SV\",Données1!AC74,Données1!AC58)","v":4.6026867626294639},{"$f":"IF(Hypothèses!$J$24=\"SV\",Données1!AD74,Données1!AD58)","v":-1.8823979546378473},{"$f":"IF(Hypothèses!$J$24=\"SV\",Données1!AE74,Données1!AE58)","v":0.73656378118997456},{"$f":"IF(Hypothèses!$J$24=\"SV\",Données1!AF74,Données1!AF58)","v":-3.606317186325031E-2},{"$f":"IF(Hypothèses!$J$24=\"SV\",Données1!AG74,Données1!AG58)","v":-2.60698025878933},{"$f":"IF(Hypothèses!$J$24=\"SV\",Données1!AH74,Données1!AH58)","v":4.6026867626294639},{"$f":"IF(Hypothèses!$J$24=\"SV\",Données1!AI74,Données1!AI58)","v":-1.8823979546378473},{"$f":"IF(Hypothèses!$J$24=\"SV\",Données1!AJ74,Données1!AJ58)","v":0.73656378118997456},{"$f":"IF(Hypothèses!$J$24=\"SV\",Données1!AK74,Données1!AK58)","v":-3.606317186325031E-2},{"$f":"IF(Hypothèses!$J$24=\"SV\",Données1!AL74,Données1!AL58)","v":-2.5201910593070447},{"$f":"IF(Hypothèses!$J$24=\"SV\",Données1!AM74,Données1!AM58)","v":4.3956382743155684},{"$f":"IF(Hypothèses!$J$24=\"SV\",Données1!AN74,Données1!AN58)","v":-1.6965740989203109},{"$f":"IF(Hypothèses!$J$24=\"SV\",Données1!AO74,Données1!AO58)","v":0.71394331543070555},{"$f":"IF(Hypothèses!$J$24=\"SV\",Données1!AP74,Données1!AP58)","v":-3.3881730856403391E-2}]
[null,"Août",-5.2537572593603518E-2,-0.34878349447700546,0.79892940438649207,0.27040119966970233,-7.7202070449593763E-3,0.16324368582747761,-0.82133248319930319,1.1718197304361297,0.3049031267773416,-8.3280947258517445E-3,4.0331430891231868E-2,-0.57686157348040057,1.0068575694618385,0.3003748952093736,-8.4069486601695154E-3,4.0331430891231868E-2,-0.57686157348040057,1.0068575694618385,0.3003748952093736,-8.4069486601695154E-3,0.23358171630924618,-0.94756657318793591,1.239937104452151,0.29897870953090239,-8.0445058606444519E-3,5.8327298620630817E-2,-0.61177144835226516,1.0293115323983879,0.30049129244585332,-8.3800735095893066E-3,5.8327298620630817E-2,-0.61177144835226516,1.0293115323983879,0.30049129244585332,-8.3800735095893066E-3,0.15898463542202693,-0.81170196310381904,1.163875426286554,0.30402990840297711,-8.3107324390795864E-3,null,"Août",{"$f":"IF(Hypothèses!$J$24=\"SV\",Données1!C75,Données1!C59)","v":-2.5296982891892328},{"$f":"IF(Hypothèses!$J$24=\"SV\",Données1!D75,Données1!D59)","v":4.5065505282884883},{"$f":"IF(Hypothèses!$J$24=\"SV\",Données1!E75,Données1!E59)","v":-1.9184369250907205},{"$f":"IF(Hypothèses!$J$24=\"SV\",Données1!F75,Données1!F59)","v":0.71392778443603255},{"$f":"IF(Hypothèses!$J$24=\"SV\",Données1!G75,Données1!G59)","v":-3.5752836371676366E-2},{"$f":"IF(Hypothèses!$J$24=\"SV\",Données1!H75,Données1!H59)","v":-2.5664304465778733},{"$f":"IF(Hypothèses!$J$24=\"SV\",Données1!I75,Données1!I59)","v":4.4909445119350462},{"$f":"IF(Hypothèses!$J$24=\"SV\",Données1!J75,Données1!J59)","v":-1.7611836977308186},{"$f":"IF(Hypothèses!$J$24=\"SV\",Données1!K75,Données1!K59)","v":0.72661660406239192},{"$f":"IF(Hypothèses!$J$24=\"SV\",Données1!L75,Données1!L59)","v":-3.4774057880389786E-2},{"$f":"IF(Hypothèses!$J$24=\"SV\",Données1!M75,Données1!M59)","v":-2.6545516788768411},{"$f":"IF(Hypothèses!$J$24=\"SV\",Données1!N75,Données1!N59)","v":4.6914995184800556},{"$f":"IF(Hypothèses!$J$24=\"SV\",Données1!O75,Données1!O59)","v":-1.9277622212064764},{"$f":"IF(Hypothèses!$J$24=\"SV\",Données1!P75,Données1!P59)","v":0.74987289418859793},{"$f":"IF(Hypothèses!$J$24=\"SV\",Données1!Q75,Données1!Q59)","v":-3.6810671540085327E-2},{"$f":"IF(Hypothèses!$J$24=\"SV\",Données1!R75,Données1!R59)","v":-2.6545516788768411},{"$f":"IF(Hypothèses!$J$24=\"SV\",Données1!S75,Données1!S59)","v":4.6914995184800556},{"$f":"IF(Hypothèses!$J$24=\"SV\",Données1!T75,Données1!T59)","v":-1.9277622212064764},{"$f":"IF(Hypothèses!$J$24=\"SV\",Données1!U75,Données1!U59)","v":0.74987289418859793},{"$f":"IF(Hypothèses!$J$24=\"SV\",Données1!V75,Données1!V59)","v":-3.6810671540085327E-2},{"$f":"IF(Hypothèses!$J$24=\"SV\",Données1!W75,Données1!W59)","v":-2.4753395395998039},{"$f":"IF(Hypothèses!$J$24=\"SV\",Données1!X75,Données1!X59)","v":4.3057939937585958},{"$f":"IF(Hypothèses!$J$24=\"SV\",Données1!Y75,Données1!Y59)","v":-1.6400664593627858},{"$f":"IF(Hypothèses!$J$24=\"SV\",Données1!Z75,Données1!Z59)","v":0.70122639854684432},{"$f":"IF(Hypothèses!$J$24=\"SV\",Données1!AA75,Données1!AA59)","v":-3.3050707536875279E-2},{"$f":"IF(Hypothèses!$J$24=\"SV\",Données1!AB75,Données1!AB59)","v":-2.6389104581280773},{"$f":"IF(Hypothèses!$J$24=\"SV\",Données1!AC75,Données1!AC59)","v":4.6573709583213621},{"$f":"IF(Hypothèses!$J$24=\"SV\",Données1!AD75,Données1!AD59)","v":-1.9015907210441343},{"$f":"IF(Hypothèses!$J$24=\"SV\",Données1!AE75,Données1!AE59)","v":0.74564015790926552},{"$f":"IF(Hypothèses!$J$24=\"SV\",Données1!AF75,Données1!AF59)","v":-3.6473902542220049E-2},{"$f":"IF(Hypothèses!$J$24=\"SV\",Données1!AG75,Données1!AG59)","v":-2.6389104581280773},{"$f":"IF(Hypothèses!$J$24=\"SV\",Données1!AH75,Données1!AH59)","v":4.6573709583213621},{"$f":"IF(Hypothèses!$J$24=\"SV\",Données1!AI75,Données1!AI59)","v":-1.9015907210441343},{"$f":"IF(Hypothèses!$J$24=\"SV\",Données1!AJ75,Données1!AJ59)","v":0.74564015790926552},{"$f":"IF(Hypothèses!$J$24=\"SV\",Données1!AK75,Données1!AK59)","v":-3.6473902542220049E-2},{"$f":"IF(Hypothèses!$J$24=\"SV\",Données1!AL75,Données1!AL59)","v":-2.5650139129907359},{"$f":"IF(Hypothèses!$J$24=\"SV\",Données1!AM75,Données1!AM59)","v":4.4900742441058288},{"$f":"IF(Hypothèses!$J$24=\"SV\",Données1!AN75,Données1!AN59)","v":-1.7639031067818991},{"$f":"IF(Hypothèses!$J$24=\"SV\",Données1!AO75,Données1!AO59)","v":0.72614173450762332},{"$f":"IF(Hypothèses!$J$24=\"SV\",Données1!AP75,Données1!AP59)","v":-3.4783518694077087E-2}]
[null,"Septembre",0.18676113308942566,-0.82646426482301072,1.1234289259748325,0.28041328976981938,-7.5994295288698763E-3,8.2565123494264897E-2,-0.66721466047657063,1.0757547374012562,0.30589351707711604,-8.4907855498494045E-3,6.5566132631309351E-2,-0.63604108421879713,1.0580111296648491,0.30690714740273867,-8.547632144561515E-3,6.5566132631309351E-2,-0.63604108421879713,1.0580111296648491,0.30690714740273867,-8.547632144561515E-3,0.14504356630718931,-0.74060502265395278,1.0618995667460567,0.27710526561590565,-7.5764449541029164E-3,7.2565794929263655E-2,-0.6491507609081022,1.0658434978373885,0.30666183355005,-8.529032370943013E-3,7.2565794929263655E-2,-0.6491507609081022,1.0658434978373885,0.30666183355005,-8.529032370943013E-3,9.105392442762017E-2,-0.68335582421811192,1.085719589739337,0.30574653927754403,-8.4724472094771346E-3,null,"Septembre",{"$f":"IF(Hypothèses!$J$24=\"SV\",Données1!C76,Données1!C60)","v":-2.3600059228118222},{"$f":"IF(Hypothèses!$J$24=\"SV\",Données1!D76,Données1!D60)","v":4.1184241065173008},{"$f":"IF(Hypothèses!$J$24=\"SV\",Données1!E76,Données1!E60)","v":-1.5938134636600572},{"$f":"IF(Hypothèses!$J$24=\"SV\",Données1!F76,Données1!F60)","v":0.66833576574523235},{"$f":"IF(Hypothèses!$J$24=\"SV\",Données1!G76,Données1!G60)","v":-3.1761939110331094E-2},{"$f":"IF(Hypothèses!$J$24=\"SV\",Données1!H76,Données1!H60)","v":-2.6433425991346184},{"$f":"IF(Hypothèses!$J$24=\"SV\",Données1!I76,Données1!I60)","v":4.6555423812397585},{"$f":"IF(Hypothèses!$J$24=\"SV\",Données1!J76,Données1!J60)","v":-1.8826078714315064},{"$f":"IF(Hypothèses!$J$24=\"SV\",Données1!K76,Données1!K60)","v":0.74737984282599368},{"$f":"IF(Hypothèses!$J$24=\"SV\",Données1!L76,Données1!L60)","v":-3.6364965029847041E-2},{"$f":"IF(Hypothèses!$J$24=\"SV\",Données1!M76,Données1!M60)","v":-2.6646478625727026},{"$f":"IF(Hypothèses!$J$24=\"SV\",Données1!N76,Données1!N60)","v":4.6991384791532784},{"$f":"IF(Hypothèses!$J$24=\"SV\",Données1!O76,Données1!O60)","v":-1.9116726804099906},{"$f":"IF(Hypothèses!$J$24=\"SV\",Données1!P76,Données1!P60)","v":0.75319692076973765},{"$f":"IF(Hypothèses!$J$24=\"SV\",Données1!Q76,Données1!Q60)","v":-3.676903389590358E-2},{"$f":"IF(Hypothèses!$J$24=\"SV\",Données1!R76,Données1!R60)","v":-2.6646478625727026},{"$f":"IF(Hypothèses!$J$24=\"SV\",Données1!S76,Données1!S60)","v":4.6991384791532784},{"$f":"IF(Hypothèses!$J$24=\"SV\",Données1!T76,Données1!T60)","v":-1.9116726804099906},{"$f":"IF(Hypothèses!$J$24=\"SV\",Données1!U76,Données1!U60)","v":0.75319692076973765},{"$f":"IF(Hypothèses!$J$24=\"SV\",Données1!V76,Données1!V60)","v":-3.676903389590358E-2},{"$f":"IF(Hypothèses!$J$24=\"SV\",Données1!W76,Données1!W60)","v":-2.3780000704597892},{"$f":"IF(Hypothèses!$J$24=\"SV\",Données1!X76,Données1!X60)","v":4.1656820175513953},{"$f":"IF(Hypothèses!$J$24=\"SV\",Données1!Y76,Données1!Y60)","v":-1.6421147407994996},{"$f":"IF(Hypothèses!$J$24=\"SV\",Données1!Z76,Données1!Z60)","v":0.67308587958051214},{"$f":"IF(Hypothèses!$J$24=\"SV\",Données1!AA76,Données1!AA60)","v":-3.2301406354391604E-2},{"$f":"IF(Hypothèses!$J$24=\"SV\",Données1!AB76,Données1!AB60)","v":-2.6566645462759131},{"$f":"IF(Hypothèses!$J$24=\"SV\",Données1!AC76,Données1!AC60)","v":4.6825433741912104},{"$f":"IF(Hypothèses!$J$24=\"SV\",Données1!AD76,Données1!AD60)","v":-1.9001904467297379},{"$f":"IF(Hypothèses!$J$24=\"SV\",Données1!AE76,Données1!AE60)","v":0.75102362054670369},{"$f":"IF(Hypothèses!$J$24=\"SV\",Données1!AF76,Données1!AF60)","v":-3.6612795670203091E-2},{"$f":"IF(Hypothèses!$J$24=\"SV\",Données1!AG76,Données1!AG60)","v":-2.6566645462759131},{"$f":"IF(Hypothèses!$J$24=\"SV\",Données1!AH76,Données1!AH60)","v":4.6825433741912104},{"$f":"IF(Hypothèses!$J$24=\"SV\",Données1!AI76,Données1!AI60)","v":-1.9001904467297379},{"$f":"IF(Hypothèses!$J$24=\"SV\",Données1!AJ76,Données1!AJ60)","v":0.75102362054670369},{"$f":"IF(Hypothèses!$J$24=\"SV\",Données1!AK76,Données1!AK60)","v":-3.6612795670203091E-2},{"$f":"IF(Hypothèses!$J$24=\"SV\",Données1!AL76,Données1!AL60)","v":-2.6345250766559345},{"$f":"IF(Hypothèses!$J$24=\"SV\",Données1!AM76,Données1!AM60)","v":4.6369218459250794},{"$f":"IF(Hypothèses!$J$24=\"SV\",Données1!AN76,Données1!AN60)","v":-1.8692592804515433},{"$f":"IF(Hypothèses!$J$24=\"SV\",Données1!AO76,Données1!AO60)","v":0.7449894911742867},{"$f":"IF(Hypothèses!$J$24=\"SV\",Données1!AP76,Données1!AP60)","v":-3.618708171587065E-2}]
[null,"Octobre",0.2335817163091583,-0.94756657318780035,1.239937104452089,0.29897870953091138,-8.0445058606448336E-3,6.473804150118749E-2,-0.62435927749412667,1.0376047422066583,0.30063847998733467,-8.3733933236448295E-3,0.13862559319437567,-0.77492769860924104,1.1437033903585732,0.30559202076141018,-8.3885728810863674E-3,0.13862559319437567,-0.77492769860924104,1.1437033903585732,0.30559202076141018,-8.3885728810863674E-3,-9.5994400567089716E-2,-0.27341666616805488,0.76184861640972901,0.2755080467424898,-7.9370515115186023E-3,0.16922283856221884,-0.83498360770746838,1.1832250370213189,0.30621231296163975,-8.354792205560832E-3,0.16922283856221884,-0.83498360770746838,1.1832250370213189,0.30621231296163975,-8.354792205560832E-3,4.632750656763486E-2,-0.59089784054681216,1.0189652449726376,0.30192010470556779,-8.4401290102045553E-3,null,"Octobre",{"$f":"IF(Hypothèses!$J$24=\"SV\",Données1!C77,Données1!C61)","v":-2.4753395395998723},{"$f":"IF(Hypothèses!$J$24=\"SV\",Données1!D77,Données1!D61)","v":4.3057939937587797},{"$f":"IF(Hypothèses!$J$24=\"SV\",Données1!E77,Données1!E61)","v":-1.6400664593629413},{"$f":"IF(Hypothèses!$J$24=\"SV\",Données1!F77,Données1!F61)","v":0.70122639854688829},{"$f":"IF(Hypothèses!$J$24=\"SV\",Données1!G77,Données1!G61)","v":-3.3050707536878499E-2},{"$f":"IF(Hypothèses!$J$24=\"SV\",Données1!H77,Données1!H61)","v":-2.6323372670065122},{"$f":"IF(Hypothèses!$J$24=\"SV\",Données1!I77,Données1!I61)","v":4.6433513763093579},{"$f":"IF(Hypothèses!$J$24=\"SV\",Données1!J77,Données1!J61)","v":-1.8913085277938222},{"$f":"IF(Hypothèses!$J$24=\"SV\",Données1!K77,Données1!K61)","v":0.74388556294014496},{"$f":"IF(Hypothèses!$J$24=\"SV\",Données1!L77,Données1!L61)","v":-3.6339641993449967E-2},{"$f":"IF(Hypothèses!$J$24=\"SV\",Données1!M77,Données1!M61)","v":-2.5914429237598702},{"$f":"IF(Hypothèses!$J$24=\"SV\",Données1!N77,Données1!N61)","v":4.5438184418550236},{"$f":"IF(Hypothèses!$J$24=\"SV\",Données1!O77,Données1!O61)","v":-1.7991631984054011},{"$f":"IF(Hypothèses!$J$24=\"SV\",Données1!P77,Données1!P61)","v":0.73340879641253598},{"$f":"IF(Hypothèses!$J$24=\"SV\",Données1!Q77,Données1!Q61)","v":-3.5280150655970455E-2},{"$f":"IF(Hypothèses!$J$24=\"SV\",Données1!R77,Données1!R61)","v":-2.5914429237598702},{"$f":"IF(Hypothèses!$J$24=\"SV\",Données1!S77,Données1!S61)","v":4.5438184418550236},{"$f":"IF(Hypothèses!$J$24=\"SV\",Données1!T77,Données1!T61)","v":-1.7991631984054011},{"$f":"IF(Hypothèses!$J$24=\"SV\",Données1!U77,Données1!U61)","v":0.73340879641253598},{"$f":"IF(Hypothèses!$J$24=\"SV\",Données1!V77,Données1!V61)","v":-3.5280150655970455E-2},{"$f":"IF(Hypothèses!$J$24=\"SV\",Données1!W77,Données1!W61)","v":-2.6124471911923721},{"$f":"IF(Hypothèses!$J$24=\"SV\",Données1!X77,Données1!X61)","v":4.668495175169836},{"$f":"IF(Hypothèses!$J$24=\"SV\",Données1!Y77,Données1!Y61)","v":-2.0144741458093471},{"$f":"IF(Hypothèses!$J$24=\"SV\",Données1!Z77,Données1!Z61)","v":0.73671740612962389},{"$f":"IF(Hypothèses!$J$24=\"SV\",Données1!AA77,Données1!AA61)","v":-3.7185210071107699E-2},{"$f":"IF(Hypothèses!$J$24=\"SV\",Données1!AB77,Données1!AB61)","v":-2.5679261906500992},{"$f":"IF(Hypothèses!$J$24=\"SV\",Données1!AC77,Données1!AC61)","v":4.4912482210110349},{"$f":"IF(Hypothèses!$J$24=\"SV\",Données1!AD77,Données1!AD61)","v":-1.7568847583553495},{"$f":"IF(Hypothèses!$J$24=\"SV\",Données1!AE77,Données1!AE61)","v":0.72717082551365109},{"$f":"IF(Hypothèses!$J$24=\"SV\",Données1!AF77,Données1!AF61)","v":-3.4754061432544447E-2},{"$f":"IF(Hypothèses!$J$24=\"SV\",Données1!AG77,Données1!AG61)","v":-2.5679261906500992},{"$f":"IF(Hypothèses!$J$24=\"SV\",Données1!AH77,Données1!AH61)","v":4.4912482210110349},{"$f":"IF(Hypothèses!$J$24=\"SV\",Données1!AI77,Données1!AI61)","v":-1.7568847583553495},{"$f":"IF(Hypothèses!$J$24=\"SV\",Données1!AJ77,Données1!AJ61)","v":0.72717082551365109},{"$f":"IF(Hypothèses!$J$24=\"SV\",Données1!AK77,Données1!AK61)","v":-3.4754061432544447E-2},{"$f":"IF(Hypothèses!$J$24=\"SV\",Données1!AL77,Données1!AL61)","v":-2.6562334942989279},{"$f":"IF(Hypothèses!$J$24=\"SV\",Données1!AM77,Données1!AM61)","v":4.6920017596720109},{"$f":"IF(Hypothèses!$J$24=\"SV\",Données1!AN77,Données1!AN61)","v":-1.9233166971433415},{"$f":"IF(Hypothèses!$J$24=\"SV\",Données1!AO77,Données1!AO61)","v":0.75045818478750637},{"$f":"IF(Hypothèses!$J$24=\"SV\",Données1!AP77,Données1!AP61)","v":-3.6789867727047676E-2}]
[null,"Novembre",0.23358171630953045,-0.9475665731884868,1.2399371044524969,0.29897870953082328,-8.0445058606391229E-3,7.4729286304920803E-2,-0.63292610776317237,1.0292783434482811,0.29399117150588433,-8.1703612446798399E-3,0.21723743150441785,-0.92220420081747101,1.2317443369571395,0.30282905285976247,-8.1796736272318066E-3,0.21723743150441785,-0.92220420081747101,1.2317443369571395,0.30282905285976247,-8.1796736272318066E-3,-0.15230082004980289,-0.21335670360164627,0.78602628302981437,0.30523074985666881,-8.8669322856793284E-3,0.25601025563705992,-0.99639615059490039,1.2781510179210951,0.30242340398533751,-8.103502812579183E-3,0.25601025563705992,-0.99639615059490039,1.2781510179210951,0.30242340398533751,-8.103502812579183E-3,3.7536025564550018E-2,-0.5627453622370906,0.98665703214232647,0.29496710461259978,-8.2600359773851977E-3,null,"Novembre",{"$f":"IF(Hypothèses!$J$24=\"SV\",Données1!C78,Données1!C62)","v":-2.4753395395997169},{"$f":"IF(Hypothèses!$J$24=\"SV\",Données1!D78,Données1!D62)","v":4.3057939937584706},{"$f":"IF(Hypothèses!$J$24=\"SV\",Données1!E78,Données1!E62)","v":-1.6400664593627352},{"$f":"IF(Hypothèses!$J$24=\"SV\",Données1!F78,Données1!F62)","v":0.70122639854683733},{"$f":"IF(Hypothèses!$J$24=\"SV\",Données1!G78,Données1!G62)","v":-3.305070753687489E-2},{"$f":"IF(Hypothèses!$J$24=\"SV\",Données1!H78,Données1!H62)","v":-2.5845786075878801},{"$f":"IF(Hypothèses!$J$24=\"SV\",Données1!I78,Données1!I62)","v":4.5563121995552898},{"$f":"IF(Hypothèses!$J$24=\"SV\",Données1!J78,Données1!J62)","v":-1.8506235312081101},{"$f":"IF(Hypothèses!$J$24=\"SV\",Données1!K78,Données1!K62)","v":0.73045000809891414},{"$f":"IF(Hypothèses!$J$24=\"SV\",Données1!L78,Données1!L62)","v":-3.562792957281119E-2},{"$f":"IF(Hypothèses!$J$24=\"SV\",Données1!M78,Données1!M62)","v":-2.5088594742382004},{"$f":"IF(Hypothèses!$J$24=\"SV\",Données1!N78,Données1!N62)","v":4.3702862297616436},{"$f":"IF(Hypothèses!$J$24=\"SV\",Données1!O78,Données1!O62)","v":-1.6761582765180807},{"$f":"IF(Hypothèses!$J$24=\"SV\",Données1!P78,Données1!P62)","v":0.71093174053771724},{"$f":"IF(Hypothèses!$J$24=\"SV\",Données1!Q78,Données1!Q62)","v":-3.3627597736994586E-2},{"$f":"IF(Hypothèses!$J$24=\"SV\",Données1!R78,Données1!R62)","v":-2.5088594742382004},{"$f":"IF(Hypothèses!$J$24=\"SV\",Données1!S78,Données1!S62)","v":4.3702862297616436},{"$f":"IF(Hypothèses!$J$24=\"SV\",Données1!T78,Données1!T62)","v":-1.6761582765180807},{"$f":"IF(Hypothèses!$J$24=\"SV\",Données1!U78,Données1!U62)","v":0.71093174053771724},{"$f":"IF(Hypothèses!$J$24=\"SV\",Données1!V78,Données1!V62)","v":-3.3627597736994586E-2},{"$f":"IF(Hypothèses!$J$24=\"SV\",Données1!W78,Données1!W62)","v":-2.8780237518982972},{"$f":"IF(Hypothèses!$J$24=\"SV\",Données1!X78,Données1!X62)","v":5.1561666429809847},{"$f":"IF(Hypothèses!$J$24=\"SV\",Données1!Y78,Données1!Y62)","v":-2.2494358800470784},{"$f":"IF(Hypothèses!$J$24=\"SV\",Données1!Z78,Données1!Z62)","v":0.81076767621974777},{"$f":"IF(Hypothèses!$J$24=\"SV\",Données1!AA78,Données1!AA62)","v":-4.1188996547285528E-2},{"$f":"IF(Hypothèses!$J$24=\"SV\",Données1!AB78,Données1!AB62)","v":-2.4740894788231169},{"$f":"IF(Hypothèses!$J$24=\"SV\",Données1!AC78,Données1!AC62)","v":4.2951253874068707},{"$f":"IF(Hypothèses!$J$24=\"SV\",Données1!AD78,Données1!AD62)","v":-1.6195695019180965},{"$f":"IF(Hypothèses!$J$24=\"SV\",Données1!AE78,Données1!AE62)","v":0.70153833845380931},{"$f":"IF(Hypothèses!$J$24=\"SV\",Données1!AF78,Données1!AF62)","v":-3.2893418697484744E-2},{"$f":"IF(Hypothèses!$J$24=\"SV\",Données1!AG78,Données1!AG62)","v":-2.4740894788231169},{"$f":"IF(Hypothèses!$J$24=\"SV\",Données1!AH78,Données1!AH62)","v":4.2951253874068707},{"$f":"IF(Hypothèses!$J$24=\"SV\",Données1!AI78,Données1!AI62)","v":-1.6195695019180965},{"$f":"IF(Hypothèses!$J$24=\"SV\",Données1!AJ78,Données1!AJ62)","v":0.70153833845380931},{"$f":"IF(Hypothèses!$J$24=\"SV\",Données1!AK78,Données1!AK62)","v":-3.2893418697484744E-2},{"$f":"IF(Hypothèses!$J$24=\"SV\",Données1!AL78,Données1!AL62)","v":-2.6247862086806069},{"$f":"IF(Hypothèses!$J$24=\"SV\",Données1!AM78,Données1!AM62)","v":4.6406372168593641},{"$f":"IF(Hypothèses!$J$24=\"SV\",Données1!AN78,Données1!AN62)","v":-1.9101308114156172},{"$f":"IF(Hypothèses!$J$24=\"SV\",Données1!AO78,Données1!AO62)","v":0.74141087727110588},{"$f":"IF(Hypothèses!$J$24=\"SV\",Données1!AP78,Données1!AP62)","v":-3.6429993089909907E-2}]
[null,"Décembre",0.23358171630937732,-0.94756657318819737,1.2399371044523166,0.29897870953086486,-8.0445058606420095E-3,0.12427868545118549,-0.72677897433656546,1.086745065286463,0.29291045157291901,-8.0570581663794195E-3,0.26503413872696918,-1.0107768162407951,1.2834022270759684,0.30053893793606518,-8.0355979232554497E-3,0.26503413872696918,-1.0107768162407951,1.2834022270759684,0.30053893793606518,-8.0355979232554497E-3,-3.597697437012809E-2,-0.45018953489349978,0.95268197313827185,0.31302692911120983,-8.8899861952773419E-3,0.26481674685046441,-1.0103617431296084,1.2831430908870574,0.30053873621845284,-8.0359738515043411E-3,0.26481674685046441,-1.0103617431296084,1.2831430908870574,0.30053873621845284,-8.0359738515043411E-3,0.12498860980605823,-0.72880210485420716,1.088871824259539,0.29331174441498797,-8.0671412119410375E-3,null,"Décembre",{"$f":"IF(Hypothèses!$J$24=\"SV\",Données1!C79,Données1!C63)","v":-2.4753395395997497},{"$f":"IF(Hypothèses!$J$24=\"SV\",Données1!D79,Données1!D63)","v":4.3057939937585354},{"$f":"IF(Hypothèses!$J$24=\"SV\",Données1!E79,Données1!E63)","v":-1.6400664593627787},{"$f":"IF(Hypothèses!$J$24=\"SV\",Données1!F79,Données1!F63)","v":0.70122639854684832},{"$f":"IF(Hypothèses!$J$24=\"SV\",Données1!G79,Données1!G63)","v":-3.3050707536875723E-2},{"$f":"IF(Hypothèses!$J$24=\"SV\",Données1!H79,Données1!H63)","v":-2.5324602766391751},{"$f":"IF(Hypothèses!$J$24=\"SV\",Données1!I79,Données1!I63)","v":4.446510767661489},{"$f":"IF(Hypothèses!$J$24=\"SV\",Données1!J79,Données1!J63)","v":-1.7723520256965752},{"$f":"IF(Hypothèses!$J$24=\"SV\",Données1!K79,Données1!K63)","v":0.71625914215266862},{"$f":"IF(Hypothèses!$J$24=\"SV\",Données1!L79,Données1!L63)","v":-3.4579194082937859E-2},{"$f":"IF(Hypothèses!$J$24=\"SV\",Données1!M79,Données1!M63)","v":-2.4563626943554611},{"$f":"IF(Hypothèses!$J$24=\"SV\",Données1!N79,Données1!N63)","v":4.260841956818826},{"$f":"IF(Hypothèses!$J$24=\"SV\",Données1!O79,Données1!O63)","v":-1.6000466097434682},{"$f":"IF(Hypothèses!$J$24=\"SV\",Données1!P79,Données1!P63)","v":0.69646037194161559},{"$f":"IF(Hypothèses!$J$24=\"SV\",Données1!Q79,Données1!Q63)","v":-3.2586982911157414E-2},{"$f":"IF(Hypothèses!$J$24=\"SV\",Données1!R79,Données1!R63)","v":-2.4563626943554611},{"$f":"IF(Hypothèses!$J$24=\"SV\",Données1!S79,Données1!S63)","v":4.260841956818826},{"$f":"IF(Hypothèses!$J$24=\"SV\",Données1!T79,Données1!T63)","v":-1.6000466097434682},{"$f":"IF(Hypothèses!$J$24=\"SV\",Données1!U79,Données1!U63)","v":0.69646037194161559},{"$f":"IF(Hypothèses!$J$24=\"SV\",Données1!V79,Données1!V63)","v":-3.2586982911157414E-2},{"$f":"IF(Hypothèses!$J$24=\"SV\",Données1!W79,Données1!W63)","v":-2.8098423329383246},{"$f":"IF(Hypothèses!$J$24=\"SV\",Données1!X79,Données1!X63)","v":4.9922076030408293},{"$f":"IF(Hypothèses!$J$24=\"SV\",Données1!Y79,Données1!Y63)","v":-2.1006096983100293},{"$f":"IF(Hypothèses!$J$24=\"SV\",Données1!Z79,Données1!Z63)","v":0.79282730524995237},{"$f":"IF(Hypothèses!$J$24=\"SV\",Données1!AA79,Données1!AA63)","v":-3.9443157005708884E-2},{"$f":"IF(Hypothèses!$J$24=\"SV\",Données1!AB79,Données1!AB63)","v":-2.4571259489952788},{"$f":"IF(Hypothèses!$J$24=\"SV\",Données1!AC79,Données1!AC63)","v":4.2622889280487817},{"$f":"IF(Hypothèses!$J$24=\"SV\",Données1!AD79,Données1!AD63)","v":-1.6008428108972854},{"$f":"IF(Hypothèses!$J$24=\"SV\",Données1!AE79,Données1!AE63)","v":0.69664472464435145},{"$f":"IF(Hypothèses!$J$24=\"SV\",Données1!AF79,Données1!AF63)","v":-3.2598275237854468E-2},{"$f":"IF(Hypothèses!$J$24=\"SV\",Données1!AG79,Données1!AG63)","v":-2.4571259489952788},{"$f":"IF(Hypothèses!$J$24=\"SV\",Données1!AH79,Données1!AH63)","v":4.2622889280487817},{"$f":"IF(Hypothèses!$J$24=\"SV\",Données1!AI79,Données1!AI63)","v":-1.6008428108972854},{"$f":"IF(Hypothèses!$J$24=\"SV\",Données1!AJ79,Données1!AJ63)","v":0.69664472464435145},{"$f":"IF(Hypothèses!$J$24=\"SV\",Données1!AK79,Données1!AK63)","v":-3.2598275237854468E-2},{"$f":"IF(Hypothèses!$J$24=\"SV\",Données1!AL79,Données1!AL63)","v":-2.5345677082285945},{"$f":"IF(Hypothèses!$J$24=\"SV\",Données1!AM79,Données1!AM63)","v":4.4499450023592324},{"$f":"IF(Hypothèses!$J$24=\"SV\",Données1!AN79,Données1!AN63)","v":-1.773222941243735},{"$f":"IF(Hypothèses!$J$24=\"SV\",Données1!AO79,Données1!AO63)","v":0.71685710406360503},{"$f":"IF(Hypothèses!$J$24=\"SV\",Données1!AP79,Données1!AP63)","v":-3.4602831616930396E-2}]
[]
[null,"SV","ORIENTATION",null,null,null,null,null,null,null,null,null,null,null,null,null,null,null,null,null,null,null,null,null,null,null,null,null,null,null,null,null,null,null,null,null,null,null,null,null,null,null,null,"Tampon 1","ORIENTATION"]
[null,null,"NORD",null,null,null,null,"NORD-EST",null,null,null,null,"EST",null,null,null,null,"SUD-EST",null,null,null,null,"SUD",null,null,null,null,"SUD-OUEST",null,null,null,null,"OUEST",null,null,null,null,"NORD-OUEST",null,null,null,null,null,null,"NORD",null,null,null,null,"NORD-EST",null,null,null,null,"EST",null,null,null,null,"SUD-EST",null,null,null,null,"SUD",null,null,null,null,"SUD-OUEST",null,null,null,null,"OUEST",null,null,null,null,"NORD-OUEST"]
[null,null,"a","b","c","d","e","a","b","c","d","e","a","b","c","d","e","a","b","c","d","e","a","b","c","d","e","a","b","c","d","e","a","b","c","d","e","a","b","c","d","e",null,null,"a","b","c","d","e","a","b","c","d","e","a","b","c","d","e","a","b","c","d","e","a","b","c","d","e","a","b","c","d","e","a","b","c","d","e","a","b","c","d","e"]
[null,"Janvier",-2.4753395395996702,4.3057939937583756,-1.6400664593626766,0.70122639854682423,-3.3050707536873947E-2,-2.5451551650293509,4.4675020255701003,-1.7782866531424328,0.7198615746448801,-3.4727553162436697E-2,-2.479354476804521,4.3083776970053949,-1.6325004785026511,0.70276770967226254,-3.3033767234172229E-2,-2.479354476804521,4.3083776970053949,-1.6325004785026511,0.70276770967226254,-3.3033767234172229E-2,-2.7777850285108672,4.9353373235901348,-2.0768494723013449,0.78376335610669878,-3.8994104640358629E-2,-2.4681731601116583,4.287459605158463,-1.6217605544829989,0.69960671073810965,-3.2855952133643507E-2,-2.4681731601116583,4.287459605158463,-1.6217605544829989,0.69960671073810965,-3.2855952133643507E-2,-2.5412368926890063,4.4581834898156414,-1.7699758861819272,0.71882020817885905,-3.4628856801194263E-2,null,"Janvier",{"$f":"IF(Hypothèses!$J$24=\"SV\",Données1!C101,Données1!C85)","v":0},{"$f":"IF(Hypothèses!$J$24=\"SV\",Données1!D101,Données1!D85)","v":0},{"$f":"IF(Hypothèses!$J$24=\"SV\",Données1!E101,Données1!E85)","v":0},{"$f":"IF(Hypothèses!$J$24=\"SV\",Données1!F101,Données1!F85)","v":0},{"$f":"IF(Hypothèses!$J$24=\"SV\",Données1!G101,Données1!G85)","v":0},{"$f":"IF(Hypothèses!$J$24=\"SV\",Données1!H101,Données1!H85)","v":0},{"$f":"IF(Hypothèses!$J$24=\"SV\",Données1!I101,Données1!I85)","v":0},{"$f":"IF(Hypothèses!$J$24=\"SV\",Données1!J101,Données1!J85)","v":0},{"$f":"IF(Hypothèses!$J$24=\"SV\",Données1!K101,Données1!K85)","v":0},{"$f":"IF(Hypothèses!$J$24=\"SV\",Données1!L101,Données1!L85)","v":0},{"$f":"IF(Hypothèses!$J$24=\"SV\",Données1!M101,Données1!M85)","v":0},{"$f":"IF(Hypothèses!$J$24=\"SV\",Données1!N101,Données1!N85)","v":0},{"$f":"IF(Hypothèses!$J$24=\"SV\",Données1!O101,Données1!O85)","v":0},{"$f":"IF(Hypothèses!$J$24=\"SV\",Données1!P101,Données1!P85)","v":0},{"$f":"IF(Hypothèses!$J$24=\"SV\",Données1!Q101,Données1!Q85)","v":0},{"$f":"IF(Hypothèses!$J$24=\"SV\",Données1!R101,Données1!R85)","v":0},{"$f":"IF(Hypothèses!$J$24=\"SV\",Données1!S101,Données1!S85)","v":0},{"$f":"IF(Hypothèses!$J$24=\"SV\",Données1!T101,Données1!T85)","v":0},{"$f":"IF(Hypothèses!$J$24=\"SV\",Données1!U101,Données1!U85)","v":0},{"$f":"IF(Hypothèses!$J$24=\"SV\",Données1!V101,Données1!V85)","v":0},{"$f":"IF(Hypothèses!$J$24=\"SV\",Données1!W101,Données1!W85)","v":0},{"$f":"IF(Hypothèses!$J$24=\"SV\",Données1!X101,Données1!X85)","v":0},{"$f":"IF(Hypothèses!$J$24=\"SV\",Données1!Y101,Données1!Y85)","v":0},{"$f":"IF(Hypothèses!$J$24=\"SV\",Données1!Z101,Données1!Z85)","v":0},{"$f":"IF(Hypothèses!$J$24=\"SV\",Données1!AA101,Données1!AA85)","v":0},{"$f":"IF(Hypothèses!$J$24=\"SV\",Données1!AB101,Données1!AB85)","v":0},{"$f":"IF(Hypothèses!$J$24=\"SV\",Données1!AC101,Données1!AC85)","v":0},{"$f":"IF(Hypothèses!$J$24=\"SV\",Données1!AD101,Données1!AD85)","v":0},{"$f":"IF(Hypothèses!$J$24=\"SV\",Données1!AE101,Données1!AE85)","v":0},{"$f":"IF(Hypothèses!$J$24=\"SV\",Données1!AF101,Données1!AF85)","v":0},{"$f":"IF(Hypothèses!$J$24=\"SV\",Données1!AG101,Données1!AG85)","v":0},{"$f":"IF(Hypothèses!$J$24=\"SV\",Données1!AH101,Données1!AH85)","v":0},{"$f":"IF(Hypothèses!$J$24=\"SV\",Données1!AI101,Données1!AI85)","v":0},{"$f":"IF(Hypothèses!$J$24=\"SV\",Données1!AJ101,Données1!AJ85)","v":0},{"$f":"IF(Hypothèses!$J$24=\"SV\",Données1!AK101,Données1!AK85)","v":0},{"$f":"IF(Hypothèses!$J$24=\"SV\",Données1!AL101,Données1!AL85)","v":0},{"$f":"IF(Hypothèses!$J$24=\"SV\",Données1!AM101,Données1!AM85)","v":0},{"$f":"IF(Hypothèses!$J$24=\"SV\",Données1!AN101,Données1!AN85)","v":0},{"$f":"IF(Hypothèses!$J$24=\"SV\",Données1!AO101,Données1!AO85)","v":0},{"$f":"IF(Hypothèses!$J$24=\"SV\",Données1!AP101,Données1!AP85)","v":0}]
[null,"Février",-2.4753395395998061,4.3057939937586154,-1.6400664593628096,0.70122639854685154,-3.3050707536875779E-2,-2.5829523918308031,4.5402702503215675,-1.8193730498097,0.73035658547616311,-3.5361554381573013E-2,-2.5317219670577149,4.4166458105701532,-1.7064025627250639,0.71715243897255143,-3.4052075096493661E-2,-2.5317219670577149,4.4166458105701532,-1.7064025627250639,0.71715243897255143,-3.4052075096493661E-2,-2.6738184331639046,4.7541152951306538,-2.0070065975068552,0.75448461742485362,-3.7605332702053518E-2,-2.5177468995447132,4.390700124356349,-1.6934243417929353,0.71321066257467414,-3.3834080493649554E-2,-2.5177468995447132,4.390700124356349,-1.6934243417929353,0.71321066257467414,-3.3834080493649554E-2,-2.5704542891933921,4.5128418642297952,-1.7981044442193352,0.72697171022282248,-3.5089258360258946E-2,null,"Février",{"$f":"IF(Hypothèses!$J$24=\"SV\",Données1!C102,Données1!C86)","v":0},{"$f":"IF(Hypothèses!$J$24=\"SV\",Données1!D102,Données1!D86)","v":0},{"$f":"IF(Hypothèses!$J$24=\"SV\",Données1!E102,Données1!E86)","v":0},{"$f":"IF(Hypothèses!$J$24=\"SV\",Données1!F102,Données1!F86)","v":0},{"$f":"IF(Hypothèses!$J$24=\"SV\",Données1!G102,Données1!G86)","v":0},{"$f":"IF(Hypothèses!$J$24=\"SV\",Données1!H102,Données1!H86)","v":0},{"$f":"IF(Hypothèses!$J$24=\"SV\",Données1!I102,Données1!I86)","v":0},{"$f":"IF(Hypothèses!$J$24=\"SV\",Données1!J102,Données1!J86)","v":0},{"$f":"IF(Hypothèses!$J$24=\"SV\",Données1!K102,Données1!K86)","v":0},{"$f":"IF(Hypothèses!$J$24=\"SV\",Données1!L102,Données1!L86)","v":0},{"$f":"IF(Hypothèses!$J$24=\"SV\",Données1!M102,Données1!M86)","v":0},{"$f":"IF(Hypothèses!$J$24=\"SV\",Données1!N102,Données1!N86)","v":0},{"$f":"IF(Hypothèses!$J$24=\"SV\",Données1!O102,Données1!O86)","v":0},{"$f":"IF(Hypothèses!$J$24=\"SV\",Données1!P102,Données1!P86)","v":0},{"$f":"IF(Hypothèses!$J$24=\"SV\",Données1!Q102,Données1!Q86)","v":0},{"$f":"IF(Hypothèses!$J$24=\"SV\",Données1!R102,Données1!R86)","v":0},{"$f":"IF(Hypothèses!$J$24=\"SV\",Données1!S102,Données1!S86)","v":0},{"$f":"IF(Hypothèses!$J$24=\"SV\",Données1!T102,Données1!T86)","v":0},{"$f":"IF(Hypothèses!$J$24=\"SV\",Données1!U102,Données1!U86)","v":0},{"$f":"IF(Hypothèses!$J$24=\"SV\",Données1!V102,Données1!V86)","v":0},{"$f":"IF(Hypothèses!$J$24=\"SV\",Données1!W102,Données1!W86)","v":0},{"$f":"IF(Hypothèses!$J$24=\"SV\",Données1!X102,Données1!X86)","v":0},{"$f":"IF(Hypothèses!$J$24=\"SV\",Données1!Y102,Données1!Y86)","v":0},{"$f":"IF(Hypothèses!$J$24=\"SV\",Données1!Z102,Données1!Z86)","v":0},{"$f":"IF(Hypothèses!$J$24=\"SV\",Données1!AA102,Données1!AA86)","v":0},{"$f":"IF(Hypothèses!$J$24=\"SV\",Données1!AB102,Données1!AB86)","v":0},{"$f":"IF(Hypothèses!$J$24=\"SV\",Données1!AC102,Données1!AC86)","v":0},{"$f":"IF(Hypothèses!$J$24=\"SV\",Données1!AD102,Données1!AD86)","v":0},{"$f":"IF(Hypothèses!$J$24=\"SV\",Données1!AE102,Données1!AE86)","v":0},{"$f":"IF(Hypothèses!$J$24=\"SV\",Données1!AF102,Données1!AF86)","v":0},{"$f":"IF(Hypothèses!$J$24=\"SV\",Données1!AG102,Données1!AG86)","v":0},{"$f":"IF(Hypothèses!$J$24=\"SV\",Données1!AH102,Données1!AH86)","v":0},{"$f":"IF(Hypothèses!$J$24=\"SV\",Données1!AI102,Données1!AI86)","v":0},{"$f":"IF(Hypothèses!$J$24=\"SV\",Données1!AJ102,Données1!AJ86)","v":0},{"$f":"IF(Hypothèses!$J$24=\"SV\",Données1!AK102,Données1!AK86)","v":0},{"$f":"IF(Hypothèses!$J$24=\"SV\",Données1!AL102,Données1!AL86)","v":0},{"$f":"IF(Hypothèses!$J$24=\"SV\",Données1!AM102,Données1!AM86)","v":0},{"$f":"IF(Hypothèses!$J$24=\"SV\",Données1!AN102,Données1!AN86)","v":0},{"$f":"IF(Hypothèses!$J$24=\"SV\",Données1!AO102,Données1!AO86)","v":0},{"$f":"IF(Hypothèses!$J$24=\"SV\",Données1!AP102,Données1!AP86)","v":0}]
[null,"Mars",-2.4391678062982374,4.2452428631900867,-1.6214896906354348,0.69094509141230531,-3.2612823541582958E-2,-2.6056715391917091,4.5773906622327711,-1.8288581804433093,0.73700076105368151,-3.5625969798844137E-2,-2.6106347596017372,4.5848842677261459,-1.8295331221753406,0.73845538863285154,-3.5671790971071204E-2,-2.6106347596017372,4.5848842677261459,-1.8295331221753406,0.73845538863285154,-3.5671790971071204E-2,-2.4368073610269754,4.2618956591124952,-1.6672630411516125,0.68980441183404018,-3.2969759823827938E-2,-2.609916336183475,4.5833582147825895,-1.8284253176922864,0.73826064760176635,-3.5657123653755951E-2,-2.609916336183475,4.5833582147825895,-1.8284253176922864,0.73826064760176635,-3.5657123653755951E-2,-2.6037430399743,4.5724701880739298,-1.8239982525871734,0.73650804613132859,-3.55716165565646E-2,null,"Mars",{"$f":"IF(Hypothèses!$J$24=\"SV\",Données1!C103,Données1!C87)","v":0},{"$f":"IF(Hypothèses!$J$24=\"SV\",Données1!D103,Données1!D87)","v":0},{"$f":"IF(Hypothèses!$J$24=\"SV\",Données1!E103,Données1!E87)","v":0},{"$f":"IF(Hypothèses!$J$24=\"SV\",Données1!F103,Données1!F87)","v":0},{"$f":"IF(Hypothèses!$J$24=\"SV\",Données1!G103,Données1!G87)","v":0},{"$f":"IF(Hypothèses!$J$24=\"SV\",Données1!H103,Données1!H87)","v":0},{"$f":"IF(Hypothèses!$J$24=\"SV\",Données1!I103,Données1!I87)","v":0},{"$f":"IF(Hypothèses!$J$24=\"SV\",Données1!J103,Données1!J87)","v":0},{"$f":"IF(Hypothèses!$J$24=\"SV\",Données1!K103,Données1!K87)","v":0},{"$f":"IF(Hypothèses!$J$24=\"SV\",Données1!L103,Données1!L87)","v":0},{"$f":"IF(Hypothèses!$J$24=\"SV\",Données1!M103,Données1!M87)","v":0},{"$f":"IF(Hypothèses!$J$24=\"SV\",Données1!N103,Données1!N87)","v":0},{"$f":"IF(Hypothèses!$J$24=\"SV\",Données1!O103,Données1!O87)","v":0},{"$f":"IF(Hypothèses!$J$24=\"SV\",Données1!P103,Données1!P87)","v":0},{"$f":"IF(Hypothèses!$J$24=\"SV\",Données1!Q103,Données1!Q87)","v":0},{"$f":"IF(Hypothèses!$J$24=\"SV\",Données1!R103,Données1!R87)","v":0},{"$f":"IF(Hypothèses!$J$24=\"SV\",Données1!S103,Données1!S87)","v":0},{"$f":"IF(Hypothèses!$J$24=\"SV\",Données1!T103,Données1!T87)","v":0},{"$f":"IF(Hypothèses!$J$24=\"SV\",Données1!U103,Données1!U87)","v":0},{"$f":"IF(Hypothèses!$J$24=\"SV\",Données1!V103,Données1!V87)","v":0},{"$f":"IF(Hypothèses!$J$24=\"SV\",Données1!W103,Données1!W87)","v":0},{"$f":"IF(Hypothèses!$J$24=\"SV\",Données1!X103,Données1!X87)","v":0},{"$f":"IF(Hypothèses!$J$24=\"SV\",Données1!Y103,Données1!Y87)","v":0},{"$f":"IF(Hypothèses!$J$24=\"SV\",Données1!Z103,Données1!Z87)","v":0},{"$f":"IF(Hypothèses!$J$24=\"SV\",Données1!AA103,Données1!AA87)","v":0},{"$f":"IF(Hypothèses!$J$24=\"SV\",Données1!AB103,Données1!AB87)","v":0},{"$f":"IF(Hypothèses!$J$24=\"SV\",Données1!AC103,Données1!AC87)","v":0},{"$f":"IF(Hypothèses!$J$24=\"SV\",Données1!AD103,Données1!AD87)","v":0},{"$f":"IF(Hypothèses!$J$24=\"SV\",Données1!AE103,Données1!AE87)","v":0},{"$f":"IF(Hypothèses!$J$24=\"SV\",Données1!AF103,Données1!AF87)","v":0},{"$f":"IF(Hypothèses!$J$24=\"SV\",Données1!AG103,Données1!AG87)","v":0},{"$f":"IF(Hypothèses!$J$24=\"SV\",Données1!AH103,Données1!AH87)","v":0},{"$f":"IF(Hypothèses!$J$24=\"SV\",Données1!AI103,Données1!AI87)","v":0},{"$f":"IF(Hypothèses!$J$24=\"SV\",Données1!AJ103,Données1!AJ87)","v":0},{"$f":"IF(Hypothèses!$J$24=\"SV\",Données1!AK103,Données1!AK87)","v":0},{"$f":"IF(Hypothèses!$J$24=\"SV\",Données1!AL103,Données1!AL87)","v":0},{"$f":"IF(Hypothèses!$J$24=\"SV\",Données1!AM103,Données1!AM87)","v":0},{"$f":"IF(Hypothèses!$J$24=\"SV\",Données1!AN103,Données1!AN87)","v":0},{"$f":"IF(Hypothèses!$J$24=\"SV\",Données1!AO103,Données1!AO87)","v":0},{"$f":"IF(Hypothèses!$J$24=\"SV\",Données1!AP103,Données1!AP87)","v":0}]
[null,"Avril",-2.4312338177064112,4.2715500481499147,-1.7077012760085906,0.68777374620058018,-3.3256964817452883E-2,-2.567158062553704,4.4951451357829821,-1.7684617746686409,0.72659269509432756,-3.483235760323683E-2,-2.6068460611940938,4.5839199184876618,-1.8399488325474656,0.73710128402328567,-3.5720549193998419E-2,-2.6068460611940938,4.5839199184876618,-1.8399488325474656,0.73710128402328567,-3.5720549193998419E-2,-2.4683986141007055,4.2938361319984315,-1.6357306823142548,0.69925884797122106,-3.2960249665770158E-2,-2.616009515710076,4.6018245912627185,-1.850500859139371,0.73965306246824336,-3.5879694167715803E-2,-2.616009515710076,4.6018245912627185,-1.850500859139371,0.73965306246824336,-3.5879694167715803E-2,-2.5669199703142866,4.4939239806448725,-1.7664431275818377,0.72657625725311137,-3.4815344762271661E-2,null,"Avril",{"$f":"IF(Hypothèses!$J$24=\"SV\",Données1!C104,Données1!C88)","v":0},{"$f":"IF(Hypothèses!$J$24=\"SV\",Données1!D104,Données1!D88)","v":0},{"$f":"IF(Hypothèses!$J$24=\"SV\",Données1!E104,Données1!E88)","v":0},{"$f":"IF(Hypothèses!$J$24=\"SV\",Données1!F104,Données1!F88)","v":0},{"$f":"IF(Hypothèses!$J$24=\"SV\",Données1!G104,Données1!G88)","v":0},{"$f":"IF(Hypothèses!$J$24=\"SV\",Données1!H104,Données1!H88)","v":0},{"$f":"IF(Hypothèses!$J$24=\"SV\",Données1!I104,Données1!I88)","v":0},{"$f":"IF(Hypothèses!$J$24=\"SV\",Données1!J104,Données1!J88)","v":0},{"$f":"IF(Hypothèses!$J$24=\"SV\",Données1!K104,Données1!K88)","v":0},{"$f":"IF(Hypothèses!$J$24=\"SV\",Données1!L104,Données1!L88)","v":0},{"$f":"IF(Hypothèses!$J$24=\"SV\",Données1!M104,Données1!M88)","v":0},{"$f":"IF(Hypothèses!$J$24=\"SV\",Données1!N104,Données1!N88)","v":0},{"$f":"IF(Hypothèses!$J$24=\"SV\",Données1!O104,Données1!O88)","v":0},{"$f":"IF(Hypothèses!$J$24=\"SV\",Données1!P104,Données1!P88)","v":0},{"$f":"IF(Hypothèses!$J$24=\"SV\",Données1!Q104,Données1!Q88)","v":0},{"$f":"IF(Hypothèses!$J$24=\"SV\",Données1!R104,Données1!R88)","v":0},{"$f":"IF(Hypothèses!$J$24=\"SV\",Données1!S104,Données1!S88)","v":0},{"$f":"IF(Hypothèses!$J$24=\"SV\",Données1!T104,Données1!T88)","v":0},{"$f":"IF(Hypothèses!$J$24=\"SV\",Données1!U104,Données1!U88)","v":0},{"$f":"IF(Hypothèses!$J$24=\"SV\",Données1!V104,Données1!V88)","v":0},{"$f":"IF(Hypothèses!$J$24=\"SV\",Données1!W104,Données1!W88)","v":0},{"$f":"IF(Hypothèses!$J$24=\"SV\",Données1!X104,Données1!X88)","v":0},{"$f":"IF(Hypothèses!$J$24=\"SV\",Données1!Y104,Données1!Y88)","v":0},{"$f":"IF(Hypothèses!$J$24=\"SV\",Données1!Z104,Données1!Z88)","v":0},{"$f":"IF(Hypothèses!$J$24=\"SV\",Données1!AA104,Données1!AA88)","v":0},{"$f":"IF(Hypothèses!$J$24=\"SV\",Données1!AB104,Données1!AB88)","v":0},{"$f":"IF(Hypothèses!$J$24=\"SV\",Données1!AC104,Données1!AC88)","v":0},{"$f":"IF(Hypothèses!$J$24=\"SV\",Données1!AD104,Données1!AD88)","v":0},{"$f":"IF(Hypothèses!$J$24=\"SV\",Données1!AE104,Données1!AE88)","v":0},{"$f":"IF(Hypothèses!$J$24=\"SV\",Données1!AF104,Données1!AF88)","v":0},{"$f":"IF(Hypothèses!$J$24=\"SV\",Données1!AG104,Données1!AG88)","v":0},{"$f":"IF(Hypothèses!$J$24=\"SV\",Données1!AH104,Données1!AH88)","v":0},{"$f":"IF(Hypothèses!$J$24=\"SV\",Données1!AI104,Données1!AI88)","v":0},{"$f":"IF(Hypothèses!$J$24=\"SV\",Données1!AJ104,Données1!AJ88)","v":0},{"$f":"IF(Hypothèses!$J$24=\"SV\",Données1!AK104,Données1!AK88)","v":0},{"$f":"IF(Hypothèses!$J$24=\"SV\",Données1!AL104,Données1!AL88)","v":0},{"$f":"IF(Hypothèses!$J$24=\"SV\",Données1!AM104,Données1!AM88)","v":0},{"$f":"IF(Hypothèses!$J$24=\"SV\",Données1!AN104,Données1!AN88)","v":0},{"$f":"IF(Hypothèses!$J$24=\"SV\",Données1!AO104,Données1!AO88)","v":0},{"$f":"IF(Hypothèses!$J$24=\"SV\",Données1!AP104,Données1!AP88)","v":0}]
[null,"Mai",-2.7347067502377911,4.8963680895266686,-2.1303443195444749,0.77070222730130067,-3.909036599814647E-2,-2.531345916643323,4.4174261534526815,-1.7094077865588182,0.71703975173707801,-3.4074923679401237E-2,-2.6157435479794149,4.6177390117054724,-1.8877717026711567,0.73904475920887625,-3.6176371651270745E-2,-2.6157435479794149,4.6177390117054724,-1.8877717026711567,0.73904475920887625,-3.6176371651270745E-2,-2.4753395395999256,4.3057939937588579,-1.640066459362971,0.70122639854689017,-3.3050707536878221E-2,-2.6138294121518193,4.6130237949804718,-1.8833405607273042,0.7385390712959794,-3.6125081361122968E-2,-2.6138294121518193,4.6130237949804718,-1.8833405607273042,0.7385390712959794,-3.6125081361122968E-2,-2.5152816384838381,4.384517196468634,-1.6874274366343476,0.71262338939791225,-3.3768349266413922E-2,null,"Mai",{"$f":"IF(Hypothèses!$J$24=\"SV\",Données1!C105,Données1!C89)","v":0},{"$f":"IF(Hypothèses!$J$24=\"SV\",Données1!D105,Données1!D89)","v":0},{"$f":"IF(Hypothèses!$J$24=\"SV\",Données1!E105,Données1!E89)","v":0},{"$f":"IF(Hypothèses!$J$24=\"SV\",Données1!F105,Données1!F89)","v":0},{"$f":"IF(Hypothèses!$J$24=\"SV\",Données1!G105,Données1!G89)","v":0},{"$f":"IF(Hypothèses!$J$24=\"SV\",Données1!H105,Données1!H89)","v":0},{"$f":"IF(Hypothèses!$J$24=\"SV\",Données1!I105,Données1!I89)","v":0},{"$f":"IF(Hypothèses!$J$24=\"SV\",Données1!J105,Données1!J89)","v":0},{"$f":"IF(Hypothèses!$J$24=\"SV\",Données1!K105,Données1!K89)","v":0},{"$f":"IF(Hypothèses!$J$24=\"SV\",Données1!L105,Données1!L89)","v":0},{"$f":"IF(Hypothèses!$J$24=\"SV\",Données1!M105,Données1!M89)","v":0},{"$f":"IF(Hypothèses!$J$24=\"SV\",Données1!N105,Données1!N89)","v":0},{"$f":"IF(Hypothèses!$J$24=\"SV\",Données1!O105,Données1!O89)","v":0},{"$f":"IF(Hypothèses!$J$24=\"SV\",Données1!P105,Données1!P89)","v":0},{"$f":"IF(Hypothèses!$J$24=\"SV\",Données1!Q105,Données1!Q89)","v":0},{"$f":"IF(Hypothèses!$J$24=\"SV\",Données1!R105,Données1!R89)","v":0},{"$f":"IF(Hypothèses!$J$24=\"SV\",Données1!S105,Données1!S89)","v":0},{"$f":"IF(Hypothèses!$J$24=\"SV\",Données1!T105,Données1!T89)","v":0},{"$f":"IF(Hypothèses!$J$24=\"SV\",Données1!U105,Données1!U89)","v":0},{"$f":"IF(Hypothèses!$J$24=\"SV\",Données1!V105,Données1!V89)","v":0},{"$f":"IF(Hypothèses!$J$24=\"SV\",Données1!W105,Données1!W89)","v":0},{"$f":"IF(Hypothèses!$J$24=\"SV\",Données1!X105,Données1!X89)","v":0},{"$f":"IF(Hypothèses!$J$24=\"SV\",Données1!Y105,Données1!Y89)","v":0},{"$f":"IF(Hypothèses!$J$24=\"SV\",Données1!Z105,Données1!Z89)","v":0},{"$f":"IF(Hypothèses!$J$24=\"SV\",Données1!AA105,Données1!AA89)","v":0},{"$f":"IF(Hypothèses!$J$24=\"SV\",Données1!AB105,Données1!AB89)","v":0},{"$f":"IF(Hypothèses!$J$24=\"SV\",Données1!AC105,Données1!AC89)","v":0},{"$f":"IF(Hypothèses!$J$24=\"SV\",Données1!AD105,Données1!AD89)","v":0},{"$f":"IF(Hypothèses!$J$24=\"SV\",Données1!AE105,Données1!AE89)","v":0},{"$f":"IF(Hypothèses!$J$24=\"SV\",Données1!AF105,Données1!AF89)","v":0},{"$f":"IF(Hypothèses!$J$24=\"SV\",Données1!AG105,Données1!AG89)","v":0},{"$f":"IF(Hypothèses!$J$24=\"SV\",Données1!AH105,Données1!AH89)","v":0},{"$f":"IF(Hypothèses!$J$24=\"SV\",Données1!AI105,Données1!AI89)","v":0},{"$f":"IF(Hypothèses!$J$24=\"SV\",Données1!AJ105,Données1!AJ89)","v":0},{"$f":"IF(Hypothèses!$J$24=\"SV\",Données1!AK105,Données1!AK89)","v":0},{"$f":"IF(Hypothèses!$J$24=\"SV\",Données1!AL105,Données1!AL89)","v":0},{"$f":"IF(Hypothèses!$J$24=\"SV\",Données1!AM105,Données1!AM89)","v":0},{"$f":"IF(Hypothèses!$J$24=\"SV\",Données1!AN105,Données1!AN89)","v":0},{"$f":"IF(Hypothèses!$J$24=\"SV\",Données1!AO105,Données1!AO89)","v":0},{"$f":"IF(Hypothèses!$J$24=\"SV\",Données1!AP105,Données1!AP89)","v":0}]
[null,"Juin",-2.7959817147155395,4.9953046651426787,-2.1535832124765442,0.78810064924144163,-3.9760169266062795E-2,-2.4935400386531681,4.3378782597898997,-1.6529009729010349,0.70667861775785923,-3.3313543946369262E-2,-2.5794875831237181,4.5462107779067589,-1.8444083072280859,0.72903841594940422,-3.5536732703976281E-2,-2.5794875831237181,4.5462107779067589,-1.8444083072280859,0.72903841594940422,-3.5536732703976281E-2,-2.4753395395996867,4.3057939937584226,-1.6400664593627126,0.70122639854683244,-3.3050707536874724E-2,-2.5651886734848737,4.5143203272084307,-1.8189031666028763,0.72519169114032056,-3.5216212570733652E-2,-2.5651886734848737,4.5143203272084307,-1.8189031666028763,0.72519169114032056,-3.5216212570733652E-2,-2.4948544050900772,4.3425568408707234,-1.6592493572515565,0.70696128773485301,-3.3374490523401135E-2,null,"Juin",{"$f":"IF(Hypothèses!$J$24=\"SV\",Données1!C106,Données1!C90)","v":0},{"$f":"IF(Hypothèses!$J$24=\"SV\",Données1!D106,Données1!D90)","v":0},{"$f":"IF(Hypothèses!$J$24=\"SV\",Données1!E106,Données1!E90)","v":0},{"$f":"IF(Hypothèses!$J$24=\"SV\",Données1!F106,Données1!F90)","v":0},{"$f":"IF(Hypothèses!$J$24=\"SV\",Données1!G106,Données1!G90)","v":0},{"$f":"IF(Hypothèses!$J$24=\"SV\",Données1!H106,Données1!H90)","v":0},{"$f":"IF(Hypothèses!$J$24=\"SV\",Données1!I106,Données1!I90)","v":0},{"$f":"IF(Hypothèses!$J$24=\"SV\",Données1!J106,Données1!J90)","v":0},{"$f":"IF(Hypothèses!$J$24=\"SV\",Données1!K106,Données1!K90)","v":0},{"$f":"IF(Hypothèses!$J$24=\"SV\",Données1!L106,Données1!L90)","v":0},{"$f":"IF(Hypothèses!$J$24=\"SV\",Données1!M106,Données1!M90)","v":0},{"$f":"IF(Hypothèses!$J$24=\"SV\",Données1!N106,Données1!N90)","v":0},{"$f":"IF(Hypothèses!$J$24=\"SV\",Données1!O106,Données1!O90)","v":0},{"$f":"IF(Hypothèses!$J$24=\"SV\",Données1!P106,Données1!P90)","v":0},{"$f":"IF(Hypothèses!$J$24=\"SV\",Données1!Q106,Données1!Q90)","v":0},{"$f":"IF(Hypothèses!$J$24=\"SV\",Données1!R106,Données1!R90)","v":0},{"$f":"IF(Hypothèses!$J$24=\"SV\",Données1!S106,Données1!S90)","v":0},{"$f":"IF(Hypothèses!$J$24=\"SV\",Données1!T106,Données1!T90)","v":0},{"$f":"IF(Hypothèses!$J$24=\"SV\",Données1!U106,Données1!U90)","v":0},{"$f":"IF(Hypothèses!$J$24=\"SV\",Données1!V106,Données1!V90)","v":0},{"$f":"IF(Hypothèses!$J$24=\"SV\",Données1!W106,Données1!W90)","v":0},{"$f":"IF(Hypothèses!$J$24=\"SV\",Données1!X106,Données1!X90)","v":0},{"$f":"IF(Hypothèses!$J$24=\"SV\",Données1!Y106,Données1!Y90)","v":0},{"$f":"IF(Hypothèses!$J$24=\"SV\",Données1!Z106,Données1!Z90)","v":0},{"$f":"IF(Hypothèses!$J$24=\"SV\",Données1!AA106,Données1!AA90)","v":0},{"$f":"IF(Hypothèses!$J$24=\"SV\",Données1!AB106,Données1!AB90)","v":0},{"$f":"IF(Hypothèses!$J$24=\"SV\",Données1!AC106,Données1!AC90)","v":0},{"$f":"IF(Hypothèses!$J$24=\"SV\",Données1!AD106,Données1!AD90)","v":0},{"$f":"IF(Hypothèses!$J$24=\"SV\",Données1!AE106,Données1!AE90)","v":0},{"$f":"IF(Hypothèses!$J$24=\"SV\",Données1!AF106,Données1!AF90)","v":0},{"$f":"IF(Hypothèses!$J$24=\"SV\",Données1!AG106,Données1!AG90)","v":0},{"$f":"IF(Hypothèses!$J$24=\"SV\",Données1!AH106,Données1!AH90)","v":0},{"$f":"IF(Hypothèses!$J$24=\"SV\",Données1!AI106,Données1!AI90)","v":0},{"$f":"IF(Hypothèses!$J$24=\"SV\",Données1!AJ106,Données1!AJ90)","v":0},{"$f":"IF(Hypothèses!$J$24=\"SV\",Données1!AK106,Données1!AK90)","v":0},{"$f":"IF(Hypothèses!$J$24=\"SV\",Données1!AL106,Données1!AL90)","v":0},{"$f":"IF(Hypothèses!$J$24=\"SV\",Données1!AM106,Données1!AM90)","v":0},{"$f":"IF(Hypothèses!$J$24=\"SV\",Données1!AN106,Données1!AN90)","v":0},{"$f":"IF(Hypothèses!$J$24=\"SV\",Données1!AO106,Données1!AO90)","v":0},{"$f":"IF(Hypothèses!$J$24=\"SV\",Données1!AP106,Données1!AP90)","v":0}]
[null,"Juillet",-2.784535594255543,4.9915771242337099,-2.1829041270804006,0.78448647202257893,-3.9910019818280129E-2,-2.5218474627897467,4.3985606145466489,-1.6977676928708025,0.71440769566768958,-3.3904463480847025E-2,-2.610735773384631,4.6111067210253722,-1.8891958813307292,0.73757544860966473,-3.6148271717822367E-2,-2.610735773384631,4.6111067210253722,-1.8891958813307292,0.73757544860966473,-3.6148271717822367E-2,-2.4753395395997049,4.3057939937584377,-1.6400664593627055,0.70122639854682867,-3.305070753687428E-2,-2.60698025878933,4.6026867626294639,-1.8823979546378473,0.73656378118997456,-3.606317186325031E-2,-2.60698025878933,4.6026867626294639,-1.8823979546378473,0.73656378118997456,-3.606317186325031E-2,-2.5201910593070447,4.3956382743155684,-1.6965740989203109,0.71394331543070555,-3.3881730856403391E-2,null,"Juillet",{"$f":"IF(Hypothèses!$J$24=\"SV\",Données1!C107,Données1!C91)","v":0},{"$f":"IF(Hypothèses!$J$24=\"SV\",Données1!D107,Données1!D91)","v":0},{"$f":"IF(Hypothèses!$J$24=\"SV\",Données1!E107,Données1!E91)","v":0},{"$f":"IF(Hypothèses!$J$24=\"SV\",Données1!F107,Données1!F91)","v":0},{"$f":"IF(Hypothèses!$J$24=\"SV\",Données1!G107,Données1!G91)","v":0},{"$f":"IF(Hypothèses!$J$24=\"SV\",Données1!H107,Données1!H91)","v":0},{"$f":"IF(Hypothèses!$J$24=\"SV\",Données1!I107,Données1!I91)","v":0},{"$f":"IF(Hypothèses!$J$24=\"SV\",Données1!J107,Données1!J91)","v":0},{"$f":"IF(Hypothèses!$J$24=\"SV\",Données1!K107,Données1!K91)","v":0},{"$f":"IF(Hypothèses!$J$24=\"SV\",Données1!L107,Données1!L91)","v":0},{"$f":"IF(Hypothèses!$J$24=\"SV\",Données1!M107,Données1!M91)","v":0},{"$f":"IF(Hypothèses!$J$24=\"SV\",Données1!N107,Données1!N91)","v":0},{"$f":"IF(Hypothèses!$J$24=\"SV\",Données1!O107,Données1!O91)","v":0},{"$f":"IF(Hypothèses!$J$24=\"SV\",Données1!P107,Données1!P91)","v":0},{"$f":"IF(Hypothèses!$J$24=\"SV\",Données1!Q107,Données1!Q91)","v":0},{"$f":"IF(Hypothèses!$J$24=\"SV\",Données1!R107,Données1!R91)","v":0},{"$f":"IF(Hypothèses!$J$24=\"SV\",Données1!S107,Données1!S91)","v":0},{"$f":"IF(Hypothèses!$J$24=\"SV\",Données1!T107,Données1!T91)","v":0},{"$f":"IF(Hypothèses!$J$24=\"SV\",Données1!U107,Données1!U91)","v":0},{"$f":"IF(Hypothèses!$J$24=\"SV\",Données1!V107,Données1!V91)","v":0},{"$f":"IF(Hypothèses!$J$24=\"SV\",Données1!W107,Données1!W91)","v":0},{"$f":"IF(Hypothèses!$J$24=\"SV\",Données1!X107,Données1!X91)","v":0},{"$f":"IF(Hypothèses!$J$24=\"SV\",Données1!Y107,Données1!Y91)","v":0},{"$f":"IF(Hypothèses!$J$24=\"SV\",Données1!Z107,Données1!Z91)","v":0},{"$f":"IF(Hypothèses!$J$24=\"SV\",Données1!AA107,Données1!AA91)","v":0},{"$f":"IF(Hypothèses!$J$24=\"SV\",Données1!AB107,Données1!AB91)","v":0},{"$f":"IF(Hypothèses!$J$24=\"SV\",Données1!AC107,Données1!AC91)","v":0},{"$f":"IF(Hypothèses!$J$24=\"SV\",Données1!AD107,Données1!AD91)","v":0},{"$f":"IF(Hypothèses!$J$24=\"SV\",Données1!AE107,Données1!AE91)","v":0},{"$f":"IF(Hypothèses!$J$24=\"SV\",Données1!AF107,Données1!AF91)","v":0},{"$f":"IF(Hypothèses!$J$24=\"SV\",Données1!AG107,Données1!AG91)","v":0},{"$f":"IF(Hypothèses!$J$24=\"SV\",Données1!AH107,Données1!AH91)","v":0},{"$f":"IF(Hypothèses!$J$24=\"SV\",Données1!AI107,Données1!AI91)","v":0},{"$f":"IF(Hypothèses!$J$24=\"SV\",Données1!AJ107,Données1!AJ91)","v":0},{"$f":"IF(Hypothèses!$J$24=\"SV\",Données1!AK107,Données1!AK91)","v":0},{"$f":"IF(Hypothèses!$J$24=\"SV\",Données1!AL107,Données1!AL91)","v":0},{"$f":"IF(Hypothèses!$J$24=\"SV\",Données1!AM107,Données1!AM91)","v":0},{"$f":"IF(Hypothèses!$J$24=\"SV\",Données1!AN107,Données1!AN91)","v":0},{"$f":"IF(Hypothèses!$J$24=\"SV\",Données1!AO107,Données1!AO91)","v":0},{"$f":"IF(Hypothèses!$J$24=\"SV\",Données1!AP107,Données1!AP91)","v":0}]
[null,"Août",-2.5296982891892328,4.5065505282884883,-1.9184369250907205,0.71392778443603255,-3.5752836371676366E-2,-2.5664304465778733,4.4909445119350462,-1.7611836977308186,0.72661660406239192,-3.4774057880389786E-2,-2.6545516788768411,4.6914995184800556,-1.9277622212064764,0.74987289418859793,-3.6810671540085327E-2,-2.6545516788768411,4.6914995184800556,-1.9277622212064764,0.74987289418859793,-3.6810671540085327E-2,-2.4753395395998039,4.3057939937585958,-1.6400664593627858,0.70122639854684432,-3.3050707536875279E-2,-2.6389104581280773,4.6573709583213621,-1.9015907210441343,0.74564015790926552,-3.6473902542220049E-2,-2.6389104581280773,4.6573709583213621,-1.9015907210441343,0.74564015790926552,-3.6473902542220049E-2,-2.5650139129907359,4.4900742441058288,-1.7639031067818991,0.72614173450762332,-3.4783518694077087E-2,null,"Août",{"$f":"IF(Hypothèses!$J$24=\"SV\",Données1!C108,Données1!C92)","v":0},{"$f":"IF(Hypothèses!$J$24=\"SV\",Données1!D108,Données1!D92)","v":0},{"$f":"IF(Hypothèses!$J$24=\"SV\",Données1!E108,Données1!E92)","v":0},{"$f":"IF(Hypothèses!$J$24=\"SV\",Données1!F108,Données1!F92)","v":0},{"$f":"IF(Hypothèses!$J$24=\"SV\",Données1!G108,Données1!G92)","v":0},{"$f":"IF(Hypothèses!$J$24=\"SV\",Données1!H108,Données1!H92)","v":0},{"$f":"IF(Hypothèses!$J$24=\"SV\",Données1!I108,Données1!I92)","v":0},{"$f":"IF(Hypothèses!$J$24=\"SV\",Données1!J108,Données1!J92)","v":0},{"$f":"IF(Hypothèses!$J$24=\"SV\",Données1!K108,Données1!K92)","v":0},{"$f":"IF(Hypothèses!$J$24=\"SV\",Données1!L108,Données1!L92)","v":0},{"$f":"IF(Hypothèses!$J$24=\"SV\",Données1!M108,Données1!M92)","v":0},{"$f":"IF(Hypothèses!$J$24=\"SV\",Données1!N108,Données1!N92)","v":0},{"$f":"IF(Hypothèses!$J$24=\"SV\",Données1!O108,Données1!O92)","v":0},{"$f":"IF(Hypothèses!$J$24=\"SV\",Données1!P108,Données1!P92)","v":0},{"$f":"IF(Hypothèses!$J$24=\"SV\",Données1!Q108,Données1!Q92)","v":0},{"$f":"IF(Hypothèses!$J$24=\"SV\",Données1!R108,Données1!R92)","v":0},{"$f":"IF(Hypothèses!$J$24=\"SV\",Données1!S108,Données1!S92)","v":0},{"$f":"IF(Hypothèses!$J$24=\"SV\",Données1!T108,Données1!T92)","v":0},{"$f":"IF(Hypothèses!$J$24=\"SV\",Données1!U108,Données1!U92)","v":0},{"$f":"IF(Hypothèses!$J$24=\"SV\",Données1!V108,Données1!V92)","v":0},{"$f":"IF(Hypothèses!$J$24=\"SV\",Données1!W108,Données1!W92)","v":0},{"$f":"IF(Hypothèses!$J$24=\"SV\",Données1!X108,Données1!X92)","v":0},{"$f":"IF(Hypothèses!$J$24=\"SV\",Données1!Y108,Données1!Y92)","v":0},{"$f":"IF(Hypothèses!$J$24=\"SV\",Données1!Z108,Données1!Z92)","v":0},{"$f":"IF(Hypothèses!$J$24=\"SV\",Données1!AA108,Données1!AA92)","v":0},{"$f":"IF(Hypothèses!$J$24=\"SV\",Données1!AB108,Données1!AB92)","v":0},{"$f":"IF(Hypothèses!$J$24=\"SV\",Données1!AC108,Données1!AC92)","v":0},{"$f":"IF(Hypothèses!$J$24=\"SV\",Données1!AD108,Données1!AD92)","v":0},{"$f":"IF(Hypothèses!$J$24=\"SV\",Données1!AE108,Données1!AE92)","v":0},{"$f":"IF(Hypothèses!$J$24=\"SV\",Données1!AF108,Données1!AF92)","v":0},{"$f":"IF(Hypothèses!$J$24=\"SV\",Données1!AG108,Données1!AG92)","v":0},{"$f":"IF(Hypothèses!$J$24=\"SV\",Données1!AH108,Données1!AH92)","v":0},{"$f":"IF(Hypothèses!$J$24=\"SV\",Données1!AI108,Données1!AI92)","v":0},{"$f":"IF(Hypothèses!$J$24=\"SV\",Données1!AJ108,Données1!AJ92)","v":0},{"$f":"IF(Hypothèses!$J$24=\"SV\",Données1!AK108,Données1!AK92)","v":0},{"$f":"IF(Hypothèses!$J$24=\"SV\",Données1!AL108,Données1!AL92)","v":0},{"$f":"IF(Hypothèses!$J$24=\"SV\",Données1!AM108,Données1!AM92)","v":0},{"$f":"IF(Hypothèses!$J$24=\"SV\",Données1!AN108,Données1!AN92)","v":0},{"$f":"IF(Hypothèses!$J$24=\"SV\",Données1!AO108,Données1!AO92)","v":0},{"$f":"IF(Hypothèses!$J$24=\"SV\",Données1!AP108,Données1!AP92)","v":0}]
[null,"Septembre",-2.3600059228118222,4.1184241065173008,-1.5938134636600572,0.66833576574523235,-3.1761939110331094E-2,-2.6433425991346184,4.6555423812397585,-1.8826078714315064,0.74737984282599368,-3.6364965029847041E-2,-2.6646478625727026,4.6991384791532784,-1.9116726804099906,0.75319692076973765,-3.676903389590358E-2,-2.6646478625727026,4.6991384791532784,-1.9116726804099906,0.75319692076973765,-3.676903389590358E-2,-2.3780000704597892,4.1656820175513953,-1.6421147407994996,0.67308587958051214,-3.2301406354391604E-2,-2.6566645462759131,4.6825433741912104,-1.9001904467297379,0.75102362054670369,-3.6612795670203091E-2,-2.6566645462759131,4.6825433741912104,-1.9001904467297379,0.75102362054670369,-3.6612795670203091E-2,-2.6345250766559345,4.6369218459250794,-1.8692592804515433,0.7449894911742867,-3.618708171587065E-2,null,"Septembre",{"$f":"IF(Hypothèses!$J$24=\"SV\",Données1!C109,Données1!C93)","v":0},{"$f":"IF(Hypothèses!$J$24=\"SV\",Données1!D109,Données1!D93)","v":0},{"$f":"IF(Hypothèses!$J$24=\"SV\",Données1!E109,Données1!E93)","v":0},{"$f":"IF(Hypothèses!$J$24=\"SV\",Données1!F109,Données1!F93)","v":0},{"$f":"IF(Hypothèses!$J$24=\"SV\",Données1!G109,Données1!G93)","v":0},{"$f":"IF(Hypothèses!$J$24=\"SV\",Données1!H109,Données1!H93)","v":0},{"$f":"IF(Hypothèses!$J$24=\"SV\",Données1!I109,Données1!I93)","v":0},{"$f":"IF(Hypothèses!$J$24=\"SV\",Données1!J109,Données1!J93)","v":0},{"$f":"IF(Hypothèses!$J$24=\"SV\",Données1!K109,Données1!K93)","v":0},{"$f":"IF(Hypothèses!$J$24=\"SV\",Données1!L109,Données1!L93)","v":0},{"$f":"IF(Hypothèses!$J$24=\"SV\",Données1!M109,Données1!M93)","v":0},{"$f":"IF(Hypothèses!$J$24=\"SV\",Données1!N109,Données1!N93)","v":0},{"$f":"IF(Hypothèses!$J$24=\"SV\",Données1!O109,Données1!O93)","v":0},{"$f":"IF(Hypothèses!$J$24=\"SV\",Données1!P109,Données1!P93)","v":0},{"$f":"IF(Hypothèses!$J$24=\"SV\",Données1!Q109,Données1!Q93)","v":0},{"$f":"IF(Hypothèses!$J$24=\"SV\",Données1!R109,Données1!R93)","v":0},{"$f":"IF(Hypothèses!$J$24=\"SV\",Données1!S109,Données1!S93)","v":0},{"$f":"IF(Hypothèses!$J$24=\"SV\",Données1!T109,Données1!T93)","v":0},{"$f":"IF(Hypothèses!$J$24=\"SV\",Données1!U109,Données1!U93)","v":0},{"$f":"IF(Hypothèses!$J$24=\"SV\",Données1!V109,Données1!V93)","v":0},{"$f":"IF(Hypothèses!$J$24=\"SV\",Données1!W109,Données1!W93)","v":0},{"$f":"IF(Hypothèses!$J$24=\"SV\",Données1!X109,Données1!X93)","v":0},{"$f":"IF(Hypothèses!$J$24=\"SV\",Données1!Y109,Données1!Y93)","v":0},{"$f":"IF(Hypothèses!$J$24=\"SV\",Données1!Z109,Données1!Z93)","v":0},{"$f":"IF(Hypothèses!$J$24=\"SV\",Données1!AA109,Données1!AA93)","v":0},{"$f":"IF(Hypothèses!$J$24=\"SV\",Données1!AB109,Données1!AB93)","v":0},{"$f":"IF(Hypothèses!$J$24=\"SV\",Données1!AC109,Données1!AC93)","v":0},{"$f":"IF(Hypothèses!$J$24=\"SV\",Données1!AD109,Données1!AD93)","v":0},{"$f":"IF(Hypothèses!$J$24=\"SV\",Données1!AE109,Données1!AE93)","v":0},{"$f":"IF(Hypothèses!$J$24=\"SV\",Données1!AF109,Données1!AF93)","v":0},{"$f":"IF(Hypothèses!$J$24=\"SV\",Données1!AG109,Données1!AG93)","v":0},{"$f":"IF(Hypothèses!$J$24=\"SV\",Données1!AH109,Données1!AH93)","v":0},{"$f":"IF(Hypothèses!$J$24=\"SV\",Données1!AI109,Données1!AI93)","v":0},{"$f":"IF(Hypothèses!$J$24=\"SV\",Données1!AJ109,Données1!AJ93)","v":0},{"$f":"IF(Hypothèses!$J$24=\"SV\",Données1!AK109,Données1!AK93)","v":0},{"$f":"IF(Hypothèses!$J$24=\"SV\",Données1!AL109,Données1!AL93)","v":0},{"$f":"IF(Hypothèses!$J$24=\"SV\",Données1!AM109,Données1!AM93)","v":0},{"$f":"IF(Hypothèses!$J$24=\"SV\",Données1!AN109,Données1!AN93)","v":0},{"$f":"IF(Hypothèses!$J$24=\"SV\",Données1!AO109,Données1!AO93)","v":0},{"$f":"IF(Hypothèses!$J$24=\"SV\",Données1!AP109,Données1!AP93)","v":0}]
[null,"Octobre",-2.4753395395998723,4.3057939937587797,-1.6400664593629413,0.70122639854688829,-3.3050707536878499E-2,-2.6323372670065122,4.6433513763093579,-1.8913085277938222,0.74388556294014496,-3.6339641993449967E-2,-2.5914429237598702,4.5438184418550236,-1.7991631984054011,0.73340879641253598,-3.5280150655970455E-2,-2.5914429237598702,4.5438184418550236,-1.7991631984054011,0.73340879641253598,-3.5280150655970455E-2,-2.6124471911923721,4.668495175169836,-2.0144741458093471,0.73671740612962389,-3.7185210071107699E-2,-2.5679261906500992,4.4912482210110349,-1.7568847583553495,0.72717082551365109,-3.4754061432544447E-2,-2.5679261906500992,4.4912482210110349,-1.7568847583553495,0.72717082551365109,-3.4754061432544447E-2,-2.6562334942989279,4.6920017596720109,-1.9233166971433415,0.75045818478750637,-3.6789867727047676E-2,null,"Octobre",{"$f":"IF(Hypothèses!$J$24=\"SV\",Données1!C110,Données1!C94)","v":0},{"$f":"IF(Hypothèses!$J$24=\"SV\",Données1!D110,Données1!D94)","v":0},{"$f":"IF(Hypothèses!$J$24=\"SV\",Données1!E110,Données1!E94)","v":0},{"$f":"IF(Hypothèses!$J$24=\"SV\",Données1!F110,Données1!F94)","v":0},{"$f":"IF(Hypothèses!$J$24=\"SV\",Données1!G110,Données1!G94)","v":0},{"$f":"IF(Hypothèses!$J$24=\"SV\",Données1!H110,Données1!H94)","v":0},{"$f":"IF(Hypothèses!$J$24=\"SV\",Données1!I110,Données1!I94)","v":0},{"$f":"IF(Hypothèses!$J$24=\"SV\",Données1!J110,Données1!J94)","v":0},{"$f":"IF(Hypothèses!$J$24=\"SV\",Données1!K110,Données1!K94)","v":0},{"$f":"IF(Hypothèses!$J$24=\"SV\",Données1!L110,Données1!L94)","v":0},{"$f":"IF(Hypothèses!$J$24=\"SV\",Données1!M110,Données1!M94)","v":0},{"$f":"IF(Hypothèses!$J$24=\"SV\",Données1!N110,Données1!N94)","v":0},{"$f":"IF(Hypothèses!$J$24=\"SV\",Données1!O110,Données1!O94)","v":0},{"$f":"IF(Hypothèses!$J$24=\"SV\",Données1!P110,Données1!P94)","v":0},{"$f":"IF(Hypothèses!$J$24=\"SV\",Données1!Q110,Données1!Q94)","v":0},{"$f":"IF(Hypothèses!$J$24=\"SV\",Données1!R110,Données1!R94)","v":0},{"$f":"IF(Hypothèses!$J$24=\"SV\",Données1!S110,Données1!S94)","v":0},{"$f":"IF(Hypothèses!$J$24=\"SV\",Données1!T110,Données1!T94)","v":0},{"$f":"IF(Hypothèses!$J$24=\"SV\",Données1!U110,Données1!U94)","v":0},{"$f":"IF(Hypothèses!$J$24=\"SV\",Données1!V110,Données1!V94)","v":0},{"$f":"IF(Hypothèses!$J$24=\"SV\",Données1!W110,Données1!W94)","v":0},{"$f":"IF(Hypothèses!$J$24=\"SV\",Données1!X110,Données1!X94)","v":0},{"$f":"IF(Hypothèses!$J$24=\"SV\",Données1!Y110,Données1!Y94)","v":0},{"$f":"IF(Hypothèses!$J$24=\"SV\",Données1!Z110,Données1!Z94)","v":0},{"$f":"IF(Hypothèses!$J$24=\"SV\",Données1!AA110,Données1!AA94)","v":0},{"$f":"IF(Hypothèses!$J$24=\"SV\",Données1!AB110,Données1!AB94)","v":0},{"$f":"IF(Hypothèses!$J$24=\"SV\",Données1!AC110,Données1!AC94)","v":0},{"$f":"IF(Hypothèses!$J$24=\"SV\",Données1!AD110,Données1!AD94)","v":0},{"$f":"IF(Hypothèses!$J$24=\"SV\",Données1!AE110,Données1!AE94)","v":0},{"$f":"IF(Hypothèses!$J$24=\"SV\",Données1!AF110,Données1!AF94)","v":0},{"$f":"IF(Hypothèses!$J$24=\"SV\",Données1!AG110,Données1!AG94)","v":0},{"$f":"IF(Hypothèses!$J$24=\"SV\",Données1!AH110,Données1!AH94)","v":0},{"$f":"IF(Hypothèses!$J$24=\"SV\",Données1!AI110,Données1!AI94)","v":0},{"$f":"IF(Hypothèses!$J$24=\"SV\",Données1!AJ110,Données1!AJ94)","v":0},{"$f":"IF(Hypothèses!$J$24=\"SV\",Données1!AK110,Données1!AK94)","v":0},{"$f":"IF(Hypothèses!$J$24=\"SV\",Données1!AL110,Données1!AL94)","v":0},{"$f":"IF(Hypothèses!$J$24=\"SV\",Données1!AM110,Données1!AM94)","v":0},{"$f":"IF(Hypothèses!$J$24=\"SV\",Données1!AN110,Données1!AN94)","v":0},{"$f":"IF(Hypothèses!$J$24=\"SV\",Données1!AO110,Données1!AO94)","v":0},{"$f":"IF(Hypothèses!$J$24=\"SV\",Données1!AP110,Données1!AP94)","v":0}]
[null,"Novembre",-2.4753395395997169,4.3057939937584706,-1.6400664593627352,0.70122639854683733,-3.305070753687489E-2,-2.5845786075878801,4.5563121995552898,-1.8506235312081101,0.73045000809891414,-3.562792957281119E-2,-2.5088594742382004,4.3702862297616436,-1.6761582765180807,0.71093174053771724,-3.3627597736994586E-2,-2.5088594742382004,4.3702862297616436,-1.6761582765180807,0.71093174053771724,-3.3627597736994586E-2,-2.8780237518982972,5.1561666429809847,-2.2494358800470784,0.81076767621974777,-4.1188996547285528E-2,-2.4740894788231169,4.2951253874068707,-1.6195695019180965,0.70153833845380931,-3.2893418697484744E-2,-2.4740894788231169,4.2951253874068707,-1.6195695019180965,0.70153833845380931,-3.2893418697484744E-2,-2.6247862086806069,4.6406372168593641,-1.9101308114156172,0.74141087727110588,-3.6429993089909907E-2,null,"Novembre",{"$f":"IF(Hypothèses!$J$24=\"SV\",Données1!C111,Données1!C95)","v":0},{"$f":"IF(Hypothèses!$J$24=\"SV\",Données1!D111,Données1!D95)","v":0},{"$f":"IF(Hypothèses!$J$24=\"SV\",Données1!E111,Données1!E95)","v":0},{"$f":"IF(Hypothèses!$J$24=\"SV\",Données1!F111,Données1!F95)","v":0},{"$f":"IF(Hypothèses!$J$24=\"SV\",Données1!G111,Données1!G95)","v":0},{"$f":"IF(Hypothèses!$J$24=\"SV\",Données1!H111,Données1!H95)","v":0},{"$f":"IF(Hypothèses!$J$24=\"SV\",Données1!I111,Données1!I95)","v":0},{"$f":"IF(Hypothèses!$J$24=\"SV\",Données1!J111,Données1!J95)","v":0},{"$f":"IF(Hypothèses!$J$24=\"SV\",Données1!K111,Données1!K95)","v":0},{"$f":"IF(Hypothèses!$J$24=\"SV\",Données1!L111,Données1!L95)","v":0},{"$f":"IF(Hypothèses!$J$24=\"SV\",Données1!M111,Données1!M95)","v":0},{"$f":"IF(Hypothèses!$J$24=\"SV\",Données1!N111,Données1!N95)","v":0},{"$f":"IF(Hypothèses!$J$24=\"SV\",Données1!O111,Données1!O95)","v":0},{"$f":"IF(Hypothèses!$J$24=\"SV\",Données1!P111,Données1!P95)","v":0},{"$f":"IF(Hypothèses!$J$24=\"SV\",Données1!Q111,Données1!Q95)","v":0},{"$f":"IF(Hypothèses!$J$24=\"SV\",Données1!R111,Données1!R95)","v":0},{"$f":"IF(Hypothèses!$J$24=\"SV\",Données1!S111,Données1!S95)","v":0},{"$f":"IF(Hypothèses!$J$24=\"SV\",Données1!T111,Données1!T95)","v":0},{"$f":"IF(Hypothèses!$J$24=\"SV\",Données1!U111,Données1!U95)","v":0},{"$f":"IF(Hypothèses!$J$24=\"SV\",Données1!V111,Données1!V95)","v":0},{"$f":"IF(Hypothèses!$J$24=\"SV\",Données1!W111,Données1!W95)","v":0},{"$f":"IF(Hypothèses!$J$24=\"SV\",Données1!X111,Données1!X95)","v":0},{"$f":"IF(Hypothèses!$J$24=\"SV\",Données1!Y111,Données1!Y95)","v":0},{"$f":"IF(Hypothèses!$J$24=\"SV\",Données1!Z111,Données1!Z95)","v":0},{"$f":"IF(Hypothèses!$J$24=\"SV\",Données1!AA111,Données1!AA95)","v":0},{"$f":"IF(Hypothèses!$J$24=\"SV\",Données1!AB111,Données1!AB95)","v":0},{"$f":"IF(Hypothèses!$J$24=\"SV\",Données1!AC111,Données1!AC95)","v":0},{"$f":"IF(Hypothèses!$J$24=\"SV\",Données1!AD111,Données1!AD95)","v":0},{"$f":"IF(Hypothèses!$J$24=\"SV\",Données1!AE111,Données1!AE95)","v":0},{"$f":"IF(Hypothèses!$J$24=\"SV\",Données1!AF111,Données1!AF95)","v":0},{"$f":"IF(Hypothèses!$J$24=\"SV\",Données1!AG111,Données1!AG95)","v":0},{"$f":"IF(Hypothèses!$J$24=\"SV\",Données1!AH111,Données1!AH95)","v":0},{"$f":"IF(Hypothèses!$J$24=\"SV\",Données1!AI111,Données1!AI95)","v":0},{"$f":"IF(Hypothèses!$J$24=\"SV\",Données1!AJ111,Données1!AJ95)","v":0},{"$f":"IF(Hypothèses!$J$24=\"SV\",Données1!AK111,Données1!AK95)","v":0},{"$f":"IF(Hypothèses!$J$24=\"SV\",Données1!AL111,Données1!AL95)","v":0},{"$f":"IF(Hypothèses!$J$24=\"SV\",Données1!AM111,Données1!AM95)","v":0},{"$f":"IF(Hypothèses!$J$24=\"SV\",Données1!AN111,Données1!AN95)","v":0},{"$f":"IF(Hypothèses!$J$24=\"SV\",Données1!AO111,Données1!AO95)","v":0},{"$f":"IF(Hypothèses!$J$24=\"SV\",Données1!AP111,Données1!AP95)","v":0}]
[null,"Décembre",-2.4753395395997497,4.3057939937585354,-1.6400664593627787,0.70122639854684832,-3.3050707536875723E-2,-2.5324602766391751,4.446510767661489,-1.7723520256965752,0.71625914215266862,-3.4579194082937859E-2,-2.4563626943554611,4.260841956818826,-1.6000466097434682,0.69646037194161559,-3.2586982911157414E-2,-2.4563626943554611,4.260841956818826,-1.6000466097434682,0.69646037194161559,-3.2586982911157414E-2,-2.8098423329383246,4.9922076030408293,-2.1006096983100293,0.79282730524995237,-3.9443157005708884E-2,-2.4571259489952788,4.2622889280487817,-1.6008428108972854,0.69664472464435145,-3.2598275237854468E-2,-2.4571259489952788,4.2622889280487817,-1.6008428108972854,0.69664472464435145,-3.2598275237854468E-2,-2.5345677082285945,4.4499450023592324,-1.773222941243735,0.71685710406360503,-3.4602831616930396E-2,null,"Décembre",{"$f":"IF(Hypothèses!$J$24=\"SV\",Données1!C112,Données1!C96)","v":0},{"$f":"IF(Hypothèses!$J$24=\"SV\",Données1!D112,Données1!D96)","v":0},{"$f":"IF(Hypothèses!$J$24=\"SV\",Données1!E112,Données1!E96)","v":0},{"$f":"IF(Hypothèses!$J$24=\"SV\",Données1!F112,Données1!F96)","v":0},{"$f":"IF(Hypothèses!$J$24=\"SV\",Données1!G112,Données1!G96)","v":0},{"$f":"IF(Hypothèses!$J$24=\"SV\",Données1!H112,Données1!H96)","v":0},{"$f":"IF(Hypothèses!$J$24=\"SV\",Données1!I112,Données1!I96)","v":0},{"$f":"IF(Hypothèses!$J$24=\"SV\",Données1!J112,Données1!J96)","v":0},{"$f":"IF(Hypothèses!$J$24=\"SV\",Données1!K112,Données1!K96)","v":0},{"$f":"IF(Hypothèses!$J$24=\"SV\",Données1!L112,Données1!L96)","v":0},{"$f":"IF(Hypothèses!$J$24=\"SV\",Données1!M112,Données1!M96)","v":0},{"$f":"IF(Hypothèses!$J$24=\"SV\",Données1!N112,Données1!N96)","v":0},{"$f":"IF(Hypothèses!$J$24=\"SV\",Données1!O112,Données1!O96)","v":0},{"$f":"IF(Hypothèses!$J$24=\"SV\",Données1!P112,Données1!P96)","v":0},{"$f":"IF(Hypothèses!$J$24=\"SV\",Données1!Q112,Données1!Q96)","v":0},{"$f":"IF(Hypothèses!$J$24=\"SV\",Données1!R112,Données1!R96)","v":0},{"$f":"IF(Hypothèses!$J$24=\"SV\",Données1!S112,Données1!S96)","v":0},{"$f":"IF(Hypothèses!$J$24=\"SV\",Données1!T112,Données1!T96)","v":0},{"$f":"IF(Hypothèses!$J$24=\"SV\",Données1!U112,Données1!U96)","v":0},{"$f":"IF(Hypothèses!$J$24=\"SV\",Données1!V112,Données1!V96)","v":0},{"$f":"IF(Hypothèses!$J$24=\"SV\",Données1!W112,Données1!W96)","v":0},{"$f":"IF(Hypothèses!$J$24=\"SV\",Données1!X112,Données1!X96)","v":0},{"$f":"IF(Hypothèses!$J$24=\"SV\",Données1!Y112,Données1!Y96)","v":0},{"$f":"IF(Hypothèses!$J$24=\"SV\",Données1!Z112,Données1!Z96)","v":0},{"$f":"IF(Hypothèses!$J$24=\"SV\",Données1!AA112,Données1!AA96)","v":0},{"$f":"IF(Hypothèses!$J$24=\"SV\",Données1!AB112,Données1!AB96)","v":0},{"$f":"IF(Hypothèses!$J$24=\"SV\",Données1!AC112,Données1!AC96)","v":0},{"$f":"IF(Hypothèses!$J$24=\"SV\",Données1!AD112,Données1!AD96)","v":0},{"$f":"IF(Hypothèses!$J$24=\"SV\",Données1!AE112,Données1!AE96)","v":0},{"$f":"IF(Hypothèses!$J$24=\"SV\",Données1!AF112,Données1!AF96)","v":0},{"$f":"IF(Hypothèses!$J$24=\"SV\",Données1!AG112,Données1!AG96)","v":0},{"$f":"IF(Hypothèses!$J$24=\"SV\",Données1!AH112,Données1!AH96)","v":0},{"$f":"IF(Hypothèses!$J$24=\"SV\",Données1!AI112,Données1!AI96)","v":0},{"$f":"IF(Hypothèses!$J$24=\"SV\",Données1!AJ112,Données1!AJ96)","v":0},{"$f":"IF(Hypothèses!$J$24=\"SV\",Données1!AK112,Données1!AK96)","v":0},{"$f":"IF(Hypothèses!$J$24=\"SV\",Données1!AL112,Données1!AL96)","v":0},{"$f":"IF(Hypothèses!$J$24=\"SV\",Données1!AM112,Données1!AM96)","v":0},{"$f":"IF(Hypothèses!$J$24=\"SV\",Données1!AN112,Données1!AN96)","v":0},{"$f":"IF(Hypothèses!$J$24=\"SV\",Données1!AO112,Données1!AO96)","v":0},{"$f":"IF(Hypothèses!$J$24=\"SV\",Données1!AP112,Données1!AP96)","v":0}]
[]
[]
[null,null,null,null,null,null,null,null,null,null,null,null,null,null,null,null,null,null,null,null,null,null,null,null,null,null,null,null,null,null,null,null,null,null,null,null,null,null,null,null,null,null,null,"Final","ORIENTATION"]
[null,null,null,null,null,null,null,null,null,null,null,null,null,null,null,null,null,null,null,null,null,null,null,null,null,null,null,null,null,null,null,null,null,null,null,null,null,null,null,null,null,null,null,null,"NORD",null,null,null,null,"NORD-EST",null,null,null,null,"EST",null,null,null,null,"SUD-EST",null,null,null,null,"SUD",null,null,null,null,"SUD-OUEST",null,null,null,null,"OUEST",null,null,null,null,"NORD-OUEST"]
[null,null,null,null,null,null,null,null,null,null,null,null,null,null,null,null,null,null,null,null,null,null,null,null,null,null,null,null,null,null,null,null,null,null,null,null,null,null,null,null,null,null,null,null,"a","b","c","d","e","a","b","c","d","e","a","b","c","d","e","a","b","c","d","e","a","b","c","d","e","a","b","c","d","e","a","b","c","d","e","a","b","c","d","e"]
[null,null,null,null,null,null,null,null,null,null,null,null,null,null,null,null,null,null,null,null,null,null,null,null,null,null,null,null,null,null,null,null,null,null,null,null,null,null,null,null,null,null,null,"Janvier",{"$f":"IF(Station=Données1!$J$5,AS52,AS68)","v":-2.4753395395996702},{"$f":"IF(Station=Données1!$J$5,AT52,AT68)","v":4.3057939937583756},{"$f":"IF(Station=Données1!$J$5,AU52,AU68)","v":-1.6400664593626766},{"$f":"IF(Station=Données1!$J$5,AV52,AV68)","v":0.70122639854682423},{"$f":"IF(Station=Données1!$J$5,AW52,AW68)","v":-3.3050707536873947E-2},{"$f":"IF(Station=Données1!$J$5,AX52,AX68)","v":-2.5451551650293509},{"$f":"IF(Station=Données1!$J$5,AY52,AY68)","v":4.4675020255701003},{"$f":"IF(Station=Données1!$J$5,AZ52,AZ68)","v":-1.7782866531424328},{"$f":"IF(Station=Données1!$J$5,BA52,BA68)","v":0.7198615746448801},{"$f":"IF(Station=Données1!$J$5,BB52,BB68)","v":-3.4727553162436697E-2},{"$f":"IF(Station=Données1!$J$5,BC52,BC68)","v":-2.479354476804521},{"$f":"IF(Station=Données1!$J$5,BD52,BD68)","v":4.3083776970053949},{"$f":"IF(Station=Données1!$J$5,BE52,BE68)","v":-1.6325004785026511},{"$f":"IF(Station=Données1!$J$5,BF52,BF68)","v":0.70276770967226254},{"$f":"IF(Station=Données1!$J$5,BG52,BG68)","v":-3.3033767234172229E-2},{"$f":"IF(Station=Données1!$J$5,BH52,BH68)","v":-2.479354476804521},{"$f":"IF(Station=Données1!$J$5,BI52,BI68)","v":4.3083776970053949},{"$f":"IF(Station=Données1!$J$5,BJ52,BJ68)","v":-1.6325004785026511},{"$f":"IF(Station=Données1!$J$5,BK52,BK68)","v":0.70276770967226254},{"$f":"IF(Station=Données1!$J$5,BL52,BL68)","v":-3.3033767234172229E-2},{"$f":"IF(Station=Données1!$J$5,BM52,BM68)","v":-2.7777850285108672},{"$f":"IF(Station=Données1!$J$5,BN52,BN68)","v":4.9353373235901348},{"$f":"IF(Station=Données1!$J$5,BO52,BO68)","v":-2.0768494723013449},{"$f":"IF(Station=Données1!$J$5,BP52,BP68)","v":0.78376335610669878},{"$f":"IF(Station=Données1!$J$5,BQ52,BQ68)","v":-3.8994104640358629E-2},{"$f":"IF(Station=Données1!$J$5,BR52,BR68)","v":-2.4681731601116583},{"$f":"IF(Station=Données1!$J$5,BS52,BS68)","v":4.287459605158463},{"$f":"IF(Station=Données1!$J$5,BT52,BT68)","v":-1.6217605544829989},{"$f":"IF(Station=Données1!$J$5,BU52,BU68)","v":0.69960671073810965},{"$f":"IF(Station=Données1!$J$5,BV52,BV68)","v":-3.2855952133643507E-2},{"$f":"IF(Station=Données1!$J$5,BW52,BW68)","v":-2.4681731601116583},{"$f":"IF(Station=Données1!$J$5,BX52,BX68)","v":4.287459605158463},{"$f":"IF(Station=Données1!$J$5,BY52,BY68)","v":-1.6217605544829989},{"$f":"IF(Station=Données1!$J$5,BZ52,BZ68)","v":0.69960671073810965},{"$f":"IF(Station=Données1!$J$5,CA52,CA68)","v":-3.2855952133643507E-2},{"$f":"IF(Station=Données1!$J$5,CB52,CB68)","v":-2.5412368926890063},{"$f":"IF(Station=Données1!$J$5,CC52,CC68)","v":4.4581834898156414},{"$f":"IF(Station=Données1!$J$5,CD52,CD68)","v":-1.7699758861819272},{"$f":"IF(Station=Données1!$J$5,CE52,CE68)","v":0.71882020817885905},{"$f":"IF(Station=Données1!$J$5,CF52,CF68)","v":-3.4628856801194263E-2}]
[null,null,null,null,null,null,null,null,null,null,null,null,null,null,null,null,null,null,null,null,null,null,null,null,null,null,null,null,null,null,null,null,null,null,null,null,null,null,null,null,null,null,null,"Février",{"$f":"IF(Station=Données1!$J$5,AS53,AS69)","v":-2.4753395395998061},{"$f":"IF(Station=Données1!$J$5,AT53,AT69)","v":4.3057939937586154},{"$f":"IF(Station=Données1!$J$5,AU53,AU69)","v":-1.6400664593628096},{"$f":"IF(Station=Données1!$J$5,AV53,AV69)","v":0.70122639854685154},{"$f":"IF(Station=Données1!$J$5,AW53,AW69)","v":-3.3050707536875779E-2},{"$f":"IF(Station=Données1!$J$5,AX53,AX69)","v":-2.5829523918308031},{"$f":"IF(Station=Données1!$J$5,AY53,AY69)","v":4.5402702503215675},{"$f":"IF(Station=Données1!$J$5,AZ53,AZ69)","v":-1.8193730498097},{"$f":"IF(Station=Données1!$J$5,BA53,BA69)","v":0.73035658547616311},{"$f":"IF(Station=Données1!$J$5,BB53,BB69)","v":-3.5361554381573013E-2},{"$f":"IF(Station=Données1!$J$5,BC53,BC69)","v":-2.5317219670577149},{"$f":"IF(Station=Données1!$J$5,BD53,BD69)","v":4.4166458105701532},{"$f":"IF(Station=Données1!$J$5,BE53,BE69)","v":-1.7064025627250639},{"$f":"IF(Station=Données1!$J$5,BF53,BF69)","v":0.71715243897255143},{"$f":"IF(Station=Données1!$J$5,BG53,BG69)","v":-3.4052075096493661E-2},{"$f":"IF(Station=Données1!$J$5,BH53,BH69)","v":-2.5317219670577149},{"$f":"IF(Station=Données1!$J$5,BI53,BI69)","v":4.4166458105701532},{"$f":"IF(Station=Données1!$J$5,BJ53,BJ69)","v":-1.7064025627250639},{"$f":"IF(Station=Données1!$J$5,BK53,BK69)","v":0.71715243897255143},{"$f":"IF(Station=Données1!$J$5,BL53,BL69)","v":-3.4052075096493661E-2},{"$f":"IF(Station=Données1!$J$5,BM53,BM69)","v":-2.6738184331639046},{"$f":"IF(Station=Données1!$J$5,BN53,BN69)","v":4.7541152951306538},{"$f":"IF(Station=Données1!$J$5,BO53,BO69)","v":-2.0070065975068552},{"$f":"IF(Station=Données1!$J$5,BP53,BP69)","v":0.75448461742485362},{"$f":"IF(Station=Données1!$J$5,BQ53,BQ69)","v":-3.7605332702053518E-2},{"$f":"IF(Station=Données1!$J$5,BR53,BR69)","v":-2.5177468995447132},{"$f":"IF(Station=Données1!$J$5,BS53,BS69)","v":4.390700124356349},{"$f":"IF(Station=Données1!$J$5,BT53,BT69)","v":-1.6934243417929353},{"$f":"IF(Station=Données1!$J$5,BU53,BU69)","v":0.71321066257467414},{"$f":"IF(Station=Données1!$J$5,BV53,BV69)","v":-3.3834080493649554E-2},{"$f":"IF(Station=Données1!$J$5,BW53,BW69)","v":-2.5177468995447132},{"$f":"IF(Station=Données1!$J$5,BX53,BX69)","v":4.390700124356349},{"$f":"IF(Station=Données1!$J$5,BY53,BY69)","v":-1.6934243417929353},{"$f":"IF(Station=Données1!$J$5,BZ53,BZ69)","v":0.71321066257467414},{"$f":"IF(Station=Données1!$J$5,CA53,CA69)","v":-3.3834080493649554E-2},{"$f":"IF(Station=Données1!$J$5,CB53,CB69)","v":-2.5704542891933921},{"$f":"IF(Station=Données1!$J$5,CC53,CC69)","v":4.5128418642297952},{"$f":"IF(Station=Données1!$J$5,CD53,CD69)","v":-1.7981044442193352},{"$f":"IF(Station=Données1!$J$5,CE53,CE69)","v":0.72697171022282248},{"$f":"IF(Station=Données1!$J$5,CF53,CF69)","v":-3.5089258360258946E-2}]
[null,null,null,null,null,null,null,null,null,null,null,null,null,null,null,null,null,null,null,null,null,null,null,null,null,null,null,null,null,null,null,null,null,null,null,null,null,null,null,null,null,null,null,"Mars",{"$f":"IF(Station=Données1!$J$5,AS54,AS70)","v":-2.4391678062982374},{"$f":"IF(Station=Données1!$J$5,AT54,AT70)","v":4.2452428631900867},{"$f":"IF(Station=Données1!$J$5,AU54,AU70)","v":-1.6214896906354348},{"$f":"IF(Station=Données1!$J$5,AV54,AV70)","v":0.69094509141230531},{"$f":"IF(Station=Données1!$J$5,AW54,AW70)","v":-3.2612823541582958E-2},{"$f":"IF(Station=Données1!$J$5,AX54,AX70)","v":-2.6056715391917091},{"$f":"IF(Station=Données1!$J$5,AY54,AY70)","v":4.5773906622327711},{"$f":"IF(Station=Données1!$J$5,AZ54,AZ70)","v":-1.8288581804433093},{"$f":"IF(Station=Données1!$J$5,BA54,BA70)","v":0.73700076105368151},{"$f":"IF(Station=Données1!$J$5,BB54,BB70)","v":-3.5625969798844137E-2},{"$f":"IF(Station=Données1!$J$5,BC54,BC70)","v":-2.6106347596017372},{"$f":"IF(Station=Données1!$J$5,BD54,BD70)","v":4.5848842677261459},{"$f":"IF(Station=Données1!$J$5,BE54,BE70)","v":-1.8295331221753406},{"$f":"IF(Station=Données1!$J$5,BF54,BF70)","v":0.73845538863285154},{"$f":"IF(Station=Données1!$J$5,BG54,BG70)","v":-3.5671790971071204E-2},{"$f":"IF(Station=Données1!$J$5,BH54,BH70)","v":-2.6106347596017372},{"$f":"IF(Station=Données1!$J$5,BI54,BI70)","v":4.5848842677261459},{"$f":"IF(Station=Données1!$J$5,BJ54,BJ70)","v":-1.8295331221753406},{"$f":"IF(Station=Données1!$J$5,BK54,BK70)","v":0.73845538863285154},{"$f":"IF(Station=Données1!$J$5,BL54,BL70)","v":-3.5671790971071204E-2},{"$f":"IF(Station=Données1!$J$5,BM54,BM70)","v":-2.4368073610269754},{"$f":"IF(Station=Données1!$J$5,BN54,BN70)","v":4.2618956591124952},{"$f":"IF(Station=Données1!$J$5,BO54,BO70)","v":-1.6672630411516125},{"$f":"IF(Station=Données1!$J$5,BP54,BP70)","v":0.68980441183404018},{"$f":"IF(Station=Données1!$J$5,BQ54,BQ70)","v":-3.2969759823827938E-2},{"$f":"IF(Station=Données1!$J$5,BR54,BR70)","v":-2.609916336183475},{"$f":"IF(Station=Données1!$J$5,BS54,BS70)","v":4.5833582147825895},{"$f":"IF(Station=Données1!$J$5,BT54,BT70)","v":-1.8284253176922864},{"$f":"IF(Station=Données1!$J$5,BU54,BU70)","v":0.73826064760176635},{"$f":"IF(Station=Données1!$J$5,BV54,BV70)","v":-3.5657123653755951E-2},{"$f":"IF(Station=Données1!$J$5,BW54,BW70)","v":-2.609916336183475},{"$f":"IF(Station=Données1!$J$5,BX54,BX70)","v":4.5833582147825895},{"$f":"IF(Station=Données1!$J$5,BY54,BY70)","v":-1.8284253176922864},{"$f":"IF(Station=Données1!$J$5,BZ54,BZ70)","v":0.73826064760176635},{"$f":"IF(Station=Données1!$J$5,CA54,CA70)","v":-3.5657123653755951E-2},{"$f":"IF(Station=Données1!$J$5,CB54,CB70)","v":-2.6037430399743},{"$f":"IF(Station=Données1!$J$5,CC54,CC70)","v":4.5724701880739298},{"$f":"IF(Station=Données1!$J$5,CD54,CD70)","v":-1.8239982525871734},{"$f":"IF(Station=Données1!$J$5,CE54,CE70)","v":0.73650804613132859},{"$f":"IF(Station=Données1!$J$5,CF54,CF70)","v":-3.55716165565646E-2}]
[null,null,null,null,null,null,null,null,null,null,null,null,null,null,null,null,null,null,null,null,null,null,null,null,null,null,null,null,null,null,null,null,null,null,null,null,null,null,null,null,null,null,null,"Avril",{"$f":"IF(Station=Données1!$J$5,AS55,AS71)","v":-2.4312338177064112},{"$f":"IF(Station=Données1!$J$5,AT55,AT71)","v":4.2715500481499147},{"$f":"IF(Station=Données1!$J$5,AU55,AU71)","v":-1.7077012760085906},{"$f":"IF(Station=Données1!$J$5,AV55,AV71)","v":0.68777374620058018},{"$f":"IF(Station=Données1!$J$5,AW55,AW71)","v":-3.3256964817452883E-2},{"$f":"IF(Station=Données1!$J$5,AX55,AX71)","v":-2.567158062553704},{"$f":"IF(Station=Données1!$J$5,AY55,AY71)","v":4.4951451357829821},{"$f":"IF(Station=Données1!$J$5,AZ55,AZ71)","v":-1.7684617746686409},{"$f":"IF(Station=Données1!$J$5,BA55,BA71)","v":0.72659269509432756},{"$f":"IF(Station=Données1!$J$5,BB55,BB71)","v":-3.483235760323683E-2},{"$f":"IF(Station=Données1!$J$5,BC55,BC71)","v":-2.6068460611940938},{"$f":"IF(Station=Données1!$J$5,BD55,BD71)","v":4.5839199184876618},{"$f":"IF(Station=Données1!$J$5,BE55,BE71)","v":-1.8399488325474656},{"$f":"IF(Station=Données1!$J$5,BF55,BF71)","v":0.73710128402328567},{"$f":"IF(Station=Données1!$J$5,BG55,BG71)","v":-3.5720549193998419E-2},{"$f":"IF(Station=Données1!$J$5,BH55,BH71)","v":-2.6068460611940938},{"$f":"IF(Station=Données1!$J$5,BI55,BI71)","v":4.5839199184876618},{"$f":"IF(Station=Données1!$J$5,BJ55,BJ71)","v":-1.8399488325474656},{"$f":"IF(Station=Données1!$J$5,BK55,BK71)","v":0.73710128402328567},{"$f":"IF(Station=Données1!$J$5,BL55,BL71)","v":-3.5720549193998419E-2},{"$f":"IF(Station=Données1!$J$5,BM55,BM71)","v":-2.4683986141007055},{"$f":"IF(Station=Données1!$J$5,BN55,BN71)","v":4.2938361319984315},{"$f":"IF(Station=Données1!$J$5,BO55,BO71)","v":-1.6357306823142548},{"$f":"IF(Station=Données1!$J$5,BP55,BP71)","v":0.69925884797122106},{"$f":"IF(Station=Données1!$J$5,BQ55,BQ71)","v":-3.2960249665770158E-2},{"$f":"IF(Station=Données1!$J$5,BR55,BR71)","v":-2.616009515710076},{"$f":"IF(Station=Données1!$J$5,BS55,BS71)","v":4.6018245912627185},{"$f":"IF(Station=Données1!$J$5,BT55,BT71)","v":-1.850500859139371},{"$f":"IF(Station=Données1!$J$5,BU55,BU71)","v":0.73965306246824336},{"$f":"IF(Station=Données1!$J$5,BV55,BV71)","v":-3.5879694167715803E-2},{"$f":"IF(Station=Données1!$J$5,BW55,BW71)","v":-2.616009515710076},{"$f":"IF(Station=Données1!$J$5,BX55,BX71)","v":4.6018245912627185},{"$f":"IF(Station=Données1!$J$5,BY55,BY71)","v":-1.850500859139371},{"$f":"IF(Station=Données1!$J$5,BZ55,BZ71)","v":0.73965306246824336},{"$f":"IF(Station=Données1!$J$5,CA55,CA71)","v":-3.5879694167715803E-2},{"$f":"IF(Station=Données1!$J$5,CB55,CB71)","v":-2.5669199703142866},{"$f":"IF(Station=Données1!$J$5,CC55,CC71)","v":4.4939239806448725},{"$f":"IF(Station=Données1!$J$5,CD55,CD71)","v":-1.7664431275818377},{"$f":"IF(Station=Données1!$J$5,CE55,CE71)","v":0.72657625725311137},{"$f":"IF(Station=Données1!$J$5,CF55,CF71)","v":-3.4815344762271661E-2}]
[null,null,null,null,null,null,null,null,null,null,null,null,null,null,null,null,null,null,null,null,null,null,null,null,null,null,null,null,null,null,null,null,null,null,null,null,null,null,null,null,null,null,null,"Mai",{"$f":"IF(Station=Données1!$J$5,AS56,AS72)","v":-2.7347067502377911},{"$f":"IF(Station=Données1!$J$5,AT56,AT72)","v":4.8963680895266686},{"$f":"IF(Station=Données1!$J$5,AU56,AU72)","v":-2.1303443195444749},{"$f":"IF(Station=Données1!$J$5,AV56,AV72)","v":0.77070222730130067},{"$f":"IF(Station=Données1!$J$5,AW56,AW72)","v":-3.909036599814647E-2},{"$f":"IF(Station=Données1!$J$5,AX56,AX72)","v":-2.531345916643323},{"$f":"IF(Station=Données1!$J$5,AY56,AY72)","v":4.4174261534526815},{"$f":"IF(Station=Données1!$J$5,AZ56,AZ72)","v":-1.7094077865588182},{"$f":"IF(Station=Données1!$J$5,BA56,BA72)","v":0.71703975173707801},{"$f":"IF(Station=Données1!$J$5,BB56,BB72)","v":-3.4074923679401237E-2},{"$f":"IF(Station=Données1!$J$5,BC56,BC72)","v":-2.6157435479794149},{"$f":"IF(Station=Données1!$J$5,BD56,BD72)","v":4.6177390117054724},{"$f":"IF(Station=Données1!$J$5,BE56,BE72)","v":-1.8877717026711567},{"$f":"IF(Station=Données1!$J$5,BF56,BF72)","v":0.73904475920887625},{"$f":"IF(Station=Données1!$J$5,BG56,BG72)","v":-3.6176371651270745E-2},{"$f":"IF(Station=Données1!$J$5,BH56,BH72)","v":-2.6157435479794149},{"$f":"IF(Station=Données1!$J$5,BI56,BI72)","v":4.6177390117054724},{"$f":"IF(Station=Données1!$J$5,BJ56,BJ72)","v":-1.8877717026711567},{"$f":"IF(Station=Données1!$J$5,BK56,BK72)","v":0.73904475920887625},{"$f":"IF(Station=Données1!$J$5,BL56,BL72)","v":-3.6176371651270745E-2},{"$f":"IF(Station=Données1!$J$5,BM56,BM72)","v":-2.4753395395999256},{"$f":"IF(Station=Données1!$J$5,BN56,BN72)","v":4.3057939937588579},{"$f":"IF(Station=Données1!$J$5,BO56,BO72)","v":-1.640066459362971},{"$f":"IF(Station=Données1!$J$5,BP56,BP72)","v":0.70122639854689017},{"$f":"IF(Station=Données1!$J$5,BQ56,BQ72)","v":-3.3050707536878221E-2},{"$f":"IF(Station=Données1!$J$5,BR56,BR72)","v":-2.6138294121518193},{"$f":"IF(Station=Données1!$J$5,BS56,BS72)","v":4.6130237949804718},{"$f":"IF(Station=Données1!$J$5,BT56,BT72)","v":-1.8833405607273042},{"$f":"IF(Station=Données1!$J$5,BU56,BU72)","v":0.7385390712959794},{"$f":"IF(Station=Données1!$J$5,BV56,BV72)","v":-3.6125081361122968E-2},{"$f":"IF(Station=Données1!$J$5,BW56,BW72)","v":-2.6138294121518193},{"$f":"IF(Station=Données1!$J$5,BX56,BX72)","v":4.6130237949804718},{"$f":"IF(Station=Données1!$J$5,BY56,BY72)","v":-1.8833405607273042},{"$f":"IF(Station=Données1!$J$5,BZ56,BZ72)","v":0.7385390712959794},{"$f":"IF(Station=Données1!$J$5,CA56,CA72)","v":-3.6125081361122968E-2},{"$f":"IF(Station=Données1!$J$5,CB56,CB72)","v":-2.5152816384838381},{"$f":"IF(Station=Données1!$J$5,CC56,CC72)","v":4.384517196468634},{"$f":"IF(Station=Données1!$J$5,CD56,CD72)","v":-1.6874274366343476},{"$f":"IF(Station=Données1!$J$5,CE56,CE72)","v":0.71262338939791225},{"$f":"IF(Station=Données1!$J$5,CF56,CF72)","v":-3.3768349266413922E-2}]
[null,null,null,null,null,null,null,null,null,null,null,null,null,null,null,null,null,null,null,null,null,null,null,null,null,null,null,null,null,null,null,null,null,null,null,null,null,null,null,null,null,null,null,"Juin",{"$f":"IF(Station=Données1!$J$5,AS57,AS73)","v":-2.7959817147155395},{"$f":"IF(Station=Données1!$J$5,AT57,AT73)","v":4.9953046651426787},{"$f":"IF(Station=Données1!$J$5,AU57,AU73)","v":-2.1535832124765442},{"$f":"IF(Station=Données1!$J$5,AV57,AV73)","v":0.78810064924144163},{"$f":"IF(Station=Données1!$J$5,AW57,AW73)","v":-3.9760169266062795E-2},{"$f":"IF(Station=Données1!$J$5,AX57,AX73)","v":-2.4935400386531681},{"$f":"IF(Station=Données1!$J$5,AY57,AY73)","v":4.3378782597898997},{"$f":"IF(Station=Données1!$J$5,AZ57,AZ73)","v":-1.6529009729010349},{"$f":"IF(Station=Données1!$J$5,BA57,BA73)","v":0.70667861775785923},{"$f":"IF(Station=Données1!$J$5,BB57,BB73)","v":-3.3313543946369262E-2},{"$f":"IF(Station=Données1!$J$5,BC57,BC73)","v":-2.5794875831237181},{"$f":"IF(Station=Données1!$J$5,BD57,BD73)","v":4.5462107779067589},{"$f":"IF(Station=Données1!$J$5,BE57,BE73)","v":-1.8444083072280859},{"$f":"IF(Station=Données1!$J$5,BF57,BF73)","v":0.72903841594940422},{"$f":"IF(Station=Données1!$J$5,BG57,BG73)","v":-3.5536732703976281E-2},{"$f":"IF(Station=Données1!$J$5,BH57,BH73)","v":-2.5794875831237181},{"$f":"IF(Station=Données1!$J$5,BI57,BI73)","v":4.5462107779067589},{"$f":"IF(Station=Données1!$J$5,BJ57,BJ73)","v":-1.8444083072280859},{"$f":"IF(Station=Données1!$J$5,BK57,BK73)","v":0.72903841594940422},{"$f":"IF(Station=Données1!$J$5,BL57,BL73)","v":-3.5536732703976281E-2},{"$f":"IF(Station=Données1!$J$5,BM57,BM73)","v":-2.4753395395996867},{"$f":"IF(Station=Données1!$J$5,BN57,BN73)","v":4.3057939937584226},{"$f":"IF(Station=Données1!$J$5,BO57,BO73)","v":-1.6400664593627126},{"$f":"IF(Station=Données1!$J$5,BP57,BP73)","v":0.70122639854683244},{"$f":"IF(Station=Données1!$J$5,BQ57,BQ73)","v":-3.3050707536874724E-2},{"$f":"IF(Station=Données1!$J$5,BR57,BR73)","v":-2.5651886734848737},{"$f":"IF(Station=Données1!$J$5,BS57,BS73)","v":4.5143203272084307},{"$f":"IF(Station=Données1!$J$5,BT57,BT73)","v":-1.8189031666028763},{"$f":"IF(Station=Données1!$J$5,BU57,BU73)","v":0.72519169114032056},{"$f":"IF(Station=Données1!$J$5,BV57,BV73)","v":-3.5216212570733652E-2},{"$f":"IF(Station=Données1!$J$5,BW57,BW73)","v":-2.5651886734848737},{"$f":"IF(Station=Données1!$J$5,BX57,BX73)","v":4.5143203272084307},{"$f":"IF(Station=Données1!$J$5,BY57,BY73)","v":-1.8189031666028763},{"$f":"IF(Station=Données1!$J$5,BZ57,BZ73)","v":0.72519169114032056},{"$f":"IF(Station=Données1!$J$5,CA57,CA73)","v":-3.5216212570733652E-2},{"$f":"IF(Station=Données1!$J$5,CB57,CB73)","v":-2.4948544050900772},{"$f":"IF(Station=Données1!$J$5,CC57,CC73)","v":4.3425568408707234},{"$f":"IF(Station=Données1!$J$5,CD57,CD73)","v":-1.6592493572515565},{"$f":"IF(Station=Données1!$J$5,CE57,CE73)","v":0.70696128773485301},{"$f":"IF(Station=Données1!$J$5,CF57,CF73)","v":-3.3374490523401135E-2}]
[null,null,null,null,null,null,null,null,null,null,null,null,null,null,null,null,null,null,null,null,null,null,null,null,null,null,null,null,null,null,null,null,null,null,null,null,null,null,null,null,null,null,null,"Juillet",{"$f":"IF(Station=Données1!$J$5,AS58,AS74)","v":-2.784535594255543},{"$f":"IF(Station=Données1!$J$5,AT58,AT74)","v":4.9915771242337099},{"$f":"IF(Station=Données1!$J$5,AU58,AU74)","v":-2.1829041270804006},{"$f":"IF(Station=Données1!$J$5,AV58,AV74)","v":0.78448647202257893},{"$f":"IF(Station=Données1!$J$5,AW58,AW74)","v":-3.9910019818280129E-2},{"$f":"IF(Station=Données1!$J$5,AX58,AX74)","v":-2.5218474627897467},{"$f":"IF(Station=Données1!$J$5,AY58,AY74)","v":4.3985606145466489},{"$f":"IF(Station=Données1!$J$5,AZ58,AZ74)","v":-1.6977676928708025},{"$f":"IF(Station=Données1!$J$5,BA58,BA74)","v":0.71440769566768958},{"$f":"IF(Station=Données1!$J$5,BB58,BB74)","v":-3.3904463480847025E-2},{"$f":"IF(Station=Données1!$J$5,BC58,BC74)","v":-2.610735773384631},{"$f":"IF(Station=Données1!$J$5,BD58,BD74)","v":4.6111067210253722},{"$f":"IF(Station=Données1!$J$5,BE58,BE74)","v":-1.8891958813307292},{"$f":"IF(Station=Données1!$J$5,BF58,BF74)","v":0.73757544860966473},{"$f":"IF(Station=Données1!$J$5,BG58,BG74)","v":-3.6148271717822367E-2},{"$f":"IF(Station=Données1!$J$5,BH58,BH74)","v":-2.610735773384631},{"$f":"IF(Station=Données1!$J$5,BI58,BI74)","v":4.6111067210253722},{"$f":"IF(Station=Données1!$J$5,BJ58,BJ74)","v":-1.8891958813307292},{"$f":"IF(Station=Données1!$J$5,BK58,BK74)","v":0.73757544860966473},{"$f":"IF(Station=Données1!$J$5,BL58,BL74)","v":-3.6148271717822367E-2},{"$f":"IF(Station=Données1!$J$5,BM58,BM74)","v":-2.4753395395997049},{"$f":"IF(Station=Données1!$J$5,BN58,BN74)","v":4.3057939937584377},{"$f":"IF(Station=Données1!$J$5,BO58,BO74)","v":-1.6400664593627055},{"$f":"IF(Station=Données1!$J$5,BP58,BP74)","v":0.70122639854682867},{"$f":"IF(Station=Données1!$J$5,BQ58,BQ74)","v":-3.305070753687428E-2},{"$f":"IF(Station=Données1!$J$5,BR58,BR74)","v":-2.60698025878933},{"$f":"IF(Station=Données1!$J$5,BS58,BS74)","v":4.6026867626294639},{"$f":"IF(Station=Données1!$J$5,BT58,BT74)","v":-1.8823979546378473},{"$f":"IF(Station=Données1!$J$5,BU58,BU74)","v":0.73656378118997456},{"$f":"IF(Station=Données1!$J$5,BV58,BV74)","v":-3.606317186325031E-2},{"$f":"IF(Station=Données1!$J$5,BW58,BW74)","v":-2.60698025878933},{"$f":"IF(Station=Données1!$J$5,BX58,BX74)","v":4.6026867626294639},{"$f":"IF(Station=Données1!$J$5,BY58,BY74)","v":-1.8823979546378473},{"$f":"IF(Station=Données1!$J$5,BZ58,BZ74)","v":0.73656378118997456},{"$f":"IF(Station=Données1!$J$5,CA58,CA74)","v":-3.606317186325031E-2},{"$f":"IF(Station=Données1!$J$5,CB58,CB74)","v":-2.5201910593070447},{"$f":"IF(Station=Données1!$J$5,CC58,CC74)","v":4.3956382743155684},{"$f":"IF(Station=Données1!$J$5,CD58,CD74)","v":-1.6965740989203109},{"$f":"IF(Station=Données1!$J$5,CE58,CE74)","v":0.71394331543070555},{"$f":"IF(Station=Données1!$J$5,CF58,CF74)","v":-3.3881730856403391E-2}]
[null,null,null,null,null,null,null,null,null,null,null,null,null,null,null,null,null,null,null,null,null,null,null,null,null,null,null,null,null,null,null,null,null,null,null,null,null,null,null,null,null,null,null,"Août",{"$f":"IF(Station=Données1!$J$5,AS59,AS75)","v":-2.5296982891892328},{"$f":"IF(Station=Données1!$J$5,AT59,AT75)","v":4.5065505282884883},{"$f":"IF(Station=Données1!$J$5,AU59,AU75)","v":-1.9184369250907205},{"$f":"IF(Station=Données1!$J$5,AV59,AV75)","v":0.71392778443603255},{"$f":"IF(Station=Données1!$J$5,AW59,AW75)","v":-3.5752836371676366E-2},{"$f":"IF(Station=Données1!$J$5,AX59,AX75)","v":-2.5664304465778733},{"$f":"IF(Station=Données1!$J$5,AY59,AY75)","v":4.4909445119350462},{"$f":"IF(Station=Données1!$J$5,AZ59,AZ75)","v":-1.7611836977308186},{"$f":"IF(Station=Données1!$J$5,BA59,BA75)","v":0.72661660406239192},{"$f":"IF(Station=Données1!$J$5,BB59,BB75)","v":-3.4774057880389786E-2},{"$f":"IF(Station=Données1!$J$5,BC59,BC75)","v":-2.6545516788768411},{"$f":"IF(Station=Données1!$J$5,BD59,BD75)","v":4.6914995184800556},{"$f":"IF(Station=Données1!$J$5,BE59,BE75)","v":-1.9277622212064764},{"$f":"IF(Station=Données1!$J$5,BF59,BF75)","v":0.74987289418859793},{"$f":"IF(Station=Données1!$J$5,BG59,BG75)","v":-3.6810671540085327E-2},{"$f":"IF(Station=Données1!$J$5,BH59,BH75)","v":-2.6545516788768411},{"$f":"IF(Station=Données1!$J$5,BI59,BI75)","v":4.6914995184800556},{"$f":"IF(Station=Données1!$J$5,BJ59,BJ75)","v":-1.9277622212064764},{"$f":"IF(Station=Données1!$J$5,BK59,BK75)","v":0.74987289418859793},{"$f":"IF(Station=Données1!$J$5,BL59,BL75)","v":-3.6810671540085327E-2},{"$f":"IF(Station=Données1!$J$5,BM59,BM75)","v":-2.4753395395998039},{"$f":"IF(Station=Données1!$J$5,BN59,BN75)","v":4.3057939937585958},{"$f":"IF(Station=Données1!$J$5,BO59,BO75)","v":-1.6400664593627858},{"$f":"IF(Station=Données1!$J$5,BP59,BP75)","v":0.70122639854684432},{"$f":"IF(Station=Données1!$J$5,BQ59,BQ75)","v":-3.3050707536875279E-2},{"$f":"IF(Station=Données1!$J$5,BR59,BR75)","v":-2.6389104581280773},{"$f":"IF(Station=Données1!$J$5,BS59,BS75)","v":4.6573709583213621},{"$f":"IF(Station=Données1!$J$5,BT59,BT75)","v":-1.9015907210441343},{"$f":"IF(Station=Données1!$J$5,BU59,BU75)","v":0.74564015790926552},{"$f":"IF(Station=Données1!$J$5,BV59,BV75)","v":-3.6473902542220049E-2},{"$f":"IF(Station=Données1!$J$5,BW59,BW75)","v":-2.6389104581280773},{"$f":"IF(Station=Données1!$J$5,BX59,BX75)","v":4.6573709583213621},{"$f":"IF(Station=Données1!$J$5,BY59,BY75)","v":-1.9015907210441343},{"$f":"IF(Station=Données1!$J$5,BZ59,BZ75)","v":0.74564015790926552},{"$f":"IF(Station=Données1!$J$5,CA59,CA75)","v":-3.6473902542220049E-2},{"$f":"IF(Station=Données1!$J$5,CB59,CB75)","v":-2.5650139129907359},{"$f":"IF(Station=Données1!$J$5,CC59,CC75)","v":4.4900742441058288},{"$f":"IF(Station=Données1!$J$5,CD59,CD75)","v":-1.7639031067818991},{"$f":"IF(Station=Données1!$J$5,CE59,CE75)","v":0.72614173450762332},{"$f":"IF(Station=Données1!$J$5,CF59,CF75)","v":-3.4783518694077087E-2}]
[null,null,null,null,null,null,null,null,null,null,null,null,null,null,null,null,null,null,null,null,null,null,null,null,null,null,null,null,null,null,null,null,null,null,null,null,null,null,null,null,null,null,null,"Septembre",{"$f":"IF(Station=Données1!$J$5,AS60,AS76)","v":-2.3600059228118222},{"$f":"IF(Station=Données1!$J$5,AT60,AT76)","v":4.1184241065173008},{"$f":"IF(Station=Données1!$J$5,AU60,AU76)","v":-1.5938134636600572},{"$f":"IF(Station=Données1!$J$5,AV60,AV76)","v":0.66833576574523235},{"$f":"IF(Station=Données1!$J$5,AW60,AW76)","v":-3.1761939110331094E-2},{"$f":"IF(Station=Données1!$J$5,AX60,AX76)","v":-2.6433425991346184},{"$f":"IF(Station=Données1!$J$5,AY60,AY76)","v":4.6555423812397585},{"$f":"IF(Station=Données1!$J$5,AZ60,AZ76)","v":-1.8826078714315064},{"$f":"IF(Station=Données1!$J$5,BA60,BA76)","v":0.74737984282599368},{"$f":"IF(Station=Données1!$J$5,BB60,BB76)","v":-3.6364965029847041E-2},{"$f":"IF(Station=Données1!$J$5,BC60,BC76)","v":-2.6646478625727026},{"$f":"IF(Station=Données1!$J$5,BD60,BD76)","v":4.6991384791532784},{"$f":"IF(Station=Données1!$J$5,BE60,BE76)","v":-1.9116726804099906},{"$f":"IF(Station=Données1!$J$5,BF60,BF76)","v":0.75319692076973765},{"$f":"IF(Station=Données1!$J$5,BG60,BG76)","v":-3.676903389590358E-2},{"$f":"IF(Station=Données1!$J$5,BH60,BH76)","v":-2.6646478625727026},{"$f":"IF(Station=Données1!$J$5,BI60,BI76)","v":4.6991384791532784},{"$f":"IF(Station=Données1!$J$5,BJ60,BJ76)","v":-1.9116726804099906},{"$f":"IF(Station=Données1!$J$5,BK60,BK76)","v":0.75319692076973765},{"$f":"IF(Station=Données1!$J$5,BL60,BL76)","v":-3.676903389590358E-2},{"$f":"IF(Station=Données1!$J$5,BM60,BM76)","v":-2.3780000704597892},{"$f":"IF(Station=Données1!$J$5,BN60,BN76)","v":4.1656820175513953},{"$f":"IF(Station=Données1!$J$5,BO60,BO76)","v":-1.6421147407994996},{"$f":"IF(Station=Données1!$J$5,BP60,BP76)","v":0.67308587958051214},{"$f":"IF(Station=Données1!$J$5,BQ60,BQ76)","v":-3.2301406354391604E-2},{"$f":"IF(Station=Données1!$J$5,BR60,BR76)","v":-2.6566645462759131},{"$f":"IF(Station=Données1!$J$5,BS60,BS76)","v":4.6825433741912104},{"$f":"IF(Station=Données1!$J$5,BT60,BT76)","v":-1.9001904467297379},{"$f":"IF(Station=Données1!$J$5,BU60,BU76)","v":0.75102362054670369},{"$f":"IF(Station=Données1!$J$5,BV60,BV76)","v":-3.6612795670203091E-2},{"$f":"IF(Station=Données1!$J$5,BW60,BW76)","v":-2.6566645462759131},{"$f":"IF(Station=Données1!$J$5,BX60,BX76)","v":4.6825433741912104},{"$f":"IF(Station=Données1!$J$5,BY60,BY76)","v":-1.9001904467297379},{"$f":"IF(Station=Données1!$J$5,BZ60,BZ76)","v":0.75102362054670369},{"$f":"IF(Station=Données1!$J$5,CA60,CA76)","v":-3.6612795670203091E-2},{"$f":"IF(Station=Données1!$J$5,CB60,CB76)","v":-2.6345250766559345},{"$f":"IF(Station=Données1!$J$5,CC60,CC76)","v":4.6369218459250794},{"$f":"IF(Station=Données1!$J$5,CD60,CD76)","v":-1.8692592804515433},{"$f":"IF(Station=Données1!$J$5,CE60,CE76)","v":0.7449894911742867},{"$f":"IF(Station=Données1!$J$5,CF60,CF76)","v":-3.618708171587065E-2}]
[null,null,null,null,null,null,null,null,null,null,null,null,null,null,null,null,null,null,null,null,null,null,null,null,null,null,null,null,null,null,null,null,null,null,null,null,null,null,null,null,null,null,null,"Octobre",{"$f":"IF(Station=Données1!$J$5,AS61,AS77)","v":-2.4753395395998723},{"$f":"IF(Station=Données1!$J$5,AT61,AT77)","v":4.3057939937587797},{"$f":"IF(Station=Données1!$J$5,AU61,AU77)","v":-1.6400664593629413},{"$f":"IF(Station=Données1!$J$5,AV61,AV77)","v":0.70122639854688829},{"$f":"IF(Station=Données1!$J$5,AW61,AW77)","v":-3.3050707536878499E-2},{"$f":"IF(Station=Données1!$J$5,AX61,AX77)","v":-2.6323372670065122},{"$f":"IF(Station=Données1!$J$5,AY61,AY77)","v":4.6433513763093579},{"$f":"IF(Station=Données1!$J$5,AZ61,AZ77)","v":-1.8913085277938222},{"$f":"IF(Station=Données1!$J$5,BA61,BA77)","v":0.74388556294014496},{"$f":"IF(Station=Données1!$J$5,BB61,BB77)","v":-3.6339641993449967E-2},{"$f":"IF(Station=Données1!$J$5,BC61,BC77)","v":-2.5914429237598702},{"$f":"IF(Station=Données1!$J$5,BD61,BD77)","v":4.5438184418550236},{"$f":"IF(Station=Données1!$J$5,BE61,BE77)","v":-1.7991631984054011},{"$f":"IF(Station=Données1!$J$5,BF61,BF77)","v":0.73340879641253598},{"$f":"IF(Station=Données1!$J$5,BG61,BG77)","v":-3.5280150655970455E-2},{"$f":"IF(Station=Données1!$J$5,BH61,BH77)","v":-2.5914429237598702},{"$f":"IF(Station=Données1!$J$5,BI61,BI77)","v":4.5438184418550236},{"$f":"IF(Station=Données1!$J$5,BJ61,BJ77)","v":-1.7991631984054011},{"$f":"IF(Station=Données1!$J$5,BK61,BK77)","v":0.73340879641253598},{"$f":"IF(Station=Données1!$J$5,BL61,BL77)","v":-3.5280150655970455E-2},{"$f":"IF(Station=Données1!$J$5,BM61,BM77)","v":-2.6124471911923721},{"$f":"IF(Station=Données1!$J$5,BN61,BN77)","v":4.668495175169836},{"$f":"IF(Station=Données1!$J$5,BO61,BO77)","v":-2.0144741458093471},{"$f":"IF(Station=Données1!$J$5,BP61,BP77)","v":0.73671740612962389},{"$f":"IF(Station=Données1!$J$5,BQ61,BQ77)","v":-3.7185210071107699E-2},{"$f":"IF(Station=Données1!$J$5,BR61,BR77)","v":-2.5679261906500992},{"$f":"IF(Station=Données1!$J$5,BS61,BS77)","v":4.4912482210110349},{"$f":"IF(Station=Données1!$J$5,BT61,BT77)","v":-1.7568847583553495},{"$f":"IF(Station=Données1!$J$5,BU61,BU77)","v":0.72717082551365109},{"$f":"IF(Station=Données1!$J$5,BV61,BV77)","v":-3.4754061432544447E-2},{"$f":"IF(Station=Données1!$J$5,BW61,BW77)","v":-2.5679261906500992},{"$f":"IF(Station=Données1!$J$5,BX61,BX77)","v":4.4912482210110349},{"$f":"IF(Station=Données1!$J$5,BY61,BY77)","v":-1.7568847583553495},{"$f":"IF(Station=Données1!$J$5,BZ61,BZ77)","v":0.72717082551365109},{"$f":"IF(Station=Données1!$J$5,CA61,CA77)","v":-3.4754061432544447E-2},{"$f":"IF(Station=Données1!$J$5,CB61,CB77)","v":-2.6562334942989279},{"$f":"IF(Station=Données1!$J$5,CC61,CC77)","v":4.6920017596720109},{"$f":"IF(Station=Données1!$J$5,CD61,CD77)","v":-1.9233166971433415},{"$f":"IF(Station=Données1!$J$5,CE61,CE77)","v":0.75045818478750637},{"$f":"IF(Station=Données1!$J$5,CF61,CF77)","v":-3.6789867727047676E-2}]
[null,null,null,null,null,null,null,null,null,null,null,null,null,null,null,null,null,null,null,null,null,null,null,null,null,null,null,null,null,null,null,null,null,null,null,null,null,null,null,null,null,null,null,"Novembre",{"$f":"IF(Station=Données1!$J$5,AS62,AS78)","v":-2.4753395395997169},{"$f":"IF(Station=Données1!$J$5,AT62,AT78)","v":4.3057939937584706},{"$f":"IF(Station=Données1!$J$5,AU62,AU78)","v":-1.6400664593627352},{"$f":"IF(Station=Données1!$J$5,AV62,AV78)","v":0.70122639854683733},{"$f":"IF(Station=Données1!$J$5,AW62,AW78)","v":-3.305070753687489E-2},{"$f":"IF(Station=Données1!$J$5,AX62,AX78)","v":-2.5845786075878801},{"$f":"IF(Station=Données1!$J$5,AY62,AY78)","v":4.5563121995552898},{"$f":"IF(Station=Données1!$J$5,AZ62,AZ78)","v":-1.8506235312081101},{"$f":"IF(Station=Données1!$J$5,BA62,BA78)","v":0.73045000809891414},{"$f":"IF(Station=Données1!$J$5,BB62,BB78)","v":-3.562792957281119E-2},{"$f":"IF(Station=Données1!$J$5,BC62,BC78)","v":-2.5088594742382004},{"$f":"IF(Station=Données1!$J$5,BD62,BD78)","v":4.3702862297616436},{"$f":"IF(Station=Données1!$J$5,BE62,BE78)","v":-1.6761582765180807},{"$f":"IF(Station=Données1!$J$5,BF62,BF78)","v":0.71093174053771724},{"$f":"IF(Station=Données1!$J$5,BG62,BG78)","v":-3.3627597736994586E-2},{"$f":"IF(Station=Données1!$J$5,BH62,BH78)","v":-2.5088594742382004},{"$f":"IF(Station=Données1!$J$5,BI62,BI78)","v":4.3702862297616436},{"$f":"IF(Station=Données1!$J$5,BJ62,BJ78)","v":-1.6761582765180807},{"$f":"IF(Station=Données1!$J$5,BK62,BK78)","v":0.71093174053771724},{"$f":"IF(Station=Données1!$J$5,BL62,BL78)","v":-3.3627597736994586E-2},{"$f":"IF(Station=Données1!$J$5,BM62,BM78)","v":-2.8780237518982972},{"$f":"IF(Station=Données1!$J$5,BN62,BN78)","v":5.1561666429809847},{"$f":"IF(Station=Données1!$J$5,BO62,BO78)","v":-2.2494358800470784},{"$f":"IF(Station=Données1!$J$5,BP62,BP78)","v":0.81076767621974777},{"$f":"IF(Station=Données1!$J$5,BQ62,BQ78)","v":-4.1188996547285528E-2},{"$f":"IF(Station=Données1!$J$5,BR62,BR78)","v":-2.4740894788231169},{"$f":"IF(Station=Données1!$J$5,BS62,BS78)","v":4.2951253874068707},{"$f":"IF(Station=Données1!$J$5,BT62,BT78)","v":-1.6195695019180965},{"$f":"IF(Station=Données1!$J$5,BU62,BU78)","v":0.70153833845380931},{"$f":"IF(Station=Données1!$J$5,BV62,BV78)","v":-3.2893418697484744E-2},{"$f":"IF(Station=Données1!$J$5,BW62,BW78)","v":-2.4740894788231169},{"$f":"IF(Station=Données1!$J$5,BX62,BX78)","v":4.2951253874068707},{"$f":"IF(Station=Données1!$J$5,BY62,BY78)","v":-1.6195695019180965},{"$f":"IF(Station=Données1!$J$5,BZ62,BZ78)","v":0.70153833845380931},{"$f":"IF(Station=Données1!$J$5,CA62,CA78)","v":-3.2893418697484744E-2},{"$f":"IF(Station=Données1!$J$5,CB62,CB78)","v":-2.6247862086806069},{"$f":"IF(Station=Données1!$J$5,CC62,CC78)","v":4.6406372168593641},{"$f":"IF(Station=Données1!$J$5,CD62,CD78)","v":-1.9101308114156172},{"$f":"IF(Station=Données1!$J$5,CE62,CE78)","v":0.74141087727110588},{"$f":"IF(Station=Données1!$J$5,CF62,CF78)","v":-3.6429993089909907E-2}]
[null,null,null,null,null,null,null,null,null,null,null,null,null,null,null,null,null,null,null,null,null,null,null,null,null,null,null,null,null,null,null,null,null,null,null,null,null,null,null,null,null,null,null,"Décembre",{"$f":"IF(Station=Données1!$J$5,AS63,AS79)","v":-2.4753395395997497},{"$f":"IF(Station=Données1!$J$5,AT63,AT79)","v":4.3057939937585354},{"$f":"IF(Station=Données1!$J$5,AU63,AU79)","v":-1.6400664593627787},{"$f":"IF(Station=Données1!$J$5,AV63,AV79)","v":0.70122639854684832},{"$f":"IF(Station=Données1!$J$5,AW63,AW79)","v":-3.3050707536875723E-2},{"$f":"IF(Station=Données1!$J$5,AX63,AX79)","v":-2.5324602766391751},{"$f":"IF(Station=Données1!$J$5,AY63,AY79)","v":4.446510767661489},{"$f":"IF(Station=Données1!$J$5,AZ63,AZ79)","v":-1.7723520256965752},{"$f":"IF(Station=Données1!$J$5,BA63,BA79)","v":0.71625914215266862},{"$f":"IF(Station=Données1!$J$5,BB63,BB79)","v":-3.4579194082937859E-2},{"$f":"IF(Station=Données1!$J$5,BC63,BC79)","v":-2.4563626943554611},{"$f":"IF(Station=Données1!$J$5,BD63,BD79)","v":4.260841956818826},{"$f":"IF(Station=Données1!$J$5,BE63,BE79)","v":-1.6000466097434682},{"$f":"IF(Station=Données1!$J$5,BF63,BF79)","v":0.69646037194161559},{"$f":"IF(Station=Données1!$J$5,BG63,BG79)","v":-3.2586982911157414E-2},{"$f":"IF(Station=Données1!$J$5,BH63,BH79)","v":-2.4563626943554611},{"$f":"IF(Station=Données1!$J$5,BI63,BI79)","v":4.260841956818826},{"$f":"IF(Station=Données1!$J$5,BJ63,BJ79)","v":-1.6000466097434682},{"$f":"IF(Station=Données1!$J$5,BK63,BK79)","v":0.69646037194161559},{"$f":"IF(Station=Données1!$J$5,BL63,BL79)","v":-3.2586982911157414E-2},{"$f":"IF(Station=Données1!$J$5,BM63,BM79)","v":-2.8098423329383246},{"$f":"IF(Station=Données1!$J$5,BN63,BN79)","v":4.9922076030408293},{"$f":"IF(Station=Données1!$J$5,BO63,BO79)","v":-2.1006096983100293},{"$f":"IF(Station=Données1!$J$5,BP63,BP79)","v":0.79282730524995237},{"$f":"IF(Station=Données1!$J$5,BQ63,BQ79)","v":-3.9443157005708884E-2},{"$f":"IF(Station=Données1!$J$5,BR63,BR79)","v":-2.4571259489952788},{"$f":"IF(Station=Données1!$J$5,BS63,BS79)","v":4.2622889280487817},{"$f":"IF(Station=Données1!$J$5,BT63,BT79)","v":-1.6008428108972854},{"$f":"IF(Station=Données1!$J$5,BU63,BU79)","v":0.69664472464435145},{"$f":"IF(Station=Données1!$J$5,BV63,BV79)","v":-3.2598275237854468E-2},{"$f":"IF(Station=Données1!$J$5,BW63,BW79)","v":-2.4571259489952788},{"$f":"IF(Station=Données1!$J$5,BX63,BX79)","v":4.2622889280487817},{"$f":"IF(Station=Données1!$J$5,BY63,BY79)","v":-1.6008428108972854},{"$f":"IF(Station=Données1!$J$5,BZ63,BZ79)","v":0.69664472464435145},{"$f":"IF(Station=Données1!$J$5,CA63,CA79)","v":-3.2598275237854468E-2},{"$f":"IF(Station=Données1!$J$5,CB63,CB79)","v":-2.5345677082285945},{"$f":"IF(Station=Données1!$J$5,CC63,CC79)","v":4.4499450023592324},{"$f":"IF(Station=Données1!$J$5,CD63,CD79)","v":-1.773222941243735},{"$f":"IF(Station=Données1!$J$5,CE63,CE79)","v":0.71685710406360503},{"$f":"IF(Station=Données1!$J$5,CF63,CF79)","v":-3.4602831616930396E-2}]
[]
[null,null,null,null,null,null,null,null,null,null,null,null,null,null,null,null,null,null,null,null,null,null,null,null,null,null,null,null,null,null,null,null,null,null,null,null,null,null,null,null,null,null,null,"Final",{"$f":"Calculs!C24","v":"Est"},null,null,null,null,{"$f":"Calculs!D21","v":"Sud"},null,null,null,null,{"$f":"Calculs!E21","v":"Ouest"},null,null,null,null,{"$f":"Calculs!F21","v":"Nord"},null,null,null,null,null,"Tampon 2","coeff transmis/incident",null,null,null,null,null,null,null,null,"Tampon","Solaire transmis (Wh/m² de fenêtre)",null,null,null,null,"Tampon","Solaire transmis (Wh/m² de fenêtre)"]
[null,null,null,null,null,null,null,null,null,null,null,null,null,null,null,null,null,null,null,null,null,null,null,null,null,null,null,null,null,null,null,null,null,null,null,null,null,null,null,null,null,null,null,null,"a","b","c","d","e","a","b","c","d","e","a","b","c","d","e","a","b","c","d","e",null,null,"Nord","Nord-Est","Est","Sud-Est","Sud","Sud-Ouest","Ouest","Nord-Ouest",null,null,{"$f":"Calculs!B7","v":"Est"},{"$f":"Calculs!C7","v":"Sud"},{"$f":"Calculs!D7","v":"Ouest"},{"$f":"Calculs!E7","v":"Nord"},null,null,{"$f":"Calculs!B7","v":"Est"},{"$f":"Calculs!C7","v":"Sud"},{"$f":"Calculs!D7","v":"Ouest"},{"$f":"Calculs!E7","v":"Nord"}]
[null,null,null,null,null,null,null,null,null,null,null,null,null,null,null,null,null,null,null,null,null,null,null,null,null,null,null,null,null,null,null,null,null,null,null,null,null,null,null,null,null,null,null,"Janvier",{"$f":"IF($AS$98=\"Nord\",AS85,IF($AS$98=\"Nord-Est\",AX85,IF($AS$98=\"Est\",BC85,IF($AS$98=\"Sud-Est\",BH85,IF($AS$98=\"Sud\",BM85,IF($AS$98=\"Sud-Ouest\",BR85,IF($AS$98=\"Ouest\",BW85,IF($AS$98=\"Nord-Ouest\",CB85,0))))))))","v":-2.479354476804521},{"$f":"IF($AS$98=\"Nord\",AT85,IF($AS$98=\"Nord-Est\",AY85,IF($AS$98=\"Est\",BD85,IF($AS$98=\"Sud-Est\",BI85,IF($AS$98=\"Sud\",BN85,IF($AS$98=\"Sud-Ouest\",BS85,IF($AS$98=\"Ouest\",BX85,IF($AS$98=\"Nord-Ouest\",CC85,0))))))))","v":4.3083776970053949},-1.6325004785026511,0.70276770967226254,{"$f":"IF($AS$98=\"Nord\",AW85,IF($AS$98=\"Nord-Est\",BB85,IF($AS$98=\"Est\",BG85,IF($AS$98=\"Sud-Est\",BL85,IF($AS$98=\"Sud\",BQ85,IF($AS$98=\"Sud-Ouest\",BV85,IF($AS$98=\"Ouest\",CA85,IF($AS$98=\"Nord-Ouest\",CF85,0))))))))","v":-3.3033767234172229E-2},{"$f":"IF($AX$98=\"Nord\",AS85,IF($AX$98=\"Nord-Est\",AX85,IF($AX$98=\"Est\",BC85,IF($AX$98=\"Sud-Est\",BH85,IF($AX$98=\"Sud\",BM85,IF($AX$98=\"Sud-Ouest\",BR85,IF($AX$98=\"Ouest\",BW85,IF($AX$98=\"Nord-Ouest\",CB85,0))))))))","v":-2.7777850285108672},{"$f":"IF($AX$98=\"Nord\",AT85,IF($AX$98=\"Nord-Est\",AY85,IF($AX$98=\"Est\",BD85,IF($AX$98=\"Sud-Est\",BI85,IF($AX$98=\"Sud\",BN85,IF($AX$98=\"Sud-Ouest\",BS85,IF($AX$98=\"Ouest\",BX85,IF($AX$98=\"Nord-Ouest\",CC85,0))))))))","v":4.9353373235901348},-2.0768494723013449,0.78376335610669878,-3.8994104640358629E-2,{"$f":"IF($BC$98=\"Nord\",AS85,IF($BC$98=\"Nord-Est\",AX85,IF($BC$98=\"Est\",BC85,IF($BC$98=\"Sud-Est\",BH85,IF($BC$98=\"Sud\",BM85,IF($BC$98=\"Sud-Ouest\",BR85,IF($BC$98=\"Ouest\",BW85,IF($BC$98=\"Nord-Ouest\",CB85,0))))))))","v":-2.4681731601116583},{"$f":"IF($BC$98=\"Nord\",AT85,IF($BC$98=\"Nord-Est\",AY85,IF($BC$98=\"Est\",BD85,IF($BC$98=\"Sud-Est\",BI85,IF($BC$98=\"Sud\",BN85,IF($BC$98=\"Sud-Ouest\",BS85,IF($BC$98=\"Ouest\",BX85,IF($BC$98=\"Nord-Ouest\",CC85,0))))))))","v":4.287459605158463},-1.6217605544829989,0.69960671073810965,-3.2855952133643507E-2,{"$f":"IF($BH$98=\"Nord\",AS85,IF($BH$98=\"Nord-Est\",AX85,IF($BH$98=\"Est\",BC85,IF($BH$98=\"Sud-Est\",BH85,IF($BH$98=\"Sud\",BM85,IF($BH$98=\"Sud-Ouest\",BR85,IF($BH$98=\"Ouest\",BW85,IF($BH$98=\"Nord-Ouest\",CB85,0))))))))","v":-2.4753395395996702},{"$f":"IF($BH$98=\"Nord\",AT85,IF($BH$98=\"Nord-Est\",AY85,IF($BH$98=\"Est\",BD85,IF($BH$98=\"Sud-Est\",BI85,IF($BH$98=\"Sud\",BN85,IF($BH$98=\"Sud-Ouest\",BS85,IF($BH$98=\"Ouest\",BX85,IF($BH$98=\"Nord-Ouest\",CC85,0))))))))","v":4.3057939937583756},-1.6400664593626766,0.70122639854682423,{"$f":"IF($BH$98=\"Nord\",AW85,IF($BH$98=\"Nord-Est\",BB85,IF($BH$98=\"Est\",BG85,IF($BH$98=\"Sud-Est\",BL85,IF($BH$98=\"Sud\",BQ85,IF($BH$98=\"Sud-Ouest\",BV85,IF($BH$98=\"Ouest\",CA85,IF($BH$98=\"Nord-Ouest\",CF85,0))))))))","v":-3.3050707536873947E-2},null,"Janvier ",{"$f":"AS85*$AC$47^4+AT85*$AC$47^3+AU85*$AC$47^2+AV85*$AC$47+AW85","v":0.53673352275943342},{"$f":"AX85*$AC$47^4+AY85*$AC$47^3+AZ85*$AC$47^2+BA85*$AC$47+BB85","v":0.51907652869618437},{"$f":"BC85*$AC$47^4+BD85*$AC$47^3+BE85*$AC$47^2+BF85*$AC$47+BG85","v":0.54145893526219746},{"$f":"BH85*$AC$47^4+BI85*$AC$47^3+BJ85*$AC$47^2+BK85*$AC$47+BL85","v":0.54145893526219746},{"$f":"BM85*$AC$47^4+BN85*$AC$47^3+BO85*$AC$47^2+BP85*$AC$47+BQ85","v":0.51785851985262843},{"$f":"BR85*$AC$47^4+BS85*$AC$47^3+BT85*$AC$47^2+BU85*$AC$47+BV85","v":0.54019634251290727},{"$f":"BW85*$AC$47^4+BX85*$AC$47^3+BY85*$AC$47^2+BZ85*$AC$47+CA85","v":0.54019634251290727},{"$f":"CB85*$AC$47^4+CC85*$AC$47^3+CD85*$AC$47^2+CE85*$AC$47+CF85","v":0.52026306376699716},null,"Janvier ",{"$f":"HLOOKUP(BY$99,$BO$99:$BV$111,$CI100,FALSE)","v":0.54145893526219746},0.51785851985262843,0.54019634251290727,0.53673352275943342,null,"Janvier ",{"$f":"BY100*AK31","v":36167.764884635581},{"$f":"BZ100*AL31","v":41220.230151885356},{"$f":"CA100*AM31","v":34289.609365103592},{"$f":"CB100*AN31","v":20783.576404369465},2]
[null,null,null,null,null,null,null,null,null,null,null,null,null,null,null,null,null,null,null,null,null,null,null,null,null,null,null,null,null,null,null,null,null,null,null,null,null,null,null,null,null,null,null,"Février",{"$f":"IF($AS$98=\"Nord\",AS86,IF($AS$98=\"Nord-Est\",AX86,IF($AS$98=\"Est\",BC86,IF($AS$98=\"Sud-Est\",BH86,IF($AS$98=\"Sud\",BM86,IF($AS$98=\"Sud-Ouest\",BR86,IF($AS$98=\"Ouest\",BW86,IF($AS$98=\"Nord-Ouest\",CB86,0))))))))","v":-2.5317219670577149},{"$f":"IF($AS$98=\"Nord\",AT86,IF($AS$98=\"Nord-Est\",AY86,IF($AS$98=\"Est\",BD86,IF($AS$98=\"Sud-Est\",BI86,IF($AS$98=\"Sud\",BN86,IF($AS$98=\"Sud-Ouest\",BS86,IF($AS$98=\"Ouest\",BX86,IF($AS$98=\"Nord-Ouest\",CC86,0))))))))","v":4.4166458105701532},{"$f":"IF($AS$98=\"Nord\",AU86,IF($AS$98=\"Nord-Est\",AZ86,IF($AS$98=\"Est\",BE86,IF($AS$98=\"Sud-Est\",BJ86,IF($AS$98=\"Sud\",BO86,IF($AS$98=\"Sud-Ouest\",BT86,IF($AS$98=\"Ouest\",BY86,IF($AS$98=\"Nord-Ouest\",CD86,0))))))))","v":-1.7064025627250639},{"$f":"IF($AS$98=\"Nord\",AV86,IF($AS$98=\"Nord-Est\",BA86,IF($AS$98=\"Est\",BF86,IF($AS$98=\"Sud-Est\",BK86,IF($AS$98=\"Sud\",BP86,IF($AS$98=\"Sud-Ouest\",BU86,IF($AS$98=\"Ouest\",BZ86,IF($AS$98=\"Nord-Ouest\",CE86,0))))))))","v":0.71715243897255143},-3.4052075096493661E-2,{"$f":"IF($AX$98=\"Nord\",AS86,IF($AX$98=\"Nord-Est\",AX86,IF($AX$98=\"Est\",BC86,IF($AX$98=\"Sud-Est\",BH86,IF($AX$98=\"Sud\",BM86,IF($AX$98=\"Sud-Ouest\",BR86,IF($AX$98=\"Ouest\",BW86,IF($AX$98=\"Nord-Ouest\",CB86,0))))))))","v":-2.6738184331639046},{"$f":"IF($AX$98=\"Nord\",AT86,IF($AX$98=\"Nord-Est\",AY86,IF($AX$98=\"Est\",BD86,IF($AX$98=\"Sud-Est\",BI86,IF($AX$98=\"Sud\",BN86,IF($AX$98=\"Sud-Ouest\",BS86,IF($AX$98=\"Ouest\",BX86,IF($AX$98=\"Nord-Ouest\",CC86,0))))))))","v":4.7541152951306538},{"$f":"IF($AX$98=\"Nord\",AU86,IF($AX$98=\"Nord-Est\",AZ86,IF($AX$98=\"Est\",BE86,IF($AX$98=\"Sud-Est\",BJ86,IF($AX$98=\"Sud\",BO86,IF($AX$98=\"Sud-Ouest\",BT86,IF($AX$98=\"Ouest\",BY86,IF($AX$98=\"Nord-Ouest\",CD86,0))))))))","v":-2.0070065975068552},{"$f":"IF($AX$98=\"Nord\",AV86,IF($AX$98=\"Nord-Est\",BA86,IF($AX$98=\"Est\",BF86,IF($AX$98=\"Sud-Est\",BK86,IF($AX$98=\"Sud\",BP86,IF($AX$98=\"Sud-Ouest\",BU86,IF($AX$98=\"Ouest\",BZ86,IF($AX$98=\"Nord-Ouest\",CE86,0))))))))","v":0.75448461742485362},{"$f":"IF($AX$98=\"Nord\",AW86,IF($AX$98=\"Nord-Est\",BB86,IF($AX$98=\"Est\",BG86,IF($AX$98=\"Sud-Est\",BL86,IF($AX$98=\"Sud\",BQ86,IF($AX$98=\"Sud-Ouest\",BV86,IF($AX$98=\"Ouest\",CA86,IF($AX$98=\"Nord-Ouest\",CF86,0))))))))","v":-3.7605332702053518E-2},{"$f":"IF($BC$98=\"Nord\",AS86,IF($BC$98=\"Nord-Est\",AX86,IF($BC$98=\"Est\",BC86,IF($BC$98=\"Sud-Est\",BH86,IF($BC$98=\"Sud\",BM86,IF($BC$98=\"Sud-Ouest\",BR86,IF($BC$98=\"Ouest\",BW86,IF($BC$98=\"Nord-Ouest\",CB86,0))))))))","v":-2.5177468995447132},{"$f":"IF($BC$98=\"Nord\",AT86,IF($BC$98=\"Nord-Est\",AY86,IF($BC$98=\"Est\",BD86,IF($BC$98=\"Sud-Est\",BI86,IF($BC$98=\"Sud\",BN86,IF($BC$98=\"Sud-Ouest\",BS86,IF($BC$98=\"Ouest\",BX86,IF($BC$98=\"Nord-Ouest\",CC86,0))))))))","v":4.390700124356349},{"$f":"IF($BC$98=\"Nord\",AU86,IF($BC$98=\"Nord-Est\",AZ86,IF($BC$98=\"Est\",BE86,IF($BC$98=\"Sud-Est\",BJ86,IF($BC$98=\"Sud\",BO86,IF($BC$98=\"Sud-Ouest\",BT86,IF($BC$98=\"Ouest\",BY86,IF($BC$98=\"Nord-Ouest\",CD86,0))))))))","v":-1.6934243417929353},{"$f":"IF($BC$98=\"Nord\",AV86,IF($BC$98=\"Nord-Est\",BA86,IF($BC$98=\"Est\",BF86,IF($BC$98=\"Sud-Est\",BK86,IF($BC$98=\"Sud\",BP86,IF($BC$98=\"Sud-Ouest\",BU86,IF($BC$98=\"Ouest\",BZ86,IF($BC$98=\"Nord-Ouest\",CE86,0))))))))","v":0.71321066257467414},{"$f":"IF($BC$98=\"Nord\",AW86,IF($BC$98=\"Nord-Est\",BB86,IF($BC$98=\"Est\",BG86,IF($BC$98=\"Sud-Est\",BL86,IF($BC$98=\"Sud\",BQ86,IF($BC$98=\"Sud-Ouest\",BV86,IF($BC$98=\"Ouest\",CA86,IF($BC$98=\"Nord-Ouest\",CF86,0))))))))","v":-3.3834080493649554E-2},{"$f":"IF($BH$98=\"Nord\",AS86,IF($BH$98=\"Nord-Est\",AX86,IF($BH$98=\"Est\",BC86,IF($BH$98=\"Sud-Est\",BH86,IF($BH$98=\"Sud\",BM86,IF($BH$98=\"Sud-Ouest\",BR86,IF($BH$98=\"Ouest\",BW86,IF($BH$98=\"Nord-Ouest\",CB86,0))))))))","v":-2.4753395395998061},{"$f":"IF($BH$98=\"Nord\",AT86,IF($BH$98=\"Nord-Est\",AY86,IF($BH$98=\"Est\",BD86,IF($BH$98=\"Sud-Est\",BI86,IF($BH$98=\"Sud\",BN86,IF($BH$98=\"Sud-Ouest\",BS86,IF($BH$98=\"Ouest\",BX86,IF($BH$98=\"Nord-Ouest\",CC86,0))))))))","v":4.3057939937586154},{"$f":"IF($BH$98=\"Nord\",AU86,IF($BH$98=\"Nord-Est\",AZ86,IF($BH$98=\"Est\",BE86,IF($BH$98=\"Sud-Est\",BJ86,IF($BH$98=\"Sud\",BO86,IF($BH$98=\"Sud-Ouest\",BT86,IF($BH$98=\"Ouest\",BY86,IF($BH$98=\"Nord-Ouest\",CD86,0))))))))","v":-1.6400664593628096},{"$f":"IF($BH$98=\"Nord\",AV86,IF($BH$98=\"Nord-Est\",BA86,IF($BH$98=\"Est\",BF86,IF($BH$98=\"Sud-Est\",BK86,IF($BH$98=\"Sud\",BP86,IF($BH$98=\"Sud-Ouest\",BU86,IF($BH$98=\"Ouest\",BZ86,IF($BH$98=\"Nord-Ouest\",CE86,0))))))))","v":0.70122639854685154},{"$f":"IF($BH$98=\"Nord\",AW86,IF($BH$98=\"Nord-Est\",BB86,IF($BH$98=\"Est\",BG86,IF($BH$98=\"Sud-Est\",BL86,IF($BH$98=\"Sud\",BQ86,IF($BH$98=\"Sud-Ouest\",BV86,IF($BH$98=\"Ouest\",CA86,IF($BH$98=\"Nord-Ouest\",CF86,0))))))))","v":-3.3050707536875779E-2},null,"Février",0.53673352275943498,0.5215410876267097,0.5388604451840161,0.5388604451840161,0.49577840714414551,0.53713456790362601,0.53713456790362601,0.52345844572372857,null,"Février",0.5388604451840161,0.49577840714414551,0.53713456790362601,0.53673352275943498,null,"Février",{"$f":"BY101*AK32","v":34261.066549807489},{"$f":"BZ101*AL32","v":31048.635671284854},{"$f":"CA101*AM32","v":32067.951747234867},{"$f":"CB101*AN32","v":19725.775707029585},3]
[null,null,null,null,null,null,null,null,null,null,null,null,null,null,null,null,null,null,null,null,null,null,null,null,null,null,null,null,null,null,null,null,null,null,null,null,null,null,null,null,null,null,null,"Mars",-2.6106347596017372,4.5848842677261459,-1.8295331221753406,0.73845538863285154,{"$f":"IF($AS$98=\"Nord\",AW87,IF($AS$98=\"Nord-Est\",BB87,IF($AS$98=\"Est\",BG87,IF($AS$98=\"Sud-Est\",BL87,IF($AS$98=\"Sud\",BQ87,IF($AS$98=\"Sud-Ouest\",BV87,IF($AS$98=\"Ouest\",CA87,IF($AS$98=\"Nord-Ouest\",CF87,0))))))))","v":-3.5671790971071204E-2},-2.4368073610269754,4.2618956591124952,-1.6672630411516125,0.68980441183404018,-3.2969759823827938E-2,-2.609916336183475,4.5833582147825895,-1.8284253176922864,0.73826064760176635,-3.5657123653755951E-2,-2.4391678062982374,4.2452428631900867,-1.6214896906354348,0.69094509141230531,-3.2612823541582958E-2,null,"Mars",0.52699290381766062,0.52855731510742243,0.53057764925569884,0.53057764925569884,0.50968720198871886,0.53064787935103586,0.53064787935103586,0.52942344257917884,null,"Mars",0.53057764925569884,0.50968720198871886,0.53064787935103586,0.52699290381766062,null,"Mars",{"$f":"BY102*AK33","v":39463.955771362205},{"$f":"BZ102*AL33","v":23419.953482818542},{"$f":"CA102*AM33","v":39359.105867226092},{"$f":"CB102*AN33","v":21268.654642895046},4]
[null,null,null,null,null,null,null,null,null,null,null,null,null,null,null,null,null,null,null,null,null,null,null,null,null,null,null,null,null,null,null,null,null,null,null,null,null,null,null,null,null,null,null,"Avril",-2.6068460611940938,4.5839199184876618,-1.8399488325474656,0.73710128402328567,-3.5720549193998419E-2,-2.4683986141007055,4.2938361319984315,-1.6357306823142548,0.69925884797122106,-3.2960249665770158E-2,-2.616009515710076,4.6018245912627185,-1.850500859139371,0.73965306246824336,-3.5879694167715803E-2,-2.4312338177064112,4.2715500481499147,-1.7077012760085906,0.68777374620058018,-3.3256964817452883E-2,null,"Avril",0.49281345916285524,0.53269639012957692,0.52505621442260941,0.52505621442260941,0.53513619560998205,0.52545397866288601,0.52545397866288601,0.53332934328853687,null,"Avril",0.52505621442260941,0.53513619560998205,0.52545397866288601,0.49281345916285524,null,"Avril",{"$f":"BY103*AK34","v":37320.817181308601},{"$f":"BZ103*AL34","v":22068.706041162426},{"$f":"CA103*AM34","v":39033.105658589033},{"$f":"CB103*AN34","v":25261.135023294813},5]
[null,null,null,null,null,null,null,null,null,null,null,null,null,null,null,null,null,null,null,null,null,null,null,null,null,null,null,null,null,null,null,null,null,null,null,null,null,null,null,null,null,null,null,"Mai",-2.6157435479794149,4.6177390117054724,-1.8877717026711567,0.73904475920887625,-3.6176371651270745E-2,-2.4753395395999256,4.3057939937588579,-1.640066459362971,0.70122639854689017,-3.3050707536878221E-2,-2.6138294121518193,4.6130237949804718,-1.8833405607273042,0.7385390712959794,-3.6125081361122968E-2,-2.7347067502377911,4.8963680895266686,-2.1303443195444749,0.77070222730130067,-3.909036599814647E-2,null,"Mai",0.47938364051152488,0.53764410317094025,0.51199128063119526,0.51199128063119526,0.53673352275943509,0.51270211361033358,0.51270211361033358,0.53819885635006615,null,"Mai",0.51199128063119526,0.53673352275943509,0.51270211361033358,0.47938364051152488,null,"Mai",{"$f":"BY104*AK35","v":36928.582190951434},{"$f":"BZ104*AL35","v":20180.487616410068},{"$f":"CA104*AM35","v":36791.694940421563},{"$f":"CB104*AN35","v":34479.131113182753},6]
[null,null,null,null,null,null,null,null,null,null,null,null,null,null,null,null,null,null,null,null,null,null,null,null,null,null,null,null,null,null,null,null,null,null,null,null,null,null,null,null,null,null,null,"Juin",-2.5794875831237181,4.5462107779067589,-1.8444083072280859,0.72903841594940422,-3.5536732703976281E-2,-2.4753395395996867,4.3057939937584226,-1.6400664593627126,0.70122639854683244,-3.3050707536874724E-2,-2.5651886734848737,4.5143203272084307,-1.8189031666028763,0.72519169114032056,-3.5216212570733652E-2,-2.7959817147155395,4.9953046651426787,-2.1535832124765442,0.78810064924144163,-3.9760169266062795E-2,null,"Juin",0.49872880153017746,0.54063329158993523,0.51104541603285802,0.51104541603285802,0.53673352275943298,0.51366549132085471,0.51366549132085471,0.53894867959426362,null,"Juin",0.51104541603285802,0.53673352275943298,0.51366549132085471,0.49872880153017746,null,"Juin",{"$f":"BY105*AK36","v":38905.212670930981},{"$f":"BZ105*AL36","v":21435.058612435303},{"$f":"CA105*AM36","v":36772.411697123214},{"$f":"CB105*AN36","v":41257.393119059278},7]
[null,null,null,null,null,null,null,null,null,null,null,null,null,null,null,null,null,null,null,null,null,null,null,null,null,null,null,null,null,null,null,null,null,null,null,null,null,null,null,null,null,null,null,"Juillet",-2.610735773384631,4.6111067210253722,-1.8891958813307292,0.73757544860966473,-3.6148271717822367E-2,-2.4753395395997049,4.3057939937584377,-1.6400664593627055,0.70122639854682867,-3.305070753687428E-2,-2.60698025878933,4.6026867626294639,-1.8823979546378473,0.73656378118997456,-3.606317186325031E-2,-2.784535594255543,4.9915771242337099,-2.1829041270804006,0.78448647202257893,-3.9910019818280129E-2,null,"Juillet",0.4831514457595355,0.53748546895352467,0.50922050657893836,0.50922050657893836,0.53673352275943498,0.50994207664377456,0.50994207664377456,0.53716333622475654,null,"Juillet",0.50922050657893836,0.53673352275943498,0.50994207664377456,0.4831514457595355,null,"Juillet",{"$f":"BY106*AK37","v":43824.32686029574},{"$f":"BZ106*AL37","v":22454.895308358984},{"$f":"CA106*AM37","v":42919.2427838449},{"$f":"CB106*AN37","v":43794.894702892692},8]
[null,null,null,null,null,null,null,null,null,null,null,null,null,null,null,null,null,null,null,null,null,null,null,null,null,null,null,null,null,null,null,null,null,null,null,null,null,null,null,null,null,null,null,"Août",-2.6545516788768411,4.6914995184800556,-1.9277622212064764,0.74987289418859793,-3.6810671540085327E-2,-2.4753395395998039,4.3057939937585958,-1.6400664593627858,0.70122639854684432,-3.3050707536875279E-2,-2.6389104581280773,4.6573709583213621,-1.9015907210441343,0.74564015790926552,-3.6473902542220049E-2,-2.5296982891892328,4.5065505282884883,-1.9184369250907205,0.71392778443603255,-3.5752836371676366E-2,null,"Août",0.46232879140770994,0.53507157044555675,0.51532334274108926,0.51532334274108926,0.53673352275943609,0.51757059239031566,0.51757059239031566,0.53343879835735208,null,"Août",0.51532334274108926,0.53673352275943609,0.51757059239031566,0.46232879140770994,null,"Août",{"$f":"BY107*AK38","v":49705.966518947622},{"$f":"BZ107*AL38","v":24057.176475353117},{"$f":"CA107*AM38","v":46873.599439899641},{"$f":"CB107*AN38","v":35315.130521351639},9]
[null,null,null,null,null,null,null,null,null,null,null,null,null,null,null,null,null,null,null,null,null,null,null,null,null,null,null,null,null,null,null,null,null,null,null,null,null,null,null,null,null,null,null,"Septembre",-2.6646478625727026,4.6991384791532784,-1.9116726804099906,0.75319692076973765,-3.676903389590358E-2,-2.3780000704597892,4.1656820175513953,-1.6421147407994996,0.67308587958051214,-3.2301406354391604E-2,-2.6566645462759131,4.6825433741912104,-1.9001904467297379,0.75102362054670369,-3.6612795670203091E-2,-2.3600059228118222,4.1184241065173008,-1.5938134636600572,0.66833576574523235,-3.1761939110331094E-2,null,"Septembre",0.50108654618621917,0.52650754665992561,0.52577174378788583,0.52577174378788583,0.49209360146294512,0.52625763960165628,0.52625763960165628,0.5272832369320859,null,"Septembre",0.52577174378788583,0.49209360146294512,0.52625763960165628,0.50108654618621917,null,"Septembre",{"$f":"BY108*AK39","v":51687.344528174704},{"$f":"BZ108*AL39","v":24679.565081980247},{"$f":"CA108*AM39","v":51238.639597692614},{"$f":"CB108*AN39","v":23917.802199323531},10]
[null,null,null,null,null,null,null,null,null,null,null,null,null,null,null,null,null,null,null,null,null,null,null,null,null,null,null,null,null,null,null,null,null,null,null,null,null,null,null,null,null,null,null,"Octobre",-2.5914429237598702,4.5438184418550236,-1.7991631984054011,0.73340879641253598,-3.5280150655970455E-2,-2.6124471911923721,4.668495175169836,-2.0144741458093471,0.73671740612962389,-3.7185210071107699E-2,-2.5679261906500992,4.4912482210110349,-1.7568847583553495,0.72717082551365109,-3.4754061432544447E-2,-2.4753395395998723,4.3057939937587797,-1.6400664593629413,0.70122639854688829,-3.3050707536878499E-2,null,"Octobre",0.53673352275943409,0.51828441771152478,0.53284031917568642,0.53284031917568642,0.46546991725101411,0.53733104626458605,0.53733104626458605,0.5177006216102964,null,"Octobre",0.53284031917568642,0.46546991725101411,0.53733104626458605,0.53673352275943409,null,"Octobre",{"$f":"BY109*AK40","v":49875.945365161242},{"$f":"BZ109*AL40","v":39353.309369838134},{"$f":"CA109*AM40","v":55510.154584650416},{"$f":"CB109*AN40","v":24031.407884674976},11]
[null,null,null,null,null,null,null,null,null,null,null,null,null,null,null,null,null,null,null,null,null,null,null,null,null,null,null,null,null,null,null,null,null,null,null,null,null,null,null,null,null,null,null,"Novembre",-2.5088594742382004,4.3702862297616436,-1.6761582765180807,0.71093174053771724,-3.3627597736994586E-2,-2.8780237518982972,5.1561666429809847,-2.2494358800470784,0.81076767621974777,-4.1188996547285528E-2,-2.4740894788231169,4.2951253874068707,-1.6195695019180965,0.70153833845380931,-3.2893418697484744E-2,-2.4753395395997169,4.3057939937584706,-1.6400664593627352,0.70122639854683733,-3.305070753687489E-2,null,"Novembre",0.53673352275943431,0.5111393065700689,0.53933808218919976,0.53933808218919976,0.50167645129516591,0.54379348629544055,0.54379348629544055,0.50812092008476006,null,"Novembre",0.53933808218919976,0.50167645129516591,0.54379348629544055,0.53673352275943431,null,"Novembre",{"$f":"BY110*AK41","v":44016.424742963769},{"$f":"BZ110*AL41","v":52276.502121612524},{"$f":"CA110*AM41","v":49933.963921143819},{"$f":"CB110*AN41","v":21612.220657641774},12]
[null,null,null,null,null,null,null,null,null,null,null,null,null,null,null,null,null,null,null,null,null,null,null,null,null,null,null,null,null,null,null,null,null,null,null,null,null,null,null,null,null,null,null,"Décembre",-2.4563626943554611,4.260841956818826,-1.6000466097434682,0.69646037194161559,-3.2586982911157414E-2,-2.8098423329383246,4.9922076030408293,-2.1006096983100293,0.79282730524995237,-3.9443157005708884E-2,-2.4571259489952788,4.2622889280487817,-1.6008428108972854,0.69664472464435145,-3.2598275237854468E-2,-2.4753395395997497,4.3057939937585354,-1.6400664593627787,0.70122639854684832,-3.3050707536875723E-2,null,"Décembre",0.53673352275943409,0.51545919371943305,0.54260854694778526,0.54260854694778526,0.52392126820185603,0.54264921664048726,0.54264921664048726,0.5160993290816942,null,"Décembre",0.54260854694778526,0.52392126820185603,0.54264921664048726,0.53673352275943409,null,"Décembre",{"$f":"BY111*AK42","v":38989.043444412993},{"$f":"BZ111*AL42","v":49920.554102555063},{"$f":"CA111*AM42","v":39617.945415695838},{"$f":"CB111*AN42","v":21374.124505108066},13]
[]
[]
[null,null,null,null,"NON ISOLÉ",null,null,"ISOLÉ"]
[]
[null,null,null,null,null,null,null,null,null,null,null,"Conduc","e","R",null,null,"Conduc","e","R"]
[null,"LÉGER",null,null,"Non isolé LEGER",null,null,"Isolé LEGER",null,null,"Lame d'air 5 cm",null,5,0.11,null,"Polystyrène 9 cm",0.04,9,{"$f":"0.01*R117/Q117","v":2.25}]
[null,null,null,null,"Murs","Revêtement métallique léger (6mm) / Lame d'air (5cm) / Plâtre (13mm)",null,"Murs","Revêtement métallique léger (6mm) / Polystyrene (9cm) / Plâtre (13mm)",null,"Plâtre 13 mm",0.75,1.3,{"$f":"0.01*M118/L118","v":1.7333333333333336E-2},null,"Plâtre",0.75,1.3,{"$f":"0.01*R118/Q118","v":1.7333333333333336E-2}]
[]
[]
[null,null,null,null,"Toiture","Bitume (2cm) / Lame d'air (10cm) / Plâtre (13mm)",null,"Toiture","Bitume (1cm) / Laine de verre (10cm) / Lame d'air (20cm) / Plâtre (13mm)"]
[null,null,null,null,"Plancher bas","Béton coulé (10cm) / Chape béton (7cm) / Plancher bois (3cm)",null,"Plancher bas","Mousse isolante (10cm) / Béton coulé (10cm) / Chape béton (7cm) / Plancher bois (3cm)",null,null,"Conduc","e","R",null,null,"Conduc","e","R"]
[null,null,null,null,"Cloisons internes","Plâtre (25mm) / Lame d'air (10cm) / Plâtre (25mm)",null,"Cloisons internes","Plâtre (25mm) / Lame d'air (10cm) / Plâtre (25mm)",null,"Brique 20",0.72,20,{"$f":"0.01*M123/L123","v":0.27777777777777779},null,"Brique 10 cm",0.72,10,{"$f":"0.01*R123/Q123","v":0.1388888888888889}]
[]
[]
[null,null,null,null,"Planchers intermédiaires","Béton coulé (10cm)",null,"Planchers intermédiaires","Béton coulé (10cm)",null,"Plâtre 13 mm",0.75,1.3,{"$f":"0.01*M126/L126","v":1.7333333333333336E-2},null,"Polystyrène 9 cm",0.04,9,{"$f":"0.01*R126/Q126","v":2.25}]
[null,null,null,null,"Étanchéité ","1 vol/h",null,"Étanchéité ","0,7 vol/h",null,null,null,null,null,null,"Bloc béton 10",1,10,{"$f":"0.01*R127/Q127","v":0.1}]
[null,null,null,null,null,null,null,null,null,null,null,"Conduc","e","R",null,"Plâtre",0.75,1.3,{"$f":"0.01*R128/Q128","v":1.7333333333333336E-2}]
[]
[]
[null,"MOYEN",null,null,"Non isolé MOYEN",null,null,"Isolé MOYEN",null,null,"Brique 10 cm",0.72,10,{"$f":"0.01*M131/L131","v":0.1388888888888889}]
[null,null,null,null,"Murs","Brique (20cm) / Plâtre (13mm)",null,"Murs","Brique (10cm) / Polystyrene (8cm) / Bloc béton (10cm) / Plâtre (13mm)",null,"Lame d'air 5 cm",null,5,0.11]
[null,null,null,null,"Toiture","Bitume (2cm) / Béton coulé (10cm) / Lame d'air (10cm) / Plâtre (13mm)",null,"Toiture","Bitume (1cm) / Laine de verre (10cm) / Lame d'air (20cm) / Plâtre (13mm)",null,"Bloc béton 10",1,10,{"$f":"0.01*M133/L133","v":0.1}]
[]
[]
[null,null,null,null,"Plancher bas","Béton coulé (10cm) / Chape béton (7cm) / Plancher bois (3cm)",null,"Plancher bas","Mousse isolante (10cm) / Béton coulé (10cm) / Chape béton (7cm) / Plancher bois (3cm)",null,"Plâtre",0.75,1.3,{"$f":"0.01*M136/L136","v":1.7333333333333336E-2}]
[null,null,null,null,"Cloisons internes","Plâtre (25mm) / Lame d'air (10cm) / Plâtre (25mm)",null,"Cloisons internes","Plâtre (25mm) / Lame d'air (10cm) / Plâtre (25mm)"]
[null,null,null,null,"Planchers intermédiaires","Béton coulé (10cm)",null,"Planchers intermédiaires","Béton coulé (10cm)",null,null,null,null,{"$f":"SUM(N117:N118)","v":0.12733333333333333},{"$f":"SUM(S117:S118)","v":2.2673333333333332},null,{"$f":"SUM(N148:N152)","v":0.18733333333333332},{"$f":"SUM(S148:S153)","v":2.7173333333333334},null,{"$f":"1/(N138+0.16)","v":3.4802784222737819},{"$f":"1/(O138+0.16)","v":0.41197473221642406},{"$f":"1/(Q138+0.16)","v":2.8790786948176583},{"$f":"1/(R138+0.16)","v":0.34754402224281739}]
[]
[]
[null,null,null,null,"Étanchéité ","1 vol/h",null,"Étanchéité ","0,7 vol/h",null,null,null,null,{"$f":"SUM(N123:N126)","v":0.2951111111111111},{"$f":"SUM(S123:S128)","v":2.5062222222222221},null,{"$f":"SUM(N157:N162)","v":0.28733333333333333},null,null,{"$f":"1/(N141+0.16)","v":2.197265625},{"$f":"1/(O141+0.16)","v":0.37506251041840305},{"$f":"1/(Q141+0.16)","v":2.2354694485842024},0.34754402224281739]
[null,null,null,null,null,null,null,null,null,null,null,null,null,{"$f":"SUM(N131:N136)","v":0.36622222222222223},null,null,null,null,null,{"$f":"1/(N142+0.16)","v":1.9003378378378377},0.37506251041840305,2.2354694485842024,0.34754402224281739]
[null,"LOURD",null,null,"Non isolé LOURD",null,null,"Isolé LOURD"]
[]
[]
[null,null,null,null,"Murs","Brique (10cm) / Lame d'air (5cm)/ Bloc béton (10cm) / Plâtre (13mm)",null,"Murs","Brique (10cm) / Polystyrene (8cm) / Bloc béton (10cm) / Plâtre (13mm)",null,null,null,null,null,null,null,null,null,null,{"$f":"AVERAGE(T138,V138)","v":3.1796785585457199},{"$f":"AVERAGE(U138,W138)","v":0.37975937722962072}]
[null,null,null,null,"Toiture","Bitume (2cm) / Béton coulé (10cm) / Lame d'air (10cm) / Plâtre (13mm)",null,"Toiture","Bitume (1cm) / Laine de verre (10cm) / Lame d'air (20cm) / Plâtre (13mm)",null,null,"Conduc","e","R",null,null,"Conduc","e","R",{"$f":"AVERAGE(T141,V141)","v":2.2163675367921014},{"$f":"AVERAGE(U141,W141)","v":0.36130326633061022}]
[null,null,null,null,"Plancher bas","Béton coulé (10cm) / Chape béton (7cm) / Plancher bois (3cm)",null,"Plancher bas","Mousse isolante (10cm) / Béton coulé (10cm) / Chape béton (7cm) / Plancher bois (3cm)",null,"Bitume (2xm)",1,2,{"$f":"0.01*M148/L148","v":0.02},null,"Bitume (2xm)",1,2,{"$f":"0.01*R148/Q148","v":0.02},{"$f":"AVERAGE(T142,V142)","v":2.0679036432110198},{"$f":"AVERAGE(U142,W142)","v":0.36130326633061022}]
[]
[]
[null,null,null,null,"Cloisons internes","Plâtre (13mm) / Brique (11cm) / Plâtre (13mm)",null,"Cloisons internes","Plâtre (13mm) / Brique (11cm) / Plâtre (13mm)",null,"Lame d'air 10 cm",null,10,0.15,null,"Lame d'air 20 cm",null,20,0.18]
[null,null,null,null,"Planchers intermédiaires","Béton coulé (30cm)",null,"Planchers intermédiaires","Béton coulé (30cm)",null,"Plâtre 13 mm",0.75,1.3,{"$f":"0.01*M152/L152","v":1.7333333333333336E-2},null,"Plâtre 13 mm",0.75,1.3,{"$f":"0.01*R152/Q152","v":1.7333333333333336E-2}]
[null,null,null,null,"Étanchéité ","1 vol/h",null,"Étanchéité ","0,7 vol/h",null,null,null,null,null,null,"Laine de verre",0.04,10,{"$f":"0.01*R153/Q153","v":2.5}]
[]
[]
[null,null,null,null,null,null,null,null,null,null,null,"Conduc","e","R"]
[null,null,null,"U bat","Non isolé","Isolé",null,null,null,null,"Bitume (2xm)",1,2,{"$f":"0.01*M157/L157","v":0.02}]
[null,null,null,"Léger",3.1796785585457199,0.37975937722962072,{"$f":"E158-F158","v":2.7999191813160991},null,null,null,"Lame d'air 10 cm",null,10,0.15]
[]
[]
[null,null,null,"Moyen",2.2163675367921014,0.36130326633061022,{"$f":"E161-F161","v":1.8550642704614912},null,null,null,"Plâtre 13 mm",0.75,1.3,{"$f":"0.01*M161/L161","v":1.7333333333333336E-2}]
[null,null,null,"Lourd",2.0679036432110198,0.36130326633061022,{"$f":"E162-F162","v":1.7066003768804097},null,null,null,"Béton coulé 10",1,10,{"$f":"0.01*M162/L162","v":0.1}]
[]
[]
[]
[null,null,null,"U bat",{"$f":"Calculs!C48","v":0.65588971102998217}]
[]
[null,null,null,"U bat","Non isolé","Isolé"]
[]
[]
[null,null,null,"Léger",{"$f":"IF($E$166>E158,1,IF($E$166<F158,0,($E$166-F158)/G158))","v":9.8620822930527111E-2},{"$f":"IF($E$166>E158,0,IF($E$166<F158,1,(E158-$E$166)/G158))","v":0.9013791770694729}]
[null,null,null,"Moyen",{"$f":"IF($E$166>E161,1,IF($E$166<F161,0,($E$166-F161)/G161))","v":0.1588012067237361},{"$f":"IF($E$166>E161,0,IF($E$166<F161,1,(E161-$E$166)/G161))","v":0.8411987932762639}]
[null,null,null,"Lourd",{"$f":"IF($E$166>E162,1,IF($E$166<F162,0,($E$166-F162)/G162))","v":0.17261594963307286},{"$f":"IF($E$166>E162,0,IF($E$166<F162,1,(E162-$E$166)/G162))","v":0.82738405036692708}]
[]
[null,null,null,{"$f":"Hypothèses!J19","v":"Moyen"},{"$f":"VLOOKUP($D$175,$D$171:$F$173,2,FALSE)","v":0.1588012067237361},{"$f":"VLOOKUP($D$175,$D$171:$F$173,3,FALSE)","v":0.8411987932762639}]
[]
[null,"APPORT CONDUCTIF"]
[]
[null,"CAYENNE",null,null,"TAMPON 1",null,null,null,null,null,"CAYENNE"]
[null,null,"Temp ext",null,null,"Temp ext","Temp int clim","Temp int vent",null,null,null,null,null,null,null,null,null,"TAMPON 1",null,"(modifier la formule si ajout de site, utiliser la même méthode que pour les autes tableaux tampon)"]
[null,"Janvier ",27.165927419354851,null,"Janvier ",{"$f":"VLOOKUP(E181,INDIRECT(VLOOKUP(Station,$J$5:$K$8,2,FALSE)&3),2,FALSE)","v":27.165927419354851},{"$f":"TempConsigne","v":26},{"$f":"F181+2","v":29.165927419354851},null,null,"vitesse moyenne annuelle de vent fichier météo (m/s)",null,null,null,null,4,null,"vitesse moyenne annuelle de vent fichier météo (m/s)",null,{"$f":"Hypothèses!J28","v":4}]
[null,"Février",27.101320684523813,null,"Février",27.101320684523813,26,29.101320684523813]
[null,"Mars",27.129519489247265,null,"Mars",27.129519489247265,26,29.129519489247265,null,null,"ST-DENIS REUNION",null,null,null,null,null,null,"K_vent utilisé :",null,{"$f":"Hypothèses!J29","v":0.9}]
[null,"Avril",27.363124999999989,null,"Avril",27.363124999999989,26,29.363124999999989]
[null,"Mai",27.863558467741907,null,"Mai",27.863558467741907,26,29.863558467741907,null,null,"vitesse moyenne annuelle de vent fichier météo (m/s)",null,null,null,null,4,null,"vitesse moyenne annuelle de vent calcul (m/s)",null,{"$f":"T181*T183","v":3.6}]
[null,"Juin",26.916753472222226,null,"Juin",26.916753472222226,26,28.916753472222226]
[null,"Juillet",27.352688172043017,null,"Juillet",27.352688172043017,26,29.352688172043017,null,null,null,null,null,null,null,null,null,"coeff échange convectif Mc Adams (W/m².K)",null,{"$f":"5.7+3.8*T185","v":19.38}]
[null,"Août",27.973555107526888,null,"Août",27.973555107526888,26,29.973555107526888]
[null,"Septembre",28.077100694444464,null,"Septembre",28.077100694444464,26,30.077100694444464]
[null,"Octobre",28.413222446236524,null,"Octobre",28.413222446236524,26,30.413222446236524]
[null,"Novembre",27.474965277777791,null,"Novembre",27.474965277777791,26,29.474965277777791]
[null,"Décembre",27.337768817204296,null,"Décembre",27.337768817204296,26,29.337768817204296]
[null,null,{"$f":"AVERAGE(C181:C192)","v":27.514125420693588}]
[]
[null,"ST-DENIS REUNION"]
[null,null,"Temp ext"]
[null,"Janvier ",28.1227822580645]
[null,"Février",28.086328125000001]
[null,"Mars",27.784055779569801]
[null,"Avril",26.928072916666601]
[null,"Mai",25.3713037634408]
[null,"Juin",23.055138888888798]
[null,"Juillet",22.847815860215]
[null,"Août",23.120278897849399]
[null,"Septembre",23.684149305555501]
[null,"Octobre",25.146975806451501]
[null,"Novembre",26.6522222222222]
[null,"Décembre",27.140288978494599]
[null,null,{"$f":"AVERAGE(C197:C208)","v":25.661617733534893}]
[null,"APPORT RENOUVELLEMENT D'AIR"]
[null,"Plusieurs plages horaires pour coller au mieux au fonctionnement de la ventilation (permanent ou calé sur l'occupation).\nOn utilise la plage 0-24h pour les renouvellement d'air par étanchéité. Et la plage correspondante pour le renouv air contrôlé (0-24 ; 8-18 ; ou 9-20)",null,null,null,null,null,null,null,null,null,null,"Si la climatisation est permanente, on choisit la bonne plage horaire pour Text et Hrext pour un calcul précis des apports par renouv. air contrôlé, avec des heures de fonctionnement précises. \n\nSi la climatisation est partielle, on calcule le sensible et le latent provenant du renouv. contrôlé avec les données de la plage horaire 0h-24h, fonctionement 24h, puis on applique le coeff d'intermittence latent.",null,null,null,null,null,null,null,null,null,null,null,null,null,null,null,null,"calcul HR int à partir ligne 247",null,null,null,null,null,"Le débit renseigné correspond au débit dans les conditions extérieures, qu'il faut ajuster au débit correspondant intérieur pour se rapprocher au mieux des simulations Design Builder"]
[null,null,"Permanent, Logement","Bureaux enseignement","Commerces",null,null,null,null,null,null,null,null,null,null,null,null,null,null,null,"RENOUV. CONTRÔLE",null,null,null,null,"RENOUV. PERMANENT ETANCHEITE",null,null,null,null,"INTERIEUR",null,null,null,null,null,null,null,"Ajustement du débit"]
[null,"CAYENNE","Temp ext moyenne \n0h-24h","Temp ext moyenne \n8h-18h","Temp ext moyenne \n9h-20h","Temp ext moyenne \nNUIT 22h-6h","HR ext moyenne \n0h-24h","HR ext moyenne \n8h-18h","HR ext moyenne \n9h-20h","HR ext moyenne \nNUIT 22h-6h",null,"Tampon1","Text pour renouv. contrôlé","HR ext pour renouv. Contrôlé","rho (kg/m^3) pour renouv. Contrôlé","Text pour renouv. permanent étanchéité","HR ext pour renouv. permanent étanchéité","rho (kg/m^3) pour renouv. permanent étanchéité",null,"Tampon1","Temp ext","HR EXT","pv sat ext","H spé. ext (kg eau/kgair)","rho (kg/m^3)","Temp ext","HR EXT","pv sat ext","H spé. ext (kg eau/kgair)","rho (kg/m^3)","Temp int","HR INT","pv sat int","H spé. int (kg eau/kgair)","rho (kg/m^3)",null,null,"rho/rho","RENOUV. CONTRÔLE","RENOUV. PERMANENT ETANCHEITE",null,"rho ext / rho int"]
[null,"Janvier ",27.165927419354851,28.710007331378286,29.137138263665587,25.608431217858801,87.272177419354833,81.315982404692079,79.804662379421217,93.071594495091162,null,"Janvier ",{"$f":"IF(ClimPlan=\"Permanent\",IF(VMCPlan=\"Permanent\",Données1!C214,IF(VMCPlan=\"Nuit\",Données1!F214,IF(OR(Secteur=\"Logement individuel\",Secteur=\"Logement collectif\"),Données1!C214,IF(OR(Secteur=\"Bureaux\",Secteur=\"Enseignement\"),Données1!D214,Données1!E214)))),Données1!C214)","v":27.165927419354851},{"$f":"IF(ClimPlan=\"Permanent\",IF(VMCPlan=\"Permanent\",Données1!G214,IF(VMCPlan=\"Nuit\",Données1!J214,IF(OR(Secteur=\"Logement individuel\",Secteur=\"Logement collectif\"),Données1!G214,IF(OR(Secteur=\"Bureaux\",Secteur=\"Enseignement\"),Données1!H214,Données1!I214)))),Données1!G214)","v":87.272177419354833},{"$f":"1.292*273.15/(M214+273)","v":1.1757157217479848},{"$f":"C214","v":27.165927419354851},{"$f":"G214","v":87.272177419354833},{"$f":"1.292*273.15/(P214+273)","v":1.1757157217479848},null,"Janvier ",{"$f":"VLOOKUP(T214,INDIRECT(VLOOKUP(Station,$J$5:$K$8,2,FALSE)&4),2,FALSE)","v":27.165927419354851},{"$f":"VLOOKUP(T214,INDIRECT(VLOOKUP(Station,$J$5:$K$8,2,FALSE)&4),3,FALSE)","v":87.272177419354833},{"$f":"EXP(23.3265-3802.7/(U214+273.18)-(472.68/(U214+273.18))^2)","v":3599.7964750388437},{"$f":"(0.622*W214*V214/100)/(101325-W214*V214/100)","v":1.990243289622232E-2},{"$f":"VLOOKUP(T214,INDIRECT(VLOOKUP(Station,$J$5:$K$8,2,FALSE)&4),4,FALSE)","v":1.1757157217479848},{"$f":"VLOOKUP(T214,INDIRECT(VLOOKUP(Station,$J$5:$K$8,2,FALSE)&4),5,FALSE)","v":27.165927419354851},{"$f":"VLOOKUP(T214,INDIRECT(VLOOKUP(Station,$J$5:$K$8,2,FALSE)&4),6,FALSE)","v":87.272177419354833},{"$f":"EXP(23.3265-3802.7/(Z214+273.18)-(472.68/(Z214+273.18))^2)","v":3599.7964750388437},{"$f":"(0.622*AB214*AA214/100)/(101325-AB214*AA214/100)","v":1.990243289622232E-2},{"$f":"VLOOKUP(T214,INDIRECT(VLOOKUP(Station,$J$5:$K$8,2,FALSE)&4),7,FALSE)","v":1.1757157217479848},{"$f":"G181","v":26},{"$f":"AU248","v":73.989804475101039},{"$f":"IF(AE214=\"X\",\"X\",EXP(23.3265-3802.7/(AE214+273.18)-(472.68/(AE214+273.18))^2))","v":3360.8502157434891},{"$f":"IF(AE214=\"X\",\"X\",(0.622*AG214*AF214/100)/(101325-AG214*AF214/100))","v":1.564898216442279E-2},{"$f":"1.292*273.15/(AE214+273)","v":1.1803003344481604},null,null,"Janvier ",{"$f":"Y214/AI214","v":0.99611572362866518},{"$f":"AD214/AI214","v":0.99611572362866518}]
[null,"Février",27.101320684523813,28.567126623376616,29.02736607142856,25.600632440476186,85.294270833333329,78.998376623376629,77.141517857142858,91.402529761904759,null,"Février",{"$f":"IF(ClimPlan=\"Permanent\",IF(VMCPlan=\"Permanent\",Données1!C215,IF(VMCPlan=\"Nuit\",Données1!F215,IF(OR(Secteur=\"Logement individuel\",Secteur=\"Logement collectif\"),Données1!C215,IF(OR(Secteur=\"Bureaux\",Secteur=\"Enseignement\"),Données1!D215,Données1!E215)))),Données1!C215)","v":27.101320684523813},{"$f":"IF(ClimPlan=\"Permanent\",IF(VMCPlan=\"Permanent\",Données1!G215,IF(VMCPlan=\"Nuit\",Données1!J215,IF(OR(Secteur=\"Logement individuel\",Secteur=\"Logement collectif\"),Données1!G215,IF(OR(Secteur=\"Bureaux\",Secteur=\"Enseignement\"),Données1!H215,Données1!I215)))),Données1!G215)","v":85.294270833333329},{"$f":"1.292*273.15/(M215+273)","v":1.175968833442723},27.101320684523813,85.294270833333329,1.175968833442723,null,"Février",27.101320684523813,85.294270833333329,3586.1791348391507,1.9361459253862089E-2,1.175968833442723,27.101320684523813,85.294270833333329,3586.1791348391507,1.9361459253862089E-2,1.175968833442723,26,72.043387516801204,{"$f":"IF(AE215=\"X\",\"X\",EXP(23.3265-3802.7/(AE215+273.18)-(472.68/(AE215+273.18))^2))","v":3360.8502157434891},1.5227233186330558E-2,{"$f":"1.292*273.15/(AE215+273)","v":1.1803003344481604},null,null,"Février",0.99633017048371619,0.99633017048371619]
[null,"Mars",27.129519489247265,28.564406158357766,29.00677419354837,25.668548387096759,85.152553763440864,79.206744868035187,77.403225806451616,90.737903225806448,null,"Mars",{"$f":"IF(ClimPlan=\"Permanent\",IF(VMCPlan=\"Permanent\",Données1!C216,IF(VMCPlan=\"Nuit\",Données1!F216,IF(OR(Secteur=\"Logement individuel\",Secteur=\"Logement collectif\"),Données1!C216,IF(OR(Secteur=\"Bureaux\",Secteur=\"Enseignement\"),Données1!D216,Données1!E216)))),Données1!C216)","v":27.129519489247265},{"$f":"IF(ClimPlan=\"Permanent\",IF(VMCPlan=\"Permanent\",Données1!G216,IF(VMCPlan=\"Nuit\",Données1!J216,IF(OR(Secteur=\"Logement individuel\",Secteur=\"Logement collectif\"),Données1!G216,IF(OR(Secteur=\"Bureaux\",Secteur=\"Enseignement\"),Données1!H216,Données1!I216)))),Données1!G216)","v":85.152553763440864},1.1758583447591986,27.129519489247265,85.152553763440864,1.1758583447591986,null,"Mars",27.129519489247265,85.152553763440864,3592.1171500826008,1.9361290495177406E-2,1.1758583447591986,27.129519489247265,85.152553763440864,3592.1171500826008,1.9361290495177406E-2,1.1758583447591986,26,72.70994864628689,3360.8502157434891,1.5371600601688571E-2,1.1803003344481604,null,null,"Mars",0.99623655983200354,0.99623655983200354]
[null,"Avril",27.363124999999989,28.98181818181817,29.412999999999993,25.707708333333326,88.052604166666669,82.171212121212122,80.672499999999999,93.892708333333331,null,"Avril",{"$f":"IF(ClimPlan=\"Permanent\",IF(VMCPlan=\"Permanent\",Données1!C217,IF(VMCPlan=\"Nuit\",Données1!F217,IF(OR(Secteur=\"Logement individuel\",Secteur=\"Logement collectif\"),Données1!C217,IF(OR(Secteur=\"Bureaux\",Secteur=\"Enseignement\"),Données1!D217,Données1!E217)))),Données1!C217)","v":27.363124999999989},{"$f":"IF(ClimPlan=\"Permanent\",IF(VMCPlan=\"Permanent\",Données1!G217,IF(VMCPlan=\"Nuit\",Données1!J217,IF(OR(Secteur=\"Logement individuel\",Secteur=\"Logement collectif\"),Données1!G217,IF(OR(Secteur=\"Bureaux\",Secteur=\"Enseignement\"),Données1!H217,Données1!I217)))),Données1!G217)","v":88.052604166666669},1.1749438284076983,27.363124999999989,88.052604166666669,1.1749438284076983,null,"Avril",27.363124999999989,88.052604166666669,3641.6391082928753,2.0327260398727027E-2,1.1749438284076983,27.363124999999989,88.052604166666669,3641.6391082928753,2.0327260398727027E-2,1.1749438284076983,26,73.383059534324659,3360.8502157434891,1.5517452996198758E-2,1.1803003344481604,null,null,"Avril",0.99546174318169067,0.99546174318169067]
[null,"Mai",27.863558467741907,29.558980938416415,29.959193548387098,26.122849462365579,88.869455645161295,83.118035190615842,81.845161290322579,94.788306451612897,null,"Mai",{"$f":"IF(ClimPlan=\"Permanent\",IF(VMCPlan=\"Permanent\",Données1!C218,IF(VMCPlan=\"Nuit\",Données1!F218,IF(OR(Secteur=\"Logement individuel\",Secteur=\"Logement collectif\"),Données1!C218,IF(OR(Secteur=\"Bureaux\",Secteur=\"Enseignement\"),Données1!D218,Données1!E218)))),Données1!C218)","v":27.863558467741907},{"$f":"IF(ClimPlan=\"Permanent\",IF(VMCPlan=\"Permanent\",Données1!G218,IF(VMCPlan=\"Nuit\",Données1!J218,IF(OR(Secteur=\"Logement individuel\",Secteur=\"Logement collectif\"),Données1!G218,IF(OR(Secteur=\"Bureaux\",Secteur=\"Enseignement\"),Données1!H218,Données1!I218)))),Données1!G218)","v":88.869455645161295},1.172989516567984,27.863558467741907,88.869455645161295,1.172989516567984,null,"Mai",27.863558467741907,88.869455645161295,3749.7299044190704,2.1151903337392884E-2,1.172989516567984,27.863558467741907,88.869455645161295,3749.7299044190704,2.1151903337392884E-2,1.172989516567984,26,74.922489033433635,3360.8502157434891,1.5851273855525743E-2,1.1803003344481604,null,null,"Mai",0.9938059681364112,0.9938059681364112]
[null,"Juin",26.916753472222226,28.953371212121223,29.41479166666668,24.833749999999988,90.105729166666663,85.256439393939388,83.942916666666662,94.991319444444443,null,"Juin",{"$f":"IF(ClimPlan=\"Permanent\",IF(VMCPlan=\"Permanent\",Données1!C219,IF(VMCPlan=\"Nuit\",Données1!F219,IF(OR(Secteur=\"Logement individuel\",Secteur=\"Logement collectif\"),Données1!C219,IF(OR(Secteur=\"Bureaux\",Secteur=\"Enseignement\"),Données1!D219,Données1!E219)))),Données1!C219)","v":26.916753472222226},{"$f":"IF(ClimPlan=\"Permanent\",IF(VMCPlan=\"Permanent\",Données1!G219,IF(VMCPlan=\"Nuit\",Données1!J219,IF(OR(Secteur=\"Logement individuel\",Secteur=\"Logement collectif\"),Données1!G219,IF(OR(Secteur=\"Bureaux\",Secteur=\"Enseignement\"),Données1!H219,Données1!I219)))),Données1!G219)","v":90.105729166666663},1.1766925185547723,26.916753472222226,90.105729166666663,1.1766925185547723,null,"Juin",26.916753472222226,90.105729166666663,3547.5241268033851,2.0261569668432258E-2,1.1766925185547723,26.916753472222226,90.105729166666663,3547.5241268033851,2.0261569668432258E-2,1.1766925185547723,26,73.718210847558197,3360.8502157434891,1.5590099836448656E-2,1.1803003344481604,null,null,"Juin",0.99694330689563437,0.99694330689563437]
[null,"Juillet",27.352688172043017,29.53845307917889,30.158790322580636,25.110685483870959,85.273185483870961,77.371334310850443,75.429838709677426,92.941868279569889,null,"Juillet",{"$f":"IF(ClimPlan=\"Permanent\",IF(VMCPlan=\"Permanent\",Données1!C220,IF(VMCPlan=\"Nuit\",Données1!F220,IF(OR(Secteur=\"Logement individuel\",Secteur=\"Logement collectif\"),Données1!C220,IF(OR(Secteur=\"Bureaux\",Secteur=\"Enseignement\"),Données1!D220,Données1!E220)))),Données1!C220)","v":27.352688172043017},{"$f":"IF(ClimPlan=\"Permanent\",IF(VMCPlan=\"Permanent\",Données1!G220,IF(VMCPlan=\"Nuit\",Données1!J220,IF(OR(Secteur=\"Logement individuel\",Secteur=\"Logement collectif\"),Données1!G220,IF(OR(Secteur=\"Bureaux\",Secteur=\"Enseignement\"),Données1!H220,Données1!I220)))),Données1!G220)","v":85.273185483870961},1.1749846560316186,27.352688172043017,85.273185483870961,1.1749846560316186,null,"Juillet",27.352688172043017,85.273185483870961,3639.4139937386954,1.9652939783055001E-2,1.1749846560316186,27.352688172043017,85.273185483870961,3639.4139937386954,1.9652939783055001E-2,1.1749846560316186,26,70.593754936562078,3360.8502157434891,1.4913489585439841E-2,1.1803003344481604,null,null,"Juillet",0.99549633405888416,0.99549633405888416]
[null,"Août",27.973555107526888,30.331928152492647,30.958991935483876,25.572345430107511,83.793178763440864,75.797287390029325,73.918548387096777,91.699596774193552,null,"Août",{"$f":"IF(ClimPlan=\"Permanent\",IF(VMCPlan=\"Permanent\",Données1!C221,IF(VMCPlan=\"Nuit\",Données1!F221,IF(OR(Secteur=\"Logement individuel\",Secteur=\"Logement collectif\"),Données1!C221,IF(OR(Secteur=\"Bureaux\",Secteur=\"Enseignement\"),Données1!D221,Données1!E221)))),Données1!C221)","v":27.973555107526888},{"$f":"IF(ClimPlan=\"Permanent\",IF(VMCPlan=\"Permanent\",Données1!G221,IF(VMCPlan=\"Nuit\",Données1!J221,IF(OR(Secteur=\"Logement individuel\",Secteur=\"Logement collectif\"),Données1!G221,IF(OR(Secteur=\"Bureaux\",Secteur=\"Enseignement\"),Données1!H221,Données1!I221)))),Données1!G221)","v":83.793178763440864},1.1725608247339809,27.973555107526888,83.793178763440864,1.1725608247339809,null,"Août",27.973555107526888,83.793178763440864,3773.8593023782591,2.0037243685828685E-2,1.1725608247339809,27.973555107526888,83.793178763440864,3773.8593023782591,2.0037243685828685E-2,1.1725608247339809,26,69.241442401257871,3360.8502157434891,1.4621087341328403E-2,1.1803003344481604,null,null,"Août",0.99344276241538298,0.99344276241538298]
[null,"Septembre",28.077100694444464,30.577462121212115,31.164083333333327,25.53760416666665,84.775868055555549,76.503787878787875,74.517083333333332,92.821180555555557,null,"Septembre",{"$f":"IF(ClimPlan=\"Permanent\",IF(VMCPlan=\"Permanent\",Données1!C222,IF(VMCPlan=\"Nuit\",Données1!F222,IF(OR(Secteur=\"Logement individuel\",Secteur=\"Logement collectif\"),Données1!C222,IF(OR(Secteur=\"Bureaux\",Secteur=\"Enseignement\"),Données1!D222,Données1!E222)))),Données1!C222)","v":28.077100694444464},{"$f":"IF(ClimPlan=\"Permanent\",IF(VMCPlan=\"Permanent\",Données1!G222,IF(VMCPlan=\"Nuit\",Données1!J222,IF(OR(Secteur=\"Logement individuel\",Secteur=\"Logement collectif\"),Données1!G222,IF(OR(Secteur=\"Bureaux\",Secteur=\"Enseignement\"),Données1!H222,Données1!I222)))),Données1!G222)","v":84.775868055555549},1.1721575609237687,28.077100694444464,84.775868055555549,1.1721575609237687,null,"Septembre",28.077100694444464,84.775868055555549,3796.6968978126092,2.0406643815221909E-2,1.1721575609237687,28.077100694444464,84.775868055555549,3796.6968978126092,2.0406643815221909E-2,1.1721575609237687,26,69.354501396407485,3360.8502157434891,1.4645523109213736E-2,1.1803003344481604,null,null,"Septembre",0.99310110038374355,0.99310110038374355]
[null,"Octobre",28.413222446236524,30.967302052785939,31.542137096774194,25.815658602150528,83.136256720430111,74.640762463343108,72.658870967741933,91.506048387096769,null,"Octobre",{"$f":"IF(ClimPlan=\"Permanent\",IF(VMCPlan=\"Permanent\",Données1!C223,IF(VMCPlan=\"Nuit\",Données1!F223,IF(OR(Secteur=\"Logement individuel\",Secteur=\"Logement collectif\"),Données1!C223,IF(OR(Secteur=\"Bureaux\",Secteur=\"Enseignement\"),Données1!D223,Données1!E223)))),Données1!C223)","v":28.413222446236524},{"$f":"IF(ClimPlan=\"Permanent\",IF(VMCPlan=\"Permanent\",Données1!G223,IF(VMCPlan=\"Nuit\",Données1!J223,IF(OR(Secteur=\"Logement individuel\",Secteur=\"Logement collectif\"),Données1!G223,IF(OR(Secteur=\"Bureaux\",Secteur=\"Enseignement\"),Données1!H223,Données1!I223)))),Données1!G223)","v":83.136256720430111},1.1708504263211243,28.413222446236524,83.136256720430111,1.1708504263211243,null,"Octobre",28.413222446236524,83.136256720430111,3871.6612920987118,2.0407112123985334E-2,1.1708504263211243,28.413222446236524,83.136256720430111,3871.6612920987118,2.0407112123985334E-2,1.1708504263211243,26,68.600604725560942,3360.8502157434891,1.4482616680777159E-2,1.1803003344481604,null,null,"Octobre",0.99199364106640342,0.99199364106640342]
[null,"Novembre",27.474965277777791,29.768712121212108,30.311624999999978,25.16131944444443,85.977430555555557,78.75454545454545,76.961666666666673,93.100347222222226,null,"Novembre",{"$f":"IF(ClimPlan=\"Permanent\",IF(VMCPlan=\"Permanent\",Données1!C224,IF(VMCPlan=\"Nuit\",Données1!F224,IF(OR(Secteur=\"Logement individuel\",Secteur=\"Logement collectif\"),Données1!C224,IF(OR(Secteur=\"Bureaux\",Secteur=\"Enseignement\"),Données1!D224,Données1!E224)))),Données1!C224)","v":27.474965277777791},{"$f":"IF(ClimPlan=\"Permanent\",IF(VMCPlan=\"Permanent\",Données1!G224,IF(VMCPlan=\"Nuit\",Données1!J224,IF(OR(Secteur=\"Logement individuel\",Secteur=\"Logement collectif\"),Données1!G224,IF(OR(Secteur=\"Bureaux\",Secteur=\"Enseignement\"),Données1!H224,Données1!I224)))),Données1!G224)","v":85.977430555555557},1.1745065006455633,27.474965277777791,85.977430555555557,1.1745065006455633,null,"Novembre",27.474965277777791,85.977430555555557,3665.5577033167556,1.9967369946163691E-2,1.1745065006455633,27.474965277777791,85.977430555555557,3665.5577033167556,1.9967369946163691E-2,1.1745065006455633,26,70.095799945096417,3360.8502157434891,1.4805788594255147E-2,1.1803003344481604,null,null,"Novembre",0.99509122073975687,0.99509122073975687]
[null,"Décembre",27.337768817204296,29.276209677419367,29.768024193548385,25.356115591397845,86.609206989247312,79.524926686217015,77.801612903225802,93.794354838709666,null,"Décembre",{"$f":"IF(ClimPlan=\"Permanent\",IF(VMCPlan=\"Permanent\",Données1!C225,IF(VMCPlan=\"Nuit\",Données1!F225,IF(OR(Secteur=\"Logement individuel\",Secteur=\"Logement collectif\"),Données1!C225,IF(OR(Secteur=\"Bureaux\",Secteur=\"Enseignement\"),Données1!D225,Données1!E225)))),Données1!C225)","v":27.337768817204296},{"$f":"IF(ClimPlan=\"Permanent\",IF(VMCPlan=\"Permanent\",Données1!G225,IF(VMCPlan=\"Nuit\",Données1!J225,IF(OR(Secteur=\"Logement individuel\",Secteur=\"Logement collectif\"),Données1!G225,IF(OR(Secteur=\"Bureaux\",Secteur=\"Enseignement\"),Données1!H225,Données1!I225)))),Données1!G225)","v":86.609206989247312},1.1750430236924108,27.337768817204296,86.609206989247312,1.1750430236924108,null,"Décembre",27.337768817204296,86.609206989247312,3636.2352667643418,1.9952737050084917E-2,1.1750430236924108,27.337768817204296,86.609206989247312,3636.2352667643418,1.9952737050084917E-2,1.1750430236924108,26,72.214314612401694,3360.8502157434891,1.5264247265989553E-2,1.1803003344481604,null,null,"Décembre",0.99554578559175988,0.99554578559175988]
[]
[]
[null,"ST-DENIS REUNION",null,null,null,null,null,null,null,null,null,null,null,null,null,null,null,null,null,"Etanchéité à l'air ",null,null,null,"Tampon 1","Etanchéité à l'air "]
[null,null,"Temp ext moyenne \n0h-24h","Temp ext moyenne \n8h-18h","Temp ext moyenne \n9h-20h","Temp ext moyenne \nNUIT 22h-6h","HR ext moyenne \n0h-24h","HR ext moyenne \n8h-18h","HR ext moyenne \n9h-20h","HR ext moyenne \nNUIT 22h-6h",null,"Tampon1","Text pour renouv. Contrôlé","HR ext pour renouv. Contrôlé","rho (kg/m^3) pour renouv. Contrôlé","Text pour renouv. permanent étanchéité","HR ext pour renouv. permanent étanchéité","rho (kg/m^3) pour renouv. permanent étanchéité",null,"Secteur","Par opaque (m3/h/m²)","Par baies (m3/h/m²)",null,"Secteur","Par opaque (m^3/h/m²)","Par baies (m^3/h/m²)"]
[null,"Janvier ",28.122782258064525,29.775439882697945,30.11712218649517,26.366373743571756,77.400705645161295,68.877199413489734,67.2532154340836,86.054435483870975,null,"Janvier ",{"$f":"IF(VMCPlan=\"Permanent\",Données1!C230,IF(VMCPlan=\"Nuit\",Données1!F230,IF(OR(Secteur=\"Logement individuel\",Secteur=\"Logement collectif\"),Données1!C230,IF(OR(Secteur=\"Bureaux\",Secteur=\"Enseignement\"),Données1!D230,Données1!E230))))","v":28.122782258064525},{"$f":"IF(VMCPlan=\"Permanent\",Données1!G230,IF(VMCPlan=\"Nuit\",Données1!J230,IF(OR(Secteur=\"Logement individuel\",Secteur=\"Logement collectif\"),Données1!G230,IF(OR(Secteur=\"Bureaux\",Secteur=\"Enseignement\"),Données1!H230,Données1!I230))))","v":77.400705645161295},{"$f":"1.292*273.15/(M230+273)","v":1.1719797398044547},{"$f":"C230","v":28.122782258064525},{"$f":"G230","v":77.400705645161295},{"$f":"1.292*273.15/(P230+273)","v":1.1719797398044547},null,{"$f":"Z5","v":"Logement"},1,{"$f":"Hypothèses!$P$6","v":5.85},null,{"$f":"Interface!E9","v":"Enseignement"},{"$f":"VLOOKUP(X230,T230:V235,2,FALSE)","v":1.2},{"$f":"VLOOKUP(X230,T230:V236,3,FALSE)","v":5.85}]
[null,"Février",28.086328125000005,29.660551948051946,30.02999999999998,26.45598958333332,78.698846726190482,70.746347402597408,69.272767857142853,86.279761904761898,null,"Février",{"$f":"IF(VMCPlan=\"Permanent\",Données1!C231,IF(VMCPlan=\"Nuit\",Données1!F231,IF(OR(Secteur=\"Logement individuel\",Secteur=\"Logement collectif\"),Données1!C231,IF(OR(Secteur=\"Bureaux\",Secteur=\"Enseignement\"),Données1!D231,Données1!E231))))","v":28.086328125000005},{"$f":"IF(VMCPlan=\"Permanent\",Données1!G231,IF(VMCPlan=\"Nuit\",Données1!J231,IF(OR(Secteur=\"Logement individuel\",Secteur=\"Logement collectif\"),Données1!G231,IF(OR(Secteur=\"Bureaux\",Secteur=\"Enseignement\"),Données1!H231,Données1!I231))))","v":78.698846726190482},1.1721216376636163,28.086328125000005,78.698846726190482,1.1721216376636163,null,{"$f":"Z6","v":"Commerces"},2.5,{"$f":"Hypothèses!$P$6","v":5.85}]
[null,"Mars",27.784055779569865,29.439956011730214,29.852096774193566,26.099563172042998,78.332493279569889,70.260630498533729,68.572580645161295,86.147177419354833,null,"Mars",{"$f":"IF(VMCPlan=\"Permanent\",Données1!C232,IF(VMCPlan=\"Nuit\",Données1!F232,IF(OR(Secteur=\"Logement individuel\",Secteur=\"Logement collectif\"),Données1!C232,IF(OR(Secteur=\"Bureaux\",Secteur=\"Enseignement\"),Données1!D232,Données1!E232))))","v":27.784055779569865},{"$f":"IF(VMCPlan=\"Permanent\",Données1!G232,IF(VMCPlan=\"Nuit\",Données1!J232,IF(OR(Secteur=\"Logement individuel\",Secteur=\"Logement collectif\"),Données1!G232,IF(OR(Secteur=\"Bureaux\",Secteur=\"Enseignement\"),Données1!H232,Données1!I232))))","v":78.332493279569889},1.1732995589986674,27.784055779569865,78.332493279569889,1.1732995589986674,null,{"$f":"Z7","v":"Bureaux"},1.2,{"$f":"Hypothèses!$P$6","v":5.85}]
[null,"Avril",26.92807291666664,28.659090909090899,29.084541666666652,25.209722222222215,76.425694444444446,67.391287878787878,65.181250000000006,84.85486111111112,null,"Avril",{"$f":"IF(VMCPlan=\"Permanent\",Données1!C233,IF(VMCPlan=\"Nuit\",Données1!F233,IF(OR(Secteur=\"Logement individuel\",Secteur=\"Logement collectif\"),Données1!C233,IF(OR(Secteur=\"Bureaux\",Secteur=\"Enseignement\"),Données1!D233,Données1!E233))))","v":26.92807291666664},{"$f":"IF(VMCPlan=\"Permanent\",Données1!G233,IF(VMCPlan=\"Nuit\",Données1!J233,IF(OR(Secteur=\"Logement individuel\",Secteur=\"Logement collectif\"),Données1!G233,IF(OR(Secteur=\"Bureaux\",Secteur=\"Enseignement\"),Données1!H233,Données1!I233))))","v":76.425694444444446},1.1766481095554333,26.92807291666664,76.425694444444446,1.1766481095554333,null,{"$f":"Z8","v":"Enseignement"},1.2,{"$f":"Hypothèses!$P$6","v":5.85}]
[null,"Mai",25.371303763440881,27.086693548387071,27.543346774193523,23.656384408602143,71.440524193548384,62.697580645161288,60.751612903225805,80.069556451612897,null,"Mai",{"$f":"IF(VMCPlan=\"Permanent\",Données1!C234,IF(VMCPlan=\"Nuit\",Données1!F234,IF(OR(Secteur=\"Logement individuel\",Secteur=\"Logement collectif\"),Données1!C234,IF(OR(Secteur=\"Bureaux\",Secteur=\"Enseignement\"),Données1!D234,Données1!E234))))","v":25.371303763440881},{"$f":"IF(VMCPlan=\"Permanent\",Données1!G234,IF(VMCPlan=\"Nuit\",Données1!J234,IF(OR(Secteur=\"Logement individuel\",Secteur=\"Logement collectif\"),Données1!G234,IF(OR(Secteur=\"Bureaux\",Secteur=\"Enseignement\"),Données1!H234,Données1!I234))))","v":71.440524193548384},1.1827873376180944,25.371303763440881,71.440524193548384,1.1827873376180944,null,{"$f":"Z9","v":"Santé"},1.2,{"$f":"Hypothèses!$P$6","v":5.85}]
[null,"Juin",23.05513888888887,24.814848484848479,25.305791666666654,21.325624999999992,71.865104166666669,64.564772727272725,62.515833333333333,78.840972222222234,null,"Juin",{"$f":"IF(VMCPlan=\"Permanent\",Données1!C235,IF(VMCPlan=\"Nuit\",Données1!F235,IF(OR(Secteur=\"Logement individuel\",Secteur=\"Logement collectif\"),Données1!C235,IF(OR(Secteur=\"Bureaux\",Secteur=\"Enseignement\"),Données1!D235,Données1!E235))))","v":23.05513888888887},{"$f":"IF(VMCPlan=\"Permanent\",Données1!G235,IF(VMCPlan=\"Nuit\",Données1!J235,IF(OR(Secteur=\"Logement individuel\",Secteur=\"Logement collectif\"),Données1!G235,IF(OR(Secteur=\"Bureaux\",Secteur=\"Enseignement\"),Données1!H235,Données1!I235))))","v":71.865104166666669},1.1920407844447145,23.05513888888887,71.865104166666669,1.1920407844447145,null,{"$f":"Z10","v":"Hôtellerie"},1.2,{"$f":"Hypothèses!$P$6","v":5.85}]
[null,"Juillet",22.847815860215047,24.569721407624627,25.095846774193546,21.144287634408599,70.68665994623656,61.661656891495603,59.221774193548384,78.925403225806463,null,"Juillet",{"$f":"IF(VMCPlan=\"Permanent\",Données1!C236,IF(VMCPlan=\"Nuit\",Données1!F236,IF(OR(Secteur=\"Logement individuel\",Secteur=\"Logement collectif\"),Données1!C236,IF(OR(Secteur=\"Bureaux\",Secteur=\"Enseignement\"),Données1!D236,Données1!E236))))","v":22.847815860215047},{"$f":"IF(VMCPlan=\"Permanent\",Données1!G236,IF(VMCPlan=\"Nuit\",Données1!J236,IF(OR(Secteur=\"Logement individuel\",Secteur=\"Logement collectif\"),Données1!G236,IF(OR(Secteur=\"Bureaux\",Secteur=\"Enseignement\"),Données1!H236,Données1!I236))))","v":70.68665994623656},1.1928761379355461,22.847815860215047,70.68665994623656,1.1928761379355461]
[null,"Août",23.120278897849438,24.893841642228711,25.37016129032256,21.363978494623652,69.512768817204304,60.674486803519059,58.753629032258061,78.004032258064512,null,"Août",{"$f":"IF(VMCPlan=\"Permanent\",Données1!C237,IF(VMCPlan=\"Nuit\",Données1!F237,IF(OR(Secteur=\"Logement individuel\",Secteur=\"Logement collectif\"),Données1!C237,IF(OR(Secteur=\"Bureaux\",Secteur=\"Enseignement\"),Données1!D237,Données1!E237))))","v":23.120278897849438},{"$f":"IF(VMCPlan=\"Permanent\",Données1!G237,IF(VMCPlan=\"Nuit\",Données1!J237,IF(OR(Secteur=\"Logement individuel\",Secteur=\"Logement collectif\"),Données1!G237,IF(OR(Secteur=\"Bureaux\",Secteur=\"Enseignement\"),Données1!H237,Données1!I237))))","v":69.512768817204304},1.1917785614464478,23.120278897849438,69.512768817204304,1.1917785614464478]
[null,"Septembre",23.684149305555547,25.587348484848487,25.985916666666668,21.768124999999991,71.944965277777783,63.029166666666669,61.042916666666663,80.492361111111109,null,"Septembre",{"$f":"IF(VMCPlan=\"Permanent\",Données1!C238,IF(VMCPlan=\"Nuit\",Données1!F238,IF(OR(Secteur=\"Logement individuel\",Secteur=\"Logement collectif\"),Données1!C238,IF(OR(Secteur=\"Bureaux\",Secteur=\"Enseignement\"),Données1!D238,Données1!E238))))","v":23.684149305555547},{"$f":"IF(VMCPlan=\"Permanent\",Données1!G238,IF(VMCPlan=\"Nuit\",Données1!J238,IF(OR(Secteur=\"Logement individuel\",Secteur=\"Logement collectif\"),Données1!G238,IF(OR(Secteur=\"Bureaux\",Secteur=\"Enseignement\"),Données1!H238,Données1!I238))))","v":71.944965277777783},1.1895134971856469,23.684149305555547,71.944965277777783,1.1895134971856469]
[null,"Octobre",25.146975806451586,27.025769794721402,27.355080645161287,23.173353494623647,71.485719086021504,62.39149560117302,60.74274193548387,80.802755376344095,null,"Octobre",{"$f":"IF(VMCPlan=\"Permanent\",Données1!C239,IF(VMCPlan=\"Nuit\",Données1!F239,IF(OR(Secteur=\"Logement individuel\",Secteur=\"Logement collectif\"),Données1!C239,IF(OR(Secteur=\"Bureaux\",Secteur=\"Enseignement\"),Données1!D239,Données1!E239))))","v":25.146975806451586},{"$f":"IF(VMCPlan=\"Permanent\",Données1!G239,IF(VMCPlan=\"Nuit\",Données1!J239,IF(OR(Secteur=\"Logement individuel\",Secteur=\"Logement collectif\"),Données1!G239,IF(OR(Secteur=\"Bureaux\",Secteur=\"Enseignement\"),Données1!H239,Données1!I239))))","v":71.485719086021504},1.1836772754290785,25.146975806451586,71.485719086021504,1.1836772754290785]
[null,"Novembre",26.652222222222246,28.533712121212126,28.86129166666667,24.658645833333324,74.883854166666666,66.581439393939391,65.293750000000003,83.501388888888897,null,"Novembre",{"$f":"IF(VMCPlan=\"Permanent\",Données1!C240,IF(VMCPlan=\"Nuit\",Données1!F240,IF(OR(Secteur=\"Logement individuel\",Secteur=\"Logement collectif\"),Données1!C240,IF(OR(Secteur=\"Bureaux\",Secteur=\"Enseignement\"),Données1!D240,Données1!E240))))","v":26.652222222222246},{"$f":"IF(VMCPlan=\"Permanent\",Données1!G240,IF(VMCPlan=\"Nuit\",Données1!J240,IF(OR(Secteur=\"Logement individuel\",Secteur=\"Logement collectif\"),Données1!G240,IF(OR(Secteur=\"Bureaux\",Secteur=\"Enseignement\"),Données1!H240,Données1!I240))))","v":74.883854166666666},1.1777312959097026,26.652222222222246,74.883854166666666,1.1777312959097026]
[null,"Décembre",27.140288978494599,28.875366568914973,29.242137096774222,25.276579301075266,75.771001344086017,68.489369501466271,66.751612903225805,83.405913978494624,null,"Décembre",{"$f":"IF(VMCPlan=\"Permanent\",Données1!C241,IF(VMCPlan=\"Nuit\",Données1!F241,IF(OR(Secteur=\"Logement individuel\",Secteur=\"Logement collectif\"),Données1!C241,IF(OR(Secteur=\"Bureaux\",Secteur=\"Enseignement\"),Données1!D241,Données1!E241))))","v":27.140288978494599},{"$f":"IF(VMCPlan=\"Permanent\",Données1!G241,IF(VMCPlan=\"Nuit\",Données1!J241,IF(OR(Secteur=\"Logement individuel\",Secteur=\"Logement collectif\"),Données1!G241,IF(OR(Secteur=\"Bureaux\",Secteur=\"Enseignement\"),Données1!H241,Données1!I241))))","v":75.771001344086017},1.1758161531765778,27.140288978494599,75.771001344086017,1.1758161531765778]
[]
[]
[null,"Calcul de HR int pour calculer l'énergie latente issue du renouv. air\nHR int varie en fonction (principalement) de la température de consigne, et du débit de renouvellement d'air\nSoit x le débit renouv. air, y l'HR int à une témpérature donnée, on a y=a*x^4+b*x^3+c*x^2+d*x+e\nIci on détermine ces coeffs empirique pour les températures [20;26]"]
[null,"CAYENNE"]
[null,null,26,null,null,null,null,25,null,null,null,null,24,null,null,null,null,23,null,null,null,null,22,null,null,null,null,21,null,null,null,null,20,null,null,null,null,null,"TAMPON 1",{"$f":"TempConsigne","v":26},null,null,null,null,null,"TAMPON 2","HR int",null,null,null,null,null,"Cayenne",20,21,22,23,24,25,26,null,"HR Final",20,21,22,23,24,25,26]
[null,null,"a","b","c","d","e","a","b","c","d","e","a","b","c","d","e","a","b","c","d","e","a","b","c","d","e","a","b","c","d","e","a","b","c","d","e",null,null,"a","b","c","d","e"]
[null,"Janvier",-5.5686262461460494,31.706355400679151,-68.798850814721376,74.367581313677661,39.554701828102523,-5.6035371232798319,31.855589544017803,-69.051159804858287,74.856481728301802,39.908878329402832,-5.7146629679369916,32.427600005438194,-70.075005020897848,75.692992467662194,40.584319564279795,-5.9117643563486633,33.465594240196815,-71.976225584371022,77.063188221907623,41.464810613268597,-6.0459150588364032,34.247374384726584,-73.560690699620366,78.223154190468563,42.667165037984503,-5.9667823053698248,34.041217526797816,-73.611300861269171,78.400280006990855,44.324047248260783,-5.6562059734649566,32.789598779345617,-72.124371533238332,77.720521110176662,46.3430476308463,null,"Janvier",{"$f":"IF($AN$246=$AG$246,AG248,IF($AN$246=$AB$246,AB248,IF($AN$246=$W$246,W248,IF($AN$246=$R$246,R248,IF($AN$246=$M$246,M248,IF($AN$246=$H$246,H248,IF($AN$246=$C$246,C248,IF($AN$246=#REF!,#REF!,IF($AN$246=#REF!,#REF!)))))))))","v":-5.5686262461460494},{"$f":"IF($AN$246=$AG$246,AH248,IF($AN$246=$AB$246,AC248,IF($AN$246=$W$246,X248,IF($AN$246=$R$246,S248,IF($AN$246=$M$246,N248,IF($AN$246=$H$246,I248,IF($AN$246=$C$246,D248,IF($AN$246=#REF!,#REF!,IF($AN$246=#REF!,#REF!)))))))))","v":31.706355400679151},{"$f":"IF($AN$246=$AG$246,AI248,IF($AN$246=$AB$246,AD248,IF($AN$246=$W$246,Y248,IF($AN$246=$R$246,T248,IF($AN$246=$M$246,O248,IF($AN$246=$H$246,J248,IF($AN$246=$C$246,E248,IF($AN$246=#REF!,#REF!,IF($AN$246=#REF!,#REF!)))))))))","v":-68.798850814721376},{"$f":"IF($AN$246=$AG$246,AJ248,IF($AN$246=$AB$246,AE248,IF($AN$246=$W$246,Z248,IF($AN$246=$R$246,U248,IF($AN$246=$M$246,P248,IF($AN$246=$H$246,K248,IF($AN$246=$C$246,F248,IF($AN$246=#REF!,#REF!,IF($AN$246=#REF!,#REF!)))))))))","v":74.367581313677661},{"$f":"IF($AN$246=$AG$246,AK248,IF($AN$246=$AB$246,AF248,IF($AN$246=$W$246,AA248,IF($AN$246=$R$246,V248,IF($AN$246=$M$246,Q248,IF($AN$246=$H$246,L248,IF($AN$246=$C$246,G248,IF($AN$246=#REF!,#REF!,IF($AN$246=#REF!,#REF!)))))))))","v":39.554701828102523},null,"Janvier ",{"$f":"MIN(AU264*$BL$277^4+AV264*$BL$277^3+AW264*$BL$277^2+AX264*$BL$277+AY264,AA214)","v":73.989804475101039},null,null,null,null,null,"Janvier ",{"$f":"MIN(AG248*$BL$277^4+AH248*$BL$277^3+AI248*$BL$277^2+AJ248*$BL$277+AK248,$Q214)","v":81.625131874325277},{"$f":"MIN(AB248*$BL$277^4+AC248*$BL$277^3+AD248*$BL$277^2+AE248*$BL$277+AF248,$Q214)","v":79.856205191848119},{"$f":"MIN(W248*$BL$277^4+X248*$BL$277^3+Y248*$BL$277^2+Z248*$BL$277+AA248,$Q214)","v":78.293029459022961},{"$f":"MIN(R248*$BL$277^4+S248*$BL$277^3+T248*$BL$277^2+U248*$BL$277+V248,$Q214)","v":76.932479307486304},{"$f":"MIN(M248*$BL$277^4+N248*$BL$277^3+O248*$BL$277^2+P248*$BL$277+Q248,$Q214)","v":75.767653548094998},{"$f":"MIN(H248*$BL$277^4+I248*$BL$277^3+J248*$BL$277^2+K248*$BL$277+L248,$Q214)","v":74.79192053766505},{"$f":"MIN(C248*$BL$277^4+D248*$BL$277^3+E248*$BL$277^2+F248*$BL$277+G248,$Q214)","v":73.989804475101039},null,"Janvier ",{"$f":"IF(Station=Données1!$J$5,BB248,BB264)","v":81.625131874325277},{"$f":"IF(Station=Données1!$J$5,BC248,BC264)","v":79.856205191848119},{"$f":"IF(Station=Données1!$J$5,BD248,BD264)","v":78.293029459022961},{"$f":"IF(Station=Données1!$J$5,BE248,BE264)","v":76.932479307486304},{"$f":"IF(Station=Données1!$J$5,BF248,BF264)","v":75.767653548094998},{"$f":"IF(Station=Données1!$J$5,BG248,BG264)","v":74.79192053766505},{"$f":"IF(Station=Données1!$J$5,BH248,BH264)","v":73.989804475101039}]
[null,"Février",-5.2788427379436476,29.842241121698599,-64.607424731439295,70.556444049996145,38.740418888150636,-5.3625225851331795,30.161754862067614,-64.949428634650658,70.827047395351542,39.426342030694279,-5.7159522398804583,31.893877266423768,-67.857037114516601,72.821506744146305,40.030900305317132,-6.2947566553582632,34.837435687788165,-73.071140886554417,76.521637875445961,40.476910974409108,-6.7961211790570077,37.474059739046965,-77.941463964621406,80.084500411649174,41.167416914349161,-6.9221814452930781,38.299855841668396,-79.801285800904296,81.580798488779763,42.569587451709296,-6.3780476513909212,35.824428797764604,-76.024722884885264,79.156730249105763,45.102266687686168,null,"Février",{"$f":"IF($AN$246=$AG$246,AG249,IF($AN$246=$AB$246,AB249,IF($AN$246=$W$246,W249,IF($AN$246=$R$246,R249,IF($AN$246=$M$246,M249,IF($AN$246=$H$246,H249,IF($AN$246=$C$246,C249,IF($AN$246=#REF!,#REF!,IF($AN$246=#REF!,#REF!)))))))))","v":-5.2788427379436476},{"$f":"IF($AN$246=$AG$246,AH249,IF($AN$246=$AB$246,AC249,IF($AN$246=$W$246,X249,IF($AN$246=$R$246,S249,IF($AN$246=$M$246,N249,IF($AN$246=$H$246,I249,IF($AN$246=$C$246,D249,IF($AN$246=#REF!,#REF!,IF($AN$246=#REF!,#REF!)))))))))","v":29.842241121698599},{"$f":"IF($AN$246=$AG$246,AI249,IF($AN$246=$AB$246,AD249,IF($AN$246=$W$246,Y249,IF($AN$246=$R$246,T249,IF($AN$246=$M$246,O249,IF($AN$246=$H$246,J249,IF($AN$246=$C$246,E249,IF($AN$246=#REF!,#REF!,IF($AN$246=#REF!,#REF!)))))))))","v":-64.607424731439295},{"$f":"IF($AN$246=$AG$246,AJ249,IF($AN$246=$AB$246,AE249,IF($AN$246=$W$246,Z249,IF($AN$246=$R$246,U249,IF($AN$246=$M$246,P249,IF($AN$246=$H$246,K249,IF($AN$246=$C$246,F249,IF($AN$246=#REF!,#REF!,IF($AN$246=#REF!,#REF!)))))))))","v":70.556444049996145},{"$f":"IF($AN$246=$AG$246,AK249,IF($AN$246=$AB$246,AF249,IF($AN$246=$W$246,AA249,IF($AN$246=$R$246,V249,IF($AN$246=$M$246,Q249,IF($AN$246=$H$246,L249,IF($AN$246=$C$246,G249,IF($AN$246=#REF!,#REF!,IF($AN$246=#REF!,#REF!)))))))))","v":38.740418888150636},null,"Février",72.043387516801204,null,null,null,null,null,"Février",80.279276789280715,78.414469700011466,76.765654820215502,75.31829960938245,74.060245518238659,72.976172030844168,72.043387516801204,null,"Février",{"$f":"IF(Station=Données1!$J$5,BB249,BB265)","v":80.279276789280715},{"$f":"IF(Station=Données1!$J$5,BC249,BC265)","v":78.414469700011466},{"$f":"IF(Station=Données1!$J$5,BD249,BD265)","v":76.765654820215502},{"$f":"IF(Station=Données1!$J$5,BE249,BE265)","v":75.31829960938245},{"$f":"IF(Station=Données1!$J$5,BF249,BF265)","v":74.060245518238659},{"$f":"IF(Station=Données1!$J$5,BG249,BG265)","v":72.976172030844168},{"$f":"IF(Station=Données1!$J$5,BH249,BH265)","v":72.043387516801204}]
[null,"Mars",-4.992694827794522,28.622578377822471,-62.853222165280719,69.190668359884143,40.098195532481441,-4.7616157655663107,27.502286588704074,-61.087898739767468,68.546920635427909,40.635756842512933,-4.6257347298253206,26.820622482882843,-59.924244324736613,67.950159918705523,41.587149430226589,-4.6626948216829245,27.034726375959469,-60.36563546076831,68.365497321923002,42.645518101570346,-4.9771906244834785,28.691350512618456,-63.449789047939035,70.661323468001498,43.537930175391594,-5.2989026439280664,30.47007495731857,-66.962872933989729,73.403131983874587,44.528807858058585,-5.3416416778513689,30.903765580019879,-68.256484158679029,74.636134483210924,46.101366018416655,null,"Mars",{"$f":"IF($AN$246=$AG$246,AG250,IF($AN$246=$AB$246,AB250,IF($AN$246=$W$246,W250,IF($AN$246=$R$246,R250,IF($AN$246=$M$246,M250,IF($AN$246=$H$246,H250,IF($AN$246=$C$246,C250,IF($AN$246=#REF!,#REF!,IF($AN$246=#REF!,#REF!)))))))))","v":-4.992694827794522},{"$f":"IF($AN$246=$AG$246,AH250,IF($AN$246=$AB$246,AC250,IF($AN$246=$W$246,X250,IF($AN$246=$R$246,S250,IF($AN$246=$M$246,N250,IF($AN$246=$H$246,I250,IF($AN$246=$C$246,D250,IF($AN$246=#REF!,#REF!,IF($AN$246=#REF!,#REF!)))))))))","v":28.622578377822471},{"$f":"IF($AN$246=$AG$246,AI250,IF($AN$246=$AB$246,AD250,IF($AN$246=$W$246,Y250,IF($AN$246=$R$246,T250,IF($AN$246=$M$246,O250,IF($AN$246=$H$246,J250,IF($AN$246=$C$246,E250,IF($AN$246=#REF!,#REF!,IF($AN$246=#REF!,#REF!)))))))))","v":-62.853222165280719},{"$f":"IF($AN$246=$AG$246,AJ250,IF($AN$246=$AB$246,AE250,IF($AN$246=$W$246,Z250,IF($AN$246=$R$246,U250,IF($AN$246=$M$246,P250,IF($AN$246=$H$246,K250,IF($AN$246=$C$246,F250,IF($AN$246=#REF!,#REF!,IF($AN$246=#REF!,#REF!)))))))))","v":69.190668359884143},{"$f":"IF($AN$246=$AG$246,AK250,IF($AN$246=$AB$246,AF250,IF($AN$246=$W$246,AA250,IF($AN$246=$R$246,V250,IF($AN$246=$M$246,Q250,IF($AN$246=$H$246,L250,IF($AN$246=$C$246,G250,IF($AN$246=#REF!,#REF!,IF($AN$246=#REF!,#REF!)))))))))","v":40.098195532481441},null,"Mars",72.70994864628689,null,null,null,null,null,"Mars",80.671898860779947,78.863498274409892,77.26371246004183,75.860609930718482,74.642330737597561,73.603557938926102,72.70994864628689,null,"Mars",{"$f":"IF(Station=Données1!$J$5,BB250,BB266)","v":80.671898860779947},{"$f":"IF(Station=Données1!$J$5,BC250,BC266)","v":78.863498274409892},{"$f":"IF(Station=Données1!$J$5,BD250,BD266)","v":77.26371246004183},{"$f":"IF(Station=Données1!$J$5,BE250,BE266)","v":75.860609930718482},{"$f":"IF(Station=Données1!$J$5,BF250,BF266)","v":74.642330737597561},{"$f":"IF(Station=Données1!$J$5,BG250,BG266)","v":73.603557938926102},{"$f":"IF(Station=Données1!$J$5,BH250,BH266)","v":72.70994864628689}]
[null,"Avril",-5.5632361423629995,31.651677838477926,-68.741129283499887,75.007625489620622,38.102122896388607,-5.733596071266164,32.510869366877088,-70.254377328139498,76.241960164466832,38.554346661081588,-5.9726973630295213,33.755714945562808,-72.499198353838551,77.873409278234021,39.240117322345682,-6.3113908688754554,35.542840765021488,-75.784281265678374,80.207589145792639,40.04414553435835,-6.4829322825119426,36.593899655820664,-78.026100644368171,81.957168862384947,41.181823955213218,-6.5495943221832347,37.232120672021097,-79.828518690315164,83.609119716782729,42.507754425514676,-5.93652616818735,34.61957140135565,-76.331043829193405,81.839834536124542,44.749940970020745,null,"Avril",{"$f":"IF($AN$246=$AG$246,AG251,IF($AN$246=$AB$246,AB251,IF($AN$246=$W$246,W251,IF($AN$246=$R$246,R251,IF($AN$246=$M$246,M251,IF($AN$246=$H$246,H251,IF($AN$246=$C$246,C251,IF($AN$246=#REF!,#REF!,IF($AN$246=#REF!,#REF!)))))))))","v":-5.5632361423629995},{"$f":"IF($AN$246=$AG$246,AH251,IF($AN$246=$AB$246,AC251,IF($AN$246=$W$246,X251,IF($AN$246=$R$246,S251,IF($AN$246=$M$246,N251,IF($AN$246=$H$246,I251,IF($AN$246=$C$246,D251,IF($AN$246=#REF!,#REF!,IF($AN$246=#REF!,#REF!)))))))))","v":31.651677838477926},{"$f":"IF($AN$246=$AG$246,AI251,IF($AN$246=$AB$246,AD251,IF($AN$246=$W$246,Y251,IF($AN$246=$R$246,T251,IF($AN$246=$M$246,O251,IF($AN$246=$H$246,J251,IF($AN$246=$C$246,E251,IF($AN$246=#REF!,#REF!,IF($AN$246=#REF!,#REF!)))))))))","v":-68.741129283499887},{"$f":"IF($AN$246=$AG$246,AJ251,IF($AN$246=$AB$246,AE251,IF($AN$246=$W$246,Z251,IF($AN$246=$R$246,U251,IF($AN$246=$M$246,P251,IF($AN$246=$H$246,K251,IF($AN$246=$C$246,F251,IF($AN$246=#REF!,#REF!,IF($AN$246=#REF!,#REF!)))))))))","v":75.007625489620622},{"$f":"IF($AN$246=$AG$246,AK251,IF($AN$246=$AB$246,AF251,IF($AN$246=$W$246,AA251,IF($AN$246=$R$246,V251,IF($AN$246=$M$246,Q251,IF($AN$246=$H$246,L251,IF($AN$246=$C$246,G251,IF($AN$246=#REF!,#REF!,IF($AN$246=#REF!,#REF!)))))))))","v":38.102122896388607},null,"Avril",73.383059534324659,null,null,null,null,null,"Avril",81.497694834922626,79.654382863564166,78.029672413736719,76.596512775549371,75.355135496030996,74.289746503075008,73.383059534324659,null,"Avril",{"$f":"IF(Station=Données1!$J$5,BB251,BB267)","v":81.497694834922626},{"$f":"IF(Station=Données1!$J$5,BC251,BC267)","v":79.654382863564166},{"$f":"IF(Station=Données1!$J$5,BD251,BD267)","v":78.029672413736719},{"$f":"IF(Station=Données1!$J$5,BE251,BE267)","v":76.596512775549371},{"$f":"IF(Station=Données1!$J$5,BF251,BF267)","v":75.355135496030996},{"$f":"IF(Station=Données1!$J$5,BG251,BG267)","v":74.289746503075008},{"$f":"IF(Station=Données1!$J$5,BH251,BH267)","v":73.383059534324659}]
[null,"Mai",-5.4995587726859352,31.44635030992897,-68.72217716404333,75.561135559121183,39.154810496277712,-5.5196789955256031,31.536318230466915,-68.830948833063928,75.733845719433091,39.781887999433998,-5.8043008257337103,32.981537504227326,-71.346314035377233,77.464599134558739,40.398057598042136,-6.2151634637079356,35.102560867731079,-75.130831605456933,80.046530616124485,41.107233296868785,-6.8212031476355328,38.266943994352864,-80.89524190169287,84.077027058710044,41.721523625114173,-7.2225319188680341,40.479363337376711,-85.171185954415364,87.133781721063357,42.788066270760126,-7.260170141791324,40.969486122493599,-86.67659701035177,88.382674201962629,44.472684773241696,null,"Mai",{"$f":"IF($AN$246=$AG$246,AG252,IF($AN$246=$AB$246,AB252,IF($AN$246=$W$246,W252,IF($AN$246=$R$246,R252,IF($AN$246=$M$246,M252,IF($AN$246=$H$246,H252,IF($AN$246=$C$246,C252,IF($AN$246=#REF!,#REF!,IF($AN$246=#REF!,#REF!)))))))))","v":-5.4995587726859352},{"$f":"IF($AN$246=$AG$246,AH252,IF($AN$246=$AB$246,AC252,IF($AN$246=$W$246,X252,IF($AN$246=$R$246,S252,IF($AN$246=$M$246,N252,IF($AN$246=$H$246,I252,IF($AN$246=$C$246,D252,IF($AN$246=#REF!,#REF!,IF($AN$246=#REF!,#REF!)))))))))","v":31.44635030992897},{"$f":"IF($AN$246=$AG$246,AI252,IF($AN$246=$AB$246,AD252,IF($AN$246=$W$246,Y252,IF($AN$246=$R$246,T252,IF($AN$246=$M$246,O252,IF($AN$246=$H$246,J252,IF($AN$246=$C$246,E252,IF($AN$246=#REF!,#REF!,IF($AN$246=#REF!,#REF!)))))))))","v":-68.72217716404333},{"$f":"IF($AN$246=$AG$246,AJ252,IF($AN$246=$AB$246,AE252,IF($AN$246=$W$246,Z252,IF($AN$246=$R$246,U252,IF($AN$246=$M$246,P252,IF($AN$246=$H$246,K252,IF($AN$246=$C$246,F252,IF($AN$246=#REF!,#REF!,IF($AN$246=#REF!,#REF!)))))))))","v":75.561135559121183},{"$f":"IF($AN$246=$AG$246,AK252,IF($AN$246=$AB$246,AF252,IF($AN$246=$W$246,AA252,IF($AN$246=$R$246,V252,IF($AN$246=$M$246,Q252,IF($AN$246=$H$246,L252,IF($AN$246=$C$246,G252,IF($AN$246=#REF!,#REF!,IF($AN$246=#REF!,#REF!)))))))))","v":39.154810496277712},null,"Mai",74.922489033433635,null,null,null,null,null,"Mai",82.421602403319326,80.707465192724229,79.192588986173675,77.867673629374451,76.71527130690032,75.736887115336998,74.922489033433635,null,"Mai",{"$f":"IF(Station=Données1!$J$5,BB252,BB268)","v":82.421602403319326},{"$f":"IF(Station=Données1!$J$5,BC252,BC268)","v":80.707465192724229},{"$f":"IF(Station=Données1!$J$5,BD252,BD268)","v":79.192588986173675},{"$f":"IF(Station=Données1!$J$5,BE252,BE268)","v":77.867673629374451},{"$f":"IF(Station=Données1!$J$5,BF252,BF268)","v":76.71527130690032},{"$f":"IF(Station=Données1!$J$5,BG252,BG268)","v":75.736887115336998},{"$f":"IF(Station=Données1!$J$5,BH252,BH268)","v":74.922489033433635}]
[null,"Juin",-6.3668006828163097,35.66348361921797,-75.647848421286014,79.851443524687014,37.286765913477886,-6.6498924967489259,37.094183943175395,-78.15900115261536,81.773978781875613,37.563551369051055,-6.9885910954582178,38.888823732263951,-81.441521274344467,84.146154376002244,38.074743553564431,-7.1998839978666398,40.126653452076219,-83.931668059500026,85.998901803617173,38.976269125854564,-7.1422257083261877,40.132694552836512,-84.543166785984639,86.697093976896042,40.350965628379853,-6.8366098505047361,39.069482922472936,-83.717004864451596,86.747100474902894,41.990809220391284,-5.9952823906647872,35.50943087813161,-78.993829511964336,84.456820775915759,44.269067283269976,null,"Juin",{"$f":"IF($AN$246=$AG$246,AG253,IF($AN$246=$AB$246,AB253,IF($AN$246=$W$246,W253,IF($AN$246=$R$246,R253,IF($AN$246=$M$246,M253,IF($AN$246=$H$246,H253,IF($AN$246=$C$246,C253,IF($AN$246=#REF!,#REF!,IF($AN$246=#REF!,#REF!)))))))))","v":-6.3668006828163097},{"$f":"IF($AN$246=$AG$246,AH253,IF($AN$246=$AB$246,AC253,IF($AN$246=$W$246,X253,IF($AN$246=$R$246,S253,IF($AN$246=$M$246,N253,IF($AN$246=$H$246,I253,IF($AN$246=$C$246,D253,IF($AN$246=#REF!,#REF!,IF($AN$246=#REF!,#REF!)))))))))","v":35.66348361921797},{"$f":"IF($AN$246=$AG$246,AI253,IF($AN$246=$AB$246,AD253,IF($AN$246=$W$246,Y253,IF($AN$246=$R$246,T253,IF($AN$246=$M$246,O253,IF($AN$246=$H$246,J253,IF($AN$246=$C$246,E253,IF($AN$246=#REF!,#REF!,IF($AN$246=#REF!,#REF!)))))))))","v":-75.647848421286014},{"$f":"IF($AN$246=$AG$246,AJ253,IF($AN$246=$AB$246,AE253,IF($AN$246=$W$246,Z253,IF($AN$246=$R$246,U253,IF($AN$246=$M$246,P253,IF($AN$246=$H$246,K253,IF($AN$246=$C$246,F253,IF($AN$246=#REF!,#REF!,IF($AN$246=#REF!,#REF!)))))))))","v":79.851443524687014},{"$f":"IF($AN$246=$AG$246,AK253,IF($AN$246=$AB$246,AF253,IF($AN$246=$W$246,AA253,IF($AN$246=$R$246,V253,IF($AN$246=$M$246,Q253,IF($AN$246=$H$246,L253,IF($AN$246=$C$246,G253,IF($AN$246=#REF!,#REF!,IF($AN$246=#REF!,#REF!)))))))))","v":37.286765913477886},null,"Juin",73.718210847558197,null,null,null,null,null,"Juin",81.694619759449338,79.856008792720971,78.237320850479449,76.823793556317582,75.613356923882876,74.591435515140489,73.718210847558197,null,"Juin",{"$f":"IF(Station=Données1!$J$5,BB253,BB269)","v":81.694619759449338},{"$f":"IF(Station=Données1!$J$5,BC253,BC269)","v":79.856008792720971},{"$f":"IF(Station=Données1!$J$5,BD253,BD269)","v":78.237320850479449},{"$f":"IF(Station=Données1!$J$5,BE253,BE269)","v":76.823793556317582},{"$f":"IF(Station=Données1!$J$5,BF253,BF269)","v":75.613356923882876},{"$f":"IF(Station=Données1!$J$5,BG253,BG269)","v":74.591435515140489},{"$f":"IF(Station=Données1!$J$5,BH253,BH269)","v":73.718210847558197}]
[null,"Juillet",-4.9440772014631102,28.483619777165838,-63.005826704263391,70.560092051925437,36.600174946208469,-4.9705021637523128,28.624523374928195,-63.326340185396568,71.052705258901014,37.379935727681186,-5.1128328378643051,29.372029479059876,-64.73988899962059,72.222159326313374,38.271790663388629,-5.2446294408001988,30.159721969696516,-66.433678153685193,73.69302579220502,39.299125095046179,-4.9038205184712638,28.657815006313911,-64.320713212425687,72.602022273483328,41.110789635165318,-4.1205243099698574,25.032894501819452,-58.739375538635443,69.262135640380848,43.594082732843439,-2.9188292385893391,19.41977016628222,-49.965733464493042,63.920774973094765,46.669724832363144,null,"Juillet",{"$f":"IF($AN$246=$AG$246,AG254,IF($AN$246=$AB$246,AB254,IF($AN$246=$W$246,W254,IF($AN$246=$R$246,R254,IF($AN$246=$M$246,M254,IF($AN$246=$H$246,H254,IF($AN$246=$C$246,C254,IF($AN$246=#REF!,#REF!,IF($AN$246=#REF!,#REF!)))))))))","v":-4.9440772014631102},{"$f":"IF($AN$246=$AG$246,AH254,IF($AN$246=$AB$246,AC254,IF($AN$246=$W$246,X254,IF($AN$246=$R$246,S254,IF($AN$246=$M$246,N254,IF($AN$246=$H$246,I254,IF($AN$246=$C$246,D254,IF($AN$246=#REF!,#REF!,IF($AN$246=#REF!,#REF!)))))))))","v":28.483619777165838},{"$f":"IF($AN$246=$AG$246,AI254,IF($AN$246=$AB$246,AD254,IF($AN$246=$W$246,Y254,IF($AN$246=$R$246,T254,IF($AN$246=$M$246,O254,IF($AN$246=$H$246,J254,IF($AN$246=$C$246,E254,IF($AN$246=#REF!,#REF!,IF($AN$246=#REF!,#REF!)))))))))","v":-63.005826704263391},{"$f":"IF($AN$246=$AG$246,AJ254,IF($AN$246=$AB$246,AE254,IF($AN$246=$W$246,Z254,IF($AN$246=$R$246,U254,IF($AN$246=$M$246,P254,IF($AN$246=$H$246,K254,IF($AN$246=$C$246,F254,IF($AN$246=#REF!,#REF!,IF($AN$246=#REF!,#REF!)))))))))","v":70.560092051925437},{"$f":"IF($AN$246=$AG$246,AK254,IF($AN$246=$AB$246,AF254,IF($AN$246=$W$246,AA254,IF($AN$246=$R$246,V254,IF($AN$246=$M$246,Q254,IF($AN$246=$H$246,L254,IF($AN$246=$C$246,G254,IF($AN$246=#REF!,#REF!,IF($AN$246=#REF!,#REF!)))))))))","v":36.600174946208469},null,"Juillet",70.593754936562078,null,null,null,null,null,"Juillet",79.904992719002394,77.862942566017722,76.028835904426415,74.399436037558814,72.971955000153216,71.711610315680332,70.593754936562078,null,"Juillet",{"$f":"IF(Station=Données1!$J$5,BB254,BB270)","v":79.904992719002394},{"$f":"IF(Station=Données1!$J$5,BC254,BC270)","v":77.862942566017722},{"$f":"IF(Station=Données1!$J$5,BD254,BD270)","v":76.028835904426415},{"$f":"IF(Station=Données1!$J$5,BE254,BE270)","v":74.399436037558814},{"$f":"IF(Station=Données1!$J$5,BF254,BF270)","v":72.971955000153216},{"$f":"IF(Station=Données1!$J$5,BG254,BG270)","v":71.711610315680332},{"$f":"IF(Station=Données1!$J$5,BH254,BH270)","v":70.593754936562078}]
[null,"Août",-4.6305337835099962,27.416222943375097,-62.225480481235749,71.125909580846269,34.645650465531361,-4.4635368669851223,26.758546478623941,-61.506931162421381,71.095229012229353,35.716769653470294,-4.0788039817788242,25.098038632641831,-59.249246233170041,70.114227008177878,37.180390604863497,-3.3369429025914727,21.743148680604563,-54.276754148862636,67.422988869238608,39.169395097733947,-2.2916673208611447,16.950554238989625,-47.018748640477853,63.323479074526638,41.607227034373764,-0.93975096165587846,10.659128574748662,-37.26423422174858,57.56708826994916,44.587884355494701,0.86053408175278023,2.2069945717430994,-23.981078935906417,49.567480989397581,48.192065020263641,null,"Août",{"$f":"IF($AN$246=$AG$246,AG255,IF($AN$246=$AB$246,AB255,IF($AN$246=$W$246,W255,IF($AN$246=$R$246,R255,IF($AN$246=$M$246,M255,IF($AN$246=$H$246,H255,IF($AN$246=$C$246,C255,IF($AN$246=#REF!,#REF!,IF($AN$246=#REF!,#REF!)))))))))","v":-4.6305337835099962},{"$f":"IF($AN$246=$AG$246,AH255,IF($AN$246=$AB$246,AC255,IF($AN$246=$W$246,X255,IF($AN$246=$R$246,S255,IF($AN$246=$M$246,N255,IF($AN$246=$H$246,I255,IF($AN$246=$C$246,D255,IF($AN$246=#REF!,#REF!,IF($AN$246=#REF!,#REF!)))))))))","v":27.416222943375097},{"$f":"IF($AN$246=$AG$246,AI255,IF($AN$246=$AB$246,AD255,IF($AN$246=$W$246,Y255,IF($AN$246=$R$246,T255,IF($AN$246=$M$246,O255,IF($AN$246=$H$246,J255,IF($AN$246=$C$246,E255,IF($AN$246=#REF!,#REF!,IF($AN$246=#REF!,#REF!)))))))))","v":-62.225480481235749},{"$f":"IF($AN$246=$AG$246,AJ255,IF($AN$246=$AB$246,AE255,IF($AN$246=$W$246,Z255,IF($AN$246=$R$246,U255,IF($AN$246=$M$246,P255,IF($AN$246=$H$246,K255,IF($AN$246=$C$246,F255,IF($AN$246=#REF!,#REF!,IF($AN$246=#REF!,#REF!)))))))))","v":71.125909580846269},{"$f":"IF($AN$246=$AG$246,AK255,IF($AN$246=$AB$246,AF255,IF($AN$246=$W$246,AA255,IF($AN$246=$R$246,V255,IF($AN$246=$M$246,Q255,IF($AN$246=$H$246,L255,IF($AN$246=$C$246,G255,IF($AN$246=#REF!,#REF!,IF($AN$246=#REF!,#REF!)))))))))","v":34.645650465531361},null,"Août",69.241442401257871,null,null,null,null,null,"Août",79.624046109802848,77.418974843704973,75.414532459417103,73.597953583408938,71.96623197631321,70.517760614924811,69.241442401257871,null,"Août",{"$f":"IF(Station=Données1!$J$5,BB255,BB271)","v":79.624046109802848},{"$f":"IF(Station=Données1!$J$5,BC255,BC271)","v":77.418974843704973},{"$f":"IF(Station=Données1!$J$5,BD255,BD271)","v":75.414532459417103},{"$f":"IF(Station=Données1!$J$5,BE255,BE271)","v":73.597953583408938},{"$f":"IF(Station=Données1!$J$5,BF255,BF271)","v":71.96623197631321},{"$f":"IF(Station=Données1!$J$5,BG255,BG271)","v":70.517760614924811},{"$f":"IF(Station=Données1!$J$5,BH255,BH271)","v":69.241442401257871}]
[null,"Septembre",-4.9808414230562574,29.032409636986685,-64.771523250515386,72.991979156533461,34.071471285514349,-4.8993498741148365,28.816387140924817,-64.830854562135016,73.447153501587891,35.113809615264159,-4.6665679234184179,27.899124556257977,-63.813041531614857,73.233169061499964,36.486107900554771,-4.1094918884053273,25.43983735676337,-60.314025606948746,71.438095479531398,38.36259194786583,-3.1382464271979078,20.996943489057458,-53.584572149903707,67.56050912374964,40.850437238582487,-1.6517844936444004,14.093525345691518,-42.876381772000556,61.183378553090478,43.996595404480878,0.18287638657991334,5.5502544774680107,-29.592380583308302,53.272238224730295,47.588933007585851,null,"Septembre",{"$f":"IF($AN$246=$AG$246,AG256,IF($AN$246=$AB$246,AB256,IF($AN$246=$W$246,W256,IF($AN$246=$R$246,R256,IF($AN$246=$M$246,M256,IF($AN$246=$H$246,H256,IF($AN$246=$C$246,C256,IF($AN$246=#REF!,#REF!,IF($AN$246=#REF!,#REF!)))))))))","v":-4.9808414230562574},{"$f":"IF($AN$246=$AG$246,AH256,IF($AN$246=$AB$246,AC256,IF($AN$246=$W$246,X256,IF($AN$246=$R$246,S256,IF($AN$246=$M$246,N256,IF($AN$246=$H$246,I256,IF($AN$246=$C$246,D256,IF($AN$246=#REF!,#REF!,IF($AN$246=#REF!,#REF!)))))))))","v":29.032409636986685},{"$f":"IF($AN$246=$AG$246,AI256,IF($AN$246=$AB$246,AD256,IF($AN$246=$W$246,Y256,IF($AN$246=$R$246,T256,IF($AN$246=$M$246,O256,IF($AN$246=$H$246,J256,IF($AN$246=$C$246,E256,IF($AN$246=#REF!,#REF!,IF($AN$246=#REF!,#REF!)))))))))","v":-64.771523250515386},{"$f":"IF($AN$246=$AG$246,AJ256,IF($AN$246=$AB$246,AE256,IF($AN$246=$W$246,Z256,IF($AN$246=$R$246,U256,IF($AN$246=$M$246,P256,IF($AN$246=$H$246,K256,IF($AN$246=$C$246,F256,IF($AN$246=#REF!,#REF!,IF($AN$246=#REF!,#REF!)))))))))","v":72.991979156533461},{"$f":"IF($AN$246=$AG$246,AK256,IF($AN$246=$AB$246,AF256,IF($AN$246=$W$246,AA256,IF($AN$246=$R$246,V256,IF($AN$246=$M$246,Q256,IF($AN$246=$H$246,L256,IF($AN$246=$C$246,G256,IF($AN$246=#REF!,#REF!,IF($AN$246=#REF!,#REF!)))))))))","v":34.071471285514349},null,"Septembre",69.354501396407485,null,null,null,null,null,"Septembre",79.768620452516018,77.56361668856664,75.551607484664203,73.733921485753541,72.100483839237981,70.643402671412574,69.354501396407485,null,"Septembre",{"$f":"IF(Station=Données1!$J$5,BB256,BB272)","v":79.768620452516018},{"$f":"IF(Station=Données1!$J$5,BC256,BC272)","v":77.56361668856664},{"$f":"IF(Station=Données1!$J$5,BD256,BD272)","v":75.551607484664203},{"$f":"IF(Station=Données1!$J$5,BE256,BE272)","v":73.733921485753541},{"$f":"IF(Station=Données1!$J$5,BF256,BF272)","v":72.100483839237981},{"$f":"IF(Station=Données1!$J$5,BG256,BG272)","v":70.643402671412574},{"$f":"IF(Station=Données1!$J$5,BH256,BH272)","v":69.354501396407485}]
[null,"Octobre",-4.9928199440197121,29.208618301764698,-65.296934084958892,73.382483065770543,33.351942712860804,-4.912943665776293,29.002244879475651,-65.391913361671271,73.892564868526392,34.434941545587442,-4.4225793405628506,26.820749895608923,-62.235741826743997,72.250081568184797,36.167571691626705,-3.5353911065322676,22.746369202053632,-56.016860972437598,68.655198207018003,38.469157476530611,-2.2318696534799458,16.710326635451651,-46.697416359097524,63.185794294693679,41.276773027729568,-0.53699610976752721,8.8198832704742269,-34.428690192762787,55.921347282512151,44.581606791220359,1.5117807877931291,-0.72807045369930468,-19.581896208378556,47.158044803471135,48.304574586088059,null,"Octobre",{"$f":"IF($AN$246=$AG$246,AG257,IF($AN$246=$AB$246,AB257,IF($AN$246=$W$246,W257,IF($AN$246=$R$246,R257,IF($AN$246=$M$246,M257,IF($AN$246=$H$246,H257,IF($AN$246=$C$246,C257,IF($AN$246=#REF!,#REF!,IF($AN$246=#REF!,#REF!)))))))))","v":-4.9928199440197121},{"$f":"IF($AN$246=$AG$246,AH257,IF($AN$246=$AB$246,AC257,IF($AN$246=$W$246,X257,IF($AN$246=$R$246,S257,IF($AN$246=$M$246,N257,IF($AN$246=$H$246,I257,IF($AN$246=$C$246,D257,IF($AN$246=#REF!,#REF!,IF($AN$246=#REF!,#REF!)))))))))","v":29.208618301764698},{"$f":"IF($AN$246=$AG$246,AI257,IF($AN$246=$AB$246,AD257,IF($AN$246=$W$246,Y257,IF($AN$246=$R$246,T257,IF($AN$246=$M$246,O257,IF($AN$246=$H$246,J257,IF($AN$246=$C$246,E257,IF($AN$246=#REF!,#REF!,IF($AN$246=#REF!,#REF!)))))))))","v":-65.296934084958892},{"$f":"IF($AN$246=$AG$246,AJ257,IF($AN$246=$AB$246,AE257,IF($AN$246=$W$246,Z257,IF($AN$246=$R$246,U257,IF($AN$246=$M$246,P257,IF($AN$246=$H$246,K257,IF($AN$246=$C$246,F257,IF($AN$246=#REF!,#REF!,IF($AN$246=#REF!,#REF!)))))))))","v":73.382483065770543},{"$f":"IF($AN$246=$AG$246,AK257,IF($AN$246=$AB$246,AF257,IF($AN$246=$W$246,AA257,IF($AN$246=$R$246,V257,IF($AN$246=$M$246,Q257,IF($AN$246=$H$246,L257,IF($AN$246=$C$246,G257,IF($AN$246=#REF!,#REF!,IF($AN$246=#REF!,#REF!)))))))))","v":33.351942712860804},null,"Octobre",68.600604725560942,null,null,null,null,null,"Octobre",79.445124939839701,77.172226063269363,75.091339358542854,73.198214991552632,71.489295954145177,69.95775147979802,68.600604725560942,null,"Octobre",{"$f":"IF(Station=Données1!$J$5,BB257,BB273)","v":79.445124939839701},{"$f":"IF(Station=Données1!$J$5,BC257,BC273)","v":77.172226063269363},{"$f":"IF(Station=Données1!$J$5,BD257,BD273)","v":75.091339358542854},{"$f":"IF(Station=Données1!$J$5,BE257,BE273)","v":73.198214991552632},{"$f":"IF(Station=Données1!$J$5,BF257,BF273)","v":71.489295954145177},{"$f":"IF(Station=Données1!$J$5,BG257,BG273)","v":69.95775147979802},{"$f":"IF(Station=Données1!$J$5,BH257,BH273)","v":68.600604725560942}]
[null,"Novembre",-5.3583272071510395,30.855961401379687,-67.76249542133796,74.675995847811677,34.755871515131886,-5.4887979918635628,31.615960245012555,-69.336203258147535,76.086915432653313,35.466942189152689,-5.3824354984447078,31.279937979898772,-69.193198726586303,76.363292059172736,36.653321050727861,-4.9219881180624538,29.266924041820072,-66.365629948157718,74.92680867390014,38.396661705511619,-4.0905017733321873,25.5181976417622,-60.819563481383689,71.844673778182866,40.638358800312119,-2.7524815049841811,19.369746084652128,-51.435230314541826,66.379502963264486,43.525845433271527,-0.88219500954085384,10.710888257975657,-38.071315695802561,58.498097955378476,47.039736149169904,null,"Novembre",{"$f":"IF($AN$246=$AG$246,AG258,IF($AN$246=$AB$246,AB258,IF($AN$246=$W$246,W258,IF($AN$246=$R$246,R258,IF($AN$246=$M$246,M258,IF($AN$246=$H$246,H258,IF($AN$246=$C$246,C258,IF($AN$246=#REF!,#REF!,IF($AN$246=#REF!,#REF!)))))))))","v":-5.3583272071510395},{"$f":"IF($AN$246=$AG$246,AH258,IF($AN$246=$AB$246,AC258,IF($AN$246=$W$246,X258,IF($AN$246=$R$246,S258,IF($AN$246=$M$246,N258,IF($AN$246=$H$246,I258,IF($AN$246=$C$246,D258,IF($AN$246=#REF!,#REF!,IF($AN$246=#REF!,#REF!)))))))))","v":30.855961401379687},{"$f":"IF($AN$246=$AG$246,AI258,IF($AN$246=$AB$246,AD258,IF($AN$246=$W$246,Y258,IF($AN$246=$R$246,T258,IF($AN$246=$M$246,O258,IF($AN$246=$H$246,J258,IF($AN$246=$C$246,E258,IF($AN$246=#REF!,#REF!,IF($AN$246=#REF!,#REF!)))))))))","v":-67.76249542133796},{"$f":"IF($AN$246=$AG$246,AJ258,IF($AN$246=$AB$246,AE258,IF($AN$246=$W$246,Z258,IF($AN$246=$R$246,U258,IF($AN$246=$M$246,P258,IF($AN$246=$H$246,K258,IF($AN$246=$C$246,F258,IF($AN$246=#REF!,#REF!,IF($AN$246=#REF!,#REF!)))))))))","v":74.675995847811677},{"$f":"IF($AN$246=$AG$246,AK258,IF($AN$246=$AB$246,AF258,IF($AN$246=$W$246,AA258,IF($AN$246=$R$246,V258,IF($AN$246=$M$246,Q258,IF($AN$246=$H$246,L258,IF($AN$246=$C$246,G258,IF($AN$246=#REF!,#REF!,IF($AN$246=#REF!,#REF!)))))))))","v":34.755871515131886},null,"Novembre",70.095799945096417,null,null,null,null,null,"Novembre",79.980225608341783,77.833498038524141,75.897331285164171,74.165189493930058,72.627879900456605,71.279654704804358,70.095799945096417,null,"Novembre",{"$f":"IF(Station=Données1!$J$5,BB258,BB274)","v":79.980225608341783},{"$f":"IF(Station=Données1!$J$5,BC258,BC274)","v":77.833498038524141},{"$f":"IF(Station=Données1!$J$5,BD258,BD274)","v":75.897331285164171},{"$f":"IF(Station=Données1!$J$5,BE258,BE274)","v":74.165189493930058},{"$f":"IF(Station=Données1!$J$5,BF258,BF274)","v":72.627879900456605},{"$f":"IF(Station=Données1!$J$5,BG258,BG274)","v":71.279654704804358},{"$f":"IF(Station=Données1!$J$5,BH258,BH274)","v":70.095799945096417}]
[null,"Décembre",-4.9738171162147191,28.765467011345404,-63.850779277008769,71.591959235540259,37.772961320846818,-5.157586204363847,29.660524406743718,-65.372740561713414,72.795753434620963,38.313034688565025,-5.5365383864897133,31.5766599424094,-68.750380397415,75.219509132392048,38.87796934573251,-5.9624002352823382,33.772292103809015,-72.723248390626935,78.070860683653919,39.596789568005477,-6.0931885724816652,34.540991301815801,-74.329590599470023,79.301401422539115,40.913766994922987,-5.8006939725293174,33.273237391219475,-72.59027260696881,78.324598183488035,42.917982354654313,-5.085716609446675,30.004526564055816,-67.652644318173202,75.348233126619519,45.51700965504579,null,"Décembre",{"$f":"IF($AN$246=$AG$246,AG259,IF($AN$246=$AB$246,AB259,IF($AN$246=$W$246,W259,IF($AN$246=$R$246,R259,IF($AN$246=$M$246,M259,IF($AN$246=$H$246,H259,IF($AN$246=$C$246,C259,IF($AN$246=#REF!,#REF!,IF($AN$246=#REF!,#REF!)))))))))","v":-4.9738171162147191},{"$f":"IF($AN$246=$AG$246,AH259,IF($AN$246=$AB$246,AC259,IF($AN$246=$W$246,X259,IF($AN$246=$R$246,S259,IF($AN$246=$M$246,N259,IF($AN$246=$H$246,I259,IF($AN$246=$C$246,D259,IF($AN$246=#REF!,#REF!,IF($AN$246=#REF!,#REF!)))))))))","v":28.765467011345404},{"$f":"IF($AN$246=$AG$246,AI259,IF($AN$246=$AB$246,AD259,IF($AN$246=$W$246,Y259,IF($AN$246=$R$246,T259,IF($AN$246=$M$246,O259,IF($AN$246=$H$246,J259,IF($AN$246=$C$246,E259,IF($AN$246=#REF!,#REF!,IF($AN$246=#REF!,#REF!)))))))))","v":-63.850779277008769},{"$f":"IF($AN$246=$AG$246,AJ259,IF($AN$246=$AB$246,AE259,IF($AN$246=$W$246,Z259,IF($AN$246=$R$246,U259,IF($AN$246=$M$246,P259,IF($AN$246=$H$246,K259,IF($AN$246=$C$246,F259,IF($AN$246=#REF!,#REF!,IF($AN$246=#REF!,#REF!)))))))))","v":71.591959235540259},{"$f":"IF($AN$246=$AG$246,AK259,IF($AN$246=$AB$246,AF259,IF($AN$246=$W$246,AA259,IF($AN$246=$R$246,V259,IF($AN$246=$M$246,Q259,IF($AN$246=$H$246,L259,IF($AN$246=$C$246,G259,IF($AN$246=#REF!,#REF!,IF($AN$246=#REF!,#REF!)))))))))","v":37.772961320846818},null,"Décembre",72.214314612401694,null,null,null,null,null,"Décembre",80.787611677001962,78.869456793700991,77.157563432455277,75.647675014185396,74.331702950698215,73.195320947581408,72.214314612401694,null,"Décembre",{"$f":"IF(Station=Données1!$J$5,BB259,BB275)","v":80.787611677001962},{"$f":"IF(Station=Données1!$J$5,BC259,BC275)","v":78.869456793700991},{"$f":"IF(Station=Données1!$J$5,BD259,BD275)","v":77.157563432455277},{"$f":"IF(Station=Données1!$J$5,BE259,BE275)","v":75.647675014185396},{"$f":"IF(Station=Données1!$J$5,BF259,BF275)","v":74.331702950698215},{"$f":"IF(Station=Données1!$J$5,BG259,BG275)","v":73.195320947581408},{"$f":"IF(Station=Données1!$J$5,BH259,BH275)","v":72.214314612401694}]
[null,null,null,null,null,null,null,null,null,null,null,null,null,null,null,null,null,null,null,null,null,null,null,null,null,null,null,null,null,null,null,null,null,null,null,null,null,null,null,null,null,null,null,null,null,"le \"minimum\" c'est un garde fou, pour pas que l'HR int dépasse l'HR ext"]
[null,"ST-DENIS REUNION"]
[null,null,26,null,null,null,null,25,null,null,null,null,24,null,null,null,null,23,null,null,null,null,22,null,null,null,null,21,null,null,null,null,20,null,null,null,null,null,"TAMPON 1",{"$f":"TempConsigne","v":26},null,null,null,null,null,"TAMPON 1",{"$f":"Hypothèses!B21","v":26},null,null,null,null,null,"Saint-Denis",20,21,22,23,24,25,26]
[null,null,"a","b","c","d","e","a","b","c","d","e","a","b","c","d","e","a","b","c","d","e","a","b","c","d","e","a","b","c","d","e","a","b","c","d","e",null,null,"a","b","c","d","e",null,null,"a","b","c","d","e"]
[null,"Janvier",-3.7179027572562893,21.375128194504764,-48.054525085669873,57.105809051221563,34.831651159307953,-3.4949910312284924,20.271457772741652,-46.162724824251754,55.91753785168418,36.426471748359781,-3.0970441368511952,18.355714860449144,-43.002155731636748,53.935326937990645,38.348133398487541,-2.5449183042924188,15.729351033361045,-38.746181036293997,51.288487239588079,40.558908944965921,-1.7668755884500422,12.042222740158946,-32.806074761901982,47.587628745427914,43.142897992033582,-0.70275663483004458,6.9513601849381264,-24.493021979712907,42.268357348197803,46.259287223116594,0.54300662104869435,0.9623754720089297,-14.655287233485288,35.901628469635682,49.78684515090724,null,"Janvier",{"$f":"IF($AN$246=$AG$246,AG264,IF($AN$246=$AB$246,AB264,IF($AN$246=$W$246,W264,IF($AN$246=$R$246,R264,IF($AN$246=$M$246,M264,IF($AN$246=$H$246,H264,IF($AN$246=$C$246,C264,IF($AN$246=#REF!,#REF!,IF($AN$246=#REF!,#REF!)))))))))","v":-3.7179027572562893},{"$f":"IF($AN$246=$AG$246,AH264,IF($AN$246=$AB$246,AC264,IF($AN$246=$W$246,X264,IF($AN$246=$R$246,S264,IF($AN$246=$M$246,N264,IF($AN$246=$H$246,I264,IF($AN$246=$C$246,D264,IF($AN$246=#REF!,#REF!,IF($AN$246=#REF!,#REF!)))))))))","v":21.375128194504764},{"$f":"IF($AN$246=$AG$246,AI264,IF($AN$246=$AB$246,AD264,IF($AN$246=$W$246,Y264,IF($AN$246=$R$246,T264,IF($AN$246=$M$246,O264,IF($AN$246=$H$246,J264,IF($AN$246=$C$246,E264,IF($AN$246=#REF!,#REF!,IF($AN$246=#REF!,#REF!)))))))))","v":-48.054525085669873},{"$f":"IF($AN$246=$AG$246,AJ264,IF($AN$246=$AB$246,AE264,IF($AN$246=$W$246,Z264,IF($AN$246=$R$246,U264,IF($AN$246=$M$246,P264,IF($AN$246=$H$246,K264,IF($AN$246=$C$246,F264,IF($AN$246=#REF!,#REF!,IF($AN$246=#REF!,#REF!)))))))))","v":57.105809051221563},{"$f":"IF($AN$246=$AG$246,AK264,IF($AN$246=$AB$246,AF264,IF($AN$246=$W$246,AA264,IF($AN$246=$R$246,V264,IF($AN$246=$M$246,Q264,IF($AN$246=$H$246,L264,IF($AN$246=$C$246,G264,IF($AN$246=#REF!,#REF!,IF($AN$246=#REF!,#REF!)))))))))","v":34.831651159307953},null,"Janvier",{"$f":"IF(Station=Données1!$J$5,AN248,AN264)","v":-5.5686262461460494},{"$f":"IF(Station=Données1!$J$5,AO248,AO264)","v":31.706355400679151},{"$f":"IF(Station=Données1!$J$5,AP248,AP264)","v":-68.798850814721376},{"$f":"IF(Station=Données1!$J$5,AQ248,AQ264)","v":74.367581313677661},{"$f":"IF(Station=Données1!$J$5,AR248,AR264)","v":39.554701828102523},null,"Janvier ",{"$f":"MIN(AG264*$BL$277^4+AH264*$BL$277^3+AI264*$BL$277^2+AJ264*$BL$277+AK264,$Q230)","v":75.629876187449298},{"$f":"MIN(AB264*$BL$277^4+AC264*$BL$277^3+AD264*$BL$277^2+AE264*$BL$277+AF264,$Q230)","v":73.362021054207474},{"$f":"MIN(W264*$BL$277^4+X264*$BL$277^3+Y264*$BL$277^2+Z264*$BL$277+AA264,$Q230)","v":71.264257538303497},{"$f":"MIN(R264*$BL$277^4+S264*$BL$277^3+T264*$BL$277^2+U264*$BL$277+V264,$Q230)","v":69.336070001271963},{"$f":"MIN(M264*$BL$277^4+N264*$BL$277^3+O264*$BL$277^2+P264*$BL$277+Q264,$Q230)","v":67.569011064097452},{"$f":"MIN(H264*$BL$277^4+I264*$BL$277^3+J264*$BL$277^2+K264*$BL$277+L264,$Q230)","v":65.954816338164733},{"$f":"MIN(C264*$BL$277^4+D264*$BL$277^3+E264*$BL$277^2+F264*$BL$277+G264,$Q230)","v":64.49239291192572}]
[null,"Février",-4.2525338876784353,24.45063565380676,-54.44719354919846,62.570247417061914,35.191630323187091,-4.1249345201706129,23.844103605241987,-53.468979752757491,62.089801703147621,36.486143326454027,-3.798221704389646,22.293226159291681,-50.958697199702868,60.573936766382367,38.209877114339619,-3.3017489357422005,19.946420932850302,-47.194500227687662,58.266916242294094,40.273264091433347,-2.6469930499552019,16.848522120727718,-42.232216253295753,55.201312738984726,42.663692784854405,-1.7218623082950482,12.473644216360485,-35.239980120176178,50.881909768246565,45.465845735201398,-0.42703837188481447,6.3008247567143068,-25.259094542831996,44.594584156184816,48.858993588915233,null,"Février",{"$f":"IF($AN$246=$AG$246,AG265,IF($AN$246=$AB$246,AB265,IF($AN$246=$W$246,W265,IF($AN$246=$R$246,R265,IF($AN$246=$M$246,M265,IF($AN$246=$H$246,H265,IF($AN$246=$C$246,C265,IF($AN$246=#REF!,#REF!,IF($AN$246=#REF!,#REF!)))))))))","v":-4.2525338876784353},{"$f":"IF($AN$246=$AG$246,AH265,IF($AN$246=$AB$246,AC265,IF($AN$246=$W$246,X265,IF($AN$246=$R$246,S265,IF($AN$246=$M$246,N265,IF($AN$246=$H$246,I265,IF($AN$246=$C$246,D265,IF($AN$246=#REF!,#REF!,IF($AN$246=#REF!,#REF!)))))))))","v":24.45063565380676},{"$f":"IF($AN$246=$AG$246,AI265,IF($AN$246=$AB$246,AD265,IF($AN$246=$W$246,Y265,IF($AN$246=$R$246,T265,IF($AN$246=$M$246,O265,IF($AN$246=$H$246,J265,IF($AN$246=$C$246,E265,IF($AN$246=#REF!,#REF!,IF($AN$246=#REF!,#REF!)))))))))","v":-54.44719354919846},{"$f":"IF($AN$246=$AG$246,AJ265,IF($AN$246=$AB$246,AE265,IF($AN$246=$W$246,Z265,IF($AN$246=$R$246,U265,IF($AN$246=$M$246,P265,IF($AN$246=$H$246,K265,IF($AN$246=$C$246,F265,IF($AN$246=#REF!,#REF!,IF($AN$246=#REF!,#REF!)))))))))","v":62.570247417061914},{"$f":"IF($AN$246=$AG$246,AK265,IF($AN$246=$AB$246,AF265,IF($AN$246=$W$246,AA265,IF($AN$246=$R$246,V265,IF($AN$246=$M$246,Q265,IF($AN$246=$H$246,L265,IF($AN$246=$C$246,G265,IF($AN$246=#REF!,#REF!,IF($AN$246=#REF!,#REF!)))))))))","v":35.191630323187091},null,"Février",{"$f":"IF(Station=Données1!$J$5,AN249,AN265)","v":-5.2788427379436476},{"$f":"IF(Station=Données1!$J$5,AO249,AO265)","v":29.842241121698599},{"$f":"IF(Station=Données1!$J$5,AP249,AP265)","v":-64.607424731439295},{"$f":"IF(Station=Données1!$J$5,AQ249,AQ265)","v":70.556444049996145},{"$f":"IF(Station=Données1!$J$5,AR249,AR265)","v":38.740418888150636},null,"Février",{"$f":"MIN(AG265*$BL$277^4+AH265*$BL$277^3+AI265*$BL$277^2+AJ265*$BL$277+AK265,AA231)","v":77.028365995658618},{"$f":"MIN(AB265*$BL$277^4+AC265*$BL$277^3+AD265*$BL$277^2+AE265*$BL$277+AF265,V231)","v":5.85},{"$f":"MIN(W265*$BL$277^4+X265*$BL$277^3+Y265*$BL$277^2+Z265*$BL$277+AA265,Q231)","v":72.789144055759692},{"$f":"MIN(R265*$BL$277^4+S265*$BL$277^3+T265*$BL$277^2+U265*$BL$277+V265,L231)","v":70.938809113395365},{"$f":"MIN(M265*$BL$277^4+N265*$BL$277^3+O265*$BL$277^2+P265*$BL$277+Q265,G231)","v":69.253587037895954},{"$f":"MIN(H265*$BL$277^4+I265*$BL$277^3+J265*$BL$277^2+K265*$BL$277+L265,B231)","v":67.73184604386401},{"$f":"MIN(C265*$BL$277^4+D265*$BL$277^3+E265*$BL$277^2+F265*$BL$277+G265,$AA231)","v":66.372863940645686}]
[null,"Mars",-4.1327085934868126,23.699963374236166,-52.672345577277454,60.688395342445794,34.941498806699755,-3.9406647779543271,22.811534014745398,-51.299160244666254,60.009659321297747,36.307962831535043,-3.5501651416147983,20.998899502804058,-48.473426756472875,58.408390074013425,38.047306213086756,-3.0180327381878311,18.520454521828004,-44.597643888528225,56.141153975761334,40.101235297460661,-2.2254056548810452,14.781169186139731,-38.636311626123216,52.491619078591725,42.626597697517177,-1.0662528507467166,9.2622411900642465,-29.722306445773263,46.905817801524172,45.724888287398834,0.35931339347217983,2.4147188498496193,-18.545431806883151,39.804259718940202,49.309564765697232,null,"Mars",{"$f":"IF($AN$246=$AG$246,AG266,IF($AN$246=$AB$246,AB266,IF($AN$246=$W$246,W266,IF($AN$246=$R$246,R266,IF($AN$246=$M$246,M266,IF($AN$246=$H$246,H266,IF($AN$246=$C$246,C266,IF($AN$246=#REF!,#REF!,IF($AN$246=#REF!,#REF!)))))))))","v":-4.1327085934868126},{"$f":"IF($AN$246=$AG$246,AH266,IF($AN$246=$AB$246,AC266,IF($AN$246=$W$246,X266,IF($AN$246=$R$246,S266,IF($AN$246=$M$246,N266,IF($AN$246=$H$246,I266,IF($AN$246=$C$246,D266,IF($AN$246=#REF!,#REF!,IF($AN$246=#REF!,#REF!)))))))))","v":23.699963374236166},{"$f":"IF($AN$246=$AG$246,AI266,IF($AN$246=$AB$246,AD266,IF($AN$246=$W$246,Y266,IF($AN$246=$R$246,T266,IF($AN$246=$M$246,O266,IF($AN$246=$H$246,J266,IF($AN$246=$C$246,E266,IF($AN$246=#REF!,#REF!,IF($AN$246=#REF!,#REF!)))))))))","v":-52.672345577277454},{"$f":"IF($AN$246=$AG$246,AJ266,IF($AN$246=$AB$246,AE266,IF($AN$246=$W$246,Z266,IF($AN$246=$R$246,U266,IF($AN$246=$M$246,P266,IF($AN$246=$H$246,K266,IF($AN$246=$C$246,F266,IF($AN$246=#REF!,#REF!,IF($AN$246=#REF!,#REF!)))))))))","v":60.688395342445794},{"$f":"IF($AN$246=$AG$246,AK266,IF($AN$246=$AB$246,AF266,IF($AN$246=$W$246,AA266,IF($AN$246=$R$246,V266,IF($AN$246=$M$246,Q266,IF($AN$246=$H$246,L266,IF($AN$246=$C$246,G266,IF($AN$246=#REF!,#REF!,IF($AN$246=#REF!,#REF!)))))))))","v":34.941498806699755},null,"Mars",{"$f":"IF(Station=Données1!$J$5,AN250,AN266)","v":-4.992694827794522},{"$f":"IF(Station=Données1!$J$5,AO250,AO266)","v":28.622578377822471},{"$f":"IF(Station=Données1!$J$5,AP250,AP266)","v":-62.853222165280719},{"$f":"IF(Station=Données1!$J$5,AQ250,AQ266)","v":69.190668359884143},{"$f":"IF(Station=Données1!$J$5,AR250,AR266)","v":40.098195532481441},null,"Mars",76.300297834948225,5.85,71.963225705920308,70.065175071350751,68.337439002548336,66.772177061056567,65.368147300650392]
[null,"Avril",-3.4186924010026747,19.856136215512105,-45.121971827944201,53.672690733791221,36.61919430614099,-3.2579637274777529,19.051194681629951,-43.741744107941066,52.971118751443804,37.830431350875337,-3.1246426208415858,18.396441524711552,-42.640119429395888,52.39272293285093,39.255583659566675,-2.8789952404719465,17.18573619023276,-40.586253903238678,51.110967772692341,41.05795271718214,-2.3101936687789419,14.367859059061397,-35.752383842707559,47.852279288088468,43.522747076257133,-1.4828000766661604,10.283240494585181,-28.783955135420527,43.146355675206991,46.488444232584428,-0.46617274041171508,5.2683904926822676,-20.250732298156937,37.388955326911315,49.864137585882247,null,"Avril",{"$f":"IF($AN$246=$AG$246,AG267,IF($AN$246=$AB$246,AB267,IF($AN$246=$W$246,W267,IF($AN$246=$R$246,R267,IF($AN$246=$M$246,M267,IF($AN$246=$H$246,H267,IF($AN$246=$C$246,C267,IF($AN$246=#REF!,#REF!,IF($AN$246=#REF!,#REF!)))))))))","v":-3.4186924010026747},{"$f":"IF($AN$246=$AG$246,AH267,IF($AN$246=$AB$246,AC267,IF($AN$246=$W$246,X267,IF($AN$246=$R$246,S267,IF($AN$246=$M$246,N267,IF($AN$246=$H$246,I267,IF($AN$246=$C$246,D267,IF($AN$246=#REF!,#REF!,IF($AN$246=#REF!,#REF!)))))))))","v":19.856136215512105},{"$f":"IF($AN$246=$AG$246,AI267,IF($AN$246=$AB$246,AD267,IF($AN$246=$W$246,Y267,IF($AN$246=$R$246,T267,IF($AN$246=$M$246,O267,IF($AN$246=$H$246,J267,IF($AN$246=$C$246,E267,IF($AN$246=#REF!,#REF!,IF($AN$246=#REF!,#REF!)))))))))","v":-45.121971827944201},{"$f":"IF($AN$246=$AG$246,AJ267,IF($AN$246=$AB$246,AE267,IF($AN$246=$W$246,Z267,IF($AN$246=$R$246,U267,IF($AN$246=$M$246,P267,IF($AN$246=$H$246,K267,IF($AN$246=$C$246,F267,IF($AN$246=#REF!,#REF!,IF($AN$246=#REF!,#REF!)))))))))","v":53.672690733791221},{"$f":"IF($AN$246=$AG$246,AK267,IF($AN$246=$AB$246,AF267,IF($AN$246=$W$246,AA267,IF($AN$246=$R$246,V267,IF($AN$246=$M$246,Q267,IF($AN$246=$H$246,L267,IF($AN$246=$C$246,G267,IF($AN$246=#REF!,#REF!,IF($AN$246=#REF!,#REF!)))))))))","v":36.61919430614099},null,"Avril",{"$f":"IF(Station=Données1!$J$5,AN251,AN267)","v":-5.5632361423629995},{"$f":"IF(Station=Données1!$J$5,AO251,AO267)","v":31.651677838477926},{"$f":"IF(Station=Données1!$J$5,AP251,AP267)","v":-68.741129283499887},{"$f":"IF(Station=Données1!$J$5,AQ251,AQ267)","v":75.007625489620622},{"$f":"IF(Station=Données1!$J$5,AR251,AR267)","v":38.102122896388607},null,"Avril",74.760014451233317,5.85,70.553093296004235,68.72141286366876,67.069899067352466,65.587576926533671,64.257151123387672]
[null,"Mai",-3.1517435506674651,18.139557488681646,-40.223501192584074,45.721331139914341,36.871648381685134,-2.8210499593488483,16.511243602755101,-37.56072786803081,44.389585562087746,38.149508952569519,-2.3851060433260702,14.365158514160324,-33.937996374698407,42.205390136286347,39.893556835051612,-1.725123773688483,11.112804657715438,-28.408844528707519,38.642517817638392,42.174960049199946,-0.81633529967250029,6.6329868949269413,-20.790116320892174,33.643205411557531,44.961860066691358,0.25811425597214105,1.2983266565082952,-11.624319812966307,27.484568643632159,48.222209803052266,1.3699886431996355,-4.2790142142783782,-1.9037076851291794,20.783635547692821,51.847033695464418,null,"Mai",{"$f":"IF($AN$246=$AG$246,AG268,IF($AN$246=$AB$246,AB268,IF($AN$246=$W$246,W268,IF($AN$246=$R$246,R268,IF($AN$246=$M$246,M268,IF($AN$246=$H$246,H268,IF($AN$246=$C$246,C268,IF($AN$246=#REF!,#REF!,IF($AN$246=#REF!,#REF!)))))))))","v":-3.1517435506674651},{"$f":"IF($AN$246=$AG$246,AH268,IF($AN$246=$AB$246,AC268,IF($AN$246=$W$246,X268,IF($AN$246=$R$246,S268,IF($AN$246=$M$246,N268,IF($AN$246=$H$246,I268,IF($AN$246=$C$246,D268,IF($AN$246=#REF!,#REF!,IF($AN$246=#REF!,#REF!)))))))))","v":18.139557488681646},{"$f":"IF($AN$246=$AG$246,AI268,IF($AN$246=$AB$246,AD268,IF($AN$246=$W$246,Y268,IF($AN$246=$R$246,T268,IF($AN$246=$M$246,O268,IF($AN$246=$H$246,J268,IF($AN$246=$C$246,E268,IF($AN$246=#REF!,#REF!,IF($AN$246=#REF!,#REF!)))))))))","v":-40.223501192584074},{"$f":"IF($AN$246=$AG$246,AJ268,IF($AN$246=$AB$246,AE268,IF($AN$246=$W$246,Z268,IF($AN$246=$R$246,U268,IF($AN$246=$M$246,P268,IF($AN$246=$H$246,K268,IF($AN$246=$C$246,F268,IF($AN$246=#REF!,#REF!,IF($AN$246=#REF!,#REF!)))))))))","v":45.721331139914341},{"$f":"IF($AN$246=$AG$246,AK268,IF($AN$246=$AB$246,AF268,IF($AN$246=$W$246,AA268,IF($AN$246=$R$246,V268,IF($AN$246=$M$246,Q268,IF($AN$246=$H$246,L268,IF($AN$246=$C$246,G268,IF($AN$246=#REF!,#REF!,IF($AN$246=#REF!,#REF!)))))))))","v":36.871648381685134},null,"Mai",{"$f":"IF(Station=Données1!$J$5,AN252,AN268)","v":-5.4995587726859352},{"$f":"IF(Station=Données1!$J$5,AO252,AO268)","v":31.44635030992897},{"$f":"IF(Station=Données1!$J$5,AP252,AP268)","v":-68.72217716404333},{"$f":"IF(Station=Données1!$J$5,AQ252,AQ268)","v":75.561135559121183},{"$f":"IF(Station=Données1!$J$5,AR252,AR268)","v":39.154810496277712},null,"Mai",70.386547361108171,5.85,66.027119193394725,64.108001390684919,62.370508789248632,60.806823424867204,59.384408571110896]
[null,"Juin",-2.8972803214113427,16.23457696583375,-34.650169328355041,37.931374448639865,38.685040499110279,-2.7261521350835385,15.523149733512689,-33.919800074576855,38.178514869133643,39.552957721235316,-2.2725893336803549,13.378037364421346,-30.61543895346971,36.567572128366301,40.9997726893343,-1.6009600895873493,10.096508164003437,-25.185412174922185,33.305563340038169,43.047651568045943,-0.74649654841951152,5.8620952277505882,-17.97169570608969,28.639795935771613,45.657185785429064,0.19479878480941293,1.13897936251474,-9.7498505969424993,23.056613301747362,48.767057956688802,1.2360066581527716,-4.1557901596895341,-0.36322516702785296,16.476870967282959,52.365374534225374,null,"Juin",{"$f":"IF($AN$246=$AG$246,AG269,IF($AN$246=$AB$246,AB269,IF($AN$246=$W$246,W269,IF($AN$246=$R$246,R269,IF($AN$246=$M$246,M269,IF($AN$246=$H$246,H269,IF($AN$246=$C$246,C269,IF($AN$246=#REF!,#REF!,IF($AN$246=#REF!,#REF!)))))))))","v":-2.8972803214113427},{"$f":"IF($AN$246=$AG$246,AH269,IF($AN$246=$AB$246,AC269,IF($AN$246=$W$246,X269,IF($AN$246=$R$246,S269,IF($AN$246=$M$246,N269,IF($AN$246=$H$246,I269,IF($AN$246=$C$246,D269,IF($AN$246=#REF!,#REF!,IF($AN$246=#REF!,#REF!)))))))))","v":16.23457696583375},{"$f":"IF($AN$246=$AG$246,AI269,IF($AN$246=$AB$246,AD269,IF($AN$246=$W$246,Y269,IF($AN$246=$R$246,T269,IF($AN$246=$M$246,O269,IF($AN$246=$H$246,J269,IF($AN$246=$C$246,E269,IF($AN$246=#REF!,#REF!,IF($AN$246=#REF!,#REF!)))))))))","v":-34.650169328355041},{"$f":"IF($AN$246=$AG$246,AJ269,IF($AN$246=$AB$246,AE269,IF($AN$246=$W$246,Z269,IF($AN$246=$R$246,U269,IF($AN$246=$M$246,P269,IF($AN$246=$H$246,K269,IF($AN$246=$C$246,F269,IF($AN$246=#REF!,#REF!,IF($AN$246=#REF!,#REF!)))))))))","v":37.931374448639865},{"$f":"IF($AN$246=$AG$246,AK269,IF($AN$246=$AB$246,AF269,IF($AN$246=$W$246,AA269,IF($AN$246=$R$246,V269,IF($AN$246=$M$246,Q269,IF($AN$246=$H$246,L269,IF($AN$246=$C$246,G269,IF($AN$246=#REF!,#REF!,IF($AN$246=#REF!,#REF!)))))))))","v":38.685040499110279},null,"Juin",{"$f":"IF(Station=Données1!$J$5,AN253,AN269)","v":-6.3668006828163097},{"$f":"IF(Station=Données1!$J$5,AO253,AO269)","v":35.66348361921797},{"$f":"IF(Station=Données1!$J$5,AP253,AP269)","v":-75.647848421286014},{"$f":"IF(Station=Données1!$J$5,AQ253,AQ269)","v":79.851443524687014},{"$f":"IF(Station=Données1!$J$5,AR253,AR269)","v":37.286765913477886},null,"Juin",67.766301212566674,5.85,63.451133204169786,61.574463957203839,59.877952002198136,58.355615170193339,57.005145107705317]
[null,"Juillet",-2.8234486705663273,15.778991035187662,-33.426559785528717,36.092604110481204,38.813825923612214,-2.5795011526788945,14.726388201219388,-32.188214595769772,36.062902487552151,39.75241636041887,-2.1100928636943372,12.48201719782662,-28.69992335680023,34.34148496970662,41.232102996657481,-1.3641999232213979,8.8057407499503952,-22.570345967902401,30.642877293933925,43.34038936561727,-0.47383808721690746,4.3506335109481125,-14.875916423406455,25.560068820011939,46.05788074895748,0.46678850628262469,-0.43515230644641906,-6.406401404721537,19.705546159207788,49.246087834747634,1.2592039723635631,-4.6119419739113425,1.3366969445276051,14.002913071993444,52.723289830480525,null,"Juillet",{"$f":"IF($AN$246=$AG$246,AG270,IF($AN$246=$AB$246,AB270,IF($AN$246=$W$246,W270,IF($AN$246=$R$246,R270,IF($AN$246=$M$246,M270,IF($AN$246=$H$246,H270,IF($AN$246=$C$246,C270,IF($AN$246=#REF!,#REF!,IF($AN$246=#REF!,#REF!)))))))))","v":-2.8234486705663273},{"$f":"IF($AN$246=$AG$246,AH270,IF($AN$246=$AB$246,AC270,IF($AN$246=$W$246,X270,IF($AN$246=$R$246,S270,IF($AN$246=$M$246,N270,IF($AN$246=$H$246,I270,IF($AN$246=$C$246,D270,IF($AN$246=#REF!,#REF!,IF($AN$246=#REF!,#REF!)))))))))","v":15.778991035187662},{"$f":"IF($AN$246=$AG$246,AI270,IF($AN$246=$AB$246,AD270,IF($AN$246=$W$246,Y270,IF($AN$246=$R$246,T270,IF($AN$246=$M$246,O270,IF($AN$246=$H$246,J270,IF($AN$246=$C$246,E270,IF($AN$246=#REF!,#REF!,IF($AN$246=#REF!,#REF!)))))))))","v":-33.426559785528717},{"$f":"IF($AN$246=$AG$246,AJ270,IF($AN$246=$AB$246,AE270,IF($AN$246=$W$246,Z270,IF($AN$246=$R$246,U270,IF($AN$246=$M$246,P270,IF($AN$246=$H$246,K270,IF($AN$246=$C$246,F270,IF($AN$246=#REF!,#REF!,IF($AN$246=#REF!,#REF!)))))))))","v":36.092604110481204},{"$f":"IF($AN$246=$AG$246,AK270,IF($AN$246=$AB$246,AF270,IF($AN$246=$W$246,AA270,IF($AN$246=$R$246,V270,IF($AN$246=$M$246,Q270,IF($AN$246=$H$246,L270,IF($AN$246=$C$246,G270,IF($AN$246=#REF!,#REF!,IF($AN$246=#REF!,#REF!)))))))))","v":38.813825923612214},null,"Juillet",{"$f":"IF(Station=Données1!$J$5,AN254,AN270)","v":-4.9440772014631102},{"$f":"IF(Station=Données1!$J$5,AO254,AO270)","v":28.483619777165838},{"$f":"IF(Station=Données1!$J$5,AP254,AP270)","v":-63.005826704263391},{"$f":"IF(Station=Données1!$J$5,AQ254,AQ270)","v":70.560092051925437},{"$f":"IF(Station=Données1!$J$5,AR254,AR270)","v":36.600174946208469},null,"Juillet",66.839092216691597,64.595225054881368,62.526842452271453,60.653218863797846,58.93565465381441,57.385956221643688,56.00965909218322]
[null,"Août",-2.3875098887928523,13.603603405598475,-29.668196653802816,33.546784092696001,38.263035873113679,-2.0648498412896008,12.116746211578354,-27.56567854912884,32.805042680636916,39.469242488449481,-1.5754694080555058,9.717741738244742,-23.672049483253051,30.665647845210067,41.155333410967259,-0.97192804327597915,6.641353448310265,-18.301804037249191,27.192962152332999,43.395292833568796,-0.28610178054108337,3.1085286724249666,-11.960435148656758,22.789645650651511,46.130849674035154,0.45626677206313027,-0.74811717492146323,-4.9215587488818953,17.705953119030173,49.294519427822038,1.2012782921551228,-4.7046707002096584,2.5001504747784917,12.131103522009967,52.838822216399407,null,"Août",{"$f":"IF($AN$246=$AG$246,AG271,IF($AN$246=$AB$246,AB271,IF($AN$246=$W$246,W271,IF($AN$246=$R$246,R271,IF($AN$246=$M$246,M271,IF($AN$246=$H$246,H271,IF($AN$246=$C$246,C271,IF($AN$246=#REF!,#REF!,IF($AN$246=#REF!,#REF!)))))))))","v":-2.3875098887928523},{"$f":"IF($AN$246=$AG$246,AH271,IF($AN$246=$AB$246,AC271,IF($AN$246=$W$246,X271,IF($AN$246=$R$246,S271,IF($AN$246=$M$246,N271,IF($AN$246=$H$246,I271,IF($AN$246=$C$246,D271,IF($AN$246=#REF!,#REF!,IF($AN$246=#REF!,#REF!)))))))))","v":13.603603405598475},{"$f":"IF($AN$246=$AG$246,AI271,IF($AN$246=$AB$246,AD271,IF($AN$246=$W$246,Y271,IF($AN$246=$R$246,T271,IF($AN$246=$M$246,O271,IF($AN$246=$H$246,J271,IF($AN$246=$C$246,E271,IF($AN$246=#REF!,#REF!,IF($AN$246=#REF!,#REF!)))))))))","v":-29.668196653802816},{"$f":"IF($AN$246=$AG$246,AJ271,IF($AN$246=$AB$246,AE271,IF($AN$246=$W$246,Z271,IF($AN$246=$R$246,U271,IF($AN$246=$M$246,P271,IF($AN$246=$H$246,K271,IF($AN$246=$C$246,F271,IF($AN$246=#REF!,#REF!,IF($AN$246=#REF!,#REF!)))))))))","v":33.546784092696001},{"$f":"IF($AN$246=$AG$246,AK271,IF($AN$246=$AB$246,AF271,IF($AN$246=$W$246,AA271,IF($AN$246=$R$246,V271,IF($AN$246=$M$246,Q271,IF($AN$246=$H$246,L271,IF($AN$246=$C$246,G271,IF($AN$246=#REF!,#REF!,IF($AN$246=#REF!,#REF!)))))))))","v":38.263035873113679},null,"Août",{"$f":"IF(Station=Données1!$J$5,AN255,AN271)","v":-4.6305337835099962},{"$f":"IF(Station=Données1!$J$5,AO255,AO271)","v":27.416222943375097},{"$f":"IF(Station=Données1!$J$5,AP255,AP271)","v":-62.225480481235749},{"$f":"IF(Station=Données1!$J$5,AQ255,AQ271)","v":71.125909580846269},{"$f":"IF(Station=Données1!$J$5,AR255,AR271)","v":34.645650465531361},null,"Août",66.1251785890816,63.842986593976939,61.738773434512026,59.806595331332623,58.03377424007703,56.417671292946679,54.967312388230226]
[null,"Septembre",-2.6122775078466987,15.063981710605868,-33.447695712624544,38.603991271807317,37.22746113670533,-2.2252464239142857,13.218744914131117,-30.607880462095661,37.277433515252319,38.569151039494663,-1.7010084271272399,10.60023250455599,-26.18804622364544,34.615206583074794,40.427936446839553,-1.0225801730922153,7.1876110814949605,-20.266658538374511,30.716537043824275,42.812101547133686,-0.14954095876878057,2.8065517519547885,-12.633591328290558,25.532030926183186,45.71925619781809,0.82283494672673496,-2.0953976005569692,-4.0299460380014365,19.578241698700477,49.023361591690843,1.792619366703047,-7.0577716368782806,4.847796068964203,13.256402525064649,52.658508424062283,null,"Septembre",{"$f":"IF($AN$246=$AG$246,AG272,IF($AN$246=$AB$246,AB272,IF($AN$246=$W$246,W272,IF($AN$246=$R$246,R272,IF($AN$246=$M$246,M272,IF($AN$246=$H$246,H272,IF($AN$246=$C$246,C272,IF($AN$246=#REF!,#REF!,IF($AN$246=#REF!,#REF!)))))))))","v":-2.6122775078466987},{"$f":"IF($AN$246=$AG$246,AH272,IF($AN$246=$AB$246,AC272,IF($AN$246=$W$246,X272,IF($AN$246=$R$246,S272,IF($AN$246=$M$246,N272,IF($AN$246=$H$246,I272,IF($AN$246=$C$246,D272,IF($AN$246=#REF!,#REF!,IF($AN$246=#REF!,#REF!)))))))))","v":15.063981710605868},{"$f":"IF($AN$246=$AG$246,AI272,IF($AN$246=$AB$246,AD272,IF($AN$246=$W$246,Y272,IF($AN$246=$R$246,T272,IF($AN$246=$M$246,O272,IF($AN$246=$H$246,J272,IF($AN$246=$C$246,E272,IF($AN$246=#REF!,#REF!,IF($AN$246=#REF!,#REF!)))))))))","v":-33.447695712624544},{"$f":"IF($AN$246=$AG$246,AJ272,IF($AN$246=$AB$246,AE272,IF($AN$246=$W$246,Z272,IF($AN$246=$R$246,U272,IF($AN$246=$M$246,P272,IF($AN$246=$H$246,K272,IF($AN$246=$C$246,F272,IF($AN$246=#REF!,#REF!,IF($AN$246=#REF!,#REF!)))))))))","v":38.603991271807317},{"$f":"IF($AN$246=$AG$246,AK272,IF($AN$246=$AB$246,AF272,IF($AN$246=$W$246,AA272,IF($AN$246=$R$246,V272,IF($AN$246=$M$246,Q272,IF($AN$246=$H$246,L272,IF($AN$246=$C$246,G272,IF($AN$246=#REF!,#REF!,IF($AN$246=#REF!,#REF!)))))))))","v":37.22746113670533},null,"Septembre",{"$f":"IF(Station=Données1!$J$5,AN256,AN272)","v":-4.9808414230562574},{"$f":"IF(Station=Données1!$J$5,AO256,AO272)","v":29.032409636986685},{"$f":"IF(Station=Données1!$J$5,AP256,AP272)","v":-64.771523250515386},{"$f":"IF(Station=Données1!$J$5,AQ256,AQ272)","v":72.991979156533461},{"$f":"IF(Station=Données1!$J$5,AR256,AR272)","v":34.071471285514349},null,"Septembre",67.911968515513479,65.620614821887983,63.505502865449252,61.566277753029283,59.79790948887559,58.180719190452869,56.709582053309425]
[null,"Octobre",-2.3384208504754938,13.948820305267397,-32.703824713263018,40.51324985629374,36.456213205776599,-1.9055403732152156,11.764785799155083,-28.959073721555953,38.258342011128946,38.113560414620579,-1.4208557067009857,9.3114497019037348,-24.662604498335742,35.455263143538481,40.134865877862111,-0.77065046640671253,6.0327464528156307,-18.909140549483006,31.553866614141246,42.624045725048411,1.1709304838499171E-2,2.0541640497443581,-11.841422785156476,26.612371458422864,45.570663101344913,0.85858696873932716,-2.3005190655055467,-3.9948315070500784,20.990964324362711,48.888434951461669,1.6807970432791108,-6.5874907373533116,3.8710811915341004,15.193290072780776,52.485289587734641,null,"Octobre",{"$f":"IF($AN$246=$AG$246,AG273,IF($AN$246=$AB$246,AB273,IF($AN$246=$W$246,W273,IF($AN$246=$R$246,R273,IF($AN$246=$M$246,M273,IF($AN$246=$H$246,H273,IF($AN$246=$C$246,C273,IF($AN$246=#REF!,#REF!,IF($AN$246=#REF!,#REF!)))))))))","v":-2.3384208504754938},{"$f":"IF($AN$246=$AG$246,AH273,IF($AN$246=$AB$246,AC273,IF($AN$246=$W$246,X273,IF($AN$246=$R$246,S273,IF($AN$246=$M$246,N273,IF($AN$246=$H$246,I273,IF($AN$246=$C$246,D273,IF($AN$246=#REF!,#REF!,IF($AN$246=#REF!,#REF!)))))))))","v":13.948820305267397},{"$f":"IF($AN$246=$AG$246,AI273,IF($AN$246=$AB$246,AD273,IF($AN$246=$W$246,Y273,IF($AN$246=$R$246,T273,IF($AN$246=$M$246,O273,IF($AN$246=$H$246,J273,IF($AN$246=$C$246,E273,IF($AN$246=#REF!,#REF!,IF($AN$246=#REF!,#REF!)))))))))","v":-32.703824713263018},{"$f":"IF($AN$246=$AG$246,AJ273,IF($AN$246=$AB$246,AE273,IF($AN$246=$W$246,Z273,IF($AN$246=$R$246,U273,IF($AN$246=$M$246,P273,IF($AN$246=$H$246,K273,IF($AN$246=$C$246,F273,IF($AN$246=#REF!,#REF!,IF($AN$246=#REF!,#REF!)))))))))","v":40.51324985629374},{"$f":"IF($AN$246=$AG$246,AK273,IF($AN$246=$AB$246,AF273,IF($AN$246=$W$246,AA273,IF($AN$246=$R$246,V273,IF($AN$246=$M$246,Q273,IF($AN$246=$H$246,L273,IF($AN$246=$C$246,G273,IF($AN$246=#REF!,#REF!,IF($AN$246=#REF!,#REF!)))))))))","v":36.456213205776599},null,"Octobre",{"$f":"IF(Station=Données1!$J$5,AN257,AN273)","v":-4.9928199440197121},{"$f":"IF(Station=Données1!$J$5,AO257,AO273)","v":29.208618301764698},{"$f":"IF(Station=Données1!$J$5,AP257,AP273)","v":-65.296934084958892},{"$f":"IF(Station=Données1!$J$5,AQ257,AQ273)","v":73.382483065770543},{"$f":"IF(Station=Données1!$J$5,AR257,AR273)","v":33.351942712860804},null,"Octobre",69.34958615865672,67.061772699929179,64.934919163222105,62.969757268508822,61.170319922994203,59.531048193773884,58.030959843846638]
[null,"Novembre",-2.7127892949466013,16.252576209436924,-38.466215938438083,48.418077409408774,35.366548621867338,-2.1879863847359973,13.686309146393745,-34.15560572219281,45.750989635744141,37.202449008040674,-1.3893585755419093,9.8218561958756769,-27.761559764716775,41.767421442837545,39.469271451403912,-0.42319377707324118,5.1341617429492352,-19.989732746464508,36.869196803244215,42.093546688882228,0.65390145745397654,-0.13637999875199452,-11.159062730195922,31.189421232610027,45.070900348987863,1.7970786706666286,-5.825995959142138,-1.4185789421864892,24.710694715990154,48.442738135197153,3.0287036216213585,-12.035964821092168,9.3763446217620352,17.377294595619702,52.203918171912235,null,"Novembre",{"$f":"IF($AN$246=$AG$246,AG274,IF($AN$246=$AB$246,AB274,IF($AN$246=$W$246,W274,IF($AN$246=$R$246,R274,IF($AN$246=$M$246,M274,IF($AN$246=$H$246,H274,IF($AN$246=$C$246,C274,IF($AN$246=#REF!,#REF!,IF($AN$246=#REF!,#REF!)))))))))","v":-2.7127892949466013},{"$f":"IF($AN$246=$AG$246,AH274,IF($AN$246=$AB$246,AC274,IF($AN$246=$W$246,X274,IF($AN$246=$R$246,S274,IF($AN$246=$M$246,N274,IF($AN$246=$H$246,I274,IF($AN$246=$C$246,D274,IF($AN$246=#REF!,#REF!,IF($AN$246=#REF!,#REF!)))))))))","v":16.252576209436924},{"$f":"IF($AN$246=$AG$246,AI274,IF($AN$246=$AB$246,AD274,IF($AN$246=$W$246,Y274,IF($AN$246=$R$246,T274,IF($AN$246=$M$246,O274,IF($AN$246=$H$246,J274,IF($AN$246=$C$246,E274,IF($AN$246=#REF!,#REF!,IF($AN$246=#REF!,#REF!)))))))))","v":-38.466215938438083},{"$f":"IF($AN$246=$AG$246,AJ274,IF($AN$246=$AB$246,AE274,IF($AN$246=$W$246,Z274,IF($AN$246=$R$246,U274,IF($AN$246=$M$246,P274,IF($AN$246=$H$246,K274,IF($AN$246=$C$246,F274,IF($AN$246=#REF!,#REF!,IF($AN$246=#REF!,#REF!)))))))))","v":48.418077409408774},{"$f":"IF($AN$246=$AG$246,AK274,IF($AN$246=$AB$246,AF274,IF($AN$246=$W$246,AA274,IF($AN$246=$R$246,V274,IF($AN$246=$M$246,Q274,IF($AN$246=$H$246,L274,IF($AN$246=$C$246,G274,IF($AN$246=#REF!,#REF!,IF($AN$246=#REF!,#REF!)))))))))","v":35.366548621867338},null,"Novembre",{"$f":"IF(Station=Données1!$J$5,AN258,AN274)","v":-5.3583272071510395},{"$f":"IF(Station=Données1!$J$5,AO258,AO274)","v":30.855961401379687},{"$f":"IF(Station=Données1!$J$5,AP258,AP274)","v":-67.76249542133796},{"$f":"IF(Station=Données1!$J$5,AQ258,AQ274)","v":74.675995847811677},{"$f":"IF(Station=Données1!$J$5,AR258,AR274)","v":34.755871515131886},null,"Novembre",73.115009669973219,70.768074334367554,68.591673021630967,66.577505108718043,64.725700885566638,63.039121019014985,61.519897235180977]
[null,"Décembre",-2.9911684252334978,17.425834505985577,-40.42551168926849,50.427373263959183,35.834972955490585,-2.7823562850181953,16.323934703707334,-38.422524811270016,49.19843069439132,37.333199224290539,-2.4195563985409136,14.493280511593548,-35.235397928732077,47.166360826847459,39.195139991012425,-1.9216066016423878,11.995976866773129,-30.902402885890787,44.308796065603609,41.431268617165877,-1.2240287749654697,8.5163678573375794,-24.891920173377759,40.278069723584387,44.111809086908757,-0.29910538779894297,3.9096623649423936,-16.939528315089273,34.883114526372353,47.281532308570377,0.81611573564582351,-1.6558732959882159,-7.3148652360236728,28.318588793203439,50.881184965362834,null,"Décembre",{"$f":"IF($AN$246=$AG$246,AG275,IF($AN$246=$AB$246,AB275,IF($AN$246=$W$246,W275,IF($AN$246=$R$246,R275,IF($AN$246=$M$246,M275,IF($AN$246=$H$246,H275,IF($AN$246=$C$246,C275,IF($AN$246=#REF!,#REF!,IF($AN$246=#REF!,#REF!)))))))))","v":-2.9911684252334978},{"$f":"IF($AN$246=$AG$246,AH275,IF($AN$246=$AB$246,AC275,IF($AN$246=$W$246,X275,IF($AN$246=$R$246,S275,IF($AN$246=$M$246,N275,IF($AN$246=$H$246,I275,IF($AN$246=$C$246,D275,IF($AN$246=#REF!,#REF!,IF($AN$246=#REF!,#REF!)))))))))","v":17.425834505985577},{"$f":"IF($AN$246=$AG$246,AI275,IF($AN$246=$AB$246,AD275,IF($AN$246=$W$246,Y275,IF($AN$246=$R$246,T275,IF($AN$246=$M$246,O275,IF($AN$246=$H$246,J275,IF($AN$246=$C$246,E275,IF($AN$246=#REF!,#REF!,IF($AN$246=#REF!,#REF!)))))))))","v":-40.42551168926849},{"$f":"IF($AN$246=$AG$246,AJ275,IF($AN$246=$AB$246,AE275,IF($AN$246=$W$246,Z275,IF($AN$246=$R$246,U275,IF($AN$246=$M$246,P275,IF($AN$246=$H$246,K275,IF($AN$246=$C$246,F275,IF($AN$246=#REF!,#REF!,IF($AN$246=#REF!,#REF!)))))))))","v":50.427373263959183},{"$f":"IF($AN$246=$AG$246,AK275,IF($AN$246=$AB$246,AF275,IF($AN$246=$W$246,AA275,IF($AN$246=$R$246,V275,IF($AN$246=$M$246,Q275,IF($AN$246=$H$246,L275,IF($AN$246=$C$246,G275,IF($AN$246=#REF!,#REF!,IF($AN$246=#REF!,#REF!)))))))))","v":35.834972955490585},null,"Décembre",{"$f":"IF(Station=Données1!$J$5,AN259,AN275)","v":-4.9738171162147191},{"$f":"IF(Station=Données1!$J$5,AO259,AO275)","v":28.765467011345404},{"$f":"IF(Station=Données1!$J$5,AP259,AP275)","v":-63.850779277008769},{"$f":"IF(Station=Données1!$J$5,AQ259,AQ275)","v":71.591959235540259},{"$f":"IF(Station=Données1!$J$5,AR259,AR275)","v":37.772961320846818},null,"Décembre",74.322744947509477,72.033059593798995,69.915367517191427,67.966875338700703,66.183073632655834,64.556641560513285,63.087170890958781]
[]
[null,"Vent Saint Denis",4.2017137096774198,4.0802083333333332,3.5970766129032259,3.2981597222222221,3.6925067204301079,4.0933680555555556,4.6047043010752686,4.7963037634408607,4.2023958333333331,4.1023521505376346,3.5977430555555547,3.4997983870967744,null,null,null,null,null,null,null,null,null,null,null,null,null,null,null,null,null,null,null,null,null,null,null,null,null,null,null,null,null,null,null,null,null,null,null,null,null,null,null,null,null,null,null,null,null,null,null,null,"Renouvellement air étanchéité + contrôlé, supposés permanents pour estimer HR. Int (vol/h) :",{"$f":"Calculs!D62+Calculs!C65","v":1.3376666666666668}]
[null,"Vent Cayenne",4.0988575268817211,4.5934523809523808,4.5959677419354836,4.1025347222222228,3.5929435483870971,3.5950000000000006,3.5929771505376351,4.0977486559139775,4.1033680555555563,4.0887432795698926,4.0995833333333325,4.0975134408602161]
[]
[null,"Saint-Denis",1,2,3,4,5,6,7,8,9,10,11,12,null,"HR",1,2,3,4,5,6,7,8,9,10,11,12]
[null,0,27.051881935483873,27.154761428571426,26.783064516129024,25.998333333333338,24.418816451612901,22.263611000000001,22.072849354838709,22.281720000000004,22.601388333333336,23.870430322580646,25.378333666666663,26.027957419354841,null,0,82.181558387096757,82.541111428571426,82.266160967741925,80.091563000000008,76.317872258064526,74.467450333333318,73.463016129032269,73.558444838709676,74.662518333333324,76.801170967741939,80.087163000000004,79.235623870967757,null,null,null,null,null,null,null,null,null,null,null,null,null,null,null,null,null,null,null,null,null,null,"Heure de dépassement de la température moyenne en surchauffe"]
[null,1,26.612902903225798,26.800595357142857,26.475805806451618,25.602777666666665,24.044355483870966,21.830555333333326,21.640591935483872,21.831183225806452,22.205833333333327,23.375537419354838,24.828332666666672,25.454839032258064,null,1,83.60518193548387,84.032252857142836,83.604653225806473,81.898987333333338,77.908948064516125,76.038893666666652,75.537049677419347,74.67668193548387,77.194805333333321,78.836082903225787,81.648556999999997,81.394591290322609,null,null,null,null,null,null,null,null,null,null,null,null,null,null,null,null,null,null,null,null,"NI","Léger",10.359583497024492,10.733007680574419,10.806093481615878,10.781378439529496,10.900980134286312,10.869278759483526,11.020306589140908,11.047932721990694,10.860611688351513,10.462083720675899,10.446453469409656,10.682575126153548]
[null,2,26.193010967741937,26.440178928571431,26.077150322580653,25.193332999999999,23.628225806451606,21.352499666666667,21.193547741935486,21.400270000000003,21.802222333333329,22.977687419354844,24.400554666666672,25.033602258064516,null,2,85.230322580645151,85.322301428571436,85.160018709677402,83.992198666666667,79.727639032258068,77.843502333333333,78.197053225806457,76.3455035483871,79.366076666666658,80.184584193548389,83.620919666666666,82.890878709677423,null,null,null,null,null,null,null,null,null,null,null,null,null,null,null,null,null,null,null,null,"NI","Moyen",11.857803180174477,12.059283945637631,12.302114821019622,11.933599833268694,11.938915147642712,11.862939319744331,11.914715701750808,12.031006171816147,12.216185956629966,11.809741517048646,12.058006198077388,12.237566457751074]
[null,3,25.870698709677416,25.988393928571423,25.655107419354845,24.749444333333333,23.20456967741935,20.838611333333333,20.666935483870969,20.891397741935485,21.320833000000004,22.67795677419355,24.103333000000006,24.741129032258069,null,3,86.558852580645166,86.648062142857128,86.906038709677404,85.951234666666679,81.137963548387106,79.790694666666667,80.408315806451625,78.432648709677423,81.634029666666663,80.729696451612895,84.621377666666675,84.124367741935501,null,null,null,null,null,null,null,null,null,null,null,null,null,null,null,null,null,null,null,null,"NI","Lourd",10.771398291060663,10.944621651149552,11.185129337639328,10.884331678005429,10.865061746133289,10.747145139906383,10.866477992829457,10.933573658314184,10.988465058394025,10.735762237765595,11.030424779020183,11.28612023644359]
[null,4,25.639515806451612,25.706844999999994,25.387365161290312,24.417500333333336,22.880913225806449,20.442500333333339,20.246506129032262,20.503495161290321,20.934721666666668,22.44086032258064,23.883889,24.486558709677421,null,4,87.60421387096774,87.63105892857142,87.817555483870976,87.374050333333315,81.849592258064504,81.456612333333354,82.161060967741946,80.293062580645156,83.441973000000004,82.027943548387114,84.889093666666653,85.132882903225791,null,null,null,null,null,null,null,null,null,null,null,null,null,null,null,null,null,null,null,null,"ISO","Léger",10.554868672852189,11.027409561292723,11.212433459579884,11.008902785261503,11.112803078522765,11.071850515005021,11.199557671071339,11.228401200334988,11.172615399337966,10.711739931758826,10.710490091709485,10.94811348046621]
[null,5,25.431451290322578,25.505356428571424,25.191934838709674,24.186943999999993,22.673924516129027,20.148055666666664,19.958065161290321,20.206989354838715,20.665000333333335,22.23521516129032,23.701111333333337,24.254301290322573,null,5,88.398110000000017,88.705884999999995,88.328031612903217,88.665039999999991,82.622997096774185,81.98917366666663,83.092929032258056,81.538981612903228,84.573224999999994,83.879630967741932,84.97824300000002,86.24686225806451,null,null,null,null,null,null,null,null,null,null,null,null,null,null,null,null,null,null,null,null,"ISO","Moyen",10.317112377316075,10.807301831489351,10.955868567162614,10.794045509251237,10.877526383463998,10.834275319253852,10.956602739201433,10.971276313885069,10.902007851289781,10.499351429411236,10.500895000924139,10.764985549462262]
[null,6,25.336022258064514,25.367560357142853,24.990322258064516,24.03249966666667,22.505913225806452,19.878332666666665,19.717202903225804,19.960213870967745,20.439999666666665,22.13871000000001,23.632222333333331,24.212365806451619,null,6,90.031792903225821,90.45625678571426,90.163661935483873,90.139786666666694,83.704718064516115,83.457730999999995,84.180048387096789,82.882341290322572,86.286420333333325,85.182979032258089,85.79261133333334,87.603179354838744,null,null,null,null,null,null,null,null,null,null,null,null,null,null,null,null,null,null,null,null,"ISO","Lourd",9.2756358484811745,9.8482660688338406,9.9267203853147201,9.8546435138787292,9.9227354169282123,9.8708518040295754,9.9998617109499577,9.9756951101511344,9.8333698872662616,9.4872487130553456,9.4861813383763405,9.7185535179313938]
[null,7,25.565323225806441,25.408036071428576,24.973654193548388,24.000277333333333,22.431182903225803,19.777778333333334,19.603226451612905,19.866666129032264,20.457777666666665,22.436828387096774,24.040833333333339,24.605106451612901,null,7,90.354836451612897,90.983675714285695,91.14283225806453,90.912942666666666,84.99214225806449,84.703227333333331,85.577966451612909,84.12428870967743,86.636723666666654,84.365789354838697,85.12991000000001,86.568778387096771]
[null,8,26.24677387096774,25.971726071428577,25.47473096774193,24.430001000000004,22.852956129032258,20.255833666666664,19.986021935483873,20.425807096774189,21.274722333333322,23.272850322580645,24.863611333333331,25.357526451612905,null,8,87.356111612903234,88.789544642857123,88.708630645161321,89.450779000000026,83.66507193548388,83.294502666666631,84.900114516129037,81.731808709677409,83.150678333333332,80.857858387096755,82.149973666666654,84.006119677419335,null,null,null,null,null,null,null,null,null,null,null,null,null,null,null,null,null,null,null,null,"NI","Léger",11.473553796755063,11.536966159961533,11.443508958450021,11.465971932827456,11.175316290019651,11.181461503091121,11.458480404215026,11.325898175596629,11.216012508973025,11.267887338120538,11.35043760344317,11.417204529264707]
[null,9,27.223117741935489,26.953868928571431,26.452957741935478,25.455277666666674,23.811020645161296,21.332222000000002,20.999192903225804,21.51397903225806,22.469723000000002,24.31371,25.858333333333338,26.232796129032256,null,9,82.731200322580662,84.63597285714286,84.685064838709692,85.402212333333352,78.909708064516124,79.890783666666678,80.412514838709683,76.29317419354841,78.784412000000003,76.730317096774186,78.739906000000005,80.904267096774205,null,null,null,null,null,null,null,null,null,null,null,null,null,null,null,null,null,null,null,null,"NI","Moyen",12.375092964591706,12.453972745062664,12.430009719984522,12.485343511690688,12.149046460880442,12.003176512301062,12.392216268732342,12.263554863844151,12.202509739194214,12.214668236867599,12.299511082087321,12.322982173025494]
[null,10,28.201344516129033,28.009523928571429,27.5403229032258,26.657777666666664,24.926613225806452,22.589165999999995,22.204300322580647,22.684409354838706,23.627777999999992,25.352957096774194,26.875555333333331,27.137097096774195,null,10,76.032128387096776,78.002267500000002,78.30632645161289,78.16076266666667,71.941498387096786,73.769317333333348,73.499750000000006,69.564114838709699,72.284447000000014,70.096224516129027,73.12686566666666,76.238579032258073,null,null,null,null,null,null,null,null,null,null,null,null,null,null,null,null,null,null,null,null,"NI","Lourd",11.891431310981941,12.020364147736068,11.952498324629193,12.06393629911012,11.726923073394769,11.645307197204216,11.959769577741982,11.882796068206732,11.807640328966739,11.757637942742415,11.836669989076896,11.856237011595189]
[null,11,29.123387741935485,28.970833571428578,28.525807419354837,27.755278000000008,26.06021451612903,23.7575,23.369085483870965,23.795698387096774,24.713611333333336,26.289516129032258,27.803888999999995,27.994087096774191,null,11,69.846206774193547,72.056573571428572,72.924915161290315,70.791296333333335,66.051632903225823,67.708581000000009,66.180455161290325,64.143571290322569,66.305844666666687,64.557044516129025,68.415436333333318,72.010712580645162,null,null,null,null,null,null,null,null,null,null,null,null,null,null,null,null,null,null,null,null,"ISO","Léger",12.226365804997391,12.361295055915422,12.295846791591361,12.387153121265051,11.979677837154695,11.979827117653462,12.281928655947828,12.107979235167234,12.009567433510719,12.100656785865558,12.247286467875279,12.310888201269478]
[null,12,29.837634838709686,29.680357499999996,29.349461935483863,28.716944333333331,27.046773225806451,24.762500666666661,24.440591935483873,24.797042903225801,25.606666000000008,27.069892903225803,28.564166666666672,28.773924838709679,null,12,67.365084516129031,69.183710357142857,69.810353548387098,65.589787666666666,62.136345483870954,64.192347666666649,61.103608064516138,59.6370206451613,63.038042333333337,61.043760645161278,66.144206666666676,68.97166741935483,null,null,null,null,null,null,null,null,null,null,null,null,null,null,null,null,null,null,null,null,"ISO","Moyen",12.25457554919439,12.455311192801197,12.367768563972371,12.497822491315942,12.030939117054372,11.941338187992272,12.317887768490914,12.156009086908291,12.045750517040533,12.114110853504085,12.2639874818843,12.346566274854219]
[null,13,30.309409354838706,30.156845714285712,29.97553806451613,29.437499666666657,27.827419677419353,25.579722333333329,25.3166664516129,25.596236774193553,26.293887666666663,27.656988709677417,29.162223000000001,29.390054193548391,null,13,65.691823548387106,67.596763571428582,67.277034193548374,62.561554333333319,59.202109354838726,61.284708333333342,57.390443870967765,56.826883548387109,60.160498000000004,58.872856129032257,64.23120066666668,66.537006774193557,null,null,null,null,null,null,null,null,null,null,null,null,null,null,null,null,null,null,null,null,"ISO","Lourd",11.836329887156731,12.123860856220219,12.005830932098201,12.254795734639671,11.735275279018087,11.752866272963169,11.926162936869286,11.926082991080692,11.827451944316085,11.818354316152979,11.927480364651299,11.982181997169301]
[null,14,30.575268387096777,30.506248928571431,30.435215161290326,29.864166666666666,28.368548709677412,26.162778666666661,25.912904193548385,26.139786129032256,26.760554999999997,28.043815483870972,29.535833333333326,29.794623548387097,null,14,65.184659032258054,66.228886071428576,65.862640967741925,61.068675999999982,57.202415483870958,58.991563666666664,54.989345483870963,55.461543225806459,57.878291666666669,58.060927741935501,62.491423666666655,64.683390645161282]
[null,15,30.739247419354836,30.669048214285713,30.650269677419363,30.057501000000002,28.628495483870971,26.433890666666667,26.206184838709675,26.426077419354844,27.006667666666669,28.24569806451613,29.696387666666674,30.009946774193548,null,15,64.850567419354817,66.133550714285732,65.408605161290325,61.499414666666667,56.357240967741944,58.513193000000015,54.09313580645162,55.087085483870958,56.466582000000002,57.359560967741949,61.838047333333321,63.862521935483883,null,null,null,null,null,null,null,null,null,null,null,null,null,null,null,null,null,null,null,null,null,null,{"$f":"VLOOKUP(Hypothèses!$J$19,Données1!$AX$282:$BJ$284,2,FALSE)","v":11.857803180174477}]
[null,16,30.80080612903226,30.72410714285714,30.708333870967738,30.03138933333334,28.581180967741929,26.350553999999999,26.19086161290322,26.434140322580646,26.979999666666664,28.198925483870969,29.699723666666667,30.009409354838709,null,16,63.974902903225804,66.408943928571432,65.352639677419347,62.004747333333334,56.382771612903227,59.115587000000012,54.081179677419357,55.083748709677415,56.791372666666661,57.732705806451612,62.050738333333328,63.860180967741933]
[null,17,30.623654516129037,30.579761785714286,30.558334193548387,29.703889333333333,28.205914193548388,25.961666999999998,25.837365161290322,26.099192903225809,26.637222000000001,27.920160967741932,29.445834333333334,29.843548064516121,null,17,65.348138709677428,67.559825714285708,66.223289354838741,62.358926666666669,57.558680645161296,59.781570999999985,55.311795483870981,56.271803548387126,58.049842333333331,58.785265806451591,63.152637333333338,64.345872258064531]
[null,18,30.221504193548391,30.225298214285722,30.109408387096778,29.075000666666668,27.498656774193552,25.249723000000003,25.130375806451621,25.449462580645157,26.002500000000005,27.392742258064512,28.904166999999998,29.465052903225807,null,18,67.918732258064523,69.637676071428572,67.583715806451622,64.530408666666659,60.658945483870951,62.236244333333346,58.885050967741925,58.170793225806456,60.445409333333338,60.524210967741936,64.933785333333333,65.238865806451599]
[null,19,29.751612903225812,29.663394642857149,29.398118709677423,28.356389333333336,26.853493548387096,24.623610333333335,24.491933870967745,24.7446235483871,25.233055333333329,26.687902580645169,28.213333666666674,28.859139354838714,null,19,69.329480645161311,72.038658214285718,70.463784838709685,68.990697666666676,64.917391935483877,65.85287133333334,63.644204193548383,61.716097096774185,63.364468999999985,62.62834161290322,67.207067333333327,67.042823225806458]
[null,20,29.187364838709673,29.105059285714297,28.785215161290324,27.826110666666668,26.332794838709674,24.141665666666665,24.015591290322583,24.18548387096774,24.613054999999999,26.04435451612903,27.584722000000006,28.259946774193544,null,20,72.464729032258077,75.82299285714285,74.700750645161293,72.998859666666675,67.859580322580641,68.084283333333318,67.20246806451614,65.17671193548388,67.07112566666666,66.608413225806459,71.15245566666664,70.266380967741924]
[null,21,28.657258709677414,28.652976071428565,28.279838709677428,27.374721999999998,25.846235806451617,23.663054666666664,23.535215161290324,23.69784903225807,24.099999,25.50725806451613,27.038888666666669,27.698656129032262,null,21,75.911783548387078,78.511801785714283,77.552879032258076,75.436523000000008,69.622219999999999,69.285740999999987,69.198005483870972,67.724547741935496,70.303763666666654,70.153193870967741,73.951072333333343,73.085328709677398]
[null,22,28.138441612903229,28.17976214285714,27.760752258064517,26.901110666666661,25.385214516129036,23.191943999999999,23.055644516129036,23.205644516129034,23.593610999999999,24.962365483870965,26.499722333333334,27.138171612903225,null,22,78.330636774193536,79.929141071428575,78.88809451612903,77.099859666666646,71.564781935483879,70.775707999999995,70.962662258064498,70.593556451612898,72.066933000000006,72.426302258064524,75.499659333333341,75.098977741935471]
[null,23,27.609678064516128,27.650595000000003,27.283064193548388,26.450000333333332,24.900536451612901,22.736666,22.556988387096769,22.747849354838714,23.079443666666673,24.413440000000005,25.934999333333334,26.584139032258069,null,23,80.18929096774194,81.190071428571429,80.606630967741935,78.384254333333317,74.203062258064492,72.431922666666665,72.322394516129023,72.287932580645148,73.34675533333332,74.447339032258085,77.854966666666684,77.309483225806446]
[]
[]
[null,"Guyane",1,2,3,4,5,6,7,8,9,10,11,12,null,"HR",1,2,3,4,5,6,7,8,9,10,11,12]
[null,0,26.241935483870964,26.235714285714288,26.429032258064517,26.392499999999998,26.75403225806452,25.568333333333328,26.062096774193556,26.58790322580645,26.403333333333343,26.821774193548389,26.043333333333337,26.033870967741933,null,0,90.014343548387117,85.892205357142871,85.547677419354841,90.949682666666689,90.671754516129027,91.797611333333336,89.441330645161287,87.828810645161298,87.074098000000021,86.298089999999974,88.887983333333324,90.381216129032254]
[null,1,25.915322580645157,25.80892857142857,25.968548387096774,25.960000000000004,26.295161290322579,25.150833333333328,25.472580645161294,25.899193548387093,25.915833333333332,26.131451612903223,25.592500000000008,25.712096774193547,null,1,90.756781290322564,87.324977142857136,86.377027096774199,91.779441333333352,91.607216451612871,92.944685333333339,91.187182258064553,88.906390645161267,88.889043666666666,87.861131290322575,89.72537100000001,91.662175483870996]
[null,2,25.504838709677426,25.43035714285714,25.438709677419347,25.577500000000004,25.887903225806454,24.736666666666672,24.941935483870971,25.332258064516132,25.370833333333334,25.575000000000003,25.045833333333338,25.220967741935489,null,2,91.475824516129052,88.14581892857143,87.601520645161287,92.346261333333331,92.163918387096743,93.604663000000016,93.332121612903236,90.296497096774175,90.361366333333351,89.22655032258065,90.655542333333329,92.79713838709678]
[null,3,25.098387096774193,25.13214285714286,25.044354838709676,25.27833333333334,25.595967741935489,24.331666666666663,24.441935483870967,24.758870967741931,24.850833333333334,25.020161290322573,24.510833333333334,24.779838709677421,null,3,92.439806451612895,88.972110714285719,88.447843870967731,92.749560333333349,92.589921935483872,94.10796866666665,94.029775483870964,91.578981935483881,91.812014333333309,90.172680967741954,91.673949666666644,93.55857129032259]
[null,4,24.837903225806453,24.883928571428562,24.869354838709672,24.94916666666667,25.411290322580641,23.934999999999999,24.10483870967742,24.390322580645162,24.548333333333332,24.694354838709682,24.125,24.498387096774184,null,4,92.932317741935492,89.932150357142845,89.302086129032233,93.372040333333317,92.849063225806432,94.749083333333346,94.567514193548433,91.997493548387084,92.744950333333335,91.066902258064516,92.703344333333334,93.918210322580649]
[null,5,24.682258064516127,24.699107142857144,24.683870967741932,24.680833333333329,25.25725806451613,23.651666666666664,23.751612903225805,24.132258064516126,24.215,24.421774193548387,23.805,24.245161290322574,null,5,93.365614193548424,90.886203571428581,89.949843548387108,94.097502999999989,93.246524193548368,94.94561733333336,95.314155483870948,92.343976451612889,93.235860333333306,92.35361870967742,93.670856333333347,94.014568064516126]
[null,6,24.590322580645161,24.528571428571432,24.537903225806449,24.54000000000001,25.064516129032263,23.46,23.437903225806448,23.99596774193548,23.943333333333332,24.184677419354831,23.561666666666667,24.05725806451613,null,6,94.427360645161272,91.945659285714285,90.620002903225767,94.800763666666697,93.876239354838731,95.731665333333339,96.171008709677409,93.145468387096827,94.026157666666677,92.958448709677398,94.472138999999984,94.53143290322582]
[null,7,24.53709677419355,24.474999999999998,24.579032258064519,24.53083333333333,25.068548387096779,23.47666666666667,23.410483870967738,23.992741935483878,23.915833333333332,24.24274193548387,23.616666666666674,24.059677419354834,null,7,95.034165161290304,92.251980714285736,91.595628387096781,95.041798999999983,94.296844516129028,96.168347000000011,96.717433548387078,93.506879677419349,94.385331000000008,93.044199032258049,94.550829999999991,95.149386774193559]
[null,8,24.995161290322589,24.902678571428577,24.980645161290326,25.151666666666664,25.788709677419355,24.47166666666666,24.316129032258072,24.781451612903233,24.929166666666664,25.371774193548386,24.580833333333334,24.763709677419349,null,8,94.567337096774168,91.416706785714254,91.163080000000008,94.493130666666673,93.40896870967741,95.261957333333328,95.876041612903251,91.671658709677445,92.803975333333312,91.082792580645176,93.127563999999992,94.319413548387089]
[null,9,25.862903225806452,25.667857142857148,25.810483870967751,26.14416666666666,26.789516129032261,25.691666666666666,25.602419354838709,26.159677419354836,26.448333333333334,26.901612903225804,25.982500000000002,25.937096774193545,null,9,92.470214516129033,89.550378571428567,89.485353870967728,92.783539333333337,91.090047419354846,93.505664999999993,92.65866419354839,88.353798387096788,89.438965333333314,86.957219032258052,90.696608000000012,91.875309677419352]
[null,10,26.86451612903226,26.681250000000002,26.800000000000008,27.151666666666667,27.816935483870978,26.972500000000004,26.91935483870968,27.705645161290331,28.035833333333333,28.408064516129034,27.391666666666666,27.226612903225806,null,10,88.638481935483881,85.584353214285699,85.730183225806471,89.095347000000004,86.487971612903209,90.417649999999995,87.015686129032261,82.267527096774216,83.558722000000003,80.300341935483885,86.051139333333325,87.506591290322561]
[null,11,27.883870967741938,27.69464285714286,27.736290322580647,28.175000000000008,28.845967741935482,28.147499999999994,28.305645161290325,29.151612903225807,29.50333333333333,29.859677419354835,28.714999999999996,28.352419354838702,null,11,84.412182580645123,81.090311428571411,81.16847483870967,85.454679666666664,82.909022258064525,87.264079333333342,81.32980354838709,76.518105483870954,77.703840999999997,73.917723548387087,81.040592333333365,83.146798064516119]
[null,12,28.712096774193551,28.521428571428576,28.549999999999994,28.920833333333331,29.676612903225813,29.154999999999994,29.478225806451615,30.354838709677423,30.69,31.06370967741935,29.837499999999999,29.304032258064513,null,12,80.945118709677416,77.629492499999998,77.670336451612883,82.380554000000004,80.339475806451603,84.619508666666647,77.590440967741927,73.298976451612901,73.400023666666655,69.306229032258059,77.354093666666671,80.374554193548391]
[null,13,29.377419354838711,29.191071428571426,29.139516129032256,29.585833333333323,30.291129032258063,29.799166666666668,30.346774193548388,31.333064516129031,31.609166666666656,32.010483870967747,30.760833333333323,29.96290322580645,null,13,78.701660645161283,75.598543928571416,75.409221290322577,80.135946000000018,78.544300322580654,82.216116999999983,75.499066774193551,71.669864516129039,70.245650666666663,66.238465161290307,74.475147333333325,77.944977419354842]
[null,14,29.874193548387098,29.644642857142856,29.495967741935484,30.068333333333335,30.69596774193548,30.185833333333324,30.944354838709678,31.980645161290326,32.238333333333337,32.665322580645167,31.382499999999997,30.539516129032265,null,14,77.739004516129043,73.766959285714293,74.028734516129049,79.064051333333325,77.26047838709674,80.599201000000008,73.569009354838698,70.557645161290296,68.682877999999988,64.74248387096776,72.551443999999989,77.055585483870971]
[null,15,30.076612903225804,29.836607142857137,29.6991935483871,30.273333333333333,30.839516129032251,30.422499999999999,31.3991935483871,32.281451612903226,32.546666666666667,32.991129032258065,31.639166666666664,30.920967741935478,null,15,76.952559032258065,72.969732500000006,73.212327419354835,78.644351999999998,77.256351935483877,79.750558666666663,72.166862580645144,70.286439677419352,67.369278666666659,64.195029032258063,71.645022666666677,77.041292903225795]
[null,16,30.067741935483877,29.902678571428563,29.821774193548389,30.331666666666663,30.79032258064516,30.415833333333339,31.436290322580643,32.291935483870972,32.523333333333333,32.954838709677418,31.55,30.951612903225808,null,16,76.699641290322575,73.160741428571441,73.496097096774193,78.345398666666654,77.255024838709673,79.832039666666645,71.757070322580645,69.823145806451635,67.78729433333335,64.717976451612898,71.824666666666658,76.935348064516148]
[null,17,29.754838709677415,29.691964285714288,29.688709677419347,30.097500000000004,30.537903225806453,30.074166666666663,31.103225806451615,31.837096774193551,32.046666666666667,32.431451612903224,31.109166666666667,30.543548387096774,null,17,77.527092903225807,73.567379285714281,74.481389677419372,78.845481999999976,76.831206129032253,80.433411000000007,72.103351290322578,70.559041612903215,69.369085333333331,65.970039354838704,72.699439333333331,77.706101290322579]
[null,18,29.212096774193544,29.213392857142857,29.255645161290325,29.564166666666672,29.967741935483872,29.47166666666666,30.460483870967742,31.056451612903224,31.176666666666666,31.493548387096777,30.291666666666661,29.771774193548392,null,18,79.019130322580637,75.161308571428577,75.386692258064528,80.93845433333334,78.885095161290323,81.831192999999999,74.198349032258065,72.852907096774189,71.889350333333326,68.763657419354828,75.076510666666678,79.09928032258064]
[null,19,28.522580645161291,28.620535714285715,28.630645161290325,28.910833333333333,29.283064516129031,28.596666666666668,29.506451612903227,30.100000000000009,30.104166666666664,30.410483870967742,29.318333333333339,29.006451612903231,null,19,80.832451290322595,77.331706071428584,76.956790645161291,83.124825333333334,81.6920529032258,83.298211666666646,77.299627096774202,75.99456806451613,75.510125333333306,72.622427096774203,78.461659666666677,81.52180870967743]
[null,20,27.995967741935491,28.082142857142859,28.179032258064517,28.295833333333341,28.72983870967742,27.942499999999999,28.779032258064518,29.336290322580645,29.286666666666676,29.625,28.6,28.418548387096774,null,20,83.633292258064515,80.345937857142857,80.127071935483869,85.733007999999998,84.195763548387106,85.208551999999983,81.334150322580669,79.931762258064524,79.644091666666654,77.638573548387086,82.09801233333333,84.717664838709695]
[null,21,27.544354838709666,27.648214285714278,27.735483870967741,27.894166666666671,28.250000000000007,27.363333333333333,28.102419354838709,28.656451612903226,28.571666666666662,28.91532258064516,27.948333333333331,27.848387096774193,null,21,86.049259999999975,82.625056071428574,82.406964838709683,87.980391666666677,86.395190000000014,87.165720666666644,84.12249387096773,82.525297419354843,82.678192333333328,81.108673548387074,84.27585133333335,86.617304193548406]
[null,22,27.139516129032259,27.206250000000001,27.22983870967742,27.3825,27.798387096774189,26.791666666666668,27.411290322580648,27.96935483870968,27.843333333333323,28.215322580645168,27.31583333333333,27.277419354838713,null,22,87.750470322580611,83.661406785714277,83.568447741935472,88.979033333333319,87.99399451612905,88.7646716666667,86.158411612903237,84.585663548387089,84.368793999999994,82.831410967741917,85.860338666666649,87.446478064516114]
[null,23,26.688709677419357,26.723214285714285,26.814516129032263,26.85,27.290322580645157,26.180000000000007,26.742741935483874,27.28387096774193,27.122500000000002,27.51693548387097,26.667500000000004,26.661290322580644,null,23,89.020975806451602,84.769120714285705,84.788703548387105,89.838303333333357,89.372828387096789,90.348432333333349,87.961428709677435,86.518240645161271,85.746822666666674,84.462776774193543,87.683555666666678,88.942060645161291]
[]
[null,"Moyenne",{"$f":"AVERAGE(C281:C304)","v":28.122804663978489},{"$f":"AVERAGE(D281:D304)","v":28.086297276785718},27.784240577956989,26.928090333333341,25.371415416666668,23.055185124999998,22.847827043010756,23.120217446236556,23.684178041666666,25.146908494623659,26.65208336111111,27.14016580645162,null,"Moyenne",{"$f":"AVERAGE(Q281:Q304)","v":76.937097715053753},{"$f":"AVERAGE(R281:R304)","v":78.335291026785711},77.906012862903239,76.056440138888902,71.103972056451596,71.456508805555544,70.283107002688169,69.067597768817208,71.387676624999997,70.953841666666662,74.321138236111111,75.277472607526889]
[null,"Moyenne",{"$f":"AVERAGE(C308:C331)","v":27.165860215053758},{"$f":"AVERAGE(D308:D331)","v":27.100930059523808},27.129939516129031,27.362777777777783,27.863608870967738,26.916354166666661,27.353225806451615,27.973723118279569,28.076631944444443,28.413608870967739,27.474652777777781,27.337231182795694,null,"Moyenne",{"$f":"AVERAGE(Q308:Q331)","v":86.475211948924724},{"$f":"AVERAGE(R308:R331)","v":83.065843377976194},82.855062473118295,87.540564513888896,86.30080227150539,88.523608763888888,85.058374139784931,82.375797513440858,82.196913013888874,79.909893360215051,84.219235902777783,86.594302836021498]

{"sheet":"Données2","index":4,"n_rows":230,"n_cols":57,"rows_kept":230,"cut":false,"hidden":true,"merged":[[131,53,131,57],[124,0,124,20],[15,53,15,57],[18,53,18,57],[128,23,128,31],[128,46,128,50],[128,53,128,57],[128,12,128,20],[2,1,2,2],[20,46,20,47],[2,4,2,5],[25,46,25,47],[15,46,15,50],[18,46,18,50],[15,12,15,20],[15,23,15,31],[13,0,13,9],[14,1,14,8],[15,1,15,9],[15,34,15,42],[11,0,11,20],[126,0,126,9],[127,1,127,8],[128,1,128,9],[133,46,133,47],[138,46,138,47],[128,34,128,42],[131,46,131,50]]}
[]
[]
[null,"Inertie",null,null,"Planning clim ",null,null,null,null,"Classe","Numéro"]
[null,"Classe","Numéro",null,"Nom","Numéro",null,null,null,"Léger",1]
[null,"Non isolé LEGER",1,null,"Permanent","p",null,null,null,"Moyen",2]
[null,"Non isolé MOYEN",2,null,"7-18h, L-D","a","De 7h à 18h 7/7 JOUR",null,null,"Lourd",3]
[null,"Non isolé LOURD",3,null,"7-18h, L-V","b","De 7h à 18h 5/7 JOUR SEMAINE"]
[null,"Isolé LEGER",4,null,"18-7h, L-D","c","De 18h à 7h 7/7 NUIT"]
[null,"Isolé MOYEN",5,null,"22-6h, L-D","d","De 22h à 6h 7/7 NUIT"]
[null,"Isolé LOURD",6]
[]
["COEFFICIENTS D'INTERMITTENCE SENSIBLE / INERTIE"]
[]
["CAYENNE"]
[null,"COEFF INTERMITTENCE _ SENSIBLE"]
[null,"Planning : Climatisation de 7h à 18h 7/7 JOUR",null,null,null,null,null,null,null,null,null,null,"Planning : Climatisation de 7h à 18h 5/7 JOUR SEMAINE",null,null,null,null,null,null,null,null,null,null,"Planning : Climatisation de 18h à 7h 7/7 NUIT",null,null,null,null,null,null,null,null,null,null,"Planning : Climatisation de 22h à 6h 7/7 NUIT",null,null,null,null,null,null,null,null,null,null,null,"Bonne classe d'inertie et bon planning ",null,null,null,null,null,null,"Bonne classe d'inertie et bon planning \nET BONNE LOCALISATION "]
[]
[null,"Non isolé ","Léger",null,null,null,null,null,null,null,null,null,"Non isolé ","Léger",null,null,null,null,null,null,null,null,null,"Non isolé ","Léger",null,null,null,null,null,null,null,null,null,"Non isolé ","Léger"]
[null,null,null,null,null,null,null,null,null,null,null,"TAMPON température",null,null,null,null,null,null,null,null,null,null,"TAMPON température",null,null,null,null,null,null,null,null,null,null,"TAMPON température",null,null,null,null,null,null,null,null,null,null,"TAMPON température",null,"TAMPON final pour la Guyane",null,null,null,null,null,null,"TAMPON FINAL"]
[null,null,28,27,26,25,24,23,22,21,20,{"$f":"TempConsigne","v":26},null,28,27,26,25,24,23,22,21,20,{"$f":"TempConsigne","v":26},null,28,27,26,25,24,23,22,21,20,{"$f":"TempConsigne","v":26},null,28,27,26,25,24,23,22,21,20,{"$f":"TempConsigne","v":26},null,null,null,null,"Non isolé"]
[null,"janvier",{"$f":"C$20*((D21-F21)/(D$20-F$20))+D21-D$20*((D21-F21)/(D$20-F$20))","v":0.65917755461767569},{"$f":"D$20*((E21-G21)/(E$20-G$20))+E21-E$20*((E21-G21)/(E$20-G$20))","v":0.66773685692387941},{"$f":"E$20*((F21-H21)/(F$20-H$20))+F21-F$20*((F21-H21)/(F$20-H$20))","v":0.67667670533340452},0.68485546153628696,0.69455640215245473,0.70121297394205184,0.70562946303017937,0.70852775958352843,0.710460235376977,{"$f":"HLOOKUP(L20,C20:K32,2,FALSE)","v":0.67667670533340452},"janvier",{"$f":"N$20*((O21-Q21)/(O$20-Q$20))+O21-O$20*((O21-Q21)/(O$20-Q$20))","v":0.51100091536448922},{"$f":"O$20*((P21-R21)/(P$20-R$20))+P21-P$20*((P21-R21)/(P$20-R$20))","v":0.51735756928686705},{"$f":"P$20*((Q21-S21)/(Q$20-S$20))+Q21-Q$20*((Q21-S21)/(Q$20-S$20))","v":0.52398375691623267},0.53007087713162271,0.5372361321749638,0.54224511756240279,0.54572005446388716,0.54824083678007063,0.55012256343174981,{"$f":"HLOOKUP(W20,N20:V32,2,FALSE)","v":0.52398375691623267},"janvier",{"$f":"Y$20*((Z21-AB21)/(Z$20-AB$20))+Z21-Z$20*((Z21-AB21)/(Z$20-AB$20))","v":0.5170087319318345},{"$f":"Z$20*((AA21-AC21)/(AA$20-AC$20))+AA21-AA$20*((AA21-AC21)/(AA$20-AC$20))","v":0.54447791167787274},{"$f":"AA$20*((AB21-AD21)/(AB$20-AD$20))+AB21-AB$20*((AB21-AD21)/(AB$20-AD$20))","v":0.57295729283484709},0.59941627116994933,0.62991605514879578,0.65233422784015371,0.66927353814144674,0.68270221763999706,0.69384666529572581,{"$f":"HLOOKUP(AH20,Y20:AG32,2,FALSE)","v":0.57295729283484709},"janvier",{"$f":"AJ$20*((AK21-AM21)/(AK$20-AM$20))+AK21-AK$20*((AK21-AM21)/(AK$20-AM$20))","v":0.25982945341348807},{"$f":"AK$20*((AL21-AN21)/(AL$20-AN$20))+AL21-AL$20*((AL21-AN21)/(AL$20-AN$20))","v":0.29363940669753008},{"$f":"AL$20*((AM21-AO21)/(AM$20-AO$20))+AM21-AM$20*((AM21-AO21)/(AM$20-AO$20))","v":0.3286784232280478},0.36125931326561406,0.39875645628908296,0.42642109334074663,0.44759626682018538,0.46415313874904035,0.47766428460207783,{"$f":"HLOOKUP(AS20,AJ20:AR32,2,FALSE)","v":0.3286784232280478},null,"Classe séléctionnée",null,null,"janvier",{"$f":"IF($AV$28=$F$5,1,INDEX(INDIRECT(\"classe\"&$AV$23&$AV$28&\"GS\"),AZ21,1))","v":0.45853641745623674},1,null,null,"janvier",{"$f":"IF(Station=\"Saint-Denis\",#REF!,AV31)","v":0.55190166418867603},1]
[null,"fevrier",0.69971159497472379,0.70489382191438588,{"$f":"E$20*((F22-H22)/(F$20-H$20))+F22-F$20*((F22-H22)/(F$20-H$20))","v":0.71044473805630193},0.71525827579371004,0.72154657034013403,0.72488535126852627,0.72647890086656064,0.7269979961321853,0.72704621933567104,{"$f":"HLOOKUP(L21,C21:K33,2,FALSE)","v":0.71044473805630193},"fevrier",{"$f":"N$20*((O22-Q22)/(O$20-Q$20))+O22-O$20*((O22-Q22)/(O$20-Q$20))","v":0.49797440096692452},0.50425742087963266,{"$f":"P$20*((Q22-S22)/(Q$20-S$20))+Q22-Q$20*((Q22-S22)/(Q$20-S$20))","v":0.5108877870953783},0.51682346070504892,0.52414851952686969,0.52869480792439016,0.53159706865057399,0.53351148267895299,0.53484199335924376,{"$f":"HLOOKUP(W21,N21:V33,2,FALSE)","v":0.5108877870953783},"fevrier",{"$f":"Y$20*((Z22-AB22)/(Z$20-AB$20))+Z22-Z$20*((Z22-AB22)/(Z$20-AB$20))","v":0.48084385063740898},0.51176242993030907,{"$f":"AA$20*((AB22-AD22)/(AB$20-AD$20))+AB22-AB$20*((AB22-AD22)/(AB$20-AD$20))","v":0.54379667351141403},0.57359958851610915,0.60786516067362395,0.63320541852549939,0.65215169007137874,0.66718095942459166,0.67953657742545159,{"$f":"HLOOKUP(AH21,Y21:AG33,2,FALSE)","v":0.54379667351141403},"fevrier",{"$f":"AJ$20*((AK22-AM22)/(AK$20-AM$20))+AK22-AK$20*((AK22-AM22)/(AK$20-AM$20))","v":0.24234348843510201},0.27807620389224008,{"$f":"AL$20*((AM22-AO22)/(AM$20-AO$20))+AM22-AM$20*((AM22-AO22)/(AM$20-AO$20))","v":0.31513466870671636},0.34954163480651607,0.38925159833566897,0.41835556700611554,0.44035023609037732,0.45757730215761422,0.47156893639877911,{"$f":"HLOOKUP(AS21,AJ21:AR33,2,FALSE)","v":0.31513466870671636},null,"Classe","Numéro",null,"fevrier",{"$f":"IF($AV$28=$F$5,1,INDEX(INDIRECT(\"classe\"&$AV$23&$AV$28&\"GS\"),AZ22,1))","v":0.45891874629960938},2,null,null,"fevrier",{"$f":"IF(Station=\"Saint-Denis\",#REF!,AV32)","v":0.54877877367891126},2]
[null,"mars",0.72416754394203398,0.72674943139067283,0.72962849925532769,0.73191320628795054,0.73538663498463741,0.73648262035319634,0.73634108321022007,0.73556017930946249,0.73459214593526667,0.72962849925532769,"mars",0.50592796153342601,0.50847835588921864,0.51125728149004279,0.51357914460080389,0.5168151326916911,0.5182228708223261,0.51884564500946662,0.51891602789342417,0.51875866764761813,0.51125728149004279,"mars",0.46088937792889184,0.49331247075380324,0.52690389905177226,0.55815865640362616,0.5940867556477103,0.62066817110733385,0.64092132263231361,0.65691110948770837,0.67009875619045167,0.52690389905177226,"mars",0.2247994366542817,0.26170657823714749,0.29990086724382359,0.33552086140287923,0.37628944525717589,0.40676084972099064,0.43004419209516842,0.44834898045469324,0.46318453688280764,0.29990086724382359,null,{"$f":"Hypothèses!$J$19","v":"Moyen"},{"$f":"VLOOKUP(AU23,$J$4:$K$6,2,FALSE)","v":2},null,"mars",{"$f":"IF($AV$28=$F$5,1,INDEX(INDIRECT(\"classe\"&$AV$23&$AV$28&\"GS\"),AZ23,1))","v":0.45514195969222598},3,null,null,"mars",{"$f":"IF(Station=\"Saint-Denis\",#REF!,AV33)","v":0.53295653203498083},3]
[null,"avril",0.72686384744832089,0.72951562029077988,0.73246641005251367,0.73481916597569785,0.73836798957598127,0.73952467782206621,0.73959060197620108,0.73904138276055198,0.73823594459962461,0.73246641005251367,"avril",0.56204673855442699,0.56410403654111596,0.56634221392034445,0.56821863251449378,0.57081856867880154,0.57197146970279256,0.57248511620429332,0.57249595647451657,0.57224356485286565,0.56634221392034445,"avril",0.47291456665219078,0.50303551881344921,0.53418259400056134,0.56327742313596596,0.59647674437478559,0.62146708140677509,0.64063198368400975,0.65614359942327682,0.66876632509881051,0.53418259400056134,"avril",0.2471122536081457,0.28095341726031597,0.31597676248107864,0.3486357445646564,0.38602345292260398,0.41395370873181203,0.43559375676010093,0.45272652616232911,0.46676920526323035,0.31597676248107864,null,null,null,null,"avril",0.50218488072238388,4,null,null,"avril",{"$f":"IF(Station=\"Saint-Denis\",#REF!,AV34)","v":0.60040852514642307},4]
[null,"mai",0.73419108543912248,0.73540349028013441,0.73676946180563718,0.73782829996215826,0.73950140485664273,0.73994597627520042,0.73979770781838783,0.73927042142102217,0.73854960200408681,0.73676946180563718,"mai",0.48418098183754399,0.49241948472890767,0.50099293029730463,0.50889649051163499,0.51813982143409854,0.52470361094029572,0.52970031445104337,0.53361407125951388,0.53679736957496205,0.50099293029730463,"mai",0.47844905676866378,0.50650261481546999,0.53548814311388859,0.56260973090908251,0.5934591997107258,0.61685290649947033,0.63543537443987574,0.65063767276883777,0.66348581395263617,0.53548814311388859,"mai",0.25564011946621434,0.28672145632246926,0.318784689473393,0.34888413003497909,0.3829111557752406,0.40908301115815116,0.42981331144622181,0.44660062671189726,0.46054728865665845,0.318784689473393,null,null,null,null,"mai",0.46217142718805215,5,null,null,"mai",{"$f":"IF(Station=\"Saint-Denis\",#REF!,AV35)","v":0.56197548871544933},5]
[null,"juin",0.73493172123525907,0.73921570905935285,0.74390759681071938,0.74778368470754053,0.75329137231345245,0.75553586050118293,0.75610098815880422,0.75549340701220946,0.7541348323156104,0.74390759681071938,"juin",0.54263411396687466,0.54275704950423853,0.54304516529387015,0.54300292057896615,0.54362139687313327,0.54291843114915828,0.54168597158821907,0.54017643507611157,0.53838454268796676,0.54304516529387015,"juin",0.42746073256942207,0.46175452213427859,0.49703620932666936,0.53034210126399151,0.56759958371145081,0.59695388513863579,0.61940821870640572,0.63715726750101287,0.65180377167409664,0.49703620932666936,"juin",0.19096082052421914,0.23049025322178462,0.27129379943550547,0.3095491186169157,0.35290089186294721,0.3860597569797361,0.41142340777648656,0.43137855220708732,0.44764969818459605,0.27129379943550547,null,"Planning séléctionné",null,null,"juin",0.46891293978615073,6,null,null,"juin",{"$f":"IF(Station=\"Saint-Denis\",#REF!,AV36)","v":0.53401797181075084},6]
[null,"juillet",0.72262003324788504,0.72766447595241301,0.73304901159507185,0.73775336136146896,0.74381808288038964,0.74716206089426307,0.74874686343122354,0.74920382564826327,0.74881528927771701,0.73304901159507185,"juillet",0.59079774390545281,0.59237465679876655,0.59413899618399402,0.59552848258539415,0.59766767495444906,0.59830745538819441,0.59821094440725364,0.59764438693321364,0.59678235837665861,0.59413899618399402,"juillet",0.4611059358800963,0.49031832368769035,0.52034584479545543,0.54874309930287846,0.58040088701098569,0.60553760831772463,0.6253121659358567,0.6413035230234535,0.65480532959360749,0.52034584479545543,"juillet",0.21897448069654968,0.2535583817710626,0.28913993278828676,0.32272618392008851,0.3603030348227349,0.38989868618369206,0.41315450480605082,0.43180746202648645,0.44732079168831412,0.28913993278828676,null,"Nom","Numéro",null,"juillet",0.50891984489395048,7,null,null,"juillet",{"$f":"IF(Station=\"Saint-Denis\",#REF!,AV37)","v":0.59446426464575375},7]
[null,"aout",0.73551024561536416,0.73837142967638358,0.74142789612042437,0.74409379779842233,0.74754082900850605,0.74942560115441836,0.75038831988526256,0.75051588224523835,0.75002072691402477,0.74142789612042437,"aout",0.52915642918848449,0.53253284513502086,0.53607329158107686,0.53928567702809371,0.54315418447318875,0.54571044792212731,0.54745405850731887,0.54863705642786809,0.549359101258448,0.53607329158107686,"aout",0.4767520715588498,0.50318193800919842,0.53041208651551586,0.55604167090989565,0.58487238352815063,0.60730083969865523,0.62522512289383514,0.64008584429016091,0.65276356033675176,0.53041208651551586,"aout",0.24870992987328222,0.27889361579714689,0.30995027184394941,0.33926098764487622,0.37206358393755462,0.39788241924672979,0.41882403737724305,0.43593565204051843,0.45032336805866929,0.30995027184394941,null,{"$f":"ClimPlan","v":"7-18h, L-V"},{"$f":"VLOOKUP(AU28,$E$5:$F$9,2,FALSE)","v":"b"},null,"aout",0.47624129055340653,8,null,null,"aout",{"$f":"IF(Station=\"Saint-Denis\",#REF!,AV38)","v":0.56578923761402622},8]
[null,"septembre",0.74038844454210262,0.74297149811576146,0.74573833476428097,0.74813760526307915,0.75127200806131988,0.75293614626067562,0.75378020548836,0.75394969959190505,0.75354792496754253,0.74573833476428097,"septembre",0.5433697291052908,0.54552401488590463,0.54780630674834563,0.54983258644713229,0.55237089047322763,0.5538851458447055,0.55482620193349808,0.55537873915629354,0.55555861666798678,0.54780630674834563,"septembre",0.47693340392207129,0.50291906952315057,0.52966569892600135,0.55489040072530915,0.58315895773170301,0.60533980432392476,0.62331295790523256,0.63838613161779889,0.6513350850549221,0.52966569892600135,"septembre",0.25019123783901065,0.27990835318727869,0.31046544158998635,0.33934258388381489,0.37157961839540149,0.39709686847147196,0.41790228464906576,0.43495661260692897,0.44936795681076469,0.31046544158998635,null,null,null,null,"septembre",0.47633653459164227,9,null,null,"septembre",{"$f":"IF(Station=\"Saint-Denis\",#REF!,AV39)","v":0.57082591101385383},9]
[null,"octobre",0.71363200962194862,0.71800416873040385,0.72257963600141906,0.7267484869473142,0.73173057054344948,0.73508618883910448,0.73722134856414734,0.73853003267474815,0.73915857968160514,0.72257963600141906,"octobre",0.54709396276648958,0.55095989447668148,0.55497422116364259,0.55869175789706527,0.56300287453756481,0.56612683136391062,0.56831993682741733,0.56990070513575231,0.57094234706698743,0.55497422116364259,"octobre",0.51091646273675495,0.53345886244432605,0.55663361515242427,0.57854366185946826,0.60298312056862069,0.62236375527355636,0.63810750171215269,0.65148849039865997,0.6628577120582001,0.55663361515242427,"octobre",0.27727644907009275,0.30399322805293905,0.33144066371680814,0.35742678601863165,0.38633553504454615,0.40939903062227878,0.42835382414934781,0.44398751994814939,0.45726816530590603,0.33144066371680814,null,"Non isolé",null,null,"octobre",0.48816120702391513,10,null,null,"octobre",{"$f":"IF(Station=\"Saint-Denis\",#REF!,AV40)","v":0.58683590459450286},10]
[null,"novembre",0.66612475662121995,0.67516081416804186,0.68455736778277232,0.69323292926168567,0.70335047501223313,0.71058405221951237,0.71575454608160249,0.7193821404728048,0.72179602538509668,0.68455736778277232,"novembre",0.45042562619188214,0.45995060117044789,0.46981882423823995,0.47900055112757939,0.48955527037382407,0.49736400490625832,0.50325676965914823,0.50771915130754575,0.51116914459374907,0.46981882423823995,"novembre",0.52274627572421561,0.54670520987007554,0.571361894981258,0.59462307816179549,0.62067526520362293,0.64114544452287048,0.65701688466802444,0.67017052495991536,0.68122277507970086,0.571361894981258,"novembre",0.26824011994099883,0.29812496333721605,0.32889066350265062,0.35789465012965049,0.39042206383351957,0.41590262338365031,0.43601651074396364,0.45222691564317091,0.46574591067544618,0.32889066350265062,null,"janvier",{"$f":"AY21*Données1!$E$175+Données1!$F$175*Données2!AY34","v":0.55190166418867603},null,"novembre",0.41953703925891161,11,null,null,"novembre",{"$f":"IF(Station=\"Saint-Denis\",#REF!,AV41)","v":0.51564840615499596},11]
[null,"decembre",0.66258589992671546,0.67126347542293718,0.68032634200723763,0.68861862641538063,0.69845207517583863,0.70520319523166652,0.70977236041538594,0.71296821827642953,0.71524532564933296,0.68032634200723763,"decembre",0.47441613599467247,0.48271198265929127,0.4913347078556809,0.49930367598852882,0.50858015824846015,0.51524161225422471,0.52016056055731585,0.52387342448286855,0.52684423476014874,0.4913347078556809,"decembre",0.52219923880337782,0.5479012118380322,0.57446259502095165,0.59930515790734096,0.62758536138679055,0.64899028368011957,0.66524350925611853,0.67840927692055863,0.68940233754858493,0.57446259502095165,"decembre",0.26879584484648533,0.30041660802129477,0.33310101680095933,0.3636581343709136,0.39846983436028843,0.42477236951082203,0.44515036344924269,0.46121389125808759,0.47445094731184401,0.33310101680095933,null,"fevrier",{"$f":"AY22*Données1!$E$175+Données1!$F$175*Données2!AY35","v":0.54877877367891126},null,"decembre",0.43616103319698596,12,null,null,"decembre",{"$f":"IF(Station=\"Saint-Denis\",#REF!,AV42)","v":0.53543613377877353},12]
[null,null,null,null,null,null,null,null,null,null,null,null,null,null,null,null,null,null,null,null,null,null,null,null,null,null,null,null,null,null,null,null,null,null,null,null,null,null,null,null,null,null,null,null,null,null,"mars",{"$f":"AY23*Données1!$E$175+Données1!$F$175*Données2!AY36","v":0.53295653203498083},null,"Isolé"]
[null,null,null,null,null,null,null,null,null,null,null,null,null,null,null,null,null,null,null,null,null,null,null,null,null,null,null,null,null,null,null,null,null,null,null,null,null,null,null,null,null,null,null,null,null,null,"avril",{"$f":"AY24*Données1!$E$175+Données1!$F$175*Données2!AY37","v":0.60040852514642307},null,"janvier",{"$f":"IF($AV$28=$F$5,1,INDEX(INDIRECT(\"classe\"&$AV$23+3&$AV$28&\"GS\"),AZ34,1))","v":0.56952712200635203},1]
[null,"Non isolé ","Moyen",null,null,null,null,null,null,null,null,null,"Non isolé ",null,null,null,"Moyen",null,null,null,null,null,null,"Non isolé ",null,null,null,"Moyen",null,null,null,null,null,null,"Non isolé ",null,null,null,"Moyen",null,null,null,null,null,null,null,"mai",{"$f":"AY25*Données1!$E$175+Données1!$F$175*Données2!AY38","v":0.56197548871544933},null,"fevrier",{"$f":"IF($AV$28=$F$5,1,INDEX(INDIRECT(\"classe\"&$AV$23+3&$AV$28&\"GS\"),AZ35,1))","v":0.56574251744331139},2]
[null,null,null,null,null,null,null,null,null,null,null,null,null,null,null,null,null,null,null,null,null,null,null,null,null,null,null,null,null,null,null,null,null,null,null,null,null,null,null,null,null,null,null,null,null,null,"juin",{"$f":"AY26*Données1!$E$175+Données1!$F$175*Données2!AY39","v":0.53401797181075084},null,"mars",0.54764633911446237,3]
[null,null,28,27,26,25,24,23,22,21,20,{"$f":"TempConsigne","v":26},null,28,27,26,25,24,23,22,21,20,{"$f":"TempConsigne","v":26},null,28,27,26,25,24,23,22,21,20,{"$f":"TempConsigne","v":26},null,28,27,26,25,24,23,22,21,20,{"$f":"TempConsigne","v":26},null,"juillet",{"$f":"AY27*Données1!$E$175+Données1!$F$175*Données2!AY40","v":0.59446426464575375},null,"avril",0.61895114953915431,4]
[null,"janvier",{"$f":"C$20*((D38-F38)/(D$20-F$20))+D38-D$20*((D38-F38)/(D$20-F$20))","v":0.54340898267367277},{"$f":"D$20*((E38-G38)/(E$20-G$20))+E38-E$20*((E38-G38)/(E$20-G$20))","v":0.56715467892619453},{"$f":"E$20*((F38-H38)/(F$20-H$20))+F38-F$20*((F38-H38)/(F$20-H$20))","v":0.59175506391294241},0.61464607143123806,0.64095583388643818,0.66042808646782925,0.67505127290222233,0.68637686166545564,0.69505668858248182,{"$f":"HLOOKUP(L37,C37:K49,2,FALSE)","v":0.59175506391294241},"janvier",{"$f":"N$20*((O38-Q38)/(O$20-Q$20))+O38-O$20*((O38-Q38)/(O$20-Q$20))","v":0.42010222499869754},{"$f":"O$20*((P38-R38)/(P$20-R$20))+P38-P$20*((P38-R38)/(P$20-R$20))","v":0.43899624021777506},{"$f":"P$20*((Q38-S38)/(Q$20-S$20))+Q38-Q$20*((Q38-S38)/(Q$20-S$20))","v":0.45853641745623674},0.47678427065593015,0.49761677193316012,0.51327997705531703,0.52528224542933422,0.53478698038753947,0.54233124508220698,{"$f":"HLOOKUP(W37,N37:V49,2,FALSE)","v":0.45853641745623674},"janvier",{"$f":"Y$20*((Z38-AB38)/(Z$20-AB$20))+Z38-Z$20*((Z38-AB38)/(Z$20-AB$20))","v":0.6421357030058813},{"$f":"Z$20*((AA38-AC38)/(AA$20-AC$20))+AA38-AA$20*((AA38-AC38)/(AA$20-AC$20))","v":0.66110665112612776},{"$f":"AA$20*((AB38-AD38)/(AB$20-AD$20))+AB38-AB$20*((AB38-AD38)/(AB$20-AD$20))","v":0.68077820563298297},0.69904854736662059,0.72012131464669349,0.73558923083389582,0.74706324375044275,0.75608251208058785,0.76370890435586425,{"$f":"HLOOKUP(AH37,Y37:AG49,2,FALSE)","v":0.68077820563298297},"janvier",{"$f":"AJ$20*((AK38-AM38)/(AK$20-AM$20))+AK38-AK$20*((AK38-AM38)/(AK$20-AM$20))","v":0.39637962883603539},{"$f":"AK$20*((AL38-AN38)/(AL$20-AN$20))+AL38-AL$20*((AL38-AN38)/(AL$20-AN$20))","v":0.42125410610422243},{"$f":"AL$20*((AM38-AO38)/(AM$20-AO$20))+AM38-AM$20*((AM38-AO38)/(AM$20-AO$20))","v":0.44699701155078064},0.47100306064059638,0.49848282244389691,0.51901515882022786,0.53480494566745607,0.54703101833274714,0.55701916988003208,{"$f":"HLOOKUP(AS37,AJ37:AR49,2,FALSE)","v":0.44699701155078064},null,"aout",{"$f":"AY28*Données1!$E$175+Données1!$F$175*Données2!AY41","v":0.56578923761402622},null,"mai",0.58081646368255868,5]
[null,"fevrier",{"$f":"C$20*((D39-F39)/(D$20-F$20))+D39-D$20*((D39-F39)/(D$20-F$20))","v":0.5768631555560737},0.59817053385760799,{"$f":"E$20*((F39-H39)/(F$20-H$20))+F39-F$20*((F39-H39)/(F$20-H$20))","v":0.62031074125315777},0.64078529046067645,0.66459115604425745,0.6817343888757138,0.69428054296849462,0.70366078306889479,0.71078002584637379,{"$f":"HLOOKUP(L38,C38:K50,2,FALSE)","v":0.62031074125315777},"fevrier",{"$f":"N$20*((O39-Q39)/(O$20-Q$20))+O39-O$20*((O39-Q39)/(O$20-Q$20))","v":0.4236551135120426},0.44097300205355044,{"$f":"P$20*((Q39-S39)/(Q$20-S$20))+Q39-Q$20*((Q39-S39)/(Q$20-S$20))","v":0.45891874629960938},0.47560877913656613,0.49481023479172725,0.50898884481047957,0.51956234013001601,0.5277516367647207,0.5341191116060342,{"$f":"HLOOKUP(W38,N38:V50,2,FALSE)","v":0.45891874629960938},"fevrier",{"$f":"Y$20*((Z39-AB39)/(Z$20-AB$20))+Z39-Z$20*((Z39-AB39)/(Z$20-AB$20))","v":0.61720602023510307},0.63842636477094961,{"$f":"AA$20*((AB39-AD39)/(AB$20-AD$20))+AB39-AB$20*((AB39-AD39)/(AB$20-AD$20))","v":0.66048971411854107},0.68086705384264279,0.704616412813724,0.72162173329084611,0.73428048352806685,0.74412971104684744,0.75243357687556256,{"$f":"HLOOKUP(AH38,Y38:AG50,2,FALSE)","v":0.66048971411854107},"fevrier",{"$f":"AJ$20*((AK39-AM39)/(AK$20-AM$20))+AK39-AK$20*((AK39-AM39)/(AK$20-AM$20))","v":0.38032085452349418},0.40696277899868583,{"$f":"AL$20*((AM39-AO39)/(AM$20-AO$20))+AM39-AM$20*((AM39-AO39)/(AM$20-AO$20))","v":0.43459959766864775},0.46024662794906901,0.48987323500857161,0.51154068850991152,0.52790827153179964,0.54057825827379558,0.55073576749019693,{"$f":"HLOOKUP(AS38,AJ38:AR50,2,FALSE)","v":0.43459959766864775},null,"septembre",{"$f":"AY29*Données1!$E$175+Données1!$F$175*Données2!AY42","v":0.57082591101385383},null,"juin",0.54630847642384839,6]
[null,"mars",0.58967192314397188,0.60971786660478855,0.6306171185241316,0.64980975352642201,0.67241562236281771,0.68819502353100281,0.69974451113820202,0.70813279356677594,0.71457698779661927,0.6306171185241316,"mars",0.42621027259854788,0.44038848136496422,0.45514195969222598,0.46874489889779691,0.48464891634674945,0.49595077730893883,0.50444643624039298,0.51076205380743978,0.51568578588894098,0.45514195969222598,"mars",0.60979435157777873,0.63104201550294348,0.65309557585936628,0.67353734335327298,0.69720269657221179,0.71442087834108647,0.72738326338239168,0.73791345412334552,0.74686300605145195,0.65309557585936628,"mars",0.36467516662730648,0.3925853870833973,0.42151693792545253,0.44840582799557893,0.47938003960956282,0.50218360813583174,0.51949219537147562,0.53297205188355135,0.54389578864932886,0.42151693792545253,null,"octobre",{"$f":"AY30*Données1!$E$175+Données1!$F$175*Données2!AY43","v":0.58683590459450286},null,"juillet",0.61061330954887305,7]
[null,"avril",0.60152241347452706,0.61992134623913087,0.63902671528467248,0.65671921176833847,0.67723745337575569,0.69210420473567047,0.70304303368800147,0.71125466665609816,0.71778253852594942,0.63902671528467248,"avril",0.4729121827343869,0.48729530295006207,0.50218488072238388,0.51606154338141241,0.53196403626702748,0.54381486869946938,0.55287242160772454,0.5598754765735845,0.56544781343651263,0.50218488072238388,"avril",0.61850936112250909,0.63816891920686936,0.65854237921918124,0.67748803537558988,0.69928929924380512,0.71537934768840716,0.72795346345632261,0.73819246835392871,0.74689572126169046,0.65854237921918124,"avril",0.38923476704535404,0.41399571581712974,0.43964674925495434,0.46351761336068104,0.49094881613060337,0.51125934157213437,0.52713802566154933,0.53951300322603657,0.54973531845091039,0.43964674925495434,null,"novembre",{"$f":"AY31*Données1!$E$175+Données1!$F$175*Données2!AY44","v":0.51564840615499596},null,"aout",0.58269406696770965,8]
[null,"mai",0.61548666360201332,0.63127385772316513,0.64761828815231937,0.66284824596546865,0.68030714901062772,0.69330816159176722,0.70322172290398366,0.71083675903908139,0.71695457048673727,0.64761828815231937,"mai",0.42814602548023867,0.44488315411171092,0.46217142718805215,0.47835741137465543,0.49674797334073467,0.51072937974786203,0.52170473968235676,0.53055954831737151,0.53790099257979396,0.46217142718805215,"mai",0.62084347799486639,0.63901254365018967,0.65777486574527055,0.67535067496083612,0.69529950993543221,0.71050229339196724,0.72285437191526958,0.73307214798761211,0.74194034603268233,0.65777486574527055,"mai",0.38828267712557457,0.41162443269519305,0.43570717802737474,0.45830794383443002,0.48387266869173828,0.50350947544854063,0.51895848937028277,0.53149791725239826,0.54205087917566031,0.43570717802737474,null,"decembre",{"$f":"AY32*Données1!$E$175+Données1!$F$175*Données2!AY45","v":0.53543613377877353},null,"septembre",0.58866358163149657,9]
[null,"juin",0.59273432546841553,0.61314182522252725,0.6342773518153233,0.65395682473075056,0.6765484050009154,0.69331577056160498,0.70612993969032745,0.71573868211276681,0.72306184870363133,0.6342773518153233,"juin",0.44454100911663857,0.45653070346712438,0.46891293978615073,0.48051009216809604,0.49367741242420343,0.50370439693198665,0.51155781022168245,0.51756712892566936,0.52226304371021093,0.46891293978615073,"juin",0.58433685210235109,0.60799145249593578,0.63250962520237763,0.65530065328310527,0.68154597061526134,0.70088270944456066,0.71551026816942453,0.727261016927787,0.7369882988939076,0.63250962520237763,"juin",0.34274560398748194,0.37256509069690519,0.40342416444222978,0.43220406411575168,0.46514231193287908,0.48976386346279538,0.50868699218188351,0.52367455726659495,0.53578546786641534,0.40342416444222978,null,null,null,null,"octobre",0.60546367863859007,10]
[null,"juillet",0.58723114625249073,0.60723433780523772,0.62789488989674447,0.6472407209107317,0.66921599407975785,0.68593238293870606,0.69887861696746667,0.70890040213064898,0.71658293719244492,0.62789488989674447,"juillet",0.47930345406077768,0.49388766576023913,0.50891984489395048,0.52305608915916202,0.53898420316137319,0.55132857768958521,0.56098896118343833,0.56872601588016547,0.5748502917000915,0.50891984489395048,"juillet",0.61041259961247907,0.6302778770217532,0.65079676737539038,0.67000843184030145,0.69183454808266476,0.7084317607701236,0.72115520071449568,0.73167625618982091,0.74068802317524673,0.65079676737539038,"juillet",0.36596511457656744,0.39215882589368234,0.41920222340313518,0.44454624852791225,0.47328901842204085,0.49523429877746628,0.51265690906072936,0.52657689732198099,0.53813225130738551,0.41920222340313518,null,null,null,null,"novembre",0.53379227555300335,11]
[null,"aout",0.605261808114537,0.62242696789897767,0.64010861107799721,0.656757287467859,0.67547189743603631,0.69005464024758267,0.70139613637446252,0.71027783220499707,0.71731922891557587,0.64010861107799721,"aout",0.44950090509100582,0.46268307754854732,0.47624129055340653,0.48904742246363031,0.50335771656312489,0.51465968628407788,0.52362800587208724,0.53082877837578546,0.53675942884545769,0.47624129055340653,"aout",0.62799159809844829,0.6446937283318126,0.66191715386030081,0.67809798879854122,0.69636400491727712,0.71045965867502214,0.72188817628964352,0.731805453891335,0.74044234456354407,0.66191715386030081,"aout",0.39622776320413727,0.41809565686140043,0.44057576218288658,0.46183144417592686,0.48553597282585875,0.50434280816200738,0.5196970418711,0.53223573109444144,0.54273027370396021,0.44057576218288658,null,null,null,null,"decembre",0.55417725168814103,12]
[null,"septembre",0.6080350062054769,0.62480707547732717,0.64207428371372921,0.65835121402102781,0.67660870018653319,0.69090507463562501,0.70224828037033082,0.71119247399961394,0.71829830746128376,0.64207428371372921,"septembre",0.44991160555755494,0.46294685172174255,0.47633653459164227,0.48901734405011771,0.50311590033144171,0.51437896296706864,0.52346041271112054,0.53081469101140488,0.53685607527564794,0.47633653459164227,"septembre",0.62853860512530568,0.64515026756113225,0.66220608849112805,0.67837359243278539,0.69631773035111966,0.71070860031610006,0.72270902727536479,0.73262337867076555,0.74126705435196905,0.66220608849112805,"septembre",0.39903535943643498,0.42055265005380316,0.44267488268520128,0.4635872312885394,0.48691934794799752,0.50541192849521566,0.52054925320513989,0.5329776879980388,0.54344652131784432,0.44267488268520128]
[null,"octobre",0.59814134522350226,0.61498710748745378,0.63231387577307907,0.64867863201535692,0.66696741234432977,0.68140814449991249,0.69286862562105189,0.70201219512195123,0.70937361623381012,0.63231387577307907,"octobre",0.45983819590359026,0.47381172788547976,0.48816120702391513,0.50175879184925876,0.51686016530078582,0.528953961499946,0.53873751827416372,0.54673410938654843,0.55332176128239552,0.48816120702391513,"octobre",0.6470400731496031,0.66171223538557999,0.67680403173933501,0.69105655985753367,0.70698762444684515,0.71956161609393099,0.72986166930102336,0.73878295146587825,0.74653327172401363,0.67680403173933501,"octobre",0.41631555850522184,0.4358681067228285,0.45592145917469462,0.47497320315804181,0.49602816407842687,0.51307669112473619,0.52704980822242953,0.53862928061098791,0.54836789602945679,0.45592145917469462]
[null,"novembre",0.55461640245076527,0.57614221266726839,0.59829164501413634,0.61919383310027465,0.64259050970787213,0.66099820927255126,0.67565224603505536,0.68726220334652854,0.69644924606204284,0.59829164501413634,"novembre",0.38295768762259946,0.4009955727992191,0.41953703925891161,0.43707134315245838,0.4566199721782967,0.47213995093955191,0.48463805263718007,0.4946994525011057,0.50287969390420317,0.41953703925891161,"novembre",0.64930393368920103,0.66610136125763963,0.68338907337317378,0.69969621639451696,0.71796449760424219,0.73231050243720319,0.74310014228619103,0.75165101272186341,0.7586403374387205,0.68338907337317378,"novembre",0.40879671422848096,0.43071315134699129,0.45324179137163689,0.47454602558401182,0.49829907142092811,0.51715449400876168,0.53230903939589158,0.54436066524000126,0.5542850397814032,0.45324179137163689]
[null,"decembre",0.552827665591341,0.57511130928921927,0.59814516976862164,0.61967859668497582,0.64421289072742627,0.66274545051768408,0.67701820314816485,0.68815529272983533,0.69701933933776217,0.59814516976862164,"decembre",0.39807683766026103,0.41682216681782713,0.43616103319698596,0.4543128251329594,0.47483876595530361,0.49061640900490622,0.50301183462465671,0.51293895001185075,0.52101856471391428,0.43616103319698596,"decembre",0.64623441392706249,0.66392228516731011,0.68219212701395993,0.69929802764780535,0.71873181070725944,0.73350982891549632,0.74463824143665636,0.75351856576040654,0.76090873880734189,0.68219212701395993,"decembre",0.40760104367347622,0.43042222358027732,0.45397311936651558,0.47606458339387953,0.50107491093899192,0.52024751144860737,0.53540597725895644,0.54737141109910969,0.55702544442402124,0.45397311936651558]
[]
[]
[null,"Non isolé ",null,null,null,"Lourd",null,null,null,null,null,null,"Non isolé ",null,null,null,"Lourd",null,null,null,null,null,null,"Non isolé ",null,null,null,"Lourd",null,null,null,null,null,null,"Non isolé ",null,null,null,"Lourd"]
[]
[null,null,28,27,26,25,24,23,22,21,20,{"$f":"TempConsigne","v":26},null,28,27,26,25,24,23,22,21,20,{"$f":"TempConsigne","v":26},null,28,27,26,25,24,23,22,21,20,{"$f":"TempConsigne","v":26},null,28,27,26,25,24,23,22,21,20,{"$f":"TempConsigne","v":26}]
[null,"janvier",{"$f":"C$20*((D55-F55)/(D$20-F$20))+D55-D$20*((D55-F55)/(D$20-F$20))","v":0.57485701307828996},{"$f":"D$20*((E55-G55)/(E$20-G$20))+E55-E$20*((E55-G55)/(E$20-G$20))","v":0.5989487826557901},{"$f":"E$20*((F55-H55)/(F$20-H$20))+F55-F$20*((F55-H55)/(F$20-H$20))","v":0.62394938292705859},0.64713232181079039,0.67395058346959569,0.69349819957825387,0.70817454610821495,0.71953781175094622,0.72852611751420882,{"$f":"HLOOKUP(L54,C54:K66,2,FALSE)","v":0.62394938292705859},"janvier",{"$f":"N$20*((O55-Q55)/(O$20-Q$20))+O55-O$20*((O55-Q55)/(O$20-Q$20))","v":0.45558749409343458},{"$f":"O$20*((P55-R55)/(P$20-R$20))+P55-P$20*((P55-R55)/(P$20-R$20))","v":0.47753186533372971},{"$f":"P$20*((Q55-S55)/(Q$20-S$20))+Q55-Q$20*((Q55-S55)/(Q$20-S$20))","v":0.50025152214242097},0.52142060781431998,0.54569083575980348,0.56375877915811812,0.57773368685960813,0.58890203581962941,0.59785962405352078,{"$f":"HLOOKUP(W54,N54:V66,2,FALSE)","v":0.50025152214242097},"janvier",{"$f":"Y$20*((Z55-AB55)/(Z$20-AB$20))+Z55-Z$20*((Z55-AB55)/(Z$20-AB$20))","v":0.62380770297981636},{"$f":"Z$20*((AA55-AC55)/(AA$20-AC$20))+AA55-AA$20*((AA55-AC55)/(AA$20-AC$20))","v":0.64826468312583174},{"$f":"AA$20*((AB55-AD55)/(AB$20-AD$20))+AB55-AB$20*((AB55-AD55)/(AB$20-AD$20))","v":0.67362033156281487},0.69717864341786251,0.72433162843678101,0.7442952671279579,0.75997797950745993,0.77208483545719186,0.78178369016546856,{"$f":"HLOOKUP(AH54,Y54:AG66,2,FALSE)","v":0.67362033156281487},"janvier",{"$f":"AJ$20*((AK55-AM55)/(AK$20-AM$20))+AK55-AK$20*((AK55-AM55)/(AK$20-AM$20))","v":0.40152158797927878},{"$f":"AK$20*((AL55-AN55)/(AL$20-AN$20))+AL55-AL$20*((AL55-AN55)/(AL$20-AN$20))","v":0.42900645483482497},{"$f":"AL$20*((AM55-AO55)/(AM$20-AO$20))+AM55-AM$20*((AM55-AO55)/(AM$20-AO$20))","v":0.4574405267304133},0.48397618854591734,0.51430867052159013,0.53704751217692548,0.55511819162322484,0.56970416996009332,0.58164152095653243,{"$f":"HLOOKUP(AS54,AJ54:AR66,2,FALSE)","v":0.4574405267304133}]
[null,"fevrier",{"$f":"C$20*((D56-F56)/(D$20-F$20))+D56-D$20*((D56-F56)/(D$20-F$20))","v":0.59795015225960801},0.62077577870448597,{"$f":"E$20*((F56-H56)/(F$20-H$20))+F56-F$20*((F56-H56)/(F$20-H$20))","v":0.64449117824809332},0.66642703159424188,0.69192197733530814,0.710298738286539,0.72385509643521584,0.73389428458363959,0.74149779462543719,{"$f":"HLOOKUP(L55,C55:K67,2,FALSE)","v":0.64449117824809332},"fevrier",{"$f":"N$20*((O56-Q56)/(O$20-Q$20))+O56-O$20*((O56-Q56)/(O$20-Q$20))","v":0.45704387577661898},0.47820542335822702,{"$f":"P$20*((Q56-S56)/(Q$20-S$20))+Q56-Q$20*((Q56-S56)/(Q$20-S$20))","v":0.5001085681356392},0.52052851852144311,0.54391485769046355,0.56136841929305081,0.57468766368532254,0.58495652665498332,0.59295308077344944,{"$f":"HLOOKUP(W55,N55:V67,2,FALSE)","v":0.5001085681356392},"fevrier",{"$f":"Y$20*((Z56-AB56)/(Z$20-AB$20))+Z56-Z$20*((Z56-AB56)/(Z$20-AB$20))","v":0.61348208657176151},0.63870849223733017,{"$f":"AA$20*((AB56-AD56)/(AB$20-AD$20))+AB56-AB$20*((AB56-AD56)/(AB$20-AD$20))","v":0.66490706752582374},0.68916130356846739,0.71730421810281075,0.73766977565375469,0.75308051657249719,0.76526428854090112,0.77518762918053397,{"$f":"HLOOKUP(AH55,Y55:AG67,2,FALSE)","v":0.66490706752582374},"fevrier",{"$f":"AJ$20*((AK56-AM56)/(AK$20-AM$20))+AK56-AK$20*((AK56-AM56)/(AK$20-AM$20))","v":0.40158419618219493},0.42937049915335229,{"$f":"AL$20*((AM56-AO56)/(AM$20-AO$20))+AM56-AM$20*((AM56-AO56)/(AM$20-AO$20))","v":0.45820293890836145},0.48494310509566713,0.51586781841837992,0.53842343747027854,0.55605675624558548,0.57015817739838315,0.58142957547406471,{"$f":"HLOOKUP(AS55,AJ55:AR67,2,FALSE)","v":0.45820293890836145}]
[null,"mars",0.60838556180837777,0.6301873481027529,0.65290008009569123,0.67379092069150304,0.69832554408156788,0.71557260188312666,0.72801469145411402,0.73703113463163983,0.74403051612486104,0.65290008009569123,"mars",0.4498689903299839,0.46808724036686011,0.48699080368755743,0.50452374044061254,0.52479793032895206,0.53958961394672278,0.55061594634915301,0.55893997253710992,0.56552862690970107,0.48699080368755743,"mars",0.60435715117588074,0.63016433078556866,0.65692312280617571,0.6817786900049444,0.7104407068473898,0.73148982440248178,0.74747748821951554,0.76008476076882714,0.77057913879454087,0.65692312280617571,"mars",0.38637645585224856,0.41559603028072034,0.44590110511020276,0.47403517913766402,0.50651125476916758,0.53030332719258655,0.54833918406472948,0.5624776571682486,0.57405114488092612,0.44590110511020276]
[null,"avril",0.62149007837858572,0.64148173194391778,0.6622424713174031,0.68146503907458189,0.70376395006437364,0.71991017458893936,0.73186341020115009,0.7408226364151167,0.74781230048790226,0.6622424713174031,"avril",0.50720728360260481,0.52566055585855975,0.54473351449740792,0.56256710037046964,0.58287943177510426,0.59823427211659308,0.61003605187197285,0.61928787812409236,0.62652621014992649,0.54473351449740792,"avril",0.62430968612587323,0.64718981721270008,0.67089065174810414,0.69295007938635378,0.71829232081891237,0.73706893466285306,0.75158513283435779,0.76336932235814114,0.77323229985607578,0.67089065174810414,"avril",0.42016738291564221,0.44525202112286305,0.47121450510304924,0.49542129753730474,0.52313947306342179,0.54383488240581579,0.5598168713347339,0.57288223735556931,0.58360461468497205,0.47121450510304924]
[null,"mai",0.6280931064479307,0.64626027452983947,0.66509379671358326,0.68259461069365712,0.70276084108107073,0.71759623865380473,0.72871572514346983,0.73738995331499246,0.74420096378824807,0.66509379671358326,"mai",0.47336537838973081,0.492793981970988,0.51285830060061532,0.53165118913350229,0.55298693785986996,0.56923696619927633,0.58195660398922466,0.59209002612783668,0.60050963585259809,0.51285830060061532,"mai",0.62282894250853171,0.64437487432275586,0.66663056207099369,0.68746673795120428,0.71114193756746935,0.72913908971162544,0.74344828667492679,0.75526740312507668,0.7654352271235616,0.66663056207099369,"mai",0.41063049575852295,0.43513978190769254,0.46039313825670414,0.48415835420603182,0.51089985095472734,0.53168878610468706,0.54806143882915181,0.56144504117755989,0.57255747612519781,0.46039313825670414]
[null,"juin",0.60571508011189457,0.62843296928057213,0.651901909532007,0.67386874761792726,0.69883979003487662,0.71780242378976766,0.73229954549138965,0.74324251917748507,0.75137683881777495,0.651901909532007,"juin",0.45618561543605768,0.47340003838235467,0.49114315964259098,0.50782888427494866,0.52662940216306353,0.54120033353966401,0.55269777600065939,0.56185748626178478,0.56885811520672613,0.49114315964259098,"juin",0.59016392107202553,0.61646867547212847,0.64370240064179529,0.66907818427233445,0.69816985098112894,0.71982975153341278,0.73665580018104271,0.75020803177182993,0.76157731948909746,0.64370240064179529,"juin",0.37523988793911045,0.40496333061913525,0.43571364143510383,0.46441021597918497,0.49721426306704081,0.52180336506734737,0.54107309677632631,0.55642186976115116,0.56914741493962939,0.43571364143510383]
[null,"juillet",0.6035761519199041,0.62558529935025209,0.64827822730877394,0.66960359421094806,0.69366408322581763,0.71225432801529631,0.72674337257337107,0.73760698526972934,0.74595177260457657,0.64827822730877394,"juillet",0.50211514055036333,0.52167934572608476,0.54179286564003171,0.56080775607752775,0.58201990546792559,0.59883753695251996,0.61227039134528349,0.62287022680403359,0.63141677737931934,0.54179286564003171,"juillet",0.60630046510939373,0.63015623831265932,0.65473844042350904,0.67786778471919051,0.70390284464520847,0.72412647331055346,0.73990407393444058,0.75263904895826717,0.76331900633496863,0.65473844042350904,"juillet",0.38758790895448358,0.41495708535703324,0.44316142041051376,0.46969543816213244,0.4995700905174747,0.52276347366536979,0.54109881513768965,0.55579708718684417,0.56808803209797187,0.44316142041051376]
[null,"aout",0.6246942350936856,0.64350632321937262,0.66289831637686469,0.68113049947074678,0.70168230269184895,0.71759486565851105,0.72993598875936183,0.73944606450280392,0.74697486564394866,0.66289831637686469,"aout",0.48327745559686081,0.49963007800235143,0.51643471029851451,0.53233532281333273,0.55004397489084067,0.56413654784296918,0.57536835351305016,0.58445015323931881,0.59178675481881304,0.51643471029851451,"aout",0.62956428363798322,0.64978456961858411,0.6705450634489607,0.69022514157978576,0.71206605110971388,0.729585297841436,0.74370953612062862,0.75543435298898254,0.76538879407838945,0.6705450634489607,"aout",0.42225251504939509,0.44487961889167937,0.46812295903867951,0.49013382657624793,0.51460963933267978,0.53415556165138467,0.5499207566018629,0.56295830094244459,0.57376102442281396,0.46812295903867951]
[null,"septembre",0.6302013079475498,0.64827393154377677,0.66687695913064071,0.6844191787362307,0.70408301430436859,0.71950361794741069,0.73164561051325117,0.74106086857551889,0.74860417241827049,0.66687695913064071,"septembre",0.48493325494605038,0.50127636525793107,0.51804833345661694,0.53396258588169243,0.55159226985398868,0.56579109073184342,0.57721232355955177,0.58646262640529367,0.59415895479018788,0.51804833345661694,"septembre",0.63219811068204557,0.65179807325111949,0.67190119131389925,0.69099799838926734,0.71210742743945876,0.72919161254000342,0.74309639651281256,0.75479858457610305,0.76476602160459983,0.67190119131389925,"septembre",0.42518758212641988,0.44721412336798133,0.4698378314143617,0.49126720585110423,0.51508524750712259,0.53412595472458924,0.54970496843079564,0.56255832178610532,0.57357892839268987,0.4698378314143617]
[null,"octobre",0.62218336085820836,0.64015199985804294,0.65865968372343597,0.676089277857712,0.69567505145422204,0.71094846612626417,0.72308519898537249,0.73259284245746159,0.74040713184620044,0.65865968372343597,"octobre",0.49917119039550389,0.51621642943022694,0.5337173594662501,0.55030690749967304,0.56871921953829629,0.58348600356651892,0.59547671244359579,0.60523657766411865,0.6133008422377999,0.5337173594662501,"octobre",0.64631987518965062,0.66445162565310734,0.68305161242153645,0.70071512658002066,0.72025158595839467,0.73604215489698899,0.74904562602118274,0.75984638881387656,0.76911673760679444,0.68305161242153645,"octobre",0.43783486386593845,0.45833056705577152,0.47932985156870017,0.49932197343543766,0.52132842059455764,0.53930621716891258,0.55405094128067101,0.56643775824389231,0.57688562547066191,0.47932985156870017]
[null,"novembre",0.59237654521801852,0.61391152549410977,0.63608671865972388,0.65698148604629225,0.68043710499095222,0.69877102081942888,0.71320772040586933,0.72450630539068794,0.73372242816716993,0.63608671865972388,"novembre",0.43452108193198374,0.4543034801113856,0.47462641010503021,0.49386827647018927,0.51527227009231924,0.5323520092005074,0.54611744631053027,0.55730764276483136,0.56647069185499355,0.47462641010503021,"novembre",0.63852489354375008,0.65934226584529754,0.68077382850710666,0.70097701044839256,0.7236369538307249,0.74138337433096446,0.75558000500314537,0.76707848580030835,0.77664451285125669,0.68077382850710666,"novembre",0.42260324449854519,0.44617772760945479,0.47042385295675088,0.49332669383127398,0.51891610365134322,0.53913237558032012,0.55561914313936867,0.56944033553256457,0.58057400084800215,0.47042385295675088]
[null,"decembre",0.58699626739447275,0.60953424902837483,0.63284279368146767,0.65461021229617899,0.67945988298765336,0.69814504952560175,0.712465443090746,0.7234347506730614,0.73225739762286446,0.63284279368146767,"decembre",0.44568152372315495,0.46710922701089308,0.48919317396551332,0.50996463358636923,0.53336106787475368,0.55150755282808106,0.56581771635796307,0.57722586998854264,0.58651736420604561,0.48919317396551332,"decembre",0.63386109361979537,0.65617923841483827,0.67922368135231315,0.70081552800492397,0.72531256722726289,0.74399922131014562,0.75869805307891669,0.77028123309897245,0.77974859435845478,0.67922368135231315,"decembre",0.42041822193361783,0.44517528807643386,0.47072050856921294,0.49468942036206603,0.52181094955477092,0.54262724394777218,0.5592548474703164,0.57297332934040734,0.58415988558298115,0.47072050856921294]
[]
[]
[null,"Ref typique",null,null,null,"Léger",null,null,null,null,null,null,"Ref typique",null,null,null,"Léger",null,null,null,null,null,null,"Ref typique",null,null,null,"Léger",null,null,null,null,null,null,"Ref typique",null,null,null,"Léger"]
[]
[null,null,28,27,26,25,24,23,22,21,20,{"$f":"TempConsigne","v":26},null,28,27,26,25,24,23,22,21,20,{"$f":"TempConsigne","v":26},null,28,27,26,25,24,23,22,21,20,{"$f":"TempConsigne","v":26},null,28,27,26,25,24,23,22,21,20,{"$f":"TempConsigne","v":26}]
[null,"janvier",{"$f":"C$20*((D72-F72)/(D$20-F$20))+D72-D$20*((D72-F72)/(D$20-F$20))","v":0.66928369554175038},{"$f":"D$20*((E72-G72)/(E$20-G$20))+E72-E$20*((E72-G72)/(E$20-G$20))","v":0.68985743562299173},{"$f":"E$20*((F72-H72)/(F$20-H$20))+F72-F$20*((F72-H72)/(F$20-H$20))","v":0.71135868217332754},0.73100491578547433,0.75436117527399926,0.77029738300976791,0.78095286478591508,0.78714660998996189,0.79125234419870971,{"$f":"HLOOKUP(L71,C71:K83,2,FALSE)","v":0.71135868217332754},"janvier",{"$f":"N$20*((O72-Q72)/(O$20-Q$20))+O72-O$20*((O72-Q72)/(O$20-Q$20))","v":0.52595802551607496},{"$f":"O$20*((P72-R72)/(P$20-R$20))+P72-P$20*((P72-R72)/(P$20-R$20))","v":0.5452120668394117},{"$f":"P$20*((Q72-S72)/(Q$20-S$20))+Q72-Q$20*((Q72-S72)/(Q$20-S$20))","v":0.56519773561662134},0.58372014948608519,0.60516907317104074,0.62076497722501289,0.63204959596119958,0.64023472652662572,0.6464033407409836,{"$f":"HLOOKUP(W71,N71:V83,2,FALSE)","v":0.56519773561662134},"janvier",{"$f":"Y$20*((Z72-AB72)/(Z$20-AB$20))+Z72-Z$20*((Z72-AB72)/(Z$20-AB$20))","v":0.68470232522040275},{"$f":"Z$20*((AA72-AC72)/(AA$20-AC$20))+AA72-AA$20*((AA72-AC72)/(AA$20-AC$20))","v":0.70503711587439533},{"$f":"AA$20*((AB72-AD72)/(AB$20-AD$20))+AB72-AB$20*((AB72-AD72)/(AB$20-AD$20))","v":0.72629430303536779},0.74570669718238047,0.76880867735731273,0.78453148547640583,0.79452285319658988,0.80179277406648231,0.80787090168486142,{"$f":"HLOOKUP(AH71,Y71:AG83,2,FALSE)","v":0.72629430303536779},"janvier",{"$f":"AJ$20*((AK72-AM72)/(AK$20-AM$20))+AK72-AK$20*((AK72-AM72)/(AK$20-AM$20))","v":0.4409357370931688},{"$f":"AK$20*((AL72-AN72)/(AL$20-AN$20))+AL72-AL$20*((AL72-AN72)/(AL$20-AN$20))","v":0.47198127161281622},{"$f":"AL$20*((AM72-AO72)/(AM$20-AO$20))+AM72-AM$20*((AM72-AO72)/(AM$20-AO$20))","v":0.50411961180094322},0.53407234065211096,0.56839629217719723,0.59397779835444631,0.61251894775278215,0.62585813083475572,0.63573293957493981,{"$f":"HLOOKUP(AS71,AJ71:AR83,2,FALSE)","v":0.50411961180094322}]
[null,"fevrier",{"$f":"C$20*((D73-F73)/(D$20-F$20))+D73-D$20*((D73-F73)/(D$20-F$20))","v":0.70149561208537026},0.72005419920646274,{"$f":"E$20*((F73-H73)/(F$20-H$20))+F73-F$20*((F73-H73)/(F$20-H$20))","v":0.73952317402928758},0.7571713734486476,0.77846112367493714,0.79246777228736753,0.80106410495911706,0.80521688472651387,0.80718210545823565,{"$f":"HLOOKUP(L72,C72:K84,2,FALSE)","v":0.73952317402928758},"fevrier",{"$f":"N$20*((O73-Q73)/(O$20-Q$20))+O73-O$20*((O73-Q73)/(O$20-Q$20))","v":0.52332979776507615},0.54189311526236139,{"$f":"P$20*((Q73-S73)/(Q$20-S$20))+Q73-Q$20*((Q73-S73)/(Q$20-S$20))","v":0.56115053531422177},0.57901975025693198,0.59966537541794251,0.6147581801423524,0.62507450890226912,0.63213716461813352,0.6369665755540499,{"$f":"HLOOKUP(W72,N72:V84,2,FALSE)","v":0.56115053531422177},"fevrier",{"$f":"Y$20*((Z73-AB73)/(Z$20-AB$20))+Z73-Z$20*((Z73-AB73)/(Z$20-AB$20))","v":0.67280362942877703},0.69348774470814079,{"$f":"AA$20*((AB73-AD73)/(AB$20-AD$20))+AB73-AB$20*((AB73-AD73)/(AB$20-AD$20))","v":0.71505731439039411},0.7348559752668683,0.75819645375490075,0.77445329701981669,0.78475692997456503,0.79201665065808935,0.79814771446771815,{"$f":"HLOOKUP(AH72,Y72:AG84,2,FALSE)","v":0.71505731439039411},"fevrier",{"$f":"AJ$20*((AK73-AM73)/(AK$20-AM$20))+AK73-AK$20*((AK73-AM73)/(AK$20-AM$20))","v":0.43726190553588606},0.46885694996839544,{"$f":"AL$20*((AM73-AO73)/(AM$20-AO$20))+AM73-AM$20*((AM73-AO73)/(AM$20-AO$20))","v":0.50165661136343986},0.5320470388334142,0.56725593415352871,0.59282789377336276,0.61106970929313542,0.62372190950831297,0.63291686107798917,{"$f":"HLOOKUP(AS72,AJ72:AR84,2,FALSE)","v":0.50165661136343986}]
[null,"mars",0.70977743344900546,0.72764362107110103,0.74647905167729889,0.76337599631529229,0.7841499128896946,0.7971698855912791,0.80374587315931667,0.8068593579854465,0.80830654484058884,0.74647905167729889,"mars",0.51256779056824286,0.52890724096281305,0.54598512298289803,0.56158614175195354,0.58014088702306799,0.59278817929006467,0.60102472448034183,0.60628443859367087,0.60969576499247113,0.54598512298289803,"mars",0.6661420197661051,0.68638089653923073,0.70765907131207473,0.72685865008548201,0.75021542085776283,0.76525780763229656,0.77511678598527922,0.78299932358855984,0.78980685169311204,0.70765907131207473,"mars",0.42049940553015486,0.45338392572397612,0.48761856215681776,0.51915296611161854,0.55608783502250103,0.58222177402122022,0.60066358189309033,0.61372478244120832,0.62350219168515442,0.48761856215681776]
[null,"avril",0.72392566545198456,0.7402838645885732,0.75748851778550819,0.77300026286175061,0.79189782417937804,0.80402375301423545,0.81096978767728634,0.81444166373855942,0.81584534853997526,0.75748851778550819,"avril",0.58287040459336525,0.59924082602918871,0.6162418556367395,0.63198166890083562,0.65024391485184108,0.66346129542902776,0.67267528723538561,0.67866891832134602,0.68244549162224311,0.6162418556367395,"avril",0.68423452013314545,0.70182347771764464,0.72024464934621069,0.7370013928866429,0.75708699260334267,0.77051487996750734,0.77983946908800128,0.78694255412217728,0.79319357542006474,0.72024464934621069,"avril",0.4555943250273955,0.48428560707953161,0.51408686246149782,0.54166817118380395,0.57368937322543023,0.5968307886284161,0.61363743371491097,0.62553990711326879,0.63443575283222431,0.51408686246149782]
[null,"mai",0.73843882329034438,0.75158113780072056,0.76540821806729631,0.7778657668214729,0.79306237860044781,0.8027808643298262,0.80860707767399209,0.81176322899325926,0.813188871779573,0.76540821806729631,"mai",0.53502589560747593,0.55164407253006598,0.56890989330602326,0.58488042637524607,0.60344153485793772,0.61682149251369167,0.62657458381998443,0.63392298665502278,0.63968132476327366,0.56890989330602326,"mai",0.69023439608381021,0.70562052198788938,0.72163374222905308,0.73639277379604762,0.75366018271138047,0.76591083693003659,0.77497752194783898,0.78212264279671428,0.78852082096590959,0.72163374222905308,"mai",0.45768253848221441,0.48405229070967781,0.51136075654456403,0.53679179516460462,0.56597768821433658,0.58765387240468592,0.60357796822305398,0.6157863712032311,0.62542049240677855,0.51136075654456403]
[null,"juin",0.69455013780502417,0.71673741247371237,0.73981408941743687,0.76111196181108887,0.78596744330488588,0.80370770659839297,0.81566216892189514,0.82221406923508944,0.82469488252384848,0.73981408941743687,"juin",0.51647101617898017,0.53340767107299714,0.55087892914141712,0.56728098086103107,0.58582144527825708,0.60008508430025898,0.61068106860263138,0.61777076852722856,0.6215595585373529,0.55087892914141712,"juin",0.64163935026685892,0.66429014723364321,0.68793071890289148,0.7095917411672118,0.73521186224138801,0.75291378569585243,0.76513166216129469,0.77404150720525067,0.78115504594531704,0.68793071890289148,"juin",0.3964921455033803,0.43113290349669497,0.4669760271340222,0.50041441948332432,0.53866227440867653,0.56729120418192847,0.58878197325760329,0.60440991596434102,0.61622842162036107,0.4669760271340222]
[null,"juillet",0.6948854241965059,0.71580967543695517,0.73752674405212726,0.75765817791785361,0.78096088128247154,0.79792104564930633,0.80931547180248531,0.81584792039320797,0.81884276742970041,0.73752674405212726,"juillet",0.57684330591898658,0.59509244956657137,0.61391164091628192,0.63159073686174083,0.65155002361570291,0.66694892875265877,0.67822214450376184,0.68627024134874137,0.69158168815944854,0.61391164091628192,"juillet",0.67025951848465326,0.68916331367174199,0.70888631398673829,0.72697090404591935,0.748332314616731,0.76314008416428158,0.77330096588045305,0.78065643080829006,0.78699054692349779,0.70888631398673829,"juillet",0.42387702468275845,0.45472280373124641,0.48656957139256241,0.51641436182822231,0.55026310671519452,0.57610394269954202,0.59583257614980456,0.61041455750982232,0.62142093206840021,0.48656957139256241]
[null,"aout",0.72478912150031949,0.74112217082545806,0.75810244421197981,0.7737882694757352,0.79206299098502342,0.80515992000324599,0.81417381284701784,0.81912795004026362,0.82179199604834141,0.75810244421197981,"aout",0.54808019743307834,0.5629785325920641,0.57836330137517178,0.5927752029100356,0.60913283894138714,0.62159900597976325,0.63095004021325685,0.63762747884853355,0.64254907779274806,0.57836330137517178,"aout",0.69546212626794701,0.71005374583981262,0.72526474990119183,0.73923698498354373,0.75568675802395036,0.76718145514824754,0.77491942534636471,0.78153842485348834,0.78760849090510321,0.72526474990119183,"aout",0.46416309241598463,0.48957358223071301,0.51573935518169545,0.54039456186016976,0.56807090108366021,0.58970497521711851,0.606571594949883,0.61901826197067922,0.62847405894680197,0.51573935518169545]
[null,"septembre",0.72865359028515631,0.74445647586644925,0.76082342427725425,0.77606224702903503,0.79355732109886423,0.80653989253259672,0.81556864676992147,0.82090760753702097,0.82376081862751394,0.76082342427725425,"septembre",0.55523394015599925,0.57016571854560594,0.58554181156267093,0.60002927532481931,0.61629399759680081,0.62900420284911607,0.63869340621561776,0.64571614818216116,0.6506551692815894,0.58554181156267093,"septembre",0.6972411883969496,0.71113870639773968,0.72559691276525617,0.73893374239931986,0.75451332550028904,0.76560740166744712,0.77437519751139805,0.78109164630446548,0.78748907971935656,0.72559691276525617,"septembre",0.46860811614668307,0.49321782567072137,0.51859395729919633,0.54243724471879795,0.56934622055614614,0.59012381955800108,0.60649398038021052,0.61872119910133005,0.62810838625240695,0.51859395729919633]
[null,"octobre",0.72003956056497254,0.73550581782602653,0.75154939159347878,0.76643833234813452,0.78363653912838316,0.7962162138574459,0.8048368495826852,0.81009746908476743,0.813239019124118,0.75154939159347878,"octobre",0.56989577565949479,0.58505118920219656,0.60066573238472576,0.61536201628760012,0.63189481874978404,0.64475458409334885,0.65448237585375846,0.66166660297356672,0.66668432633503827,0.60066573238472576,"octobre",0.71847668139015275,0.73065759743365799,0.74335358288775244,0.75501942952066847,0.76874555379594123,0.77835112278650043,0.78498310330161791,0.79063907170879888,0.79608120378721725,0.74335358288775244,"octobre",0.48831935608547039,0.51091528019036891,0.53417176555300738,0.55610712840016607,0.58068473627828432,0.59997785409448345,0.61503228018456157,0.62629083387938511,0.63490517409465608,0.53417176555300738]
[null,"novembre",0.6743064913653638,0.6947993374044803,0.71595625012574371,0.7357850294827134,0.75827007556827053,0.77544258819665279,0.78787847243528497,0.79586933767855883,0.8011390778870926,0.71595625012574371,"novembre",0.48314737609698288,0.50216481608182328,0.52173278633998732,0.54019969605150409,0.56086872685631539,0.57713351547453762,0.58966914890819355,0.59896070730990436,0.60606975853897405,0.52173278633998732,"novembre",0.70021223690763801,0.718123850823981,0.73672286041195723,0.75394707865666688,0.77392087958790967,0.78839551514608619,0.79710086169867722,0.80275495528218588,0.80762360169382041,0.73672286041195723,"novembre",0.46229555068835637,0.48960636539384461,0.51765549902259722,0.54422799480482109,0.57375376628010233,0.59737298636926894,0.61548833244212242,0.62844881620090554,0.63790146623984512,0.51765549902259722]
[null,"decembre",0.67910894777093522,0.69885767413609179,0.71941354178848371,0.73835512686640503,0.76052527709326767,0.77623829702224767,0.78712859187877526,0.79430608320935292,0.79883040820680618,0.71941354178848371,"decembre",0.50371734853999262,0.52351701438285358,0.54395338772857416,0.56311634606857552,0.58482613442001541,0.60144226274857826,0.61400498120410141,0.62370979873313348,0.63119514466029636,0.54395338772857416,"decembre",0.7000174538355719,0.71807066790971119,0.73690010523457117,0.75417709605798977,0.77455897988429112,0.78873107770482698,0.79757224491696055,0.80403599850103979,0.8090923570479801,0.73690010523457117,"decembre",0.46369344179655225,0.49159384214485136,0.52042276074977634,0.54739464284144956,0.57808059795962641,0.60133840702479602,0.61904204927667794,0.63131334399805539,0.6406189319314487,0.52042276074977634]
[]
[]
[null,"Ref typique",null,null,null,"Moyen",null,null,null,null,null,null,"Ref typique",null,null,null,"Moyen",null,null,null,null,null,null,"Ref typique",null,null,null,"Moyen",null,null,null,null,null,null,"Ref typique",null,null,null,"Moyen"]
[]
[null,null,28,27,26,25,24,23,22,21,20,{"$f":"TempConsigne","v":26},null,28,27,26,25,24,23,22,21,20,{"$f":"TempConsigne","v":26},null,28,27,26,25,24,23,22,21,20,{"$f":"TempConsigne","v":26},null,28,27,26,25,24,23,22,21,20,{"$f":"TempConsigne","v":26}]
[null,"janvier",{"$f":"C$20*((D89-F89)/(D$20-F$20))+D89-D$20*((D89-F89)/(D$20-F$20))","v":0.66348500932434229},{"$f":"D$20*((E89-G89)/(E$20-G$20))+E89-E$20*((E89-G89)/(E$20-G$20))","v":0.68475535738087157},{"$f":"E$20*((F89-H89)/(F$20-H$20))+F89-F$20*((F89-H89)/(F$20-H$20))","v":0.70642432971532487},0.72729605349393012,0.74976227438423149,0.76903950105114061,0.7812580579065993,0.78890734219130065,0.79393728907689576,{"$f":"HLOOKUP(L88,C88:K100,2,FALSE)","v":0.70642432971532487},"janvier",{"$f":"N$20*((O89-Q89)/(O$20-Q$20))+O89-O$20*((O89-Q89)/(O$20-Q$20))","v":0.52756300253029098},{"$f":"O$20*((P89-R89)/(P$20-R$20))+P89-P$20*((P89-R89)/(P$20-R$20))","v":0.54839366789565436},{"$f":"P$20*((Q89-S89)/(Q$20-S$20))+Q89-Q$20*((Q89-S89)/(Q$20-S$20))","v":0.56952712200635203},0.59005499862638111,0.61179403022774748,0.63111075186643939,0.64453102589562938,0.65444869501009839,0.66192930900500779,{"$f":"HLOOKUP(W88,N88:V100,2,FALSE)","v":0.56952712200635203},"janvier",{"$f":"Y$20*((Z89-AB89)/(Z$20-AB$20))+Z89-Z$20*((Z89-AB89)/(Z$20-AB$20))","v":0.71232516504679577},{"$f":"Z$20*((AA89-AC89)/(AA$20-AC$20))+AA89-AA$20*((AA89-AC89)/(AA$20-AC$20))","v":0.72957574373639522},{"$f":"AA$20*((AB89-AD89)/(AB$20-AD$20))+AB89-AB$20*((AB89-AD89)/(AB$20-AD$20))","v":0.74696431214994563},0.76407690111559412,0.78174144897704645,0.79830207904689121,0.808393777483569,0.81546003280318147,0.82090129416085511,{"$f":"HLOOKUP(AH88,Y88:AG100,2,FALSE)","v":0.74696431214994563},"janvier",{"$f":"AJ$20*((AK89-AM89)/(AK$20-AM$20))+AK89-AK$20*((AK89-AM89)/(AK$20-AM$20))","v":0.48205223881585346},{"$f":"AK$20*((AL89-AN89)/(AL$20-AN$20))+AL89-AL$20*((AL89-AN89)/(AL$20-AN$20))","v":0.50936338775502965},{"$f":"AL$20*((AM89-AO89)/(AM$20-AO$20))+AM89-AM$20*((AM89-AO89)/(AM$20-AO$20))","v":0.53725766575898526},0.56398568563338203,0.59304622176689636,0.61744172538217568,0.63449808501584004,0.64640956509126934,0.6556011561331434,{"$f":"HLOOKUP(AS88,AJ88:AR100,2,FALSE)","v":0.53725766575898526}]
[null,"fevrier",{"$f":"C$20*((D90-F90)/(D$20-F$20))+D90-D$20*((D90-F90)/(D$20-F$20))","v":0.6868588309073197},0.70723605460255989,{"$f":"E$20*((F90-H90)/(F$20-H$20))+F90-F$20*((F90-H90)/(F$20-H$20))","v":0.72797308070993472},0.74799050199304029,0.76944713292468436,0.78802534455925133,0.79876031088945132,0.80491298140350243,0.80821230930964616,{"$f":"HLOOKUP(L89,C89:K101,2,FALSE)","v":0.72797308070993472},"fevrier",{"$f":"N$20*((O90-Q90)/(O$20-Q$20))+O90-O$20*((O90-Q90)/(O$20-Q$20))","v":0.52393001712874609},0.54468655088098794,{"$f":"P$20*((Q90-S90)/(Q$20-S$20))+Q90-Q$20*((Q90-S90)/(Q$20-S$20))","v":0.56574251744331139},0.58619961838547163,0.60785445056795817,0.62711382026979223,0.64004291122127732,0.64906952967875031,0.6555407249038796,{"$f":"HLOOKUP(W89,N89:V101,2,FALSE)","v":0.56574251744331139},"fevrier",{"$f":"Y$20*((Z90-AB90)/(Z$20-AB$20))+Z90-Z$20*((Z90-AB90)/(Z$20-AB$20))","v":0.70825589593958616},0.72529687148906685,{"$f":"AA$20*((AB90-AD90)/(AB$20-AD$20))+AB90-AB$20*((AB90-AD90)/(AB$20-AD$20))","v":0.74250207668595847},0.75937882258802836,0.77691248707974159,0.79313231439216814,0.80249033004091297,0.80881145583493197,0.8140710729451508,{"$f":"HLOOKUP(AH89,Y89:AG101,2,FALSE)","v":0.74250207668595847},"fevrier",{"$f":"AJ$20*((AK90-AM90)/(AK$20-AM$20))+AK90-AK$20*((AK90-AM90)/(AK$20-AM$20))","v":0.48535457374688951},0.51279020258115215,{"$f":"AL$20*((AM90-AO90)/(AM$20-AO$20))+AM90-AM$20*((AM90-AO90)/(AM$20-AO$20))","v":0.54087409234000139},0.56766146024967745,0.59704187185769997,0.62123619606902969,0.63733788284255199,0.64805876627483994,0.65598072277771535,{"$f":"HLOOKUP(AS89,AJ89:AR101,2,FALSE)","v":0.54087409234000139}]
[null,"mars",0.69265454786914094,0.71250051367073464,0.73273023260430747,0.75219244527392204,0.77318967047145315,0.79111687061315106,0.80030508546928736,0.80519185139111193,0.80803368442376156,0.73273023260430747,"mars",0.51066579129240108,0.52901719186202845,0.54764633911446237,0.56571999300128306,0.58490463361933021,0.60186730077492456,0.61242699692913538,0.61943013793174184,0.62432278300541777,0.54764633911446237,"mars",0.70120914660531697,0.71800265799712659,0.73506804133637227,0.75158968078074573,0.76919880801486362,0.78463295966949265,0.79357906476029383,0.80012415847641027,0.80611199002986866,0.73506804133637227,"mars",0.46970823504336734,0.49829804417176315,0.52763825114709662,0.55547766242855479,0.58631866509776354,0.61115648499147113,0.62695177328427776,0.63767081594079011,0.6455979381556799,0.52763825114709662]
[null,"avril",0.70851963899514203,0.72658129188369158,0.74489823024116886,0.76270459766079068,0.78153210695612341,0.79831733250003434,0.80762065285881779,0.81309043511379053,0.81598395424792314,0.74489823024116886,"avril",0.58149354690965183,0.60014187481021453,0.61895114953915431,0.63743853061133982,0.65656969899703377,0.67441329275571082,0.68632240033137804,0.69454508035299256,0.70016506525362865,0.61895114953915431,"avril",0.72127953779691123,0.7353828948702088,0.74955413229399204,0.76358960901680395,0.7778966071415585,0.79166056246242766,0.79982325641280749,0.80598540197786528,0.81116534984889344,0.74955413229399204,"avril",0.50774486379521089,0.53190780892262435,0.55657213895768909,0.58023369917745138,0.60590079902781846,0.62755681961697596,0.64160737823192682,0.65160025879494765,0.65869330116955105,0.55657213895768909]
[null,"mai",0.72366809817696032,0.7383727075451646,0.7533015980017983,0.76778192628157305,0.78315937891506571,0.79674258284112254,0.80478974704218809,0.80955166705667225,0.81228879965654466,0.7533015980017983,"mai",0.54503167363914318,0.56278339550012024,0.58081646368255868,0.59828683922207448,0.61688260004743556,0.63322759030110609,0.64463528418936633,0.65322556182453217,0.65993784096841634,0.58081646368255868,"mai",0.72641206128697866,0.73834848970429601,0.75031903642957909,0.76222134653893059,0.77426012988014536,0.78602596675763348,0.79393574478071538,0.80043041435913442,0.80607888004044881,0.75031903642957909,"mai",0.50554226195805074,0.52795586673966166,0.55084483349408608,0.5727830763028835,0.59662276700293482,0.61665956192047833,0.63053308174251932,0.64066088591906956,0.64860650780029527,0.55084483349408608]
[null,"juin",0.67518407018220106,0.69879398331792886,0.72273128203734338,0.74601380958938446,0.77060587947617243,0.79257886469346661,0.80728240445328792,0.81666764277946402,0.82161216525366709,0.72273128203734338,"juin",0.5083405481544937,0.52723019819823524,0.54630847642384839,0.56500949828571834,0.58446503287507467,0.60241154200945835,0.615909894671132,0.62546494549271303,0.63163535902855283,0.54630847642384839,"juin",0.68637427211327928,0.70423102427519302,0.7223430692105306,0.73994452859902049,0.75856715908120564,0.77514744737600016,0.78601903697522779,0.79411886297787893,0.80050028893269054,0.7223430692105306,"juin",0.45260333225166083,0.48239468525284768,0.51290302434622248,0.54197739125522137,0.57391970253297209,0.60012612507321927,0.61888185773491966,0.63264683894483353,0.64279264659705893,0.51290302434622248]
[null,"juillet",0.67950023817169136,0.70156537188692913,0.72393765216808648,0.74569563931740457,0.76868221273040127,0.78921161361604075,0.80330056633250146,0.81215296020974548,0.81705570440984221,0.72393765216808648,"juillet",0.56925692668009686,0.5898314856166893,0.61061330954887305,0.63098060348987406,0.65217695741324055,0.67171519137187596,0.68612728943227408,0.6968938735804987,0.70456897989914236,0.61061330954887305,"juillet",0.70584208223912503,0.72148375759667882,0.73743440227426027,0.75276710831178639,0.76933569162942317,0.78343252038683875,0.79289212493075212,0.79986682827610245,0.80544731367559297,0.73743440227426027,"juillet",0.47509756988621976,0.50174980138010594,0.52896937007238498,0.55505426436787819,0.58340850745694317,0.60722405295886461,0.62485711404932842,0.63744206249707391,0.64676885768531234,0.52896937007238498]
[null,"aout",0.7107940206862049,0.72831972532399258,0.74611762355325095,0.76337113459956796,0.78171342001176758,0.79787815669220197,0.8091489244972172,0.81602215050190563,0.82032834538124033,0.74611762355325095,"aout",0.54991055189508975,0.56620781455440183,0.58269406696770965,0.59880233987302589,0.61566657179432527,0.63101888568365827,0.6424780853957146,0.6508685902697835,0.6571756895955535,0.58269406696770965,"aout",0.73060904179953368,0.74213894804675351,0.75381971366009737,0.76519876054119329,0.77718124488678497,0.78795685430338513,0.7950826701381325,0.80090747063328305,0.80632339483650706,0.75381971366009737,"aout",0.51523731007742424,0.53659617963397055,0.55832592955437876,0.57931391874706317,0.60178542939519519,0.6212898971324321,0.63562659229434737,0.64614740327342191,0.65364936165709131,0.55832592955437876]
[null,"septembre",0.71556941579087496,0.73242165555748373,0.74951113054071938,0.76612613509070115,0.78369008050719069,0.79935614419066459,0.81035254275628932,0.81747709940498248,0.8218913505511084,0.74951113054071938,"septembre",0.55523814695598372,0.57185289200551681,0.58866358163149657,0.60508238210458309,0.62228496088345608,0.63791998305075615,0.64982422002612406,0.65885071433025422,0.66552059330949864,0.58866358163149657,"septembre",0.732239910909256,0.74296120385453546,0.75380725792880687,0.76440378974509438,0.77549936607734971,0.78559685337766949,0.79344109819794639,0.80010666412511333,0.80581917805639824,0.75380725792880687,"septembre",0.51966613385435767,0.53999722037081332,0.56073054830313773,0.58065939340372463,0.60219720416778666,0.62051708360489832,0.63449625022854417,0.64450327419321307,0.65242720731704451,0.56073054830313773]
[null,"octobre",0.71152001450922575,0.7275998918616815,0.74397712702007424,0.75975964656659312,0.7767315973368597,0.79132468565963088,0.80174214589850346,0.80851180611705065,0.81305492010526514,0.74397712702007424,"octobre",0.5722921451626648,0.58876051424730891,0.60546367863859007,0.62169725241659701,0.63887000742115241,0.654164399972611,0.66605256968509008,0.67494883700764419,0.6817407420148266,0.60546367863859007,"octobre",0.74929233146399898,0.75888493890125475,0.76865896519598975,0.77807015377576627,0.78820701778545976,0.79689253093531931,0.80298475995272189,0.80822445390395437,0.81286399834878487,0.76865896519598975,"octobre",0.53567228459952865,0.55441870055555242,0.57349484991161237,0.59191153246759998,0.61164714862373226,0.62874489757957519,0.64181985527201013,0.65130754481748987,0.65844011764908239,0.57349484991161237]
[null,"novembre",0.6725879815865814,0.69314479675630625,0.71403358674276374,0.73425842709575584,0.75581116671567872,0.77470810780174004,0.78844174448648685,0.797627346113014,0.80389842635659636,0.71403358674276374,"novembre",0.49419952230409236,0.51385653718705993,0.53379227555300335,0.55317056695299494,0.57366375228489008,0.591927149752978,0.60601788541475277,0.61674278388718629,0.62499825543582932,0.53379227555300335,"novembre",0.73009825128239858,0.74494898196130022,0.76000722287060762,0.77465044331910338,0.79012370468922255,0.80393688421609477,0.812620496735172,0.81810087534803588,0.82243453697406033,0.76000722287060762,"novembre",0.50583408185885126,0.52964282394101303,0.55387252117879626,0.57726030810533657,0.60233191565436273,0.6240358819584173,0.64048679461475466,0.65233759990385187,0.66101071208922491,0.55387252117879626]
[null,"decembre",0.67474432121568406,0.69507072339133169,0.71574659867444645,0.73572352774262695,0.75709834924067598,0.77567738587898805,0.78804812337153696,0.79615856409120056,0.80157807462626973,0.71574659867444645,"decembre",0.51112862273716242,0.5324996169463081,0.55417725168814103,0.57524160536459945,0.597532521171807,0.61737031271751641,0.63199422602421595,0.64312105456147439,0.65182407978103452,0.55417725168814103,"decembre",0.72907774262156777,0.74408619972667089,0.75920635598574138,0.77410311393687714,0.78944666850388234,0.80389662983914856,0.81279529609755907,0.81883838903441786,0.82348095590018011,0.75920635598574138,"decembre",0.50708929171542705,0.53142072536036244,0.5562833992769306,0.58008359265023324,0.6060087471100668,0.62768397939683862,0.64339310864018617,0.65465327624730607,0.66310195314363718,0.5562833992769306]
[]
[]
[null,"Ref typique",null,null,null,"Lourd",null,null,null,null,null,null,"Ref typique",null,null,null,"Lourd",null,null,null,null,null,null,"Ref typique",null,null,null,"Lourd",null,null,null,null,null,null,"Ref typique",null,null,null,"Lourd"]
[]
[null,null,28,27,26,25,24,23,22,21,20,{"$f":"TempConsigne","v":26},null,28,27,26,25,24,23,22,21,20,{"$f":"TempConsigne","v":26},null,28,27,26,25,24,23,22,21,20,{"$f":"TempConsigne","v":26},null,28,27,26,25,24,23,22,21,20,{"$f":"TempConsigne","v":26}]
[null,"janvier",{"$f":"C$20*((D106-F106)/(D$20-F$20))+D106-D$20*((D106-F106)/(D$20-F$20))","v":0.66921924694757562},{"$f":"D$20*((E106-G106)/(E$20-G$20))+E106-E$20*((E106-G106)/(E$20-G$20))","v":0.69086901216747787},{"$f":"E$20*((F106-H106)/(F$20-H$20))+F106-F$20*((F106-H106)/(F$20-H$20))","v":0.71287576234791861},0.73416854260728237,0.75688926270879997,0.7767541031260099,0.78873897493388445,0.79660611303344864,0.80164098501353398,{"$f":"HLOOKUP(L105,C105:K117,2,FALSE)","v":0.71287576234791861},"janvier",{"$f":"N$20*((O106-Q106)/(O$20-Q$20))+O106-O$20*((O106-Q106)/(O$20-Q$20))","v":0.54527443724059022},{"$f":"O$20*((P106-R106)/(P$20-R$20))+P106-P$20*((P106-R106)/(P$20-R$20))","v":0.56871308537365572},{"$f":"P$20*((Q106-S106)/(Q$20-S$20))+Q106-Q$20*((Q106-S106)/(Q$20-S$20))","v":0.59253134191134083},0.61559038163978674,0.64016785498671103,0.66170846109667869,0.67633059391572514,0.68701384083044981,0.69492731233907701,{"$f":"HLOOKUP(W105,N105:V117,2,FALSE)","v":0.59253134191134083},"janvier",{"$f":"Y$20*((Z106-AB106)/(Z$20-AB$20))+Z106-Z$20*((Z106-AB106)/(Z$20-AB$20))","v":0.69454801311123504},{"$f":"Z$20*((AA106-AC106)/(AA$20-AC$20))+AA106-AA$20*((AA106-AC106)/(AA$20-AC$20))","v":0.7148819794453124},{"$f":"AA$20*((AB106-AD106)/(AB$20-AD$20))+AB106-AB$20*((AB106-AD106)/(AB$20-AD$20))","v":0.73539114189255539},0.75554991211346711,0.77640946678704148,0.79586745255529046,0.80841237778316655,0.81765743944636682,0.82444101142140358,{"$f":"HLOOKUP(AH105,Y105:AG117,2,FALSE)","v":0.73539114189255539},"janvier",{"$f":"AJ$20*((AK106-AM106)/(AK$20-AM$20))+AK106-AK$20*((AK106-AM106)/(AK$20-AM$20))","v":0.48595938041119546},{"$f":"AK$20*((AL106-AN106)/(AL$20-AN$20))+AL106-AL$20*((AL106-AN106)/(AL$20-AN$20))","v":0.51321971424475743},{"$f":"AL$20*((AM106-AO106)/(AM$20-AO$20))+AM106-AM$20*((AM106-AO106)/(AM$20-AO$20))","v":0.54095369876475241},0.56774038191188136,0.59642166780474248,0.62131374820613916,0.63837846622238414,0.65174163783160333,0.6626283752558263,{"$f":"HLOOKUP(AS105,AJ105:AR117,2,FALSE)","v":0.54095369876475241}]
[null,"fevrier",{"$f":"C$20*((D107-F107)/(D$20-F$20))+D107-D$20*((D107-F107)/(D$20-F$20))","v":0.68565252850733094},0.70711695501221605,{"$f":"E$20*((F107-H107)/(F$20-H$20))+F107-F$20*((F107-H107)/(F$20-H$20))","v":0.72900595396094725},0.75004580802198617,0.77278395185840965,0.7921255161440639,0.80337817386083399,0.81007803319789384,0.81395525526268364,{"$f":"HLOOKUP(L106,C106:K118,2,FALSE)","v":0.72900595396094725},"fevrier",{"$f":"N$20*((O107-Q107)/(O$20-Q$20))+O107-O$20*((O107-Q107)/(O$20-Q$20))","v":0.54194731965634346},0.56603753173439053,{"$f":"P$20*((Q107-S107)/(Q$20-S$20))+Q107-Q$20*((Q107-S107)/(Q$20-S$20))","v":0.59058406484347814},0.61421795589048456,0.63967713106165347,0.66148573798449739,0.67651319944736776,0.68663293765452504,0.69372424020759782,{"$f":"HLOOKUP(W106,N106:V118,2,FALSE)","v":0.59058406484347814},"fevrier",{"$f":"Y$20*((Z107-AB107)/(Z$20-AB$20))+Z107-Z$20*((Z107-AB107)/(Z$20-AB$20))","v":0.7070988777257734},0.72545633766233064,{"$f":"AA$20*((AB107-AD107)/(AB$20-AD$20))+AB107-AB$20*((AB107-AD107)/(AB$20-AD$20))","v":0.74408366295441453},0.76217125753544501,0.7813383135385823,0.79834644669750587,0.80885771136801998,0.81642506792350356,0.82231382568328604,{"$f":"HLOOKUP(AH106,Y106:AG118,2,FALSE)","v":0.74408366295441453},"fevrier",{"$f":"AJ$20*((AK107-AM107)/(AK$20-AM$20))+AK107-AK$20*((AK107-AM107)/(AK$20-AM$20))","v":0.5060654158194432},0.53213028318783306,{"$f":"AL$20*((AM107-AO107)/(AM$20-AO$20))+AM107-AM$20*((AM107-AO107)/(AM$20-AO$20))","v":0.55886292956996164},0.5842600179246128,0.61232822233421869,0.63505419463391521,0.65048376589544366,0.66149770199117863,0.66959145955764121,{"$f":"HLOOKUP(AS106,AJ106:AR118,2,FALSE)","v":0.55886292956996164}]
[null,"mars",0.6883463065638783,0.70982228715074891,0.73171121919881055,0.75277424832449014,0.77548908329493393,0.79490030657584931,0.80473892499553801,0.81015374351820957,0.81309198948287098,0.73171121919881055,"mars",0.51719480327961975,0.53943679926141141,0.56206704113067973,0.58392079122499485,0.60732752486921637,0.62762829141362519,0.64004454023181312,0.64826333505170264,0.65354422160745707,0.56206704113067973,"mars",0.69971893047774936,0.71789531671623497,0.73613726487612019,0.75424808919320618,0.77262116119589075,0.79046973782737817,0.80097333624989764,0.80876732267944329,0.81526665036961488,0.73613726487612019,"mars",0.49083731208914594,0.51823042250378359,0.54625981965742532,0.57301664333305891,0.60231861396470876,0.62653029068432597,0.64115126904098263,0.65122600600418468,0.65862193310318362,0.54625981965742532]
[null,"avril",0.70871133476587533,0.72756881709041732,0.74686814254380096,0.76528378173950118,0.78546679345056836,0.80211506013090161,0.81199095797292176,0.81799994473783688,0.82121946012158797,0.74686814254380096,"avril",0.60191592682222517,0.6233802475892134,0.64524335166852775,0.66630888912318986,0.68896955982715657,0.70843996403251408,0.7215907145436703,0.7308321129605645,0.73680981330480888,0.64524335166852775,"avril",0.73015444882465563,0.74466370509239921,0.75931605126548485,0.77368221762788625,0.78862074361165613,0.80241455035268916,0.81138173880067166,0.81792234255133633,0.82335285757725407,0.75931605126548485,"avril",0.53914770676568424,0.56099426583169953,0.58339896887425868,0.60468738396373023,0.62820837495937698,0.64726421414267343,0.66018297248564661,0.66928887590293373,0.67608427486052314,0.58339896887425868]
[null,"mai",0.71331665869699512,0.73021275644811279,0.74737657458896944,0.76400495195034812,0.78170421087068276,0.79726170667310547,0.80625365196607279,0.81168217548516874,0.81476091403360329,0.74737657458896944,"mai",0.57046121937913208,0.59147291309566552,0.61285021896396552,0.63349630052873251,0.65560483070056552,0.6747884636582665,0.68767762003860156,0.69726956451845912,0.70406455388561229,0.61285021896396552,"mai",0.72491699262224507,0.73834892749179093,0.75185551133466844,0.76521279723088265,0.77886867902042334,0.79192736902331107,0.80087237036152004,0.80812982874223782,0.81424315556792748,0.75185551133466844,"mai",0.52141775097768539,0.54332961145927006,0.56561607476574605,0.5871533324224395,0.61018900137869803,0.63022784773582641,0.64363230861320098,0.65315551143257167,0.66056984416769571,0.56561607476574605]
[null,"juin",0.66888752072367941,0.69400048529093072,0.71949134710943263,0.74422641442543336,0.77047307074643645,0.79369654905743481,0.80950072984961874,0.81949629094082355,0.82536162398510193,0.71949134710943263,"juin",0.50959350001738102,0.53260488391207939,0.5559395009186473,0.57862765170147612,0.60260873493178313,0.62400395326713376,0.63990298963821801,0.6516863310793658,0.65942052364538761,0.5559395009186473,"juin",0.69401323008901072,0.71200457172373965,0.73017469866985429,0.74798725499319763,0.76651495256208357,0.78361236763988429,0.79509937377451212,0.80360665495071759,0.81075068744125878,0.73017469866985429,"juin",0.48371803659763746,0.51138102218414994,0.53976384842832359,0.56670699335717478,0.5965295009166709,0.62059328321487728,0.63792706300056867,0.65044988208259913,0.66022286901143323,0.53976384842832359]
[null,"juillet",0.67198165340380789,0.69589618721036961,0.72013863989503868,0.74372525482349305,0.76862354526437682,0.7908984846804018,0.80608867697801356,0.81598538110022334,0.82146671336143051,{"$f":"HLOOKUP(L111,C111:K122,2,FALSE)","v":0.72013863989503868},"juillet",0.57399144377602906,0.59906235030085908,0.62446225613421691,0.64920416335051923,0.67526206780093256,0.69868797778312375,0.7164110788297855,0.72937778438165546,0.73863392766390179,{"$f":"HLOOKUP(W111,N111:V122,2,FALSE)","v":0.62446225613421691},"juillet",0.70422508253115856,0.72101682403272704,0.73799931967033117,0.754600307035864,0.77196431094553941,0.78780228176692968,0.7987135046237509,0.8072823392325077,0.81392441710627672,{"$f":"HLOOKUP(AH111,Y111:AG122,2,FALSE)","v":0.73799931967033117},"juillet",0.49474449637236806,0.52028107103098431,0.54627526619010913,0.57135422034821681,0.59826365650835878,0.62151212866443228,0.63833033866618805,0.65099097267298034,0.65999210941989783,{"$f":"HLOOKUP(AS111,AJ111:AR122,2,FALSE)","v":0.54627526619010913}]
[null,"aout",0.70636130642258044,0.72521621611673937,0.74445484406600126,0.76292603550505722,0.78293209996452495,0.79986841838316902,0.81169079306465042,0.81945848533052368,0.82419153923063049,{"$f":"HLOOKUP(L112,C112:K122,2,FALSE)","v":0.74445484406600126},"aout",0.56527437661523294,0.58463108462070956,0.60430664495763253,0.62334450063166291,0.64365776563147847,0.66142021197972367,0.67499172224587289,0.6849024054183841,0.69202092883068445,{"$f":"HLOOKUP(W112,N112:V122,2,FALSE)","v":0.60430664495763253},"aout",0.73363059955866783,0.74600657079313959,0.75839320632963947,0.77075851326208311,0.78316647740263934,0.7954891271269704,0.80501278467900639,0.81229849182489344,0.818116132063617,{"$f":"HLOOKUP(AH112,Y112:AG122,2,FALSE)","v":0.75839320632963947},"aout",0.53890125214423268,0.5588583806101024,0.57922105761901488,0.59877263754184196,0.61994641163683983,0.63787579738749622,0.65126340052796916,0.66112683199840683,0.66822012059756075,{"$f":"HLOOKUP(AS112,AJ112:AR122,2,FALSE)","v":0.57922105761901488}]
[null,"septembre",0.71361092126532366,0.73157053423094798,0.74982208091244873,0.76748976016219672,0.78632517427545023,0.80282511866169259,0.8143029740951373,0.82167747747382169,0.82636904742282413,{"$f":"HLOOKUP(L113,C113:K122,2,FALSE)","v":0.74982208091244873},"septembre",0.57294649258042651,0.59230033862971865,0.61192530745007367,0.63100803072830303,0.65117524509078373,0.66917347728476173,0.68263645119480809,0.69275885576550456,0.69998337594522819,{"$f":"HLOOKUP(W113,N113:V122,2,FALSE)","v":0.61192530745007367},"septembre",0.73394671079444906,0.74602719225912528,0.75814682547540846,0.77018815518847761,0.78238609190797492,0.79427081461461602,0.80323589638494497,0.81041743174177416,0.81646713876470545,{"$f":"HLOOKUP(AH113,Y113:AG122,2,FALSE)","v":0.75814682547540846},"septembre",0.54349952930057432,0.56239266646684327,0.58161264870934459,0.60017894079938117,0.62005261319434724,0.63731152497945431,0.64998024815351818,0.65949305193448182,0.66700511295644915,{"$f":"HLOOKUP(AS113,AJ113:AR122,2,FALSE)","v":0.58161264870934459}]
[null,"octobre",0.71055308299751152,0.72765963447133308,0.74508971031217941,0.76187273741897632,0.77994986199387195,0.79543879163257014,0.80618760290701441,0.81362125571412491,0.81804336521948195,{"$f":"HLOOKUP(L114,C114:K122,2,FALSE)","v":0.74508971031217941},"octobre",0.59351826561324361,0.61292759724944756,0.63265629591907846,0.65174626052185547,0.67211369325834025,0.6899261897274096,0.7035830294830151,0.71369258423316762,0.72129375671761764,{"$f":"HLOOKUP(W114,N114:V122,2,FALSE)","v":0.63265629591907846},"octobre",0.74654313368029057,0.75765706616322115,0.76887789116257321,0.77988493112908241,0.79131954116127723,0.80189901106210082,0.81022031427988728,0.81671523403689883,0.82201662506886974,{"$f":"HLOOKUP(AH114,Y114:AG122,2,FALSE)","v":0.76887789116257321},"octobre",0.55449062811036631,0.57201280924422226,0.589777550156805,0.60705717151193417,0.62530703198197057,0.64161641422219251,0.65409513955559095,0.66341059205439057,0.67010373571585558,{"$f":"HLOOKUP(AS114,AJ114:AR122,2,FALSE)","v":0.589777550156805}]
[null,"novembre",0.68525207846377678,0.70565761907677294,0.72640881342340113,0.74646870030276524,0.76791120211665753,0.78658847406149357,0.79983640707824355,0.80870065295509441,0.81445425928918636,{"$f":"HLOOKUP(L115,C115:K122,2,FALSE)","v":0.72640881342340113},"novembre",0.52708395372754901,0.54867829277672453,0.570595284104774,0.59186697087507545,0.61442926676087295,0.63441034441567845,0.64969783616608534,0.66126907836714599,0.66992750096521014,{"$f":"HLOOKUP(W115,N115:V122,2,FALSE)","v":0.570595284104774},"novembre",0.7231906263271497,0.73934457783713126,0.75574410621489796,0.77165248085709426,0.78854316297043137,0.80346923014148697,0.81424278839630093,0.82193072749616314,0.82740181287173398,{"$f":"HLOOKUP(AH115,Y115:AG122,2,FALSE)","v":0.75574410621489796},"novembre",0.52070792479023487,0.54372129877527164,0.5672105157945786,0.5897480467453452,0.61418894983319261,0.63482310864687841,0.65106183421643127,0.66314626785749209,0.67201347242293574,{"$f":"HLOOKUP(AS115,AJ115:AR122,2,FALSE)","v":0.5672105157945786}]
[null,"decembre",0.68469525322655489,0.70502910632464566,0.72581099255698411,0.74569681252082731,0.76737476502166102,0.78546845244851371,0.79755286839209638,0.80539074285642154,0.81033946234601617,{"$f":"HLOOKUP(L116,C116:K122,2,FALSE)","v":0.72581099255698411},"decembre",0.5411658811766179,0.56480296865030055,0.58888614910439252,0.61207714359766596,0.63705251001257646,0.65845913258421296,0.67444590161677287,0.6862648252529524,0.6947431276169671,{"$f":"HLOOKUP(W116,N116:V122,2,FALSE)","v":0.58888614910439252},"decembre",0.72216121219169416,0.73864839539069416,0.75529807770883162,0.77162276178869416,0.78859744234510654,0.80427212994841912,0.81519383260417344,0.82321523626777093,0.82891874506948227,{"$f":"HLOOKUP(AH116,Y116:AG122,2,FALSE)","v":0.75529807770883162},"decembre",0.52185186805002703,0.54531524424644662,0.56932190684270145,0.59224199663928578,0.61733523203521123,0.63808217623245433,0.65346950436635376,0.66501766301203269,0.67386613265368045,{"$f":"HLOOKUP(AS116,AJ116:AR122,2,FALSE)","v":0.56932190684270145}]
[]
[]
[]
[]
[]
[]
[]
["COEFFICIENTS D'INTERMITTENCE LATENT / INERTIE"]
[]
["CAYENNE"]
[null,"COEFF INTERMITTENCE _ LATENT"]
[null,"Planning : Climatisation de 7h à 18h 7/7 JOUR",null,null,null,null,null,null,null,null,null,null,"Planning : Climatisation de 7h à 18h 5/7 JOUR SEMAINE",null,null,null,null,null,null,null,null,null,null,"Planning : Climatisation de 18h à 7h 7/7 NUIT",null,null,null,null,null,null,null,null,null,null,"Planning : Climatisation de 22h à 6h 7/7 NUIT",null,null,null,null,null,null,null,null,null,null,null,"Bonne classe d'inertie et bon planning ",null,null,null,null,null,null,"Bonne classe d'inertie et bon planning \nET BONNE LOCALISATION "]
[]
[null,"Non isolé ","Léger","1vol/h",null,null,null,null,null,null,null,null,"Non isolé ","Léger",null,null,null,null,null,null,null,null,null,"Non isolé ","Léger",null,null,null,null,null,null,null,null,null,"Non isolé ","Léger"]
[null,null,null,null,null,null,null,null,null,null,null,"TAMPON température",null,null,null,null,null,null,null,null,null,null,"TAMPON température",null,null,null,null,null,null,null,null,null,null,"TAMPON température",null,null,null,null,null,null,null,null,null,null,"TAMPON température",null,"TAMPON final pour la Guyane",null,null,null,null,null,null,"TAMPON FINAL"]
[null,null,28,27,26,25,24,23,22,21,20,{"$f":"TempConsigne","v":26},null,28,27,26,25,24,23,22,21,20,{"$f":"TempConsigne","v":26},null,28,27,26,25,24,23,22,21,20,{"$f":"TempConsigne","v":26},null,28,27,26,25,24,23,22,21,20,{"$f":"TempConsigne","v":26}]
[null,"janvier",{"$f":"C$20*((D134-F134)/(D$20-F$20))+D134-D$20*((D134-F134)/(D$20-F$20))","v":0.65144506545868741},{"$f":"D$20*((E134-G134)/(E$20-G$20))+E134-E$20*((E134-G134)/(E$20-G$20))","v":0.63993323861460383},{"$f":"E$20*((F134-H134)/(F$20-H$20))+F134-F$20*((F134-H134)/(F$20-H$20))","v":0.62871504771023368},0.61690958492643655,0.60627866590149349,0.59329865935884241,0.57967151479653789,0.56655793115399455,0.55438258634927418,{"$f":"HLOOKUP(L133,C133:K145,2,FALSE)","v":0.62871504771023368},"janvier",{"$f":"N$20*((O134-Q134)/(O$20-Q$20))+O134-O$20*((O134-Q134)/(O$20-Q$20))","v":0.49792804533764912},{"$f":"O$20*((P134-R134)/(P$20-R$20))+P134-P$20*((P134-R134)/(P$20-R$20))","v":0.48777345866170824},{"$f":"P$20*((Q134-S134)/(Q$20-S$20))+Q134-Q$20*((Q134-S134)/(Q$20-S$20))","v":0.47785304504069503},0.46746428530982637,0.45801221779866857,0.44668676584808897,0.43510861811893853,0.4242525162609358,0.41448926951048815,{"$f":"HLOOKUP(W133,N133:V145,2,FALSE)","v":0.47785304504069503},"janvier",{"$f":"Y$20*((Z134-AB134)/(Z$20-AB$20))+Z134-Z$20*((Z134-AB134)/(Z$20-AB$20))","v":0.56797702274030815},{"$f":"Z$20*((AA134-AC134)/(AA$20-AC$20))+AA134-AA$20*((AA134-AC134)/(AA$20-AC$20))","v":0.57520594840508865},{"$f":"AA$20*((AB134-AD134)/(AB$20-AD$20))+AB134-AB$20*((AB134-AD134)/(AB$20-AD$20))","v":0.58352422436380191},0.58966379973464966,0.60016077628122833,0.60194295047634527,0.59927952472205981,0.59524141485241677,0.59074339181883195,{"$f":"HLOOKUP(AH133,Y133:AG145,2,FALSE)","v":0.58352422436380191},"janvier",{"$f":"AJ$20*((AK134-AM134)/(AK$20-AM$20))+AK134-AK$20*((AK134-AM134)/(AK$20-AM$20))","v":0.38027401015595325},{"$f":"AK$20*((AL134-AN134)/(AL$20-AN$20))+AL134-AL$20*((AL134-AN134)/(AL$20-AN$20))","v":0.38568398291060613},{"$f":"AL$20*((AM134-AO134)/(AM$20-AO$20))+AM134-AM$20*((AM134-AO134)/(AM$20-AO$20))","v":0.39227914368800582},0.39650392841991189,0.40546946524280525,0.40495349788372403,0.40083227107077274,0.39539799850641538,0.38987285807356015,{"$f":"HLOOKUP(AS133,AJ133:AR145,2,FALSE)","v":0.39227914368800582},null,"Classe séléctionnée",null,null,"janvier",{"$f":"IF($AV$28=$F$5,1,INDEX(INDIRECT(\"classe\"&$AV$23&$AV$28&\"GL\"),1,1))","v":0.44463660563916169},1,null,null,"janvier",{"$f":"IF(Station=\"Saint-Denis\",#REF!,AV144)","v":0.48964114595142916}]
[null,"fevrier",{"$f":"C$20*((D135-F135)/(D$20-F$20))+D135-D$20*((D135-F135)/(D$20-F$20))","v":0.68468075102644343},0.66797496541722046,{"$f":"E$20*((F135-H135)/(F$20-H$20))+F135-F$20*((F135-H135)/(F$20-H$20))","v":0.65144310738842026},0.63456339419877439,0.61837939133082009,0.60080396781948242,0.584453768101036,0.56946587396458104,0.55576166632716184,{"$f":"HLOOKUP(L134,C134:K146,2,FALSE)","v":0.65144310738842026},"fevrier",{"$f":"N$20*((O135-Q135)/(O$20-Q$20))+O135-O$20*((O135-Q135)/(O$20-Q$20))","v":0.51192019207445627},0.49697672894780431,{"$f":"P$20*((Q135-S135)/(Q$20-S$20))+Q135-Q$20*((Q135-S135)/(Q$20-S$20))","v":0.48204773744722085},0.46708980269450029,0.45218975444605392,0.43717393318905923,0.42391695246471994,0.41216383445937044,0.40172819341500854,{"$f":"HLOOKUP(W134,N134:V146,2,FALSE)","v":0.48204773744722085},"fevrier",{"$f":"Y$20*((Z135-AB135)/(Z$20-AB$20))+Z135-Z$20*((Z135-AB135)/(Z$20-AB$20))","v":0.55716084446254655},0.56615620431252278,{"$f":"AA$20*((AB135-AD135)/(AB$20-AD$20))+AB135-AB$20*((AB135-AD135)/(AB$20-AD$20))","v":0.57625293721481352},0.58414692401247525,0.596446403019395,0.59993489760779861,0.59891828244532008,0.59578183666054052,0.59191491285043574,{"$f":"HLOOKUP(AH134,Y134:AG146,2,FALSE)","v":0.57625293721481352},"fevrier",{"$f":"AJ$20*((AK135-AM135)/(AK$20-AM$20))+AK135-AK$20*((AK135-AM135)/(AK$20-AM$20))","v":0.37275731282301666},0.37938613356256357,{"$f":"AL$20*((AM135-AO135)/(AM$20-AO$20))+AM135-AM$20*((AM135-AO135)/(AM$20-AO$20))","v":0.38723768465369013},0.39264377504165737,0.40294078683594325,0.4034559558175918,0.39987735805560376,0.39457422103328621,0.38918653183059598,{"$f":"HLOOKUP(AS134,AJ134:AR146,2,FALSE)","v":0.38723768465369013},null,"Classe","Numéro",null,"fevrier",{"$f":"IF($AV$28=$F$5,1,INDEX(INDIRECT(\"classe\"&$AV$23&$AV$28&\"GL\"),2,1))","v":0.44620968727942567},2,null,null,"fevrier",{"$f":"IF(Station=\"Saint-Denis\",#REF!,AV145)","v":0.4911326495930487}]
[null,"mars",0.71402827649650158,0.69321472255819216,0.67235027922102875,0.65158761468157333,0.63062139254670191,0.61006228560266262,0.59187950810365686,0.57618966331552512,0.56158347150464327,0.67235027922102875,"mars",0.49512732303253115,0.47951716653239557,0.46390528336885761,0.44829685353212451,0.43268151704178165,0.41707999385865835,0.40353849024938049,0.3919255321523209,0.38151409347359855,0.46390528336885761,"mars",0.52138850638210221,0.53578555259767802,0.5515498618865784,0.56457964502882951,0.58307848046437905,0.59063921131333164,0.5921985908158991,0.59077849953222361,0.58762909350189296,0.5515498618865784,"mars",0.34165370638438564,0.35313213800870491,0.36599778111811682,0.37608900125734346,0.39172906733694057,0.39627144153579669,0.3948514797216085,0.39114680943852959,0.38646053204914205,0.36599778111811682,null,{"$f":"Hypothèses!$J$19","v":"Moyen"},{"$f":"VLOOKUP(AU136,$J$4:$K$6,2,FALSE)","v":2},null,"mars",{"$f":"IF($AV$28=$F$5,1,INDEX(INDIRECT(\"classe\"&$AV$23&$AV$28&\"GL\"),3,1))","v":0.43181112555821988},3,null,null,"mars",{"$f":"IF(Station=\"Saint-Denis\",#REF!,AV146)","v":0.47025278298042061}]
[null,"avril",0.70212098626067432,0.68340431810731173,0.66470918398093537,0.64597098180058654,0.62731891572818288,0.60849457743988922,0.59136937245740151,0.57602147948641835,0.5624630389970261,0.66470918398093537,"avril",0.53586666301148733,0.51863665225444011,0.50125696112623186,0.4841766307403455,0.4664975788698153,0.45001596996857285,0.4357667108661597,0.42327914933170557,0.41239080663692895,0.50125696112623186,"avril",0.5323363086410875,0.54311489342662722,0.55499689054494583,0.56467206299770678,0.57876088478158305,0.58402240790322879,0.58457106947739379,0.58236397538482199,0.57973333164368746,0.55499689054494583,"avril",0.35109998803176312,0.35898544680205663,0.36802145153405597,0.37475636434264359,0.38609346099805464,0.38822618995981889,0.38590787863480686,0.38195073604757285,0.37743097796701813,0.36802145153405597,null,null,null,null,"avril",{"$f":"IF($AV$28=$F$5,1,INDEX(INDIRECT(\"classe\"&$AV$23&$AV$28&\"GL\"),4,1))","v":0.46374893034220876},4,null,null,"avril",{"$f":"IF(Station=\"Saint-Denis\",#REF!,AV147)","v":0.50616603645834024}]
[null,"mai",0.70368364874802047,0.68358353365276969,0.6631992563402147,0.64338330346226824,0.62243070171510462,0.60375139770637543,0.58746111395210088,0.57308015387500855,0.56034394397212417,0.6631992563402147,"mai",0.51650366534800851,0.50373420724358453,0.49088847267068592,0.47819529103473662,0.46519700352488869,0.45280892776283815,0.44129005795619197,0.43098570191505758,0.42176686950808401,0.49088847267068592,"mai",0.52936989228360298,0.53930914588851464,0.55029112959714321,0.55918765309833784,0.57225509701440036,0.57698070010072711,0.57748124946731449,0.57573186401854792,0.57306660230155648,0.55029112959714321,"mai",0.34914569086899061,0.35609932801558147,0.36404832768204631,0.37000660230876314,0.37994632701497599,0.38192315156219681,0.38007010142333592,0.37662664160611042,0.37287615211264141,0.36404832768204631,null,null,null,null,"mai",{"$f":"IF($AV$28=$F$5,1,INDEX(INDIRECT(\"classe\"&$AV$23&$AV$28&\"GL\"),5,1))","v":0.45985500068192109},5,null,null,"mai",{"$f":"IF(Station=\"Saint-Denis\",#REF!,AV148)","v":0.50536093095775403}]
[null,"juin",0.73238903585879167,0.71394813312615935,0.69600013172367325,0.67706632766089447,0.66010412891870096,0.63919871953533669,0.61982592867174191,0.60311510173705041,0.58853679988259011,0.69600013172367325,"juin",0.52185236355913589,0.50449795888713267,0.48725488415826124,0.46978914954312612,0.45276873470051848,0.43485768031285582,0.4191996817532504,0.40622134897702544,0.39523592321475137,0.48725488415826124,"juin",0.48124002567448265,0.49595406656526697,0.51181198132757322,0.52538214834683561,0.54352781085218571,0.55252248238536039,0.55498013971514515,0.55437894109181529,0.55274788857459911,0.51181198132757322,"juin",0.28600287648405365,0.30041795408325123,0.31637890451286937,0.32924810928164638,0.34830080537210562,0.3549865188192004,0.35531785496868767,0.3530713896628791,0.35003098904138807,0.31637890451286937,null,"Planning séléctionné",null,null,"juin",{"$f":"IF($AV$28=$F$5,1,INDEX(INDIRECT(\"classe\"&$AV$23&$AV$28&\"GL\"),6,1))","v":0.44603332607745272},6,null,null,"juin",{"$f":"IF(Station=\"Saint-Denis\",#REF!,AV149)","v":0.47574233628891405}]
[null,"juillet",0.7056429920211259,0.68794616898760452,0.67052216188204938,0.65255252292056176,0.6356741476709391,0.61661324499758619,0.59844364637753988,0.58201920115473538,0.56792101128991568,0.67052216188204938,"juillet",0.55495370507509167,0.53582429044767399,0.5165912045031682,0.49756546119283873,0.47812503261415684,0.45951397457217968,0.44301334298895773,0.42881965992304816,0.41688793381792333,0.5165912045031682,"juillet",0.52106211537631131,0.53221085029560666,0.54422727554489325,0.55450832013419726,0.56826012604346643,0.57507040931280529,0.57728440493520639,0.57696493502314528,0.57557297474759828,0.54422727554489325,"juillet",0.33133936558731009,0.34087019256609979,0.35149005963048419,0.35993184652367921,0.37272979375925303,0.37681542031006926,0.37617831868979107,0.37330547625942923,0.36992286173991146,0.35149005963048419,null,"Nom","Numéro",null,"juillet",{"$f":"IF($AV$28=$F$5,1,INDEX(INDIRECT(\"classe\"&$AV$23&$AV$28&\"GL\"),7,1))","v":0.46619932571932121},7,null,null,"juillet",{"$f":"IF(Station=\"Saint-Denis\",#REF!,AV150)","v":0.50167753893456635}]
[null,"aout",0.7075292641387626,0.68793626619240711,0.66811780272628019,0.64875027029969612,0.62848087579402634,0.61001520544652799,0.59383784889587676,0.57969382917044643,0.56723374756639977,0.66811780272628019,"aout",0.52057411179146151,0.50470986506944515,0.48862916535106771,0.47298137162541248,0.45646776591431282,0.44168578417410215,0.42884569855028504,0.41772064888644472,0.40797814224523676,0.48862916535106771,"aout",0.52256727973765038,0.53222784895108333,0.54269710811272387,0.55154898737794933,0.56363562643600496,0.56925274590840025,0.57127555160199617,0.57143769525372434,0.5708125483439167,0.54269710811272387,"aout",0.34575605761424288,0.3510289465580041,0.35705644236452427,0.36157472444552652,0.36911143397756457,0.37061128860753095,0.3691739589151618,0.36645348874970496,0.36355191602735604,0.35705644236452427,null,{"$f":"ClimPlan","v":"7-18h, L-V"},{"$f":"VLOOKUP(AU141,$E$5:$F$9,2,FALSE)","v":"b"},null,"aout",{"$f":"IF($AV$28=$F$5,1,INDEX(INDIRECT(\"classe\"&$AV$23&$AV$28&\"GL\"),8,1))","v":0.44715829806210605},8,null,null,"aout",{"$f":"IF(Station=\"Saint-Denis\",#REF!,AV151)","v":0.48457209032054216}]
[null,"septembre",0.71355843937707608,0.6941436566274809,0.67458223239827309,0.65531409112829031,0.63545938393985735,0.61677780858832465,0.60034706753004363,0.58569926110572812,0.57283926596485468,0.67458223239827309,"septembre",0.51196094444788398,0.49616158432615487,0.48015633353320625,0.46456286408269659,0.44814583194730889,0.43337592518167717,0.42058010184141775,0.40936904171725441,0.39963953631262022,0.48015633353320625,"septembre",0.51211629149623061,0.52197048451613215,0.53256617890856595,0.54167887055593522,0.55375756769343354,0.55990425385067377,0.56227560534570598,0.56250383104474333,0.56185741203457162,0.53256617890856595,"septembre",0.34046427502039145,0.34550393079988961,0.35124707089140844,0.355583242358886,0.3627333510744461,0.36425558529384111,0.36307468104767449,0.36069084624955511,0.35812374554540605,0.35124707089140844,null,null,null,null,"septembre",{"$f":"IF($AV$28=$F$5,1,INDEX(INDIRECT(\"classe\"&$AV$23&$AV$28&\"GL\"),9,1))","v":0.43698283185817682},9,null,null,"septembre",{"$f":"IF(Station=\"Saint-Denis\",#REF!,AV152)","v":0.47604297369831633}]
[null,"octobre",0.68427054647524344,0.66843700779757098,0.65250353211409673,0.63676993044222596,0.620636580747148,0.60530272709848421,0.59121101722478242,0.57847036443463484,0.56695629875829689,0.65250353211409673,"octobre",0.50983163612241778,0.49685403169550296,0.48376850430998414,0.47089882284167334,0.45759744953894643,0.44515945990505185,0.4339773072062062,0.42409325327323666,0.4151938496740406,0.48376850430998414,"octobre",0.53666385148025608,0.54297425721032699,0.54984741575690288,0.55559506867046882,0.56359373285005465,0.5670903744976008,0.56800361914699016,0.56745383473190525,0.56667472113459527,0.54984741575690288,"octobre",0.36199823356930638,0.36406628541718372,0.3666041453313349,0.36820238911293834,0.37167986515963725,0.37139887667614518,0.3693396257304325,0.36665674698508843,0.3640433757754481,0.3666041453313349,null,"Non isolé",null,null,"octobre",{"$f":"IF($AV$28=$F$5,1,INDEX(INDIRECT(\"classe\"&$AV$23&$AV$28&\"GL\"),10,1))","v":0.44662837187931947},10,null,null,"octobre",{"$f":"IF(Station=\"Saint-Denis\",#REF!,AV153)","v":0.48626388035758045}]
[null,"novembre",0.66321302256162795,0.65137155955445969,0.63988658889769101,0.62768863354012316,0.61691664758415377,0.60329272282498758,0.58930345114044769,0.57643382454720937,0.56480261042885627,0.63988658889769101,"novembre",0.47527448343142698,0.46614237617085358,0.45726471364599908,0.44787816164970673,0.43950938859629013,0.42910505765712209,0.41858065603573347,0.4089325858249494,0.40028397522450127,0.45726471364599908,"novembre",0.54992816152275237,0.55629752004820232,0.56341925540806037,0.56903623709910223,0.57766272612777647,0.58027020048118605,0.57962304131375708,0.57746661099714169,0.57515806168156203,0.56341925540806037,"novembre",0.36510538856365438,0.36883214810510168,0.37341493352033872,0.37628566718799633,0.38258050435081281,0.38202713452331155,0.3788103708787075,0.3748229488765058,0.37089896911635484,0.37341493352033872,null,"janvier",{"$f":"AY134*Données1!$E$175+Données1!$F$175*Données2!AY148","v":0.48964114595142916},null,"novembre",{"$f":"IF($AV$28=$F$5,1,INDEX(INDIRECT(\"classe\"&$AV$23&$AV$28&\"GL\"),11,1))","v":0.42278446420089955},11,null,null,"novembre",{"$f":"IF(Station=\"Saint-Denis\",#REF!,AV154)","v":0.46444539807971635}]
[null,"decembre",0.65606424263847329,0.64409536254279842,0.63250967441262729,0.62015760235144879,0.60933829815228502,0.5954534582290919,0.58125445198745052,0.5681217745792182,0.55591895404142,0.63250967441262729,"decembre",0.47242791278748381,0.46277323482062094,0.45339181158131736,0.4434638788868952,0.43462896510271021,0.42360801349805088,0.41266203154992437,0.40263681442991273,0.39346008537388943,0.45339181158131736,"decembre",0.57345164160826745,0.57820881885120645,0.58375686015495853,0.58772317333708446,0.59485294276246281,0.59565579970133631,0.59332880634159058,0.58957501839134785,0.58593244213043638,0.58375686015495853,"decembre",0.38686467298804184,0.38942934737215984,0.39287680585492529,0.39455869614039585,0.3997717228204562,0.39792247671133696,0.39358331595610124,0.38827880284807903,0.38321532347561793,0.39287680585492529,null,"fevrier",{"$f":"AY135*Données1!$E$175+Données1!$F$175*Données2!AY149","v":0.4911326495930487},null,"decembre",{"$f":"IF($AV$28=$F$5,1,INDEX(INDIRECT(\"classe\"&$AV$23&$AV$28&\"GL\"),12,1))","v":0.42067224040556828},12,null,null,"decembre",{"$f":"IF(Station=\"Saint-Denis\",#REF!,AV155)","v":0.46720684431723791}]
[null,null,null,null,null,null,null,null,null,null,null,null,null,null,null,null,null,null,null,null,null,null,null,null,null,null,null,null,null,null,null,null,null,null,null,null,null,null,null,null,null,null,null,null,null,null,"mars",{"$f":"AY136*Données1!$E$175+Données1!$F$175*Données2!AY150","v":0.47025278298042061}]
[null,null,null,null,null,null,null,null,null,null,null,null,null,null,null,null,null,null,null,null,null,null,null,null,null,null,null,null,null,null,null,null,null,null,null,null,null,null,null,null,null,null,null,null,null,null,"avril",{"$f":"AY137*Données1!$E$175+Données1!$F$175*Données2!AY151","v":0.50616603645834024},null,"Isolé",null,1]
[null,"Non isolé ","Moyen",null,null,"Moyen",null,null,null,null,null,null,"Non isolé ","Moyen",null,null,"Moyen",null,null,null,null,null,null,"Non isolé ","Moyen",null,null,"Moyen",null,null,null,null,null,null,"Non isolé ","Moyen",null,null,"Moyen",null,null,null,null,null,null,null,"mai",{"$f":"AY138*Données1!$E$175+Données1!$F$175*Données2!AY152","v":0.50536093095775403},null,"janvier",{"$f":"IF($AV$28=$F$5,1,INDEX(INDIRECT(\"classe\"&$AV$23+3&$AV$28&\"GL\"),AZ147,1))","v":0.49813708694273773},2]
[null,null,null,null,null,null,null,null,null,null,null,null,null,null,null,null,null,null,null,null,null,null,null,null,null,null,null,null,null,null,null,null,null,null,null,null,null,null,null,null,null,null,null,null,null,null,"juin",{"$f":"AY139*Données1!$E$175+Données1!$F$175*Données2!AY153","v":0.47574233628891405},null,"fevrier",{"$f":"IF($AV$28=$F$5,1,INDEX(INDIRECT(\"classe\"&$AV$23+3&$AV$28&\"GL\"),AZ148,1))","v":0.4996131903190093},3]
[null,null,28,27,26,25,24,23,22,21,20,{"$f":"TempConsigne","v":26},null,28,27,26,25,24,23,22,21,20,{"$f":"TempConsigne","v":26},null,28,27,26,25,24,23,22,21,20,{"$f":"TempConsigne","v":26},null,28,27,26,25,24,23,22,21,20,{"$f":"TempConsigne","v":26},null,"juillet",{"$f":"AY140*Données1!$E$175+Données1!$F$175*Données2!AY154","v":0.50167753893456635},null,"mars",0.47750978529176502,4]
[null,"janvier",{"$f":"C$20*((D151-F151)/(D$20-F$20))+D151-D$20*((D151-F151)/(D$20-F$20))","v":0.58900996962146057},{"$f":"D$20*((E151-G151)/(E$20-G$20))+E151-E$20*((E151-G151)/(E$20-G$20))","v":0.58676572544198535},{"$f":"E$20*((F151-H151)/(F$20-H$20))+F151-F$20*((F151-H151)/(F$20-H$20))","v":0.58532930422850904},0.5822772370830348,0.58245646180155641,0.57617310279208622,0.56695540374554643,0.55690792388384924,0.54679136690647456,{"$f":"HLOOKUP(L150,C150:K162,2,FALSE)","v":0.58532930422850904},"janvier",{"$f":"N$20*((O151-Q151)/(O$20-Q$20))+O151-O$20*((O151-Q151)/(O$20-Q$20))","v":0.45021489342213006},{"$f":"O$20*((P151-R151)/(P$20-R$20))+P151-P$20*((P151-R151)/(P$20-R$20))","v":0.44713604859531925},{"$f":"P$20*((Q151-S151)/(Q$20-S$20))+Q151-Q$20*((Q151-S151)/(Q$20-S$20))","v":0.44463660563916169},0.44097835894169773,0.43963771972684651,0.43366186554676972,0.42557513296466337,0.41709074757699627,0.40884625632827065,{"$f":"HLOOKUP(W150,N150:V162,2,FALSE)","v":0.44463660563916169},"janvier",{"$f":"Y$20*((Z151-AB151)/(Z$20-AB$20))+Z151-Z$20*((Z151-AB151)/(Z$20-AB$20))","v":0.62893034967891581},{"$f":"Z$20*((AA151-AC151)/(AA$20-AC$20))+AA151-AA$20*((AA151-AC151)/(AA$20-AC$20))","v":0.62835304588188456},{"$f":"AA$20*((AB151-AD151)/(AB$20-AD$20))+AB151-AB$20*((AB151-AD151)/(AB$20-AD$20))","v":0.62841470523513854},0.62719843828782196,0.62853802394164648,0.62476590439318869,0.61823025135653242,0.61080688153934459,0.60298374633626428,{"$f":"HLOOKUP(AH150,Y150:AG162,2,FALSE)","v":0.62841470523513854},"janvier",{"$f":"AJ$20*((AK151-AM151)/(AK$20-AM$20))+AK151-AK$20*((AK151-AM151)/(AK$20-AM$20))","v":0.42962717078443446},{"$f":"AK$20*((AL151-AN151)/(AL$20-AN$20))+AL151-AL$20*((AL151-AN151)/(AL$20-AN$20))","v":0.42749808802678207},{"$f":"AL$20*((AM151-AO151)/(AM$20-AO$20))+AM151-AM$20*((AM151-AO151)/(AM$20-AO$20))","v":0.42594062788611747},0.42323992251147724,0.42282570760478821,0.41783851176219677,0.41096669222343252,0.40359032909280645,0.39637889688249389,{"$f":"HLOOKUP(AS150,AJ150:AR162,2,FALSE)","v":0.42594062788611747},null,"aout",{"$f":"AY141*Données1!$E$175+Données1!$F$175*Données2!AY155","v":0.48457209032054216},null,"avril",0.51417352254939352,5]
[null,"fevrier",{"$f":"C$20*((D152-F152)/(D$20-F$20))+D152-D$20*((D152-F152)/(D$20-F$20))","v":0.61350247621893039},0.60779035365418499,{"$f":"E$20*((F152-H152)/(F$20-H$20))+F152-F$20*((F152-H152)/(F$20-H$20))","v":0.60275662305560118},0.59636610852469418,0.59268916185843346,0.58358507946288019,0.57277156148071695,0.56135150570858605,0.55007565630368838,{"$f":"HLOOKUP(L151,C151:K163,2,FALSE)","v":0.60275662305560118},"fevrier",{"$f":"N$20*((O152-Q152)/(O$20-Q$20))+O152-O$20*((O152-Q152)/(O$20-Q$20))","v":0.45886377418504448},0.45233172664022903,{"$f":"P$20*((Q152-S152)/(Q$20-S$20))+Q152-Q$20*((Q152-S152)/(Q$20-S$20))","v":0.44620968727942567},0.43926763155059811,0.43396560855781907,0.425383520092943,0.41603698902355385,0.40685254004432136,0.39811048614375127,{"$f":"HLOOKUP(W151,N151:V163,2,FALSE)","v":0.44620968727942567},"fevrier",{"$f":"Y$20*((Z152-AB152)/(Z$20-AB$20))+Z152-Z$20*((Z152-AB152)/(Z$20-AB$20))","v":0.62327430426350361},0.62369898536106916,{"$f":"AA$20*((AB152-AD152)/(AB$20-AD$20))+AB152-AB$20*((AB152-AD152)/(AB$20-AD$20))","v":0.62478453487418051},0.62454834755620015,0.6269556339004031,0.62407597292023953,0.61836917543774295,0.61149902356601071,0.60409431922675971,{"$f":"HLOOKUP(AH151,Y151:AG163,2,FALSE)","v":0.62478453487418051},"fevrier",{"$f":"AJ$20*((AK152-AM152)/(AK$20-AM$20))+AK152-AK$20*((AK152-AM152)/(AK$20-AM$20))","v":0.42915352655506539},0.42720722821991947,{"$f":"AL$20*((AM152-AO152)/(AM$20-AO$20))+AM152-AM$20*((AM152-AO152)/(AM$20-AO$20))","v":0.4258723018381691},0.42331463154962762,0.42320244907466842,0.41819929097254466,0.41100379745140053,0.40330342620422488,0.39613665447017915,{"$f":"HLOOKUP(AS151,AJ151:AR163,2,FALSE)","v":0.4258723018381691},null,"septembre",{"$f":"AY142*Données1!$E$175+Données1!$F$175*Données2!AY156","v":0.47604297369831633},null,"mai",0.5139515241666951,6]
[null,"mars",0.62666934865557211,0.62009522023214259,0.61423377529167822,0.60694696338528342,0.60251088541074949,0.59237333957249394,0.58046494723081477,0.56845774448935182,0.55665940982353179,0.61423377529167822,"mars",0.44680087166623739,0.43911049297441074,0.43181112555821988,0.42372973559075738,0.41721239072583816,0.40756695565583245,0.3975688982596558,0.387881141687341,0.3790933515977476,0.43181112555821988,"mars",0.59706484737971732,0.60157937659838834,0.60704068041296899,0.61060843503573037,0.61796328804213041,0.61774394428125312,0.61363824367163855,0.60752183721137043,0.600513914195557,0.60704068041296899,"mars",0.40180507686649097,0.40453533706289374,0.40825135556448811,0.40999585745569928,0.41568339256767683,0.41348486123812161,0.40780813289640727,0.40098437593578318,0.39410801982614285,0.40825135556448811,null,"octobre",{"$f":"AY143*Données1!$E$175+Données1!$F$175*Données2!AY157","v":0.48626388035758045},null,"juin",0.48135079258944324,7]
[null,"avril",0.6260310235928126,0.61899067711705402,0.61247230079149473,0.60490998416553687,0.59943554814037614,0.58978535091362116,0.57883163816772409,0.56726876013497229,0.55612937952840003,0.61247230079149473,"avril",0.480795655859379,0.47214639785826806,0.46374893034220876,0.45484788185604619,0.44695399531009017,0.43704578488372098,0.42692723413046529,0.41713612997867394,0.40815678886503648,0.46374893034220876,"avril",0.60083502604961381,0.60281155061065339,0.60553045182085974,0.60676459973273256,0.61096825424127232,0.6092328955564783,0.60443547541984921,0.59829928580313807,0.59166149236145393,0.60553045182085974,"avril",0.4055378945017839,0.40543271809623399,0.40601798522006011,0.40522236528513417,0.40718851946771234,0.40363112541528229,0.39778974756653668,0.39125055612771487,0.38482049575848254,0.40601798522006011,null,"novembre",{"$f":"AY144*Données1!$E$175+Données1!$F$175*Données2!AY158","v":0.46444539807971635},null,"juillet",0.50837510331056834,8]
[null,"mai",0.63387917707954666,0.62485389863306229,0.61608414432737035,0.60680334174009354,0.59854463571598648,0.5882417365655398,0.57715854073274175,0.56612293198598385,0.55544858320419155,0.61608414432737035,"mai",0.47023607614220075,0.46490192269715375,0.45985500068192109,0.45423361580705957,0.44976115665145583,0.44299084605733652,0.43520106783441531,0.42708196832821332,0.41932012401411717,0.45985500068192109,"mai",0.59377400260717672,0.59522657204643703,0.59734057523861761,0.59813171092495754,0.60156858162297877,0.59971398229763728,0.59507659359544152,0.58918555833752628,0.58319517608998706,0.59734057523861761,"mai",0.39734294841052475,0.39729895316656244,0.39782630899099497,0.39721096267863787,0.39888102063986003,0.39598027005392367,0.39090861191638065,0.38507848925317917,0.37924708968247711,0.39782630899099497,null,"decembre",{"$f":"AY145*Données1!$E$175+Données1!$F$175*Données2!AY159","v":0.46720684431723791},null,"aout",0.49163505261464002,9]
[null,"juin",0.64624930345808207,0.63986782410585841,0.63413548743226844,0.62710486540141108,0.62267081408508851,0.61304362133969648,0.60181159700995313,0.5904526174005329,0.5792982859845085,0.63413548743226844,"juin",0.46404618336523518,0.45491945220581609,0.44603332607745272,0.43666598988697791,0.42826107382072609,0.4179313175060283,0.40758072119415928,0.39794821777504485,0.38902493861928766,0.44603332607745272,"juin",0.55994198494880965,0.56426585159987708,0.56950008055394674,0.57291358490201205,0.57996853846208596,0.57974059359814267,0.57607390371801115,0.57071819073562191,0.56491894368174478,0.56950008055394674,"juin",0.35676215793863209,0.36009186000168009,0.36431452673531278,0.36675126412777603,0.37275986020257817,0.37162473891270253,0.36767945972715793,0.36252635032513142,0.35740041335661188,0.36431452673531278,null,null,null,null,"septembre",0.4834167332764252,10]
[null,"juillet",0.61993124738174332,0.61403673092705646,0.60873851080426,0.60224769801768285,0.59814207055866708,0.58926607244452855,0.57873838090292651,0.56781038336059186,0.55711291973293042,0.60873851080426,"juillet",0.48389143209496804,0.47492405924785647,0.46619932571932121,0.45698931355363342,0.44874985866225076,0.4385692892222578,0.4281694588939805,0.41813277617461436,0.40891152373680767,0.46619932571932121,"juillet",0.59065551914198933,0.59363497537329835,0.59733481443729119,0.59959388783591638,0.60473449256527678,0.60411203463316676,0.60050834024178068,0.5952042106585147,0.58960150754585183,0.59733481443729119,"juillet",0.38725032657181729,0.38857582610272917,0.39053995720248191,0.39122682516455293,0.39446821940198745,0.39260056108869501,0.38811807826739197,0.38275890611932678,0.37750215247656643,0.39053995720248191,null,null,null,null,"octobre",0.49374625744343248,11]
[null,"aout",0.62232011098815887,0.61508391432878362,0.60813166049235412,0.60061152101003312,0.59422715281949512,0.58557124204539113,0.57557344684315015,0.56567140547567785,0.5562529292779792,0.60813166049235412,"aout",0.46133645211442958,0.4541773222466054,0.44715829806210605,0.43985906251095713,0.43312024969310731,0.42526059140865924,0.4168143237928924,0.40857444748301719,0.40112710394106077,0.44715829806210605,"aout",0.59101334742993261,0.59239353636745995,0.59424167170581732,0.59515391424251474,0.59793794238253206,0.59697839931590957,0.59362712411668628,0.58871722569103013,0.58371259774538076,0.59424167170581732,"aout",0.39161115639732058,0.39045792970351517,0.38967208634015871,0.38815147631590441,0.38810039961344583,0.38511025626739587,0.38042558222952871,0.37535126390380352,0.37065284869713938,0.38967208634015871,null,null,null,null,"novembre",0.47231013424680823,12]
[null,"septembre",0.62770221855166508,0.62045320514767821,0.6134781131800231,0.60595517833970447,0.59952792924471277,0.59090930865906732,0.58116161086746054,0.57112418641201734,0.56160414214916932,0.6134781131800231,"septembre",0.45103280939106749,0.44394338241427905,0.43698283185817682,0.42976452846070201,0.42306173074597231,0.41532792166575239,0.40715893503035966,0.39925792109848218,0.39205382585428256,0.43698283185817682,"septembre",0.58264085555942913,0.583876564247092,0.58563560787182545,0.58634798162241764,0.58915369512129234,0.58777272912360201,0.58399186653727064,0.57931208986258786,0.57444202351021389,0.58563560787182545,"septembre",0.38588277300769125,0.38455007673150959,0.38354211610256084,0.38188468417914623,0.38152619484466332,0.37856982033231695,0.37441994411625795,0.36967693997302781,0.36543740919366541,0.38354211610256084,null,null,null,null,"decembre",0.4759916301664936]
[null,"octobre",0.61439572694584554,0.60803856693818459,0.60196961879634325,0.59532424692286268,0.58983172251266047,0.58203350317590163,0.57318468575736126,0.56419053669528574,0.55545338235677799,0.60196961879634325,"octobre",0.45843998312366546,0.4524408190616192,0.44662837187931947,0.44044249093752658,0.43500347751471996,0.42807072905394083,0.42064542466454657,0.41336269285173849,0.4065685442961019,0.44662837187931947,"octobre",0.59611181665307611,0.59566838590260573,0.59553146504695442,0.59478152440166487,0.5952576233356518,0.59328164311108578,0.58931517249609466,0.58449753692555695,0.57985024187645129,0.59553146504695442,"octobre",0.39732806386365005,0.39478932064141536,0.39248186617896735,0.38971183419694599,0.38786695725407133,0.38417177023290328,0.37952596715692072,0.37497327214711018,0.37080863577940243,0.39248186617896735]
[null,"novembre",0.59889748242631669,0.59526163556640299,0.59221217109159718,0.58798994184657549,0.58611324214198568,0.57954548335653211,0.57100078540429344,0.56175806134172623,0.55259210990161434,0.59221217109159718,"novembre",0.42826457735950896,0.4253144975258038,0.42278446420089955,0.4194143378583936,0.41772439755109103,0.41267408517338167,0.40617147440080309,0.39925054067496196,0.39256818108982916,0.42278446420089955,"novembre",0.61144441586245835,0.61046752592237563,0.6099692200434913,0.60851374604221031,0.60897260828572264,0.60560279803964834,0.60031938192715928,0.59424678104248085,0.58871820619371651,0.6099692200434913,"novembre",0.40753703072856118,0.40503335623630399,0.40288351126939981,0.40002600725178966,0.39858382133559145,0.39431099921656937,0.38877631163703402,0.3830008539776687,0.37769119013791114,0.40288351126939981]
[null,"decembre",0.59510781951462421,0.59156667033919474,0.58868016556997915,0.5844843719883358,0.58290715603154808,0.57609278482504922,0.56687559282699929,0.55681051036323714,0.54674995294042394,0.58868016556997915,"decembre",0.42631765570311209,0.42325154049935282,0.42067224040556828,0.41711931009183439,0.41551364021799919,0.41001344946436658,0.40280814647269414,0.39505477280606061,0.38770484024125973,0.42067224040556828,"decembre",0.63150467961600698,0.62932945824418807,0.62766118904621349,0.62497901550055024,0.62432465065026443,0.61961466840922375,0.61315199201640025,0.60570435567242575,0.59834664896492507,0.62766118904621349,"decembre",0.42928110095051053,0.42571890743472407,0.42253899519657145,0.41859452040315109,0.41617917072026622,0.41070557081631032,0.403765495879926,0.39666536367119609,0.39020384792652096,0.42253899519657145]
[]
[]
[null,"Non isolé ",null,null,null,"Lourd",null,null,null,null,null,null,"Non isolé ",null,null,null,"Lourd",null,null,null,null,null,null,"Non isolé ",null,null,null,"Lourd",null,null,null,null,null,null,"Non isolé ",null,null,null,"Lourd"]
[]
[null,null,28,27,26,25,24,23,22,21,20,{"$f":"TempConsigne","v":26},null,28,27,26,25,24,23,22,21,20,{"$f":"TempConsigne","v":26},null,28,27,26,25,24,23,22,21,20,{"$f":"TempConsigne","v":26},null,28,27,26,25,24,23,22,21,20,{"$f":"TempConsigne","v":26}]
[null,"janvier",{"$f":"C$20*((D168-F168)/(D$20-F$20))+D168-D$20*((D168-F168)/(D$20-F$20))","v":0.59189278374358822},{"$f":"D$20*((E168-G168)/(E$20-G$20))+E168-E$20*((E168-G168)/(E$20-G$20))","v":0.58938888334333839},{"$f":"E$20*((F168-H168)/(F$20-H$20))+F168-F$20*((F168-H168)/(F$20-H$20))","v":0.58757155926485516},0.58438108254283871,0.58393691110788881,0.57800012909880571,0.56943982412242011,0.55991211772253113,0.54967173554494875,{"$f":"HLOOKUP(L167,C167:K179,2,FALSE)","v":0.58757155926485516},"janvier",{"$f":"N$20*((O168-Q168)/(O$20-Q$20))+O168-O$20*((O168-Q168)/(O$20-Q$20))","v":0.45916393551147655},{"$f":"O$20*((P168-R168)/(P$20-R$20))+P168-P$20*((P168-R168)/(P$20-R$20))","v":0.45552944149841496},{"$f":"P$20*((Q168-S168)/(Q$20-S$20))+Q168-Q$20*((Q168-S168)/(Q$20-S$20))","v":0.45243891621670268},0.44826045347229188,0.44625786565327807,0.43990352798347038,0.43184141126330056,0.42326634773419342,0.41472965389810024,{"$f":"HLOOKUP(W167,N167:V179,2,FALSE)","v":0.45243891621670268},"janvier",{"$f":"Y$20*((Z168-AB168)/(Z$20-AB$20))+Z168-Z$20*((Z168-AB168)/(Z$20-AB$20))","v":0.63724884932761627},{"$f":"Z$20*((AA168-AC168)/(AA$20-AC$20))+AA168-AA$20*((AA168-AC168)/(AA$20-AC$20))","v":0.63734790920500617},{"$f":"AA$20*((AB168-AD168)/(AB$20-AD$20))+AB168-AB$20*((AB168-AD168)/(AB$20-AD$20))","v":0.63825479526743745},0.63754602895978585,0.6400685673923,0.63612849634448265,0.62889011026097197,0.62002086470609141,0.61057081956229986,{"$f":"HLOOKUP(AH167,Y167:AG179,2,FALSE)","v":0.63825479526743745},"janvier",{"$f":"AJ$20*((AK168-AM168)/(AK$20-AM$20))+AK168-AK$20*((AK168-AM168)/(AK$20-AM$20))","v":0.43378837285314825},{"$f":"AK$20*((AL168-AN168)/(AL$20-AN$20))+AL168-AL$20*((AL168-AN168)/(AL$20-AN$20))","v":0.4331325650256232},{"$f":"AL$20*((AM168-AO168)/(AM$20-AO$20))+AM168-AM$20*((AM168-AO168)/(AM$20-AO$20))","v":0.43316855717563657},0.43182094937057308,0.43324054147566327,0.4291257337604461,0.42199108559086296,0.41371360736550084,0.40490945789957677,{"$f":"HLOOKUP(AS167,AJ167:AR179,2,FALSE)","v":0.43316855717563657}]
[null,"fevrier",{"$f":"C$20*((D169-F169)/(D$20-F$20))+D169-D$20*((D169-F169)/(D$20-F$20))","v":0.60769980231987353},0.6030601496274528,{"$f":"E$20*((F169-H169)/(F$20-H$20))+F169-F$20*((F169-H169)/(F$20-H$20))","v":0.59905930644635941},0.59378084424261135,0.59105762008417262,0.58322391983511523,0.5733446863098367,0.56270360442119938,0.55152725473589692,{"$f":"HLOOKUP(L168,C168:K180,2,FALSE)","v":0.59905930644635941},"fevrier",{"$f":"N$20*((O169-Q169)/(O$20-Q$20))+O169-O$20*((O169-Q169)/(O$20-Q$20))","v":0.46470544520478252},0.45836775631125576,{"$f":"P$20*((Q169-S169)/(Q$20-S$20))+Q169-Q$20*((Q169-S169)/(Q$20-S$20))","v":0.45245573003175621},0.44569237852420235,0.44063167747275706,0.43216567550909457,0.42279287423334139,0.41330254895686319,0.40416605182981657,{"$f":"HLOOKUP(W168,N168:V180,2,FALSE)","v":0.45245573003175621},"fevrier",{"$f":"Y$20*((Z169-AB169)/(Z$20-AB$20))+Z169-Z$20*((Z169-AB169)/(Z$20-AB$20))","v":0.64186887936366521},0.64147775481934732,{"$f":"AA$20*((AB169-AD169)/(AB$20-AD$20))+AB169-AB$20*((AB169-AD169)/(AB$20-AD$20))","v":0.64184281761045237},0.64069550573071155,0.64257294319266245,0.63840088197122991,0.63114333389584698,0.62229773326968352,0.61310600696635975,{"$f":"HLOOKUP(AH168,Y168:AG180,2,FALSE)","v":0.64184281761045237},"fevrier",{"$f":"AJ$20*((AK169-AM169)/(AK$20-AM$20))+AK169-AK$20*((AK169-AM169)/(AK$20-AM$20))","v":0.4398176227738001},0.43821492260703115,{"$f":"AL$20*((AM169-AO169)/(AM$20-AO$20))+AM169-AM$20*((AM169-AO169)/(AM$20-AO$20))","v":0.43724981319115541},0.43500952227349327,0.43531959435940393,0.43052894043816892,0.42327042748017818,0.41457728968089497,0.40542031900422476,{"$f":"HLOOKUP(AS168,AJ168:AR180,2,FALSE)","v":0.43724981319115541}]
[null,"mars",0.62013203617379498,0.61483122978839932,0.61015935399871046,0.60422961701760813,0.60081560241933274,0.59237014305540348,0.58206838686418205,0.5707397139783088,0.55880764575365227,0.61015935399871046,"mars",0.44867566532122816,0.44173701222353445,0.43515483941456734,0.4278597060281471,0.42199049379663311,0.41326943925530668,0.40376572564591695,0.39422495467668367,0.38490140633473752,0.43515483941456734,"mars",0.62540186915408036,0.6276455083114364,0.63089516160440029,0.63213278662614847,0.63739446819032819,0.63460803666964472,0.62775948531538162,0.6186903026528261,0.60910347512011587,0.63089516160440029,"mars",0.42327436303025689,0.42464263602770497,0.42689375175745625,0.42737918202260111,0.43139598321695888,0.42835004255289083,0.42199327465624359,0.4138736166647235,0.40469639433596455,0.42689375175745625]
[null,"avril",0.62083779090965896,0.61500444367320506,0.6096318843995332,0.60333774920029726,0.59888676585218958,0.59074947880182538,0.58081291944460478,0.56988520250639996,0.55874944357786971,0.6096318843995332,"avril",0.48594699489179277,0.47766638655262111,0.469637926487386,0.46110516987427791,0.45358100635691584,0.44403965664806166,0.43401035932532789,0.42397620786600049,0.41458463782675414,0.469637926487386,"avril",0.63178848028191703,0.63074845594446205,0.63041789814278992,0.62866840726955209,0.62975678253944567,0.62516942552307631,0.61793869789747025,0.60919899927298093,0.59980003207532084,0.63041789814278992,"avril",0.42881061160024159,0.42694626872641561,0.42563762014944007,0.42321758297876372,0.42302032299548897,0.41837750863741102,0.41147504574406057,0.40322570730690543,0.39461642732796165,0.42563762014944007]
[null,"mai",0.62328385668471853,0.61656730689079342,0.6101769691554505,0.60313420730294309,0.59739629368476455,0.58904868359792828,0.57920830181668603,0.56851139257210903,0.55792281262803678,0.6101769691554505,"mai",0.48189220386708798,0.47626886267450425,0.47094263811310189,0.46502218028933684,0.46029018899029722,0.4531812646418068,0.44488448319333301,0.43603493902067175,0.42716593656546514,0.47094263811310189,"mai",0.62312819395590013,0.62175709871867546,0.62104114348418515,0.619014908244226,0.61960923301520465,0.61496243776430759,0.60771792932308877,0.59968688047171881,0.59151063295430106,0.62104114348418515,"mai",0.41601482951403707,0.41496621361046965,0.41448343692927359,0.41286898180333481,0.41351788356688152,0.40964007155145732,0.40327879294557911,0.39579977945667966,0.38794746689619714,0.41448343692927359]
[null,"juin",0.63597737543745136,0.63151867211536594,0.62766069338412767,0.6226012654711951,0.61994473592165111,0.61248240964532996,0.6028704643792463,0.59249417688136985,0.58190946396106014,0.62766069338412767,"juin",0.45834185446610731,0.45108473823533835,0.44411627996148584,0.43657050577380047,0.43017936341378094,0.42147895739842978,0.41214073234144316,0.40293809257853769,0.39424202103805911,0.44411627996148584,"juin",0.59269040816429508,0.59386415385805125,0.59589334636356961,0.59621164524556358,0.59995173137460645,0.59684824300955142,0.59010869358940299,0.5817572537710366,0.57320269575851723,0.59589334636356961,"juin",0.38066923122853891,0.38208914376481301,0.3842404948172089,0.38492896883736116,0.38854319692200073,0.38630591687766574,0.38126375868220291,0.37476661586460847,0.36751288103651858,0.3842404948172089]
[null,"juillet",0.60916442484025235,0.60505239186810511,0.60151154678164032,0.59682832592381063,0.59442985660871084,0.58746188420815137,0.57872548398483104,0.56900722672762705,0.55911860275100034,0.60151154678164032,"juillet",0.47955087050214834,0.47200224012476399,0.4646947504204838,0.4569049793699953,0.45007977101192331,0.44132543726901829,0.43182760274778476,0.42249786930444305,0.41363852416953306,0.4646947504204838,"juillet",0.62070527679506737,0.62110357262323024,0.62226916684952771,0.62190016427955597,0.62460035530212277,0.62116215913961259,0.61481173088120378,0.60670603001066203,0.59801188671766647,0.62226916684952771,"juillet",0.40668472314331372,0.40698094490191122,0.40787557039120326,0.40757338841910618,0.40966482136978738,0.40696902447491196,0.40189641804463183,0.39562038230765989,0.3885472865006101,0.40787557039120326]
[null,"aout",0.6118593084491144,0.60656142549195347,0.60159734626549455,0.59596565957763148,0.59166918781257671,0.58470228620190534,0.57649663387286121,0.56774702086670292,0.55873434863825699,0.60159734626549455,"aout",0.46156257037688087,0.4552711649429021,0.44916431080426633,0.44268835407494456,0.43695060252699469,0.42973644061630084,0.42188019453139552,0.41376764722803344,0.40634562152320414,0.44916431080426633,"aout",0.62086889535639189,0.61943945440403803,0.61853892679202183,0.6165805724993304,0.61673787156798943,0.61266386391394745,0.60625572371875058,0.59869086427798324,0.59072241322266483,0.61853892679202183,"aout",0.4079046898022925,0.40639009267738951,0.40528778621905548,0.40336089842758355,0.40308317330238735,0.39950712284463968,0.39420358966720453,0.38790915195985898,0.38159268339296254,0.40528778621905548]
[null,"septembre",0.61987220069855031,0.6141984653327931,0.60880910408322009,0.60285099460127867,0.59803038158407407,0.59093477563739583,0.58254713664663693,0.57348034447111862,0.56432960050748704,0.60880910408322009,"septembre",0.45387430116894961,0.44728540814937756,0.44083870292858351,0.43410762211023346,0.42794529248699542,0.42064546047353318,0.41286139595683125,0.4051696337895298,0.39760529587206395,0.44083870292858351,"septembre",0.61197998556531141,0.61044826210675629,0.6094054558388069,0.60738481518964604,0.60731984330290822,0.60334353389132422,0.59749485759026422,0.59006054395974905,0.58209062121111343,0.6094054558388069,"septembre",0.40231009975185078,0.40066270808670096,0.3993854668390282,0.39736792475640131,0.39683098434368264,0.39333284059114759,0.38827063727632555,0.38237887865591436,0.37606267873312432,0.3993854668390282]
[null,"octobre",0.60633058297830411,0.60163100359202948,0.59721438039015218,0.59223184481948021,0.58838113398639769,0.58226677367813628,0.57468771041503952,0.56662496379245519,0.55818144397712599,0.59721438039015218,"octobre",0.46221076107463344,0.45652891253377598,0.45102513854775594,0.44516521545206095,0.44001759057571582,0.43344536926067101,0.426263028899243,0.41902503610482822,0.41212590609234762,0.45102513854775594,"octobre",0.62078338961977786,0.61834806573956869,0.61632895998362169,0.61347741797915023,0.61229074847172782,0.60777433397020719,0.60134827224002796,0.59397013416821243,0.58663134043074894,0.61632895998362169,"octobre",0.41375800308707888,0.41071587790633329,0.40776447502530733,0.40463162754484217,0.40186166926325545,0.39836593258391184,0.39329095854992052,0.38734112334806287,0.38133969218709829,0.40776447502530733]
[null,"novembre",0.59879401759770001,0.5952762452560606,0.5922186224730579,0.58824070057278166,0.5861033769070525,0.5802848567722293,0.57274030904265394,0.56437585871075613,0.55552130980401371,0.5922186224730579,"novembre",0.44062278874366467,0.43655363552031751,0.43282090869008827,0.42841532907362334,0.42535545502962985,0.41960416984069349,0.41278595168504706,0.40556346790915138,0.39839623235114369,0.43282090869008827,"novembre",0.62689993754023687,0.62552528108588212,0.62468394095525093,0.62277596817717262,0.62300126069398842,0.6189600226210159,0.61224795318328573,0.6043211694166829,0.59598290224567996,0.62468394095525093,"novembre",0.41666991291086924,0.41496975883187354,0.4136556273797144,0.41156945067388212,0.41102736447539612,0.40739709726221751,0.40174189392211401,0.39474909023454141,0.38783331395900678,0.4136556273797144]
[null,"decembre",0.5945186625860378,0.59121798705767892,0.58843070709725076,0.58461663600096114,0.58285614717639433,0.57698849380838202,0.56849660918290779,0.55920171643085925,0.54931851643270135,0.58843070709725076,"decembre",0.44113526157332072,0.4367108859219837,0.43266267208785364,0.42786213461930966,0.4245662444195934,0.41826105968222171,0.41051796162918186,0.402317952842219,0.39425921864785651,0.43266267208785364,"decembre",0.64363609991474346,0.6414972518289338,0.63996066206363811,0.63721955565731447,0.63688748253304661,0.6317373428446672,0.62361521180626189,0.61458635723905808,0.60564971100867715,0.63996066206363811,"decembre",0.43593589969359114,0.43348474848285107,0.43149258154489212,0.42858244606137108,0.42750824766897422,0.42276217509432917,0.41581808576043855,0.40759999889831133,0.39923092665121263,0.43149258154489212]
[]
[]
[null,"Ref typique",null,null,null,"Léger","0,7vol/h",null,null,null,null,null,"Ref typique",null,null,null,"Léger",null,null,null,null,null,null,"Ref typique",null,null,null,"Léger",null,null,null,null,null,null,"Ref typique",null,null,null,"Léger"]
[]
[null,null,28,27,26,25,24,23,22,21,20,{"$f":"TempConsigne","v":26},null,28,27,26,25,24,23,22,21,20,{"$f":"TempConsigne","v":26},null,28,27,26,25,24,23,22,21,20,{"$f":"TempConsigne","v":26},null,28,27,26,25,24,23,22,21,20,{"$f":"TempConsigne","v":26}]
[null,"janvier",{"$f":"C$20*((D185-F185)/(D$20-F$20))+D185-D$20*((D185-F185)/(D$20-F$20))","v":0.67580009166348631},{"$f":"D$20*((E185-G185)/(E$20-G$20))+E185-E$20*((E185-G185)/(E$20-G$20))","v":0.66605169490631533},{"$f":"E$20*((F185-H185)/(F$20-H$20))+F185-F$20*((F185-H185)/(F$20-H$20))","v":0.65695512906372566},0.64655490139197336,0.63876199737854633,0.62575444604846875,0.61046133191402319,0.59463109561443273,0.5783821460983577,{"$f":"HLOOKUP(L184,C184:K196,2,FALSE)","v":0.65695512906372566},"janvier",{"$f":"N$20*((O185-Q185)/(O$20-Q$20))+O185-O$20*((O185-Q185)/(O$20-Q$20))","v":0.5248471421794717},{"$f":"O$20*((P185-R185)/(P$20-R$20))+P185-P$20*((P185-R185)/(P$20-R$20))","v":0.51476844040978575},{"$f":"P$20*((Q185-S185)/(Q$20-S$20))+Q185-Q$20*((Q185-S185)/(Q$20-S$20))","v":0.50517292106413658},0.49461103687041386,0.48598188237283835,0.4734872684829684,0.46007853437915963,0.44676416782726341,0.43368096380131416,{"$f":"HLOOKUP(W184,N184:V196,2,FALSE)","v":0.50517292106413658},"janvier",{"$f":"Y$20*((Z185-AB185)/(Z$20-AB$20))+Z185-Z$20*((Z185-AB185)/(Z$20-AB$20))","v":0.68656956017965942},{"$f":"Z$20*((AA185-AC185)/(AA$20-AC$20))+AA185-AA$20*((AA185-AC185)/(AA$20-AC$20))","v":0.67994649091721315},{"$f":"AA$20*((AB185-AD185)/(AB$20-AD$20))+AB185-AB$20*((AB185-AD185)/(AB$20-AD$20))","v":0.67386539559096892},0.66670035239232062,0.66170320493848056,0.65237026599502401,0.64116838043654434,0.62927201632885321,0.61776735787329995,{"$f":"HLOOKUP(AH184,Y184:AG196,2,FALSE)","v":0.67386539559096892},"janvier",{"$f":"AJ$20*((AK185-AM185)/(AK$20-AM$20))+AK185-AK$20*((AK185-AM185)/(AK$20-AM$20))","v":0.51032652168246784},{"$f":"AK$20*((AL185-AN185)/(AL$20-AN$20))+AL185-AL$20*((AL185-AN185)/(AL$20-AN$20))","v":0.5006298596607468},{"$f":"AL$20*((AM185-AO185)/(AM$20-AO$20))+AM185-AM$20*((AM185-AO185)/(AM$20-AO$20))","v":0.49133808467115769},0.48123653561730467,0.47275453469197931,0.46103343750959869,0.44830670207857509,0.43511546973571463,0.42317252305494846,{"$f":"HLOOKUP(AS184,AJ184:AR196,2,FALSE)","v":0.49133808467115769}]
[null,"fevrier",{"$f":"C$20*((D186-F186)/(D$20-F$20))+D186-D$20*((D186-F186)/(D$20-F$20))","v":0.70395218001371107},0.69009189173190832,{"$f":"E$20*((F186-H186)/(F$20-H$20))+F186-F$20*((F186-H186)/(F$20-H$20))","v":0.67683887692190869},0.66237131516830283,0.65033284730190943,0.63343619166109122,0.61564470381150582,0.59755229567389889,0.58009234424963252,{"$f":"HLOOKUP(L185,C185:K197,2,FALSE)","v":0.67683887692190869},"fevrier",{"$f":"N$20*((O186-Q186)/(O$20-Q$20))+O186-O$20*((O186-Q186)/(O$20-Q$20))","v":0.5358414404118268},0.52188589458367185,{"$f":"P$20*((Q186-S186)/(Q$20-S$20))+Q186-Q$20*((Q186-S186)/(Q$20-S$20))","v":0.50820078275320102},0.49397480292736196,0.48083055909225947,0.46552284327568366,0.45039016835586565,0.43607460037234702,0.42252803955899132,{"$f":"HLOOKUP(W185,N185:V197,2,FALSE)","v":0.50820078275320102},"fevrier",{"$f":"Y$20*((Z186-AB186)/(Z$20-AB$20))+Z186-Z$20*((Z186-AB186)/(Z$20-AB$20))","v":0.69369433121839275},0.68609708487785481,{"$f":"AA$20*((AB186-AD186)/(AB$20-AD$20))+AB186-AB$20*((AB186-AD186)/(AB$20-AD$20))","v":0.67895118787247211},0.67090259219677895,0.6646593938617068,0.65480540084539274,0.64327788880898318,0.63159035288202892,0.62049817244793959,{"$f":"HLOOKUP(AH185,Y185:AG197,2,FALSE)","v":0.67895118787247211},"fevrier",{"$f":"AJ$20*((AK186-AM186)/(AK$20-AM$20))+AK186-AK$20*((AK186-AM186)/(AK$20-AM$20))","v":0.51847660471015045},0.50778599808502989,{"$f":"AL$20*((AM186-AO186)/(AM$20-AO$20))+AM186-AM$20*((AM186-AO186)/(AM$20-AO$20))","v":0.49756757269359742},0.48640478483478872,0.4771307219107323,0.46407920911717138,0.45004101333371865,0.43643962749896703,0.42496507818945733,{"$f":"HLOOKUP(AS185,AJ185:AR197,2,FALSE)","v":0.49756757269359742}]
[null,"mars",0.71598181428780738,0.70158059136253392,0.68775099759246272,0.67277814551198689,0.66009181005232032,0.64283244135103546,0.62441862018554539,0.60562709772820356,0.58641743033725835,0.68775099759246272,"mars",0.51032300403792974,0.49745234526493814,0.48496015472130016,0.4717110277189549,0.45997577363402425,0.44521277371426432,0.43043233473736037,0.41595940092517236,0.40201845463263897,0.48496015472130016,"mars",0.6667624881240759,0.66335107025451268,0.6606986217593509,0.65652823451538633,0.65539372476902735,0.64818746002745731,0.63876870578221245,0.62789293673969793,0.6166476304011933,0.6606986217593509,"mars",0.48941392613616475,0.48400588499601793,0.47952978601860086,0.47318980271572431,0.47057758806376671,0.46050983610997104,0.44774471390483023,0.43495424669726923,0.42276909398476203,0.47952978601860086]
[null,"avril",0.70949986888794458,0.69548171561808658,0.68195800036765897,0.66744540907837047,0.65491056986680396,0.63842022649979324,0.62021257848070299,0.60236148448824789,0.58525212482581956,0.68195800036765897,"avril",0.55158008526109836,0.5369156188780484,0.52245198853900099,0.50758668611194846,0.49352472786090618,0.4778560812578434,0.46195532572834397,0.44701508393499806,0.43342031699852918,0.52245198853900099,"avril",0.67554237834586783,0.66870404987704768,0.66236890179418351,0.65502739293940737,0.64969860562845527,0.6403443752298551,0.62946324065136039,0.61842328702955507,0.60784618995280559,0.66236890179418351,"avril",0.49353086552275538,0.48482795388467392,0.47662731351522025,0.46742213060851096,0.46022603277631291,0.44901176479509231,0.43608757749435151,0.42355200540780441,0.41220033042948867,0.47662731351522025]
[null,"mai",0.71784865382759644,0.7010408172893644,0.68439653575714465,0.66742514421290056,0.65110797269270504,0.63348236112441214,0.61553616156696334,0.59842428498027977,0.58194415427297053,0.68439653575714465,"mai",0.54663629701954586,0.53356085532855768,0.52065630683139785,0.50740997194658133,0.49484720983707808,0.48091730217694839,0.46661405780574217,0.45291948519899461,0.44049394781355694,0.52065630683139785,"mai",0.66953644296299564,0.66178072952059697,0.6544332134687123,0.64626930263579963,0.63973818136494309,0.62994148096997438,0.61863337165818588,0.60792709697705771,0.59832347598664282,0.6544332134687123,"mai",0.48335831527301043,0.47460603890510966,0.46624698791126723,0.45710148616930818,0.44952888592358248,0.43881048268539019,0.42657122139198034,0.41481075367963677,0.40392123654925061,0.46624698791126723]
[null,"juin",0.71504967277691256,0.70426405891115651,0.69439655283729862,0.68269283117964463,0.67466154068958284,0.65928538786433677,0.64262709034753318,0.62612644540635143,0.610224946040825,0.69439655283729862,"juin",0.51452390689928729,0.50242971833669481,0.49084392787187459,0.4782413412115098,0.4676723469422342,0.45303616789078033,0.43866360360611029,0.42548086519480249,0.41347165978653494,0.49084392787187459,"juin",0.63576907695586049,0.63123584490208795,0.62735890111555226,0.62216938079454287,0.61960501354248088,0.61179034015252398,0.60162880158045573,0.59129493255381393,0.58166104166811072,0.62735890111555226,"juin",0.43980482115176878,0.43501431781601541,0.43093440541208006,0.42543331114450861,0.42277458060420925,0.41443112260936565,0.40385288266228891,0.39336479762885329,0.38395062013587794,0.43093440541208006]
[null,"juillet",0.69505374125355979,0.68442104100242307,0.67462724065453061,0.66315564050014963,0.65503963995874559,0.64021244019138757,0.62375124708420371,0.60682169324201407,0.59086835425800943,0.67462724065453061,"juillet",0.54638898764046873,0.5330752690916194,0.52013586282341706,0.50644783199392074,0.49425705028701222,0.47907177033492809,0.46359404105120866,0.44896396275884204,0.43556260697869242,0.52013586282341706,"juillet",0.66135103639933979,0.65655324195721743,0.65227188630802391,0.64695765307297282,0.64370917500963687,0.63632918660287063,0.62702370283218267,0.61755076515597418,0.60783689678268282,0.65227188630802391,"juillet",0.47255868244845317,0.46604913076640447,0.46003604588814972,0.45303002740230719,0.44800987613164017,0.43901799043062206,0.42790407085663235,0.41674246883193333,0.4065522816051278,0.46003604588814972]
[null,"aout",0.70311337902827264,0.68955078952114002,0.67624923423825467,0.66242561050687443,0.64964612367248387,0.63477836304411361,0.61977253355171869,0.60524976650320583,0.59035732256659701,0.67624923423825467,"aout",0.52751675186162827,0.51468739300480926,0.50195974672293897,0.48902867529117122,0.47650445415919823,0.46316653242763567,0.44999916434074827,0.43761724225667725,0.42627641258883792,0.50195974672293897,"aout",0.66151770099070295,0.65506891950636525,0.6489047143720279,0.64217135653768975,0.6365763041033532,0.62870464086901345,0.62013103137064807,0.61064982434403592,0.6014529979458858,0.6489047143720279,"aout",0.47296498380326213,0.46436133557696513,0.45602448976491211,0.44715403912437118,0.43935079814080608,0.42941313784328944,0.41834606320926576,0.40781736204724928,0.39870570511166753,0.45602448976491211]
[null,"septembre",0.71062908743736131,0.69680007374254549,0.68327946471428924,0.66914204635291397,0.65623824665777675,0.64086720963016353,0.62521964571022393,0.60991718382548898,0.59480648687200277,0.68327946471428924,"septembre",0.51850254375059446,0.50565291635161658,0.49287040545043947,0.47995366155366076,0.46730538364808533,0.45412017376010327,0.44116235347264432,0.42899690451648093,0.41726556184771108,0.49287040545043947,"septembre",0.64963645586982466,0.64359910547119681,0.63782790596932337,0.63152440467394122,0.62628550696557661,0.61891740208317692,0.60959199875105063,0.60064567210204323,0.59194018065370635,0.63782790596932337,"septembre",0.46552081752072794,0.45678755299765872,0.44823249377322072,0.43932102395152028,0.43112237532434472,0.42149808430811941,0.41125732013964322,0.4015739240305285,0.3930443003882923,0.44823249377322072]
[null,"octobre",0.69192766816739182,0.67980765136010501,0.66790991444298542,0.65556761774553141,0.64411444060874623,0.63088302435062327,0.61706151062616355,0.60346227974605526,0.58936229326246936,0.66790991444298542,"octobre",0.52438801593952022,0.51303185806014284,0.50178319974801455,0.49031954230138819,0.47928588312375797,0.46739222740813546,0.45567851106004625,0.44468203414962737,0.43417940549419076,0.50178319974801455,"octobre",0.65953267536158811,0.65211882831626988,0.64487033052388443,0.63729113422563344,0.63037333493911341,0.62213274162913146,0.61359282752800226,0.60472733190779515,0.59634771492857663,0.64487033052388443,"octobre",0.47256152535504942,0.46320673326798195,0.45400295101106958,0.44449714909384691,0.43559538649724489,0.42548554525940152,0.41547414986329134,0.40613523927493456,0.39796030006002941,0.45400295101106958]
[null,"novembre",0.6770632621792374,0.66773047574780386,0.65894071594715387,0.64906490288493679,0.64136119634585387,0.62931327676050253,0.61552316331021228,0.60178420484331019,0.58814164039133865,0.65894071594715387,"novembre",0.49541002177697258,0.48665423759383469,0.47823116242350217,0.46914266922755876,0.46138501208283705,0.45096568283567212,0.43944277159416312,0.42847808031955337,0.41752119958957484,0.47823116242350217,"novembre",0.66986967657621421,0.66277269327654231,0.65609344566565175,0.64857872667719851,0.64273495044387063,0.63354928870029215,0.62322502580162997,0.61346819676593389,0.60418284509563602,0.65609344566565175,"novembre",0.4836537632638106,0.47427125750874233,0.46512004488785597,0.45550624599860584,0.44681761964608335,0.4362786482201057,0.42507545186487833,0.41417459824235908,0.40465252632990589,0.46512004488785597]
[null,"decembre",0.68158546926612429,0.67074587307634082,0.66052033007159028,0.64906668069677376,0.6400692440620892,0.62615938194714071,0.61031921940831935,0.59450588833957463,0.57883771182318633,0.66052033007159028,"decembre",0.50100682571797517,0.4909020459925606,0.48122436529151491,0.4706924865417314,0.46186900388942354,0.44962872904216433,0.43657261881893039,0.42382049159970131,0.41203252979101673,0.48122436529151491,"decembre",0.69659021677663557,0.68708687784235878,0.67798356401298698,0.66808019997380519,0.65977693635424339,0.64827347189544171,0.63663240192856518,0.62441074131513374,0.6139756769571455,0.67798356401298698,"decembre",0.51381190303522373,0.50199791547212391,0.49044091787109839,0.47836994034592417,0.46732692266904746,0.45422798529557573,0.44081515217557971,0.42824331944272515,0.41687354606740196,0.49044091787109839]
[]
[]
[null,"Ref typique",null,null,null,"Moyen",null,null,null,null,null,null,"Ref typique",null,null,null,"Moyen",null,null,null,null,null,null,"Ref typique",null,null,null,"Moyen",null,null,null,null,null,null,"Ref typique",null,null,null,"Moyen"]
[]
[null,null,28,27,26,25,24,23,22,21,20,{"$f":"TempConsigne","v":26},null,28,27,26,25,24,23,22,21,20,{"$f":"TempConsigne","v":26},null,28,27,26,25,24,23,22,21,20,{"$f":"TempConsigne","v":26},null,28,27,26,25,24,23,22,21,20,{"$f":"TempConsigne","v":26}]
[null,"janvier",{"$f":"C$20*((D202-F202)/(D$20-F$20))+D202-D$20*((D202-F202)/(D$20-F$20))","v":0.6658782045824656},{"$f":"D$20*((E202-G202)/(E$20-G$20))+E202-E$20*((E202-G202)/(E$20-G$20))","v":0.65625575156195148},{"$f":"E$20*((F202-H202)/(F$20-H$20))+F202-F$20*((F202-H202)/(F$20-H$20))","v":0.6472299345517204},0.63701084552092335,0.62917830053125812,0.61657266745932926,0.60335591033563463,0.58932577742358327,0.57447608322027621,{"$f":"HLOOKUP(L201,C201:K213,2,FALSE)","v":0.6472299345517204},"janvier",{"$f":"N$20*((O202-Q202)/(O$20-Q$20))+O202-O$20*((O202-Q202)/(O$20-Q$20))","v":0.51753585421733483},{"$f":"O$20*((P202-R202)/(P$20-R$20))+P202-P$20*((P202-R202)/(P$20-R$20))","v":0.50763494455065949},{"$f":"P$20*((Q202-S202)/(Q$20-S$20))+Q202-Q$20*((Q202-S202)/(Q$20-S$20))","v":0.49813708694273773},0.48783312521730876,0.47914137172689408,0.46722520176645077,0.45525991195580162,0.44322349117722637,0.43129175825960758,{"$f":"HLOOKUP(W201,N201:V213,2,FALSE)","v":0.49813708694273773},"janvier",{"$f":"Y$20*((Z202-AB202)/(Z$20-AB$20))+Z202-Z$20*((Z202-AB202)/(Z$20-AB$20))","v":0.71223607706042968},{"$f":"Z$20*((AA202-AC202)/(AA$20-AC$20))+AA202-AA$20*((AA202-AC202)/(AA$20-AC$20))","v":0.7024186575299266},{"$f":"AA$20*((AB202-AD202)/(AB$20-AD$20))+AB202-AB$20*((AB202-AD202)/(AB$20-AD$20))","v":0.69312012178270155},0.68278381846892056,0.67452305028825132,0.66211121184135857,0.64974628151621761,0.63648830203129159,0.62325406193100863,{"$f":"HLOOKUP(AH201,Y201:AG213,2,FALSE)","v":0.69312012178270155},"janvier",{"$f":"AJ$20*((AK202-AM202)/(AK$20-AM$20))+AK202-AK$20*((AK202-AM202)/(AK$20-AM$20))","v":0.51812167796853159},{"$f":"AK$20*((AL202-AN202)/(AL$20-AN$20))+AL202-AL$20*((AL202-AN202)/(AL$20-AN$20))","v":0.50792507436722267},{"$f":"AL$20*((AM202-AO202)/(AM$20-AO$20))+AM202-AM$20*((AM202-AO202)/(AM$20-AO$20))","v":0.49806176153554038},0.48753186716460484,0.47833513587217569,0.46647207842273392,0.45420453384848125,0.44149215580709178,0.42911363815670395,{"$f":"HLOOKUP(AS201,AJ201:AR213,2,FALSE)","v":0.49806176153554038}]
[null,"fevrier",{"$f":"C$20*((D203-F203)/(D$20-F$20))+D203-D$20*((D203-F203)/(D$20-F$20))","v":0.68742674888601529},0.67493308946090658,{"$f":"E$20*((F203-H203)/(F$20-H$20))+F203-F$20*((F203-H203)/(F$20-H$20))","v":0.66310941945204238},0.64994577061068926,0.63946207943431388,0.62361847292798311,0.60827453971374867,0.5924622914679627,0.57646350658535228,{"$f":"HLOOKUP(L202,C202:K214,2,FALSE)","v":0.66310941945204238},"fevrier",{"$f":"N$20*((O203-Q203)/(O$20-Q$20))+O203-O$20*((O203-Q203)/(O$20-Q$20))","v":0.52499401566241821},0.5121095324185444,{"$f":"P$20*((Q203-S203)/(Q$20-S$20))+Q203-Q$20*((Q203-S203)/(Q$20-S$20))","v":0.4996131903190093},0.48634056593079683,0.47462050611993922,0.45979531715437183,0.4464519188876554,0.43337255058740209,0.42107204747859939,{"$f":"HLOOKUP(W202,N202:V214,2,FALSE)","v":0.4996131903190093},"fevrier",{"$f":"Y$20*((Z203-AB203)/(Z$20-AB$20))+Z203-Z$20*((Z203-AB203)/(Z$20-AB$20))","v":0.72187647070859418},0.71084035075191832,{"$f":"AA$20*((AB203-AD203)/(AB$20-AD$20))+AB203-AB$20*((AB203-AD203)/(AB$20-AD$20))","v":0.70021947395015771},0.68876811083856659,0.6789777203466365,0.66586538461538447,0.65261476308041655,0.63966482574022565,0.62674486191364831,{"$f":"HLOOKUP(AH202,Y202:AG214,2,FALSE)","v":0.70021947395015771},"fevrier",{"$f":"AJ$20*((AK203-AM203)/(AK$20-AM$20))+AK203-AK$20*((AK203-AM203)/(AK$20-AM$20))","v":0.53025915442247129},0.51830263262512666,{"$f":"AL$20*((AM203-AO203)/(AM$20-AO$20))+AM203-AM$20*((AM203-AO203)/(AM$20-AO$20))","v":0.50673584228054314},0.49438958903043739,0.4836022615913762,0.46969708253022591,0.45608032831670653,0.44274185718446768,0.42992479795862182,{"$f":"HLOOKUP(AS202,AJ202:AR214,2,FALSE)","v":0.50673584228054314}]
[null,"mars",0.69582974368430184,0.68347206739661404,0.67161816323006085,0.65875671482123865,0.64791035489695459,0.63303381800359415,0.61750377139159651,0.60090766197222634,0.58317700963713903,0.67161816323006085,"mars",0.50141067536094719,0.48932106690714899,0.47750978529176502,0.46514184999955271,0.45388722206099702,0.44040597941512821,0.42722211145261585,0.41418261302794901,0.40097503033547016,0.47750978529176502,"mars",0.70156695981851058,0.69362309289155422,0.68626128475806314,0.67773535903764137,0.67153766849108087,0.66068350759679784,0.64878092823258093,0.63589141738416521,0.62288116342826727,0.68626128475806314,"mars",0.50805429938762647,0.50025240139191318,0.49310104280094225,0.4846486054004866,0.47879832561900021,0.46774373059957525,0.45515646102393764,0.44214839062796024,0.42896543862735803,0.49310104280094225]
[null,"avril",0.69244257116178265,0.67993191381731921,0.6679244037403127,0.65491059912839233,0.64390938358629968,0.6288829899045516,0.61337954441909492,0.59770734514919466,0.58179072475128835,0.6679244037403127,"avril",0.54156848294960036,0.5277427558242368,0.51417352254939352,0.50009130157350956,0.48703505599970709,0.47192685962174152,0.45798425030755047,0.44448539469593223,0.43155844006132787,0.51417352254939352,"avril",0.70939456514897015,0.69804039581523691,0.68704690550107028,0.67533205714777056,0.66505992487273713,0.65190236044117111,0.63944373794545106,0.62599981978281394,0.61327538704508522,0.68704690550107028,"avril",0.5095214081236854,0.49890673459262047,0.48869951263199218,0.47767738753049049,0.46828506871073561,0.45563313732748717,0.4430192760397712,0.43035458137252425,0.41825077524294801,0.48869951263199218]
[null,"mai",0.69951240367246226,0.6847231946171678,0.67024680886533949,0.65514477650657899,0.641294037361683,0.62494071178905786,0.60955241554981299,0.5940448033996496,0.57888591590262761,0.67024680886533949,"mai",0.5377341769519578,0.5257219786145173,0.5139515241666951,0.50169758193963632,0.49041061527105062,0.47718969748551882,0.46451689003743746,0.45170697772029705,0.43976807950142061,0.5139515241666951,"mai",0.70362529582490074,0.69110846353619704,0.67903188047158414,0.66607479895878974,0.65487871434235834,0.64016063593320072,0.62676702418325247,0.614460421049421,0.60346750369785251,0.67903188047158414,"mai",0.49834721923377567,0.48788294643652791,0.47779263548081596,0.46695440084203232,0.45761201356939213,0.44527793156446499,0.43262950467814248,0.42070158443608707,0.40894804534194623,0.47779263548081596]
[null,"juin",0.69953308818688109,0.68940989839069711,0.68013481815797006,0.66916351879832925,0.66158465769251595,0.64722092007904775,0.63345149413477175,0.61945909812101851,0.60521869777618642,0.68013481815797006,"juin",0.50404210921021542,0.49250671914935762,0.48135079258944324,0.46943593902764202,0.45903893946961449,0.44560623190403975,0.43318820104460998,0.42140975975129458,0.41046686419308209,0.48135079258944324,"juin",0.67515306611578718,0.66524929024790225,0.65602556102891818,0.64544173851213238,0.63757810259095005,0.62427409347856078,0.61168764449011026,0.59873231155819373,0.58652977745068768,0.65602556102891818,"juin",0.45957290974304738,0.45208695123509174,0.44522974605279297,0.43711503421918058,0.4315153356881955,0.42088561055195572,0.41038419385221325,0.39950709953850988,0.38909141157079302,0.44522974605279297]
[null,"juillet",0.6779979405140043,0.66815905927781183,0.65920733424896194,0.64848129680542688,0.64130388419126216,0.62702922191835686,0.61393600777042256,0.59975499583955205,0.58538937895568088,0.65920733424896194,"juillet",0.53307769053433951,0.52052648606253782,0.50837510331056834,0.49542407711893449,0.48407233780662934,0.46952202473566668,0.45669520780192407,0.44402051166906598,0.43202169346067326,0.50837510331056834,"juillet",0.70050255381922488,0.69060032569872276,0.68122545120698619,0.67079586945771852,0.66247570222351304,0.64993670595918318,0.63786505891257828,0.62526002800047531,0.61285202666514027,0.68122545120698619,"juillet",0.48913584881732119,0.48062624823143113,0.47256020556109468,0.46360704705965095,0.45642812022042184,0.44570073005676347,0.43472363809782155,0.42347417220292427,0.412948950889374,0.47256020556109468]
[null,"aout",0.68457372933680394,0.67239520591051372,0.66066008276514054,0.64803815905793316,0.63718983647439431,0.62279431164351839,0.61048925315852332,0.598109325100463,0.58521797745436221,0.66066008276514054,"aout",0.51490341627343672,0.50313851166062629,0.49163505261464002,0.47960870243500547,0.46862813452266749,0.45555600207573649,0.444282634233644,0.43333421870019823,0.42316542664167239,0.49163505261464002,"aout",0.69809427749250141,0.686829318104761,0.67593914576787972,0.66429939932928006,0.65415880109411717,0.64101990645208073,0.63013067112088383,0.61879800511221239,0.60750561851372997,0.67593914576787972,"aout",0.48630532910409696,0.47643743399067223,0.4669433252417341,0.45670164376382261,0.44795510774385788,0.43621828080799963,0.42524052689941527,0.41441106437762859,0.40530026798856472,0.4669433252417341]
[null,"septembre",0.69363417269513306,0.68088253554931033,0.6686170492282052,0.65537926125766466,0.64408607658599504,0.62890368531658358,0.61610523679260554,0.60317249241598891,0.58938997599605969,0.6686170492282052,"septembre",0.50723877478135149,0.49519690801656618,0.4834167332764252,0.47111317448699563,0.45985638379614319,0.44650605690813644,0.4355546606291878,0.42478706056088633,0.41439671804990819,0.4834167332764252,"septembre",0.68534369377859949,0.67474661848071038,0.66458542418448829,0.65355246788493215,0.64426303559204423,0.63148655528581987,0.62038942393480567,0.60887965043171155,0.5976438843442452,0.66458542418448829,"septembre",0.47884951132672454,0.46890169121815173,0.45923451343412136,0.4490060510010061,0.43990015786606063,0.42854912613477564,0.41841954912081686,0.40874340651777824,0.39971352771745638,0.45923451343412136]
[null,"octobre",0.67819000997694567,0.66668828946424052,0.65564929737691968,0.64368484843883023,0.633571313202278,0.6197559505626512,0.60825166402039865,0.59673760969235834,0.5842291322517591,0.65564929737691968,"octobre",0.51547724419475194,0.50446768745843062,0.49374625744343248,0.48244857398578789,0.47230339741343624,0.4598532070704987,0.44981189334626481,0.4400999408911645,0.43065595467726236,0.49374625744343248,"octobre",0.69372523995502022,0.68191760545775815,0.67046086085346723,0.65830233646323433,0.64754737164488529,0.63398528768276863,0.62360914487732033,0.6126873053153975,0.60244160828327853,0.67046086085346723,"octobre",0.48487865515584028,0.47449140990491884,0.46440586546971357,0.45371691940307579,0.44423477659930322,0.43233902726980022,0.42261347015713369,0.41324082639071613,0.40495988715003867,0.46440586546971357]
[null,"novembre",0.66837943722459636,0.65854380184153904,0.64931533592699819,0.63887253107542441,0.63085840409791649,0.61798692137227684,0.60647597549012489,0.59473181806037179,0.58249484860935608,0.64931533592699819,"novembre",0.48994747225615665,0.48090139116741637,0.47231013424680823,0.46280922898993587,0.45512762040559207,0.44380741847619121,0.43409577360893986,0.42420895901832456,0.41442744648577851,0.47231013424680823,"novembre",0.70130373970680582,0.69008661969252594,0.67941509499129438,0.66765237966396629,0.65807204558883126,0.64412694900931011,0.63221185657095669,0.62050273942546141,0.60925350402688905,0.67941509499129438,"novembre",0.49494886437341168,0.48452623808253703,0.474479612860219,0.46368098550078768,0.45438636241558295,0.44208373078192498,0.43131676973028704,0.42052184698889911,0.41059054862696504,0.474479612860219]
[null,"decembre",0.67053829086058481,0.65994360775831507,0.64995823394839913,0.63875424155377547,0.62998748632856738,0.61634625676452826,0.60291997039676959,0.58872208638044754,0.57431088614667092,0.64995823394839913,"decembre",0.49592419734704418,0.4857478330750219,0.4759916301664936,0.46539510453097738,0.45647922434943689,0.44420205325994488,0.43267850739360159,0.42112806313431866,0.41006221609541615,0.4759916301664936,"decembre",0.72308278035769813,0.71040695454464398,0.69821551373240032,0.68505530291853589,0.67383263210791311,0.65873488129080726,0.64497062989943199,0.63110098981093421,0.61874878543493561,0.69821551373240032,"decembre",0.52175726073690276,0.50956290602453991,0.4976753130521504,0.48517419659981431,0.47390012710737123,0.46017196369514229,0.4472054533694021,0.43409959817656735,0.42179946923506695,0.4976753130521504]
[]
[]
[null,"Ref typique",null,null,null,"Lourd",null,null,null,null,null,null,"Ref typique",null,null,null,"Lourd",null,null,null,null,null,null,"Ref typique",null,null,null,"Lourd",null,null,null,null,null,null,"Ref typique",null,null,null,"Lourd"]
[]
[null,null,28,27,26,25,24,23,22,21,20,{"$f":"TempConsigne","v":26},null,28,27,26,25,24,23,22,21,20,{"$f":"TempConsigne","v":26},null,28,27,26,25,24,23,22,21,20,{"$f":"TempConsigne","v":26},null,28,27,26,25,24,23,22,21,20,{"$f":"TempConsigne","v":26}]
[null,"janvier",{"$f":"C$20*((D219-F219)/(D$20-F$20))+D219-D$20*((D219-F219)/(D$20-F$20))","v":0.65229178952424505},{"$f":"D$20*((E219-G219)/(E$20-G$20))+E219-E$20*((E219-G219)/(E$20-G$20))","v":0.64392410862406946},{"$f":"E$20*((F219-H219)/(F$20-H$20))+F219-F$20*((F219-H219)/(F$20-H$20))","v":0.63621665906967628},0.62718874682371828,0.62080175996088993,0.60913292233180216,0.59781914792936075,0.58488719426625102,0.57104580242769276,{"$f":"HLOOKUP(L218,C218:K230,2,FALSE)","v":0.63621665906967628},"janvier",{"$f":"N$20*((O219-Q219)/(O$20-Q$20))+O219-O$20*((O219-Q219)/(O$20-Q$20))","v":0.51265608441148025},{"$f":"O$20*((P219-R219)/(P$20-R$20))+P219-P$20*((P219-R219)/(P$20-R$20))","v":0.50370703807298334},{"$f":"P$20*((Q219-S219)/(Q$20-S$20))+Q219-Q$20*((Q219-S219)/(Q$20-S$20))","v":0.49522953311279355},0.48580894539598951,0.47827452319241393,0.46696776996238143,0.45635284582783414,0.44522614935021332,0.43352202443634108,{"$f":"HLOOKUP(W218,N218:V230,2,FALSE)","v":0.49522953311279355},"janvier",{"$f":"Y$20*((Z219-AB219)/(Z$20-AB$20))+Z219-Z$20*((Z219-AB219)/(Z$20-AB$20))","v":0.71401779041121305},{"$f":"Z$20*((AA219-AC219)/(AA$20-AC$20))+AA219-AA$20*((AA219-AC219)/(AA$20-AC$20))","v":0.70530646595919089},{"$f":"AA$20*((AB219-AD219)/(AB$20-AD$20))+AB219-AB$20*((AB219-AD219)/(AB$20-AD$20))","v":0.69727340607370358},0.68788381705514667,0.68120728630272886,0.66910463901803285,0.65682466974906617,0.64293161448125857,0.62905107228969215,{"$f":"HLOOKUP(AH218,Y218:AG230,2,FALSE)","v":0.69727340607370358},"janvier",{"$f":"AJ$20*((AK219-AM219)/(AK$20-AM$20))+AK219-AK$20*((AK219-AM219)/(AK$20-AM$20))","v":0.51181950414771071},{"$f":"AK$20*((AL219-AN219)/(AL$20-AN$20))+AL219-AL$20*((AL219-AN219)/(AL$20-AN$20))","v":0.50374192477681912},{"$f":"AL$20*((AM219-AO219)/(AM$20-AO$20))+AM219-AM$20*((AM219-AO219)/(AM$20-AO$20))","v":0.49620721415038999},0.48758676603503587,0.48113779289753178,0.47034586980432752,0.45900534974679469,0.44652758286831407,0.4322674048765382,{"$f":"HLOOKUP(AS218,AJ218:AR230,2,FALSE)","v":0.49620721415038999}]
[null,"fevrier",{"$f":"C$20*((D220-F220)/(D$20-F$20))+D220-D$20*((D220-F220)/(D$20-F$20))","v":0.66775974298965779},0.65741031738408362,{"$f":"E$20*((F220-H220)/(F$20-H$20))+F220-F$20*((F220-H220)/(F$20-H$20))","v":0.64782690275782651},0.63671146617293528,0.62866007350531217,0.61448059300315272,0.60144897202521219,0.58693572529908955,0.5723463890830387,{"$f":"HLOOKUP(L219,C219:K231,2,FALSE)","v":0.64782690275782651},"fevrier",{"$f":"N$20*((O220-Q220)/(O$20-Q$20))+O220-O$20*((O220-Q220)/(O$20-Q$20))","v":0.51861147744361269},0.50724720217285035,{"$f":"P$20*((Q220-S220)/(Q$20-S$20))+Q220-Q$20*((Q220-S220)/(Q$20-S$20))","v":0.49640479516566283},0.48451865163132568,0.47471998115128766,0.46074636456265156,0.44840172545079793,0.43618298387974158,0.42427184984020455,{"$f":"HLOOKUP(W219,N219:V231,2,FALSE)","v":0.49640479516566283},"fevrier",{"$f":"Y$20*((Z220-AB220)/(Z$20-AB$20))+Z220-Z$20*((Z220-AB220)/(Z$20-AB$20))","v":0.72942777579572349},0.71850842121222114,{"$f":"AA$20*((AB220-AD220)/(AB$20-AD$20))+AB220-AB$20*((AB220-AD220)/(AB$20-AD$20))","v":0.70822263443533873},0.69666971204521677,0.68765106088157379,0.67356386726497286,0.66074041294407049,0.64716066611894552,0.63301000745179015,{"$f":"HLOOKUP(AH219,Y219:AG231,2,FALSE)","v":0.70822263443533873},"fevrier",{"$f":"AJ$20*((AK220-AM220)/(AK$20-AM$20))+AK220-AK$20*((AK220-AM220)/(AK$20-AM$20))","v":0.52741235188408764},0.51681214716508417,{"$f":"AL$20*((AM220-AO220)/(AM$20-AO$20))+AM220-AM$20*((AM220-AO220)/(AM$20-AO$20))","v":0.5067132945305115},0.49561173772707717,0.48651558926136618,0.47340862412020845,0.46129855322066882,0.44812968235925243,0.43421083052779674,{"$f":"HLOOKUP(AS219,AJ219:AR231,2,FALSE)","v":0.5067132945305115}]
[null,"mars",0.67529798441767752,0.66535324286860287,0.65603348694695574,0.64546375977045356,0.63739397510366147,0.62432430541744921,0.61104742978787174,0.59605793155291609,0.57947110320144979,0.65603348694695574,"mars",0.4910558850424912,0.48103744124287029,0.47144510596195133,0.46100055364362846,0.4522604354001134,0.44011144900698274,0.42831993250088118,0.41627283222176326,0.40383300509693332,0.47144510596195133,"mars",0.71669530513256752,0.70773160425928772,0.69941788249344472,0.68980420251272812,0.68279043896175862,0.67057684255129502,0.65744752304323351,0.64336136724423287,0.62943691645347655,0.69941788249344472,"mars",0.5135320897946738,0.50581654875304605,0.49875145863893566,0.49038546666979044,0.48462127841071478,0.47365348273150004,0.46203211574026537,0.44832000055426957,0.43445059115266599,0.49875145863893566]
[null,"avril",0.67751548798301431,0.66655394081296782,0.65617346111929631,0.64463084647287494,0.63541250173195318,0.62154561718003221,0.60822734218978403,0.59369183214192234,0.57889172391829946,0.65617346111929631,"avril",0.53851111027708143,0.52547043473017818,0.51270411423636819,0.49938908363637163,0.48717147324874821,0.47275902243637846,0.46008353571674326,0.44681881610370539,0.43419881536813953,0.51270411423636819,"avril",0.72607019633520498,0.71338832302093136,0.7012287493298559,0.68802457639238379,0.67690960194770511,0.6616162305174399,0.64791912478625513,0.63316811826954134,0.61877823153449585,0.7012287493298559,"avril",0.51760825666836441,0.50671442550570611,0.49626329633187222,0.48492676318038958,0.47536103798420454,0.4622536968774244,0.44978980157506521,0.43641435009314888,0.42257443472325773,0.49626329633187222]
[null,"mai",0.67783989240300879,0.66603138968702991,0.65471688106171744,0.64241438425507214,0.63208786381109261,0.61780939064178164,0.60464273889548714,0.59063014583221229,0.57652774250975447,0.65471688106171744,"mai",0.53759505351309667,0.52668022854665009,0.5161540165416254,0.50485057861375682,0.49510159253157598,0.48224370275801964,0.47031633015707147,0.45730901002708574,0.44478461021780624,0.5161540165416254,"mai",0.71654785551327105,0.70332714549897501,0.69067703897259136,0.67688572547038273,0.66537682591982417,0.64930309846596534,0.63544422607855711,0.62200218838006072,0.60888194450132838,0.69067703897259136,"mai",0.50175157004938242,0.4918332397109702,0.48247181750454937,0.47199657903414594,0.46374897309170776,0.4510461020933389,0.43894454350223105,0.42613930294713814,0.41311506295000872,0.48247181750454937]
[null,"juin",0.68044309832435634,0.67247826439148906,0.66535796027579097,0.65654859652575437,0.6511173520443948,0.63892986902568116,0.62760559534614435,0.61474303556757737,0.6022223011648149,{"$f":"HLOOKUP(L223,C223:K234,2,FALSE)","v":0.66535796027579097},"juin",0.49177675383398234,0.48234181003914089,0.47344445885157249,0.46347192244945795,0.45564975647643557,0.44352684964522893,0.432821041791495,0.42201593347293892,0.41150363215708047,{"$f":"HLOOKUP(W223,N223:V234,2,FALSE)","v":0.47344445885157249},"juin",0.69302870189428323,0.68149230166273178,0.67063438377349682,0.65841950119962867,0.64891854799502702,0.63398973605189235,0.61989299098538786,0.60590065001634397,0.5924297245063086,{"$f":"HLOOKUP(AH223,Y223:AG234,2,FALSE)","v":0.67063438377349682},"juin",0.46735651015147045,0.45993065378678544,0.45351214783976412,0.44507894105741541,0.4406751359457215,0.42821252749271804,0.41787281450225805,0.40613972368936957,0.39370300133858099,{"$f":"HLOOKUP(AS223,AJ223:AR234,2,FALSE)","v":0.45351214783976412}]
[null,"juillet",0.6559560358664166,0.64841184517688644,0.6417054632195569,0.63332346379782611,0.62829269930489773,0.61655946495436453,0.60609151362410363,0.59378402527208007,0.58084546445646812,{"$f":"HLOOKUP(L224,C224:K234,2,FALSE)","v":0.6417054632195569},"juillet",0.51835232421974897,0.50817581202813955,0.49855857299558137,0.48782278764492071,0.47932409493046502,0.46635121694359921,0.45548182092366024,0.44418024422516361,0.43304891684462066,{"$f":"HLOOKUP(W224,N224:V234,2,FALSE)","v":0.49855857299558137},"juillet",0.71485904372844633,0.70414857280794496,0.694092854272786,0.68272763096694189,0.67398141720246818,0.65999718435525379,0.64696769071210014,0.63241720415407354,0.61835153195653403,{"$f":"HLOOKUP(AH224,Y224:AG234,2,FALSE)","v":0.694092854272786},"juillet",0.49740055179688514,0.48839168497025376,0.47973424270799303,0.470373951316991,0.46241935818347168,0.45165336853498711,0.44180916889145155,0.43030729143779722,0.41844582051985874,{"$f":"HLOOKUP(AS224,AJ224:AR234,2,FALSE)","v":0.47973424270799303}]
[null,"aout",0.66226562585758231,0.65285639865271206,0.64402089379378669,0.63403794424297144,0.62634988407593595,0.61407204514134095,0.6041517021086853,0.59323378477447253,0.58159960010366596,{"$f":"HLOOKUP(L225,C225:K234,2,FALSE)","v":0.64402089379378669},"aout",0.50588784358277261,0.49584403395904397,0.48616844036388424,0.47575641471158675,0.46681725317356476,0.45493236340699189,0.4448742166408588,0.43487980861982461,0.42518150760031925,{"$f":"HLOOKUP(W225,N225:V234,2,FALSE)","v":0.48616844036388424},"aout",0.71038464512126576,0.69889364770103379,0.68809255522347157,0.67591165286056965,0.66649037026834712,0.6515498481347658,0.63861788288324817,0.62516649303545913,0.61211384641056865,{"$f":"HLOOKUP(AH225,Y225:AG234,2,FALSE)","v":0.68809255522347157},"aout",0.49094241514013481,0.48157760556300383,0.47265029545166215,0.4628479864087417,0.45479567522897885,0.44324336832290062,0.43283906377941905,0.42172936682486395,0.4114605445707944,{"$f":"HLOOKUP(AS225,AJ225:AR234,2,FALSE)","v":0.47265029545166215}]
[null,"septembre",0.67372410266170701,0.66340250661901778,0.65363866133469206,0.64275931453363933,0.63411097076604073,0.62100062093153374,0.61026615969581777,0.59875983782494624,0.58609232500688679,{"$f":"HLOOKUP(L226,C226:K234,2,FALSE)","v":0.65363866133469206},"septembre",0.500615444362426,0.48990956493864041,0.47948301452574371,0.46849780609106922,0.45862991369995038,0.44652738922172014,0.43678828367538813,0.42669041336174746,0.41655041460371445,{"$f":"HLOOKUP(W226,N226:V234,2,FALSE)","v":0.47948301452574371},"septembre",0.70125044552472127,0.68954130369285449,0.67829939555400498,0.66612302002912083,0.65581557927630596,0.64177026897935252,0.62939063353050084,0.61525968780532858,0.60196349366051849,{"$f":"HLOOKUP(AH226,Y226:AG234,2,FALSE)","v":0.67829939555400498},"septembre",0.48389916685337242,0.47456803489318378,0.4656570891188439,0.45590577097280655,0.44783519757016427,0.43640313468073194,0.42665990418380167,0.41618134679150365,0.40486947606287793,{"$f":"HLOOKUP(AS226,AJ226:AR234,2,FALSE)","v":0.4656570891188439}]
[null,"octobre",0.65854674113059897,0.64946431896867829,0.64091782567296662,0.63129947464483704,0.6238248390815434,0.61206277258857789,0.60258046298039403,0.59207460066688833,0.58088603653963189,{"$f":"HLOOKUP(L227,C227:K234,2,FALSE)","v":0.64091782567296662},"octobre",0.50863029151484218,0.49898360930905089,0.48968632449586624,0.47969024489746814,0.47109175486949689,0.45969808570067178,0.45062046532584843,0.44147402519372286,0.43232101665652467,{"$f":"HLOOKUP(W227,N227:V234,2,FALSE)","v":0.48968632449586624},"octobre",0.7056611010495637,0.69373810935408498,0.68239162300270917,0.66989212596312775,0.65969865029995745,0.64489313188396491,0.63241402828741711,0.61943869618393343,0.60720957219478355,{"$f":"HLOOKUP(AH227,Y227:AG234,2,FALSE)","v":0.68239162300270917},"octobre",0.49760468681007841,0.48611326120886827,0.47450532961404757,0.46313041000644783,0.4512894664244062,0.44038057079124854,0.43099965744018331,0.42105821892308515,0.4118987305945121,{"$f":"HLOOKUP(AS227,AJ227:AR234,2,FALSE)","v":0.47450532961404757}]
[null,"novembre",0.65301835220791293,0.64469957261719724,0.63708849098732578,0.62806201343576573,0.62186632772758299,0.61000905833264574,0.60055150282842396,0.59018754063167378,0.57885094214065269,{"$f":"HLOOKUP(L228,C228:K234,2,FALSE)","v":0.63708849098732578},"novembre",0.48883947849341713,0.48030075611939582,0.47229542224489918,0.4632233113713532,0.45628475449590578,0.44507908962426107,0.43598262245804781,0.42652116201395729,0.41708146118707506,{"$f":"HLOOKUP(W228,N228:V234,2,FALSE)","v":0.47229542224489918},"novembre",0.71029382413758824,0.6992710785127968,0.68892883380258163,0.67722558726321425,0.6682443443821513,0.65381909418447937,0.64191337578976426,0.62904459860298934,0.61651059187198831,{"$f":"HLOOKUP(AH228,Y228:AG234,2,FALSE)","v":0.68892883380258163},"novembre",0.4926309998715927,0.48425321238193192,0.47685798227770576,0.46749763740261024,0.4620675220692535,0.4487769476524191,0.43876866839591705,0.42761931535929193,0.41656957355175916,{"$f":"HLOOKUP(AS228,AJ228:AR234,2,FALSE)","v":0.47685798227770576}]
[null,"decembre",0.65461558671451625,0.64559259751700482,0.63728683344255987,0.62754661912198195,0.6206753052936701,0.608066190480826,0.59658304293272602,0.58404063877120149,0.57048997146489011,{"$f":"HLOOKUP(L229,C229:K234,2,FALSE)","v":0.63728683344255987},"decembre",0.49496290945060128,0.48538410714802122,0.47633672093941465,0.46622650254286097,0.45824194852220157,0.44600606574975371,0.43532734821215513,0.42438168830698553,0.41343437487110452,{"$f":"HLOOKUP(W229,N229:V234,2,FALSE)","v":0.47633672093941465},"decembre",0.72868190754152684,0.71645130223095477,0.7049251197679326,0.6919900916098104,0.68187275484188836,0.66612003529356578,0.65214622055146598,0.6379399109196624,0.62484391932175698,{"$f":"HLOOKUP(AH229,Y229:AG234,2,FALSE)","v":0.7049251197679326},"decembre",0.51829456972532173,0.50777977647817529,0.49774042934934082,0.48675018998388248,0.47766173509167181,0.46476971125296584,0.45316547055707879,0.44038009500013392,0.4269444933986779,{"$f":"HLOOKUP(AS229,AJ229:AR234,2,FALSE)","v":0.49774042934934082}]

{"sheet":"Consommations","index":5,"n_rows":50,"n_cols":10,"rows_kept":50,"cut":false,"hidden":true,"merged":[[48,8,52,8],[39,1,39,2],[23,1,23,2],[27,1,27,2],[31,1,31,2],[35,1,35,2],[1,1,1,3],[7,1,7,3],[1,5,1,9],[20,5,20,9],[31,5,31,9]]}
[]
[null,"Eclairage (200 lux)",null,null,null,"Equipements"]
[null,"Efficience","Puissance surfacique (W/m2)","Source",null,"Type","Référence","Puissance en fonctionnement (kW)","Nombre d'heures par an","Consommation électrique annuelle (kWh/an)"]
[null,"Faible",20,"AICVF",null,"Cuisinière 2 foyers","Proline IH235T",3.5,{"$f":"0.25*365","v":91.25},{"$f":"H4*I4","v":319.375}]
[null,"Moyenne",7,"AICVF",null,"Four 30 L","Proline PMF30",1.5,{"$f":"0.1*365","v":36.5},54.75]
[null,"Forte",5,"AICVF",null,"Réfrigérateur 438 L","LG GTD7043MC",3.04E-2,{"$f":"24*365","v":8760},266.30399999999997]
[null,null,null,null,null,"Lave-linge 9 kg","LG F94V40WHS",{"$f":"58/100","v":0.57999999999999996},100,57.999999999999993]
[null,"Equipements",null,null,null,"Sèche-linge 9 kg","LG RH9V50WH",2.2799999999999998,100,227.99999999999997]
[null,"Type","Puissance surfacique (W/m2)","Source",null,"Lave-vaisselle 14 couverts","LG DF222FP",0.95,100,95]
[null,"T1",{"$f":"($J$19+J25)/G34/365/24*1000","v":7.912765362313201},null,null,"Micro-ondes 25 L","LG MS2535GDS",1.1499999999999999,{"$f":"0.1*365","v":36.5},41.974999999999994]
[null,"T2",{"$f":"($J$19+J26)/G35/365/24*1000","v":5.6978780960287816},null,null,"Cafetière","Philips Senseo Original",1.45,{"$f":"0.1*365","v":36.5},52.924999999999997]
[null,"T3",{"$f":"($J$19+J27)/G36/365/24*1000","v":4.2397023182297158},null,null,"Fer à repasser","Rowenta Focus Excel",2.6,{"$f":"0.1*365","v":36.5},94.9]
[null,"T4",{"$f":"($J$19+J28)/G37/365/24*1000","v":3.7244101221980079},null,null,"Aspirateur","Rowenta Swift Power Cyclonic",0.75,{"$f":"0.2*365","v":73},54.75]
[null,"T5",{"$f":"($J$19+J29)/G38/365/24*1000","v":3.4391264665399484},null,null,"Téléviseur 50 pouces LED","Samsung QE50Q60T",8.6999999999999994E-2,{"$f":"4*365","v":1460},127.02]
[null,"Bureautique",10,"AICVF",null,"Boîtier ADSL","Freebox Revolution",0.02,{"$f":"24*365","v":8760},175.20000000000002]
[null,null,null,null,null,"Boîtier TV","Freebox Revolution",0.02,{"$f":"24*365","v":8760},175.20000000000002]
[null,null,null,null,null,"Ordinateur (chargeur)",null,6.5000000000000002E-2,{"$f":"2*365","v":730},47.45]
[null,null,null,null,null,"Téléphone (chargeur)",null,0.02,{"$f":"1*365","v":365},7.3]
[null,null,null,null,null,"TOTAL",null,null,null,{"$f":"SUM(J4:J18)","v":1798.1490000000001}]
[]
[null,null,null,null,null,"ECS"]
[null,null,null,null,null,"ECS 80 L","Ariston Velis Evo",1.5,{"$f":"1.5*365","v":547.5},{"$f":"H22*I22","v":821.25}]
[]
[null,"Cuisinière",null,null,null,"Typologie",40,60,"Nombre d'heures par an","Consommation électrique annuelle (kWh/an)"]
[null,"électrique",null,null,null,"T1",75,{"$f":"$G25*($G$24-16)/($H$24-16)","v":40.909090909090907},{"$f":"$I$22*H25/80","v":279.97159090909088},{"$f":"$H$22*I25","v":419.95738636363632}]
[null,"gaz",null,null,null,"T2",80,43.636363636363633,298.63636363636363,447.95454545454544]
[null,null,null,null,null,"T3",110,60,410.625,615.9375]
[null,"ECS",null,null,null,"T4",145,79.090909090909093,541.27840909090912,811.91761363636374]
[null,"électrique",null,null,null,"T5",190,103.63636363636364,709.26136363636374,1063.8920454545455]
[null,"solaire",null,null,null,"Logement standard",125,68.181818181818187,466.61931818181819,699.92897727272725]
[]
[null,"Lave-linge",null,null,null,"Taux d'occupation"]
[null,"oui",null,null,null,"Typologie","Superficie moyenne (m2)","Nombre de personnes moyen","m2/personne","Source"]
[null,"non",null,null,null,"T1",32,1.2,{"$f":"G34/H34","v":26.666666666666668}]
[null,null,null,null,null,"T2",45,1.4,{"$f":"G35/H35","v":32.142857142857146}]
[null,"Sèche-linge",null,null,null,"T3",65,1.9,34.210526315789473]
[null,"oui",null,null,null,"T4",80,2.4,33.333333333333336]
[null,"non",null,null,null,"T5",95,2.7,35.185185185185183]
[null,null,null,null,null,"Bureau",null,null,12,"AICVF"]
[null,"Lave-vaisselle",null,null,null,"Salle de classe",null,null,1.5,"AICVF"]
[null,"oui",null,null,null,"Salle informatique",null,null,5,"AICVF"]
[null,"non",null,null,null,"Supermarché",null,null,4,"AICVF"]
[null,null,null,null,null,"Salle de restaurant",null,null,2.5,"AICVF"]
[null,null,null,null,null,"Cuisine et plonge",null,null,15,"AICVF"]
[null,null,null,null,null,"Chambre d'hôtel",null,null,20]
[null,null,null,null,null,"Personnalisé",null,null,{"$f":"I49","v":16.5}]
[]
[null,null,null,null,null,"Typologie","m2/personne","Pourcentage de surface"]
[null,null,null,null,null,"Chambre d'hôtel",{"$f":"VLOOKUP(F49,$F$34:I45,4,FALSE)","v":20},0.8,{"$f":"G49*H49+G50*H50+G51*H51+G52*H52+G53*H53","v":16.5}]
[null,null,null,null,null,"Salle de restaurant",{"$f":"VLOOKUP(F50,$F$34:I46,4,FALSE)","v":2.5},0.2]

{"sheet":"Comparaison","index":6,"n_rows":51,"n_cols":24,"rows_kept":51,"cut":false,"hidden":true,"merged":[[18,3,18,4],[18,5,18,6],[18,7,18,10],[18,11,18,13],[37,15,38,15]]}
[]
[null,"ICI POUR COMPARER",null,"copier coller resultat STD mensuels, le tableau plus bas indique l'écart de chaque composant (attention de bien renseigner l'interface)"]
[null,null,"Date/Heure","Vitrage","Murs","Plafonds (int)","Planchers (int)","Cloisons (int)","Toits","Vent Méca + Vent Nat Ext + Infiltration","Air extérieur",null,"Date/Heure","Eclairage général","Informatiques + Equip.","Occupation","Apports solaires Fenêtres extérieures","Refroid. Sensible zone","Charge Latente Totale",null,null,"Date/Heure","Refroidissement Sensible","Refroidissement Total"]
[null,null,null,"kWh","kWh","kWh","kWh","kWh","kWh","Vol/h","kWh",null,null,"kWh","kWh","kWh","kWh","kWh","kWh",null,null,null,"kWh","kWh"]
[null,null,"2002-01-01",null,null,null,null,null,null,null,null,null,"2002-01-01",null,null,null,null,null,null,null,null,"2002-01-01"]
[null,null,"2002-02-01",null,null,null,null,null,null,null,null,null,"2002-02-01",null,null,null,null,null,null,null,null,"2002-02-01"]
[null,null,"2002-03-01",null,null,null,null,null,null,null,null,null,"2002-03-01",null,null,null,null,null,null,null,null,"2002-03-01"]
[null,null,"2002-04-01",null,null,null,null,null,null,null,null,null,"2002-04-01",null,null,null,null,null,null,null,null,"2002-04-01"]
[null,null,"2002-05-01",null,null,null,null,null,null,null,null,null,"2002-05-01",null,null,null,null,null,null,null,null,"2002-05-01"]
[null,null,"2002-06-01",null,null,null,null,null,null,null,null,null,"2002-06-01",null,null,null,null,null,null,null,null,"2002-06-01"]
[null,null,"2002-07-01",null,null,null,null,null,null,null,null,null,"2002-07-01",null,null,null,null,null,null,null,null,"2002-07-01"]
[null,null,"2002-08-01",null,null,null,null,null,null,null,null,null,"2002-08-01",null,null,null,null,null,null,null,null,"2002-08-01"]
[null,null,"2002-09-01",null,null,null,null,null,null,null,null,null,"2002-09-01",null,null,null,null,null,null,null,null,"2002-09-01"]
[null,null,"2002-10-01",null,null,null,null,null,null,null,null,null,"2002-10-01",null,null,null,null,null,null,null,null,"2002-10-01"]
[null,null,"2002-11-01",null,null,null,null,null,null,null,null,null,"2002-11-01",null,null,null,null,null,null,null,null,"2002-11-01"]
[null,null,"2002-12-01",null,null,null,null,null,null,null,null,null,"2002-12-01",null,null,null,null,null,null,null,null,"2002-12-01"]
[]
[]
[null,null,null,"ENVELOPPE",null,"AIR",null,"INTERNE",null,null,null,"BESOIN REFROIDISSEMENT"]
[null,null,null,"Solaire vitrage","Enveloppe","air SENSIBLE ","air   LATENT","occupation SENSIBLE","occupation LATENT","Éclairage","Équipements","SENSIBLE","LATENT","TOTAL"]
[null,null,"Janvier ",{"$f":"Calculs!#REF!/Q5","v":{"$error":"#REF!"}},{"$f":"Calculs!#REF!/(D5+E5+I5)","v":{"$error":"#REF!"}},{"$f":"(Calculs!#REF!+Calculs!#REF!)/K5","v":{"$error":"#REF!"}},"/",{"$f":"Calculs!C152/P5","v":{"$error":"#DIV/0!"}},"/",{"$f":"Calculs!E152/N5","v":{"$error":"#DIV/0!"}},{"$f":"Calculs!F152/O5","v":{"$error":"#DIV/0!"}},{"$f":"Calculs!#REF!/-W5","v":{"$error":"#REF!"}},{"$f":"-Calculs!#REF!/(X5-W5)","v":{"$error":"#REF!"}},{"$f":"-(Calculs!#REF!+Calculs!#REF!)/X5","v":{"$error":"#REF!"}}]
[null,null,"Février",{"$f":"Calculs!#REF!/Q6","v":{"$error":"#REF!"}},{"$f":"Calculs!#REF!/(D6+E6+I6)","v":{"$error":"#REF!"}},{"$f":"(Calculs!#REF!+Calculs!#REF!)/K6","v":{"$error":"#REF!"}},"/",{"$f":"Calculs!C153/P6","v":{"$error":"#DIV/0!"}},"/",{"$f":"Calculs!E153/N6","v":{"$error":"#DIV/0!"}},{"$f":"Calculs!F153/O6","v":{"$error":"#DIV/0!"}},{"$f":"Calculs!#REF!/-W6","v":{"$error":"#REF!"}},{"$f":"-Calculs!#REF!/(X6-W6)","v":{"$error":"#REF!"}},{"$f":"-(Calculs!#REF!+Calculs!#REF!)/X6","v":{"$error":"#REF!"}}]
[null,null,"Mars",{"$f":"Calculs!#REF!/Q7","v":{"$error":"#REF!"}},{"$f":"Calculs!#REF!/(D7+E7+I7)","v":{"$error":"#REF!"}},{"$f":"(Calculs!#REF!+Calculs!#REF!)/K7","v":{"$error":"#REF!"}},"/",{"$f":"Calculs!C154/P7","v":{"$error":"#DIV/0!"}},"/",{"$f":"Calculs!E154/N7","v":{"$error":"#DIV/0!"}},{"$f":"Calculs!F154/O7","v":{"$error":"#DIV/0!"}},{"$f":"Calculs!#REF!/-W7","v":{"$error":"#REF!"}},{"$f":"-Calculs!#REF!/(X7-W7)","v":{"$error":"#REF!"}},{"$f":"-(Calculs!#REF!+Calculs!#REF!)/X7","v":{"$error":"#REF!"}}]
[null,null,"Avril",{"$f":"Calculs!#REF!/Q8","v":{"$error":"#REF!"}},{"$f":"Calculs!#REF!/(D8+E8+I8)","v":{"$error":"#REF!"}},{"$f":"(Calculs!#REF!+Calculs!#REF!)/K8","v":{"$error":"#REF!"}},"/",{"$f":"Calculs!C155/P8","v":{"$error":"#DIV/0!"}},"/",{"$f":"Calculs!E155/N8","v":{"$error":"#DIV/0!"}},{"$f":"Calculs!F155/O8","v":{"$error":"#DIV/0!"}},{"$f":"Calculs!#REF!/-W8","v":{"$error":"#REF!"}},{"$f":"-Calculs!#REF!/(X8-W8)","v":{"$error":"#REF!"}},{"$f":"-(Calculs!#REF!+Calculs!#REF!)/X8","v":{"$error":"#REF!"}}]
[null,null,"Mai",{"$f":"Calculs!#REF!/Q9","v":{"$error":"#REF!"}},{"$f":"Calculs!#REF!/(D9+E9+I9)","v":{"$error":"#REF!"}},{"$f":"(Calculs!#REF!+Calculs!#REF!)/K9","v":{"$error":"#REF!"}},"/",{"$f":"Calculs!C156/P9","v":{"$error":"#DIV/0!"}},"/",{"$f":"Calculs!E156/N9","v":{"$error":"#DIV/0!"}},{"$f":"Calculs!F156/O9","v":{"$error":"#DIV/0!"}},{"$f":"Calculs!#REF!/-W9","v":{"$error":"#REF!"}},{"$f":"-Calculs!#REF!/(X9-W9)","v":{"$error":"#REF!"}},{"$f":"-(Calculs!#REF!+Calculs!#REF!)/X9","v":{"$error":"#REF!"}}]
[null,null,"Juin",{"$f":"Calculs!#REF!/Q10","v":{"$error":"#REF!"}},{"$f":"Calculs!#REF!/(D10+E10+I10)","v":{"$error":"#REF!"}},{"$f":"(Calculs!#REF!+Calculs!#REF!)/K10","v":{"$error":"#REF!"}},"/",{"$f":"Calculs!C157/P10","v":{"$error":"#DIV/0!"}},"/",{"$f":"Calculs!E157/N10","v":{"$error":"#DIV/0!"}},{"$f":"Calculs!F157/O10","v":{"$error":"#DIV/0!"}},{"$f":"Calculs!#REF!/-W10","v":{"$error":"#REF!"}},{"$f":"-Calculs!#REF!/(X10-W10)","v":{"$error":"#REF!"}},{"$f":"-(Calculs!#REF!+Calculs!#REF!)/X10","v":{"$error":"#REF!"}}]
[null,null,"Juillet",{"$f":"Calculs!#REF!/Q11","v":{"$error":"#REF!"}},{"$f":"Calculs!#REF!/(D11+E11+I11)","v":{"$error":"#REF!"}},{"$f":"(Calculs!#REF!+Calculs!#REF!)/K11","v":{"$error":"#REF!"}},"/",{"$f":"Calculs!C158/P11","v":{"$error":"#DIV/0!"}},"/",{"$f":"Calculs!E158/N11","v":{"$error":"#DIV/0!"}},{"$f":"Calculs!F158/O11","v":{"$error":"#DIV/0!"}},{"$f":"Calculs!#REF!/-W11","v":{"$error":"#REF!"}},{"$f":"-Calculs!#REF!/(X11-W11)","v":{"$error":"#REF!"}},{"$f":"-(Calculs!#REF!+Calculs!#REF!)/X11","v":{"$error":"#REF!"}}]
[null,null,"Août",{"$f":"Calculs!#REF!/Q12","v":{"$error":"#REF!"}},{"$f":"Calculs!#REF!/(D12+E12+I12)","v":{"$error":"#REF!"}},{"$f":"(Calculs!#REF!+Calculs!#REF!)/K12","v":{"$error":"#REF!"}},"/",{"$f":"Calculs!C159/P12","v":{"$error":"#DIV/0!"}},"/",{"$f":"Calculs!E159/N12","v":{"$error":"#DIV/0!"}},{"$f":"Calculs!F159/O12","v":{"$error":"#DIV/0!"}},{"$f":"Calculs!#REF!/-W12","v":{"$error":"#REF!"}},{"$f":"-Calculs!#REF!/(X12-W12)","v":{"$error":"#REF!"}},{"$f":"-(Calculs!#REF!+Calculs!#REF!)/X12","v":{"$error":"#REF!"}}]
[null,null,"Septembre",{"$f":"Calculs!#REF!/Q13","v":{"$error":"#REF!"}},{"$f":"Calculs!#REF!/(D13+E13+I13)","v":{"$error":"#REF!"}},{"$f":"(Calculs!#REF!+Calculs!#REF!)/K13","v":{"$error":"#REF!"}},"/",{"$f":"Calculs!C160/P13","v":{"$error":"#DIV/0!"}},"/",{"$f":"Calculs!E160/N13","v":{"$error":"#DIV/0!"}},{"$f":"Calculs!F160/O13","v":{"$error":"#DIV/0!"}},{"$f":"Calculs!#REF!/-W13","v":{"$error":"#REF!"}},{"$f":"-Calculs!#REF!/(X13-W13)","v":{"$error":"#REF!"}},{"$f":"-(Calculs!#REF!+Calculs!#REF!)/X13","v":{"$error":"#REF!"}}]
[null,null,"Octobre",{"$f":"Calculs!#REF!/Q14","v":{"$error":"#REF!"}},{"$f":"Calculs!#REF!/(D14+E14+I14)","v":{"$error":"#REF!"}},{"$f":"(Calculs!#REF!+Calculs!#REF!)/K14","v":{"$error":"#REF!"}},"/",{"$f":"Calculs!C161/P14","v":{"$error":"#DIV/0!"}},"/",{"$f":"Calculs!E161/N14","v":{"$error":"#DIV/0!"}},{"$f":"Calculs!F161/O14","v":{"$error":"#DIV/0!"}},{"$f":"Calculs!#REF!/-W14","v":{"$error":"#REF!"}},{"$f":"-Calculs!#REF!/(X14-W14)","v":{"$error":"#REF!"}},{"$f":"-(Calculs!#REF!+Calculs!#REF!)/X14","v":{"$error":"#REF!"}}]
[null,null,"Novembre",{"$f":"Calculs!#REF!/Q15","v":{"$error":"#REF!"}},{"$f":"Calculs!#REF!/(D15+E15+I15)","v":{"$error":"#REF!"}},{"$f":"(Calculs!#REF!+Calculs!#REF!)/K15","v":{"$error":"#REF!"}},"/",{"$f":"Calculs!C162/P15","v":{"$error":"#DIV/0!"}},"/",{"$f":"Calculs!E162/N15","v":{"$error":"#DIV/0!"}},{"$f":"Calculs!F162/O15","v":{"$error":"#DIV/0!"}},{"$f":"Calculs!#REF!/-W15","v":{"$error":"#REF!"}},{"$f":"-Calculs!#REF!/(X15-W15)","v":{"$error":"#REF!"}},{"$f":"-(Calculs!#REF!+Calculs!#REF!)/X15","v":{"$error":"#REF!"}}]
[null,null,"Décembre",{"$f":"Calculs!#REF!/Q16","v":{"$error":"#REF!"}},{"$f":"Calculs!#REF!/(D16+E16+I16)","v":{"$error":"#REF!"}},{"$f":"(Calculs!#REF!+Calculs!#REF!)/K16","v":{"$error":"#REF!"}},"/",{"$f":"Calculs!C163/P16","v":{"$error":"#DIV/0!"}},"/",{"$f":"Calculs!E163/N16","v":{"$error":"#DIV/0!"}},{"$f":"Calculs!F163/O16","v":{"$error":"#DIV/0!"}},{"$f":"Calculs!#REF!/-W16","v":{"$error":"#REF!"}},{"$f":"-Calculs!#REF!/(X16-W16)","v":{"$error":"#REF!"}},{"$f":"-(Calculs!#REF!+Calculs!#REF!)/X16","v":{"$error":"#REF!"}}]
[]
[null,null,"D'important écarts en % pour les apports par l'enveloppe peuvent apparaître lorsque ces apports sont faibles. Un écart de 200kWh n'a pas le même impact lorsque les apports sont à 300kWh et quand ils sont à 4000kwWh."]
[]
[]
[null,"POUR COMPARER",null,"copier coller les résultats de \"confort\" de la std, le tableau de droite indique l'écart, attention de bien renseigner l'interface"]
[null,null,"Date/Heure","Humidité relative","Température d'air","Température radiante","Température opérative","Heures d'inconfort (tout type de vêtement)","Température Sèche Air Extérieur",null,null,"Degrés de surchauffe (°C)",null,null,null,"Surchauffe moyenne (°C)"]
[null,null,null,"%","°C","°C","°C","h","°C",null,null,"°C"]
[null,null,"2002-01-01",null,null,null,null,null,null,null,null,{"$f":"E40-I40","v":0},null,null,"Janvier ",{"$f":"Calculs!I169/L40","v":{"$error":"#DIV/0!"}}]
[null,null,"2002-02-01",null,null,null,null,null,null,null,null,0,null,null,"Février",{"$f":"Calculs!I170/L41","v":{"$error":"#DIV/0!"}}]
[null,null,"2002-03-01",null,null,null,null,null,null,null,null,0,null,null,"Mars",{"$f":"Calculs!I171/L42","v":{"$error":"#DIV/0!"}}]
[null,null,"2002-04-01",null,null,null,null,null,null,null,null,0,null,null,"Avril",{"$f":"Calculs!I172/L43","v":{"$error":"#DIV/0!"}}]
[null,null,"2002-05-01",null,null,null,null,null,null,null,null,0,null,null,"Mai",{"$f":"Calculs!I173/L44","v":{"$error":"#DIV/0!"}}]
[null,null,"2002-06-01",null,null,null,null,null,null,null,null,0,null,null,"Juin",{"$f":"Calculs!I174/L45","v":{"$error":"#DIV/0!"}}]
[null,null,"2002-07-01",null,null,null,null,null,null,null,null,0,null,null,"Juillet",{"$f":"Calculs!I175/L46","v":{"$error":"#DIV/0!"}}]
[null,null,"2002-08-01",null,null,null,null,null,null,null,null,0,null,null,"Août",{"$f":"Calculs!I176/L47","v":{"$error":"#DIV/0!"}}]
[null,null,"2002-09-01",null,null,null,null,null,null,null,null,0,null,null,"Septembre",{"$f":"Calculs!I177/L48","v":{"$error":"#DIV/0!"}}]
[null,null,"2002-10-01",null,null,null,null,null,null,null,null,0,null,null,"Octobre",{"$f":"Calculs!I178/L49","v":{"$error":"#DIV/0!"}}]
[null,null,"2002-11-01",null,null,null,null,null,null,null,null,0,null,null,"Novembre",{"$f":"Calculs!I179/L50","v":{"$error":"#DIV/0!"}}]
[null,null,"2002-12-01",null,null,null,null,null,null,null,null,0,null,null,"Décembre",{"$f":"Calculs!I180/L51","v":{"$error":"#DIV/0!"}}]